{"text_format":"1","workbook":"xlsx","n_sheets":33,"sheets":["Mode d'emploi","GraphHebdo","MoyQuinqHebdoGB","MoyQuinqHebdoVeaux","Données-VeauxCharolais-Limousin","MoyQuinqHebdoPorcs","MoyQuindHebdoOvins","GrosBovinsAnneeEnCours","GrosBovins2023","GrosBovins2022","GrosBovins2021","GrosBovins2020","GrosBovins2019","GrosBovins 2018","GrosBovins2017","GrosBovins2016","GraphGrosBovins","VeauxAnneeEnCours","Veaux2023","Veaux2022","Veaux2021","Veaux2020","Veaux2019","Veaux2018","Veaux2017","Veaux2016","GraphVeaux","Porcs2015-2024","GraphPorcs","Ovins2019-2024","GraphOvins","VolaillesLapinsOeufs","GraphVolaillesOeufsLapins"],"not_rendered":{"charts":56,"images":2,"macros":1,"external_links":0,"defined_names":2,"comments":10,"pivot_tables":0},"unopened":[],"bounds":{"document_bytes":16777216,"sheet_cells":100000,"rows_first":2000,"rows_last":500,"rows_between":2000,"halvings":0,"cell_chars":16384,"cell_head_chars":4096},"cells_cut":0,"cells_raw":0,"read":"whole","date_system":"1900"}

{"sheet":"Mode d'emploi","index":0,"n_rows":95,"n_cols":11,"rows_kept":95,"cut":false,"hidden":true,"merged":[[93,6,94,6],[6,9,6,10],[8,9,9,9],[11,9,14,9],[16,1,16,2],[40,5,45,5],[23,1,27,1],[26,6,28,6],[59,5,67,5],[86,5,91,5],[4,5,4,7],[32,5,39,5],[51,5,51,7],[73,5,73,7],[83,5,83,7],[37,6,39,6],[30,5,30,7],[6,5,12,5],[13,5,24,5],[47,6,49,6],[69,6,71,6],[79,6,81,6]]}
[]
[null,"Chemin du dossier Visionet :","S:\\NOTES_CONJONCTURE\\1_ANIMAL\\3_COTATIONS\\Bases de données\\COT-VIA-cotations_csv-A23-S06",null,null,null,"Nom du fichier :",{"$f":"MID(CELL(\"filename\",E1),SEARCH(\"[\",CELL(\"filename\",E1))+1,SEARCH(\"]\",CELL(\"filename\",E1))-SEARCH(\"[\",CELL(\"filename\",E1))-6)","v":"CotationsOutil_2024_LS"}]
[null,"Chemin de l'extraction RNM :","S:\\NOTES_CONJONCTURE\\1_ANIMAL\\3_COTATIONS\\Bases de données\\COT-MUL-prd_RNM-A23.csv"]
[null,"Chemin du fichier TNO :","S:\\NOTES_CONJONCTURE\\1_ANIMAL\\3_COTATIONS\\Bases de données\\TNO.ods"]
[null,"Chemin du fichier PLERIN COTATIONS :","S:\\NOTES_CONJONCTURE\\1_ANIMAL\\3_COTATIONS\\Bases de données\\PLERIN COTATIONS.ods",null,null,"Gros bovins"]
[null,"Chemin du fichier des IPPAP :","S:\\NOTES_CONJONCTURE\\1_ANIMAL\\3_COTATIONS\\Bases de données\\selection_serie_17022023\\valeurs_mensuelles.csv"]
[null,"Chemin du fichier Valeurs_mensuelles :","S:\\NOTES_CONJONCTURE\\1_ANIMAL\\3_COTATIONS\\Bases de données\\IPPAP Volailles_ls.ods",null,null,"GBEA","Nom du fichier GBEA :","COT-VRO-GBST_regionale",null,{"$f":"\"Fichier '\" &H7&\"'\"","v":"Fichier 'COT-VRO-GBST_regionale'"}]
[null,null,null,null,null,null,"Lieu","GRAND-OUEST",null,"Catégorie","Nom de la colonne"]
[null,"Année",2024,null,null,null,"N° ligne des catégories",8,null,"Jeunes bovins 12 à 24 mois","Viande hors Bl/Parth."]
[null,"Semaine",6,null,null,null,"N° ligne viande",9]
[null,null,null,null,null,null,"N° de la colonne lieu",1,null,"Bœufs"]
[null,null,null,null,null,null,"N° de la colonne classification",2,null,"Vaches","Viande hors Bl/Parth. -10 a +350kg"]
[null,null,null,null,null,null,"N° de la colonne cot",3,null,null,"Blonde/Parth. -10 ans +350Kg"]
[null,null,null,null,null,"Gros bovins maigres","Nom du fichier : Gros bovins maigres","COT-VRO-GB_maigres"]
[null,null,null,null,null,null,"Lieu","NANTES"]
[null,null,null,null,null,null,"Race","CHAROLAIS",null,"Génisses","Viande +350Kg"]
[null,"Mode d'emploi",null,null,null,null,"Sexe","M"]
[null,null,null,null,null,null,"Age","*6/12"]
[null,null,null,null,null,null,"Tonnage (en kg)",350]
[null,"Champs à remplir à chaque utilisation",null,null,null,null,"Classification","U"]
[null,"Champs à vérifier",null,null,null,null,"N° de la ligne race",7]
[null,null,null,null,null,null,"N° de la ligne sexe",8]
[null,"Lien pour le site Visionet :",null,null,null,null,"N° de la ligne age",9]
[null,"https://visionet.franceagrimer.fr/Pages/Statistiques.aspx?menuurl=Statistiques/productions%20animales/viandes/cotations%20en%20format%20csv/ZIP%20csv%20toutes%20esp%C3%A8ces",null,null,null,null,"N° de la colonne lieu",1]
[null,null,null,null,null,null,"N° de la colonne classification",3]
[]
[null,null,null,null,null,null,{"$f":" \"Feuille de \"&H2","v":"Feuille de CotationsOutil_2024_LS"},{"$f":"RIGHT(CELL(\"nomfichier\",GrosBovinsAnneeEnCours!A1),LEN(CELL(\"nomfichier\",GrosBovinsAnneeEnCours!A1))-FIND(\"]\",CELL(\"nomfichier\",GrosBovinsAnneeEnCours!A1)))","v":"GrosBovinsAnneeEnCours"}]
[null,null,null,null,null,null,null,{"$f":"RIGHT(CELL(\"nomfichier\",GraphGrosBovins!A1),LEN(CELL(\"nomfichier\",GraphGrosBovins!A1))-FIND(\"]\",CELL(\"nomfichier\",GraphGrosBovins!A1)))","v":"GraphGrosBovins"}]
[null,null,null,null,null,null,null,{"$f":"RIGHT(CELL(\"nomfichier\",MoyQuinqHebdoGB!A1),LEN(CELL(\"nomfichier\",MoyQuinqHebdoGB!A1))-FIND(\"]\",CELL(\"nomfichier\",MoyQuinqHebdoGB!A1)))","v":"MoyQuinqHebdoGB"}]
[]
[null,null,null,null,null,"Veaux"]
[]
[null,"A noter un changement de nom de fichier cellule H7",null,null,null,"Veaux Grand Nord","Nom du fichier Veaux Grand Nord :","COT-VRO-veaux_bouch_synthese"]
[null,"COT-VRO-GBEA_regionale","jusqu'en semaine 29-2022",null,null,null,"Lieu","NORD"]
[null,null,null,null,null,null,"N° de la ligne race",7]
[null,"COT-VRO-GBST_regionale","à partir de la semaine 30-2022",null,null,null,"N° de la ligne classification",8]
[null,null,null,null,null,null,"N° de la colonne lieu",1]
[null,null,null,null,null,null,"Viande","ROSE TRES CLAIR"]
[null,"disparition du fichier  COT-VRO-veaux14j_9_marches en semaine 47-2022",null,null,null,null,null,"ROSE CLAIR"]
[null,"pas de porc en semaine 2 et 3 2023?",null,null,null,null,null,"ROSE"]
[null,null,null,null,null,"Veaux Château Gontier","Nom du fichier Veaux Château Gontier :","COT-VRO-veaux14j_9_marches",null,{"$f":" \"Fichier '\"&H2&\"'\"","v":"Fichier 'CotationsOutil_2024_LS'"},{"$f":"\"Fichier '\" &H41&\"'\"","v":"Fichier 'COT-VRO-veaux14j_9_marches'"}]
[null,null,null,null,null,null,"Lieu","CHAG",null,"NORMAND","Normande"]
[null,null,null,null,null,null,"Poids","45 A 50 KG",null,"LAITIERS","Prim'Holstein"]
[null,null,null,null,null,null,"N° de la ligne Lieu",7]
[null,null,null,null,null,null,"N° de la colonne race",2]
[null,null,null,null,null,null,"N° de la colonne poids",4]
[]
[null,null,null,null,null,null,{"$f":" \"Feuille de \"&H2","v":"Feuille de CotationsOutil_2024_LS"},{"$f":"RIGHT(CELL(\"nomfichier\",VeauxAnneeEnCours!A1),LEN(CELL(\"nomfichier\",VeauxAnneeEnCours!A1))-FIND(\"]\",CELL(\"nomfichier\",VeauxAnneeEnCours!A1)))","v":"VeauxAnneeEnCours"}]
[null,null,null,null,null,null,null,{"$f":"RIGHT(CELL(\"nomfichier\",GraphVeaux!A1),LEN(CELL(\"nomfichier\",GraphVeaux!A1))-FIND(\"]\",CELL(\"nomfichier\",GraphVeaux!A1)))","v":"GraphVeaux"}]
[null,null,null,null,null,null,null,{"$f":"RIGHT(CELL(\"nomfichier\",MoyQuinqHebdoVeaux!A1),LEN(CELL(\"nomfichier\",MoyQuinqHebdoVeaux!A1))-FIND(\"]\",CELL(\"nomfichier\",MoyQuinqHebdoVeaux!A1)))","v":"MoyQuinqHebdoVeaux"}]
[]
[null,null,null,null,null,"Porcs"]
[]
[null,null,null,null,null,null,"N° de la colonne semaine",2]
[null,null,null,null,null,null,"N° de la colonne du code produit",5]
[null,null,null,null,null,null,"N° de la colonne valeur",7]
[]
[null,null,null,null,null,"Marché"," code produit"," produit"]
[null,null,null,null,null,"Cadran de Plérin : porc charcutier ","PORC (carcasse) Nantes classe E + S ",90190]
[null,null,null,null,null,"France : porc charcutier entrée abattoir ","PORC (carcasse) Rennes classe E + S ",100190]
[null,null,null,null,null,null,"PORC (carcasse) France classe E + S ",120190]
[null,null,null,null,null,null,"PORC (carcasse) Nantes classe E ",57222090]
[null,null,null,null,null,null,"PORC (carcasse) Rennes classe E ",57222091]
[null,null,null,null,null,null,"PORC (carcasse) France classe E ",57222087]
[null,null,null,null,null,null,"PORC (carcasse) Nantes classe S ",57222095]
[null,null,null,null,null,null,"PORC (carcasse) Rennes classe S ",57222094]
[null,null,null,null,null,null,"PORC (carcasse) France classe S ",57222098]
[null,null,null,null,null,null,"PORC (carcasse) 56% taux-de-muscle-des-pièces Bretagne ",70178]
[]
[null,null,null,null,null,null,{"$f":" \"Feuille de \"&H2","v":"Feuille de CotationsOutil_2024_LS"},{"$f":"RIGHT(CELL(\"nomfichier\",'Porcs2015-2024'!A1),LEN(CELL(\"nomfichier\",'Porcs2015-2024'!A1))-FIND(\"]\",CELL(\"nomfichier\",'Porcs2015-2024'!A1)))","v":"Porcs2015-2024"}]
[null,null,null,null,null,null,null,{"$f":"RIGHT(CELL(\"nomfichier\",GraphPorcs!A1),LEN(CELL(\"nomfichier\",GraphPorcs!A1))-FIND(\"]\",CELL(\"nomfichier\",GraphPorcs!A1)))","v":"GraphPorcs"}]
[null,null,null,null,null,null,null,{"$f":"RIGHT(CELL(\"nomfichier\",MoyQuinqHebdoPorcs!A1),LEN(CELL(\"nomfichier\",MoyQuinqHebdoPorcs!A1))-FIND(\"]\",CELL(\"nomfichier\",MoyQuinqHebdoPorcs!A1)))","v":"MoyQuinqHebdoPorcs"}]
[]
[null,null,null,null,null,"Ovins"]
[]
[null,null,null,null,null,null,"Nom du fichier Ovins :","COT-VRO-ovins_PMP"]
[null,null,null,null,null,null,"N° de la colonne cotation",1]
[null,null,null,null,null,null,"N° de la colonne : P.M.P AGNEAUX",2]
[]
[null,null,null,null,null,null,{"$f":" \"Feuille de \"&H2","v":"Feuille de CotationsOutil_2024_LS"},{"$f":"RIGHT(CELL(\"nomfichier\",'Ovins2019-2024'!A1),LEN(CELL(\"nomfichier\",'Ovins2019-2024'!A1))-FIND(\"]\",CELL(\"nomfichier\",'Ovins2019-2024'!A1)))","v":"Ovins2019-2024"}]
[null,null,null,null,null,null,null,{"$f":"RIGHT(CELL(\"nomfichier\",GraphOvins!A1),LEN(CELL(\"nomfichier\",GraphOvins!A1))-FIND(\"]\",CELL(\"nomfichier\",GraphOvins!A1)))","v":"GraphOvins"}]
[null,null,null,null,null,null,null,{"$f":"RIGHT(CELL(\"nomfichier\",MoyQuindHebdoOvins!A1),LEN(CELL(\"nomfichier\",MoyQuindHebdoOvins!A1))-FIND(\"]\",CELL(\"nomfichier\",MoyQuindHebdoOvins!A1)))","v":"MoyQuindHebdoOvins"}]
[]
[null,null,null,null,null,"VolaillesLapinsOeufs"]
[]
[null,null,null,null,null,"Marché","Code produit","Produit"]
[null,null,null,null,null,"MIN de Rungis : volaille ","POULET (entier) prêt à cuire France standard ",720156]
[null,null,null,null,null,null,"POULET (entier) prêt à cuire France label ",730156]
[null,null,null,null,null,null,"DINDE (filet) France standard ",1120156]
[null,null,null,null,null,null,"CANARD de Barbarie (filet) France standard ",1030156]
[null,null,null,null,null,null,"PINTADE (entière) prêt à cuire France label ",1950156]
[null,null,null,null,null,null,"LAPIN (entier) France standard ",1280156]
[]
[null,null,null,null,null,null,{"$f":" \"Feuille de \"&H2","v":"Feuille de CotationsOutil_2024_LS"},{"$f":"RIGHT(CELL(\"nomfichier\",VolaillesLapinsOeufs!A1),LEN(CELL(\"nomfichier\",VolaillesLapinsOeufs!A1))-FIND(\"]\",CELL(\"nomfichier\",VolaillesLapinsOeufs!A1)))","v":"VolaillesLapinsOeufs"}]
[null,null,null,null,null,null,null,{"$f":"RIGHT(CELL(\"nomfichier\",GraphVolaillesOeufsLapins!A1),LEN(CELL(\"nomfichier\",GraphVolaillesOeufsLapins!A1))-FIND(\"]\",CELL(\"nomfichier\",GraphVolaillesOeufsLapins!A1)))","v":"GraphVolaillesOeufsLapins"}]

{"sheet":"GraphHebdo","index":1,"n_rows":132,"n_cols":18,"rows_kept":132,"cut":false,"hidden":true,"merged":[[1,17,1,20]]}
[]
[null,null,null,null,null,null,null,null,null,null,null,null,null,null,null,null,null,"Commentaires"]
[]
["COTATION REGIONALE ENTREE ABATTOIR GRAND OUEST FRANCEAGRIMER-HEBDOMADAIRE (€/Kg net)"]
[]
[]
[]
[]
[]
[]
[]
[]
[]
[]
[]
[]
[]
[]
[]
[]
[]
[]
[]
[]
[]
[]
[]
[]
[]
[]
[]
[]
[]
[]
[]
[]
[]
[]
[]
[]
[]
[]
[]
[]
[]
[]
[]
[]
["MOYENNE NATIONALE DES BOVINS MAIGRES DESTINES A L'ENGRAISSEMENT CHAROLAIS MALE de 6-12 mois catégorie U (350 kg)  en €/kg vif"]
[]
[]
[]
[]
[]
[]
[]
[]
[]
[]
[]
[]
[]
[]
["Veaux de boucherie entrée abattoir région Grand Nord",null,null,null,null,null,"Prix \"entrée abattoir\" HT exprimé en Euro/Kg de carcasse (cinquième quartier compris)",null,null,null,null,null,null,null,"Veaux"]
["Source : DRAAF Pays de la Loire - SRISE - FranceAgriMer"]
[]
[]
[]
[]
[]
[]
[]
[]
[]
[]
[]
[]
[]
[]
["Marché de Château Gontier (marché de référence pour les petits veaux) : cotation des veaux destinés à l'engraissement"]
["Source : DRAAF Pays de la Loire - SRISE - FranceAgriMer"]
[]
[]
[]
[]
[]
[]
[]
[]
[]
[]
[]
[]
[]
[]
[]
["Prix du porc entrée abattoir des carcasses de porcs charcutiers  (€ HT/kg)",null,null,null,null,null,null,null,"Source : DRAAF Pays de la Loire - SRISE - FranceAgriMer",null,null,null,null,null,"Porcs"]
[]
[null,null,null,null,null,null,"  "]
[]
[]
[]
[]
[]
[]
[]
[]
[]
[]
[]
[]
[]
["COTATIONS AGNEAUX DE BOUCHERIE : ENTREE ABATTOIR",null,null,null,null,null,null,null,null,null,null,null,null,null,"Ovins"]
["Agneau de boucherie : Prix \"entrée abattoir\" HT en EURO/Kg de carcasse (cinquième quartier inclus)"]
["Etat d'engraissement : couvert"]
["Source : DRAAF Pays de la Loire-SRISE-FranceAgriMer"]
[]
[]
[]
[]
[]
[]
[null,null,null,null,null,null," "]
[]
[]
[]
[]
[]
[]
[]
["Source : FranceAgriMer – RNM  :   Prix relevés sur le marché de Rungis",null,null,null,null,null,null,null,null,null,null,null,null,null,"Volailles"]
[null,null,null,null,null,null,null,null,null," "]

{"sheet":"MoyQuinqHebdoGB","index":2,"n_rows":57,"n_cols":74,"rows_kept":57,"cut":false,"hidden":true,"merged":[[3,68,3,73],[3,2,3,7],[3,8,3,13],[3,14,3,19],[3,20,3,25],[3,26,3,31],[3,32,3,37],[3,38,3,43],[3,44,3,49],[3,50,3,55],[3,56,3,61],[3,62,3,67]]}
["COTATION REGIONALE ENTREE ABATTOIR GRAND OUEST FRANCEAGRIMER-HEBDOMADAIRE (€/Kg net)"]
[]
[null,null,2019,2020,2021,2022,2023,"MOYENNE 5 ANS",2019,2020,2021,2022,2023,"MOYENNE 5 ANS",2019,2020,2021,2022,2023,"MOYENNE 5 ANS",2019,2020,2021,2022,2023,"MOYENNE 5 ANS",2019,2020,2021,2022,2023,"MOYENNE 5 ANS",2019,2020,2021,2022,2023,"MOYENNE 5 ANS",2019,2020,2021,2022,2023,"MOYENNE 5 ANS",2019,2020,2021,2022,2023,"MOYENNE 5 ANS",2019,2020,2021,2022,2023,"MOYENNE 5 ANS",2019,2020,2021,2022,2023,"MOYENNE 5 ANS",2019,2020,2021,2022,2023,"MOYENNE 5 ANS",2019,2020,2020,2022,2023,"MOYENNE 5 ANS"]
["Mois","Sem.","JB VIANDE U",null,null,null,null,null,"JB VIANDE R",null,null,null,null,null,"JB MIXTE O",null,null,null,null,null,"BOEUFS MIXTE O",null,null,null,null,null,"VACHE VIANDE U",null,null,null,null,null,"VACHE VIANDE R",null,null,null,null,null,"VACHE BLONDE U",null,null,null,null,null,"VACHE MIXTE O",null,null,null,null,null,"VACHE LAIT P",null,null,null,null,null,"GENISSE VIANDE U",null,null,null,null,null,"GENISSE VIANDE R",null,null,null,null,null,"MAIGRE – CHAROLAIS 6/12 mois  ( U )"]
[null,1,3.99,4.07,3.82,4.5999999999999996,5.54,{"$f":"AVERAGE(C5:G5)","v":4.4039999999999999},3.81,3.9,3.66,4.4400000000000004,5.4,{"$f":"AVERAGE(I5:M5)","v":4.242},3.5,3.46,3.39,3.79,5.0999999999999996,{"$f":"AVERAGE(O5:S5)","v":3.8480000000000003},3.3,3.22,3.14,3.8,5.05,{"$f":"AVERAGE(U5:Y5)","v":3.7020000000000004},4.34,4.42,4.45,4.88,5.71,{"$f":"AVERAGE(AA5:AE5)","v":4.76},3.78,3.72,4.03,4.38,5.41,{"$f":"AVERAGE(AG5:AK5)","v":4.2640000000000002},4.95,5.0999999999999996,5.17,5.5,6.05,{"$f":"AVERAGE(AM5:AQ5)","v":5.3540000000000001},3.27,3.14,3.07,3.76,4.93,{"$f":"AVERAGE(AS5:AW5)","v":3.6340000000000003},2.64,2.54,2.76,3.48,4.59,{"$f":"AVERAGE(AY5:BC5)","v":3.2019999999999995},4.5999999999999996,4.63,4.87,5.0999999999999996,5.84,{"$f":"AVERAGE(BE5:BI5)","v":5.0080000000000009},3.86,3.8,4.03,4.32,5.41,{"$f":"AVERAGE(BK5:BO5)","v":4.2840000000000007},2.73,2.69,2.62,null,3.39,{"$f":"AVERAGE(BQ5:BU5)","v":2.8574999999999999}]
[null,2,3.99,4.07,3.82,4.62,5.54,{"$f":"AVERAGE(C6:G6)","v":4.4079999999999995},3.82,3.91,3.66,4.46,5.4,4.25,3.49,3.51,3.37,3.82,5.09,3.8560000000000003,3.34,3.25,3.15,3.81,5.03,3.7160000000000002,4.43,4.37,4.5599999999999996,4.87,5.71,4.7880000000000003,3.77,3.75,4.01,4.41,5.43,4.2739999999999991,5.03,5.07,5.2,5.52,6.13,5.39,3.28,3.15,3.08,3.79,4.9400000000000004,3.6480000000000006,2.66,2.57,2.77,3.52,4.5999999999999996,{"$f":"AVERAGE(AY6:BC6)","v":3.2239999999999993},4.6399999999999997,4.63,4.88,5.08,5.83,5.0119999999999987,3.89,3.84,4.04,4.38,5.41,4.3119999999999994,2.73,2.69,2.62,2.82,3.39,{"$f":"AVERAGE(BQ6:BU6)","v":2.85}]
[null,3,4,4.07,3.83,4.6500000000000004,5.55,4.42,3.82,3.9,3.65,4.5,5.41,4.2560000000000002,3.49,3.49,3.45,3.82,5.1100000000000003,3.8719999999999999,3.33,3.24,3.15,3.85,5.0199999999999996,3.718,4.38,4.38,4.4800000000000004,4.97,5.76,4.7939999999999996,3.77,3.72,4.0199999999999996,4.4400000000000004,5.43,4.2759999999999998,5.0199999999999996,5.04,5.16,5.54,6.13,5.3779999999999992,3.28,3.16,3.1,3.82,4.9400000000000004,3.66,2.67,2.56,2.77,3.59,4.6100000000000003,3.2399999999999998,4.6900000000000004,4.7,4.8899999999999997,5.25,5.9,5.0860000000000003,3.86,3.85,4.0199999999999996,4.4000000000000004,5.42,4.3100000000000005,2.73,2.69,2.62,2.82,3.38,2.8479999999999999]
["J",4,4.01,4.07,3.84,4.6900000000000004,5.53,4.4279999999999999,3.82,3.89,3.67,4.51,5.39,4.2559999999999993,3.48,3.52,3.41,3.87,5.0999999999999996,3.8760000000000003,3.34,3.23,3.17,3.89,5.0199999999999996,3.7299999999999995,4.43,4.3600000000000003,4.59,4.92,5.7,4.7999999999999989,3.77,3.71,4.03,4.46,5.42,4.2780000000000005,5.1100000000000003,5.05,5.17,5.6,6.11,5.4079999999999995,3.28,3.15,3.09,3.86,4.93,3.6619999999999999,2.68,2.5499999999999998,2.78,3.65,4.59,3.25,4.7300000000000004,4.7,4.7699999999999996,5.21,5.87,5.056,3.86,3.81,4.0199999999999996,4.4400000000000004,5.42,4.3099999999999996,2.73,2.69,2.59,2.85,3.4,2.8519999999999999]
[null,5,4.0199999999999996,4.0599999999999996,3.85,4.7300000000000004,5.52,4.4359999999999991,3.85,3.88,3.67,4.57,5.4,4.274,3.52,3.52,3.43,3.94,5.07,3.8959999999999999,3.36,3.22,3.17,3.93,4.88,3.7119999999999997,4.3600000000000003,4.4400000000000004,4.5199999999999996,4.9800000000000004,5.76,4.8120000000000003,3.77,3.72,4.05,4.5199999999999996,5.42,4.2959999999999994,5.03,5.0199999999999996,5.21,5.54,6.19,5.3980000000000006,3.31,3.14,3.11,3.91,4.91,3.6760000000000006,2.71,2.54,2.78,3.75,4.5599999999999996,3.2679999999999998,4.6399999999999997,4.6399999999999997,4.84,5.24,5.9,5.0519999999999996,3.89,3.82,4,4.45,5.41,4.3140000000000001,2.73,2.69,2.59,2.85,3.43,2.8579999999999997]
[null,6,4.0199999999999996,4.05,3.86,4.8,5.52,4.45,3.84,3.88,3.69,4.63,5.41,4.29,3.5,3.51,3.41,4.01,null,3.6074999999999999,3.36,3.25,3.19,4.05,4.99,3.7679999999999993,4.4400000000000004,4.46,4.58,5.0199999999999996,5.75,4.8499999999999996,3.79,3.73,4.03,4.59,5.42,4.3120000000000003,5.05,5.0599999999999996,5.21,5.62,6.13,5.4139999999999997,3.33,3.13,3.11,4.01,4.91,3.6980000000000004,2.72,2.5299999999999998,2.79,3.84,4.5599999999999996,3.2879999999999994,4.66,4.62,4.92,5.3,5.92,5.0840000000000005,3.86,3.81,3.99,4.51,5.41,4.3160000000000007,2.73,2.69,2.59,2.85,3.44,2.86]
[null,7,4.0199999999999996,4.04,3.88,4.8600000000000003,5.53,4.4659999999999993,3.84,3.85,3.71,4.71,5.41,4.3040000000000003,3.49,3.49,3.43,4.12,null,3.6325000000000003,3.36,3.22,3.18,4.1399999999999997,5.0199999999999996,3.7839999999999998,4.42,4.46,4.5199999999999996,5.05,5.73,4.8360000000000003,3.79,3.7,4.05,4.6500000000000004,5.42,4.3220000000000001,4.99,5.0199999999999996,5.2,5.63,6.19,5.4060000000000006,3.34,3.14,3.13,4.12,4.93,3.7320000000000002,2.74,2.5499999999999998,2.81,3.96,4.5999999999999996,3.3319999999999994,4.71,4.6100000000000003,4.79,5.24,5.84,5.0380000000000003,3.84,3.81,4,4.6100000000000003,5.39,4.33,2.78,2.69,2.59,2.88,3.43,2.8739999999999997]
[null,8,4.03,4.01,3.9,4.9400000000000004,5.54,4.484,3.86,3.84,3.73,4.76,5.42,4.3220000000000001,3.54,3.49,3.45,4.2699999999999996,null,3.6875,3.4,3.25,3.2,4.28,5.07,3.8400000000000007,4.5,4.4000000000000004,4.53,5.14,5.76,4.8659999999999997,3.8,3.72,4.07,4.76,5.44,4.3580000000000005,5.1100000000000003,5,5.27,5.65,6.19,5.4440000000000008,3.37,3.16,3.15,4.25,4.97,3.78,2.76,2.58,2.83,4.1399999999999997,4.6399999999999997,3.3899999999999997,4.74,4.5999999999999996,4.8,5.34,5.93,5.0819999999999999,3.86,3.83,3.99,4.71,5.43,4.3639999999999999,2.78,2.72,2.59,2.93,3.46,2.8959999999999999]
["F",9,4.04,4,3.91,4.9800000000000004,5.56,4.4979999999999993,3.86,3.84,3.75,4.82,5.43,4.34,3.54,3.51,3.47,4.34,5.1100000000000003,3.9939999999999998,3.43,3.26,3.23,4.33,5.08,3.8659999999999997,4.5199999999999996,4.42,4.7,5.0999999999999996,5.88,4.9240000000000004,3.81,3.75,4.09,4.8,5.46,4.3819999999999997,5.04,5.14,5.29,5.65,6.2,5.4639999999999995,3.38,3.16,3.17,4.33,5,3.8079999999999998,2.78,2.62,2.86,4.21,4.6900000000000004,3.4319999999999999,4.7,4.6900000000000004,4.95,5.41,5.91,5.1319999999999997,3.86,3.82,4.03,4.74,5.46,4.3820000000000006,2.82,2.75,2.62,2.98,3.47,2.9280000000000004]
[null,10,4.05,4,3.96,5.0199999999999996,5.57,4.5200000000000005,3.86,3.82,3.78,4.8499999999999996,5.46,4.3540000000000001,3.55,3.53,3.46,4.42,5.13,4.0179999999999998,3.43,3.27,3.24,4.4000000000000004,5.1100000000000003,3.8900000000000006,4.46,4.4400000000000004,4.7,5.19,5.8,4.918000000000001,3.81,3.77,4.0999999999999996,4.8499999999999996,5.48,4.4020000000000001,5.0199999999999996,5.03,5.42,5.68,6.21,5.4719999999999995,3.39,3.18,3.19,4.3899999999999997,5.04,3.8379999999999996,2.79,2.66,2.9,4.25,4.75,3.47,4.75,4.67,5.0599999999999996,5.36,5.93,5.1539999999999999,3.9,3.84,4.0199999999999996,4.78,5.47,4.4019999999999992,2.82,2.75,2.65,3.05,3.52,2.9579999999999997]
[null,11,4.03,3.98,3.99,5.0599999999999996,5.6,4.5319999999999991,3.85,3.81,3.81,4.88,5.47,4.3639999999999999,3.52,3.5,3.48,4.47,null,3.7424999999999997,3.44,3.28,3.25,4.5,5.12,3.9180000000000001,4.62,4.43,4.7300000000000004,5.28,5.8,4.9720000000000004,3.83,3.78,4.09,4.91,5.52,4.4260000000000002,5.14,5.14,5.35,5.71,6.21,5.51,3.42,3.18,3.21,4.45,5.07,3.8659999999999997,2.8,2.66,2.94,4.29,4.8,3.4980000000000002,4.79,4.6399999999999997,5.0199999999999996,5.46,6,5.1820000000000004,3.87,3.84,4.01,4.8499999999999996,5.49,4.4120000000000008,2.87,2.78,2.65,3.15,3.53,2.996]
[null,12,4.0199999999999996,3.96,4,5.09,5.62,4.5380000000000003,3.84,3.78,3.83,4.91,5.47,4.3659999999999997,3.54,3.55,3.46,4.51,5.16,4.0439999999999996,3.43,3.27,3.28,4.5599999999999996,5.15,3.9379999999999997,4.5199999999999996,4.49,4.97,5.27,null,4.8125,3.84,3.78,4.12,4.9400000000000004,5.53,4.4420000000000002,4.99,5.12,5.4,5.7,6.22,5.4859999999999998,3.43,3.18,3.23,4.5,5.08,3.8840000000000003,2.81,2.67,2.95,4.34,4.82,3.5179999999999998,4.74,4.6500000000000004,5.15,5.47,6.05,5.2120000000000006,3.88,3.85,4.07,4.88,5.49,4.4340000000000002,2.87,2.8,2.68,3.2,3.54,3.0179999999999998]
["M",13,4.01,3.94,4.0199999999999996,5.1100000000000003,5.62,4.54,3.81,3.77,3.85,4.9400000000000004,5.48,4.37,3.52,3.47,3.48,4.5599999999999996,5.17,4.0400000000000009,3.45,3.25,3.31,4.6100000000000003,5.16,3.9560000000000004,4.5199999999999996,4.4400000000000004,4.62,5.3,6.16,5.0080000000000009,3.85,3.74,4.0999999999999996,4.99,5.5,4.4359999999999999,5.09,5.17,5.3,5.81,6.37,5.548,3.41,3.17,3.25,4.55,5.09,3.8939999999999997,2.81,2.68,2.96,4.3899999999999997,4.8099999999999996,3.53,4.8099999999999996,4.7300000000000004,4.8899999999999997,5.58,6.12,5.226,3.88,3.85,4.0599999999999996,4.93,5.49,4.4420000000000002,2.87,2.8,2.7,3.25,3.55,3.0340000000000003]
[null,14,3.99,3.9,4.03,5.13,5.6,4.5299999999999994,3.81,3.73,3.84,4.9800000000000004,5.45,4.3620000000000001,3.54,3.43,3.48,4.6100000000000003,5.14,4.0400000000000009,3.43,3.19,3.31,4.6399999999999997,5.15,3.944,4.5599999999999996,4.5,4.63,5.59,5.87,5.0299999999999994,3.84,3.74,4.09,5.01,5.51,4.4379999999999997,5.04,5.17,5.33,5.86,6.25,5.53,3.4,3.09,3.26,4.5999999999999996,5.07,3.8840000000000003,2.81,2.66,2.97,4.4400000000000004,4.78,3.5320000000000009,4.87,4.78,5.05,5.67,6.02,5.2779999999999996,3.89,3.84,4.09,4.99,5.48,4.4580000000000002,2.87,2.82,2.7,3.3,3.57,3.0520000000000005]
[null,15,3.98,3.88,4.0199999999999996,5.17,5.58,4.5259999999999989,3.8,3.69,3.85,4.99,5.44,4.3540000000000001,3.5,3.35,3.49,4.67,5.1100000000000003,4.024,3.43,3.08,3.32,4.6900000000000004,5.1100000000000003,3.9259999999999997,5.0599999999999996,4.45,4.62,5.38,null,4.8774999999999995,3.82,3.72,4.0999999999999996,5.0599999999999996,5.43,4.4260000000000002,5.2,5.0999999999999996,5.39,5.77,6.27,5.5460000000000003,3.41,3.04,3.26,4.6399999999999997,5.03,3.8760000000000003,2.8,2.64,2.97,4.49,4.7300000000000004,3.5260000000000007,4.9400000000000004,4.7,5.07,5.59,6.02,5.2640000000000002,3.89,3.82,4.04,5.03,5.47,4.45,2.87,2.82,2.72,3.35,3.57,3.0659999999999998]
[null,16,3.97,3.86,4.0199999999999996,5.21,5.57,4.5259999999999998,3.78,3.71,3.85,5.0199999999999996,5.46,4.3639999999999999,3.45,3.36,3.49,4.74,5.1100000000000003,4.03,3.43,3.07,3.32,4.74,5.0999999999999996,3.9319999999999999,4.5599999999999996,4.51,4.68,5.4,null,4.7874999999999996,3.83,3.72,4.09,5.0999999999999996,5.45,4.4380000000000006,5.13,5.05,5.4,5.79,6.24,5.5220000000000002,3.42,3.01,3.27,4.7,5.01,3.8819999999999992,2.82,2.64,2.98,4.55,4.7,3.5379999999999994,4.78,4.7699999999999996,4.96,5.57,5.99,5.2140000000000004,3.9,3.86,4.07,5.09,5.47,4.4779999999999998,2.87,2.82,2.72,3.35,3.57,3.0659999999999998]
["A",17,3.97,3.85,4.01,5.24,5.55,4.524,3.78,3.69,3.82,5.07,5.42,4.3559999999999999,3.43,3.34,3.47,4.78,5.09,4.0220000000000002,3.45,3.07,3.33,4.79,5.0599999999999996,3.94,4.57,4.42,4.75,5.44,5.85,5.0060000000000002,3.85,3.71,4.0999999999999996,5.14,5.44,4.4480000000000004,5.12,5.12,5.36,5.8,6.22,5.524,3.44,3.01,3.28,4.7699999999999996,4.99,3.8979999999999997,2.84,2.67,2.98,4.6399999999999997,4.67,3.5599999999999996,4.8,4.75,5.04,5.58,6.05,5.2440000000000007,3.94,3.82,4.07,5.12,5.44,4.4779999999999998,2.87,2.84,2.75,3.4,3.57,3.0860000000000003]
[null,18,3.96,3.85,4.01,5.28,5.53,4.5260000000000007,3.77,3.68,3.81,5.12,5.39,4.3540000000000001,3.44,3.37,3.48,4.8899999999999997,null,3.7949999999999999,3.46,3.11,3.38,4.9000000000000004,5.05,3.9799999999999995,4.51,4.3899999999999997,4.7,5.46,5.85,4.9819999999999993,3.84,3.75,4.0999999999999996,5.18,5.44,4.4619999999999997,5.18,5.0599999999999996,5.44,5.83,6.27,5.5559999999999992,3.42,3.03,3.29,4.88,4.97,3.9179999999999993,2.86,2.71,2.99,4.74,4.6399999999999997,3.5880000000000001,4.8,4.8099999999999996,4.9800000000000004,5.65,6.02,5.2520000000000007,3.87,3.82,4.03,5.17,5.45,4.468,2.87,2.84,2.75,3.4,3.57,3.0860000000000003]
[null,19,3.96,3.85,3.99,5.3,5.5,4.5200000000000005,3.77,3.7,3.81,5.15,5.37,4.3600000000000003,3.42,3.34,3.47,4.97,5.05,4.05,3.45,3.11,3.43,4.9800000000000004,5.05,4.0039999999999996,4.63,4.47,4.6900000000000004,5.45,5.9,5.0280000000000005,3.85,3.76,4.08,5.21,5.44,4.468,5.05,5.1100000000000003,5.48,5.88,6.32,5.5679999999999996,3.43,3.05,3.3,4.9400000000000004,4.96,3.9360000000000008,2.88,2.74,2.99,4.79,4.6100000000000003,3.6019999999999994,4.7699999999999996,4.68,5,5.68,6.07,5.24,3.9,3.84,4.04,5.22,5.43,4.4859999999999998,null,2.84,2.75,3.4,3.57,3.14]
[null,20,3.96,3.84,3.99,5.31,5.48,4.516,3.79,3.69,3.81,5.18,5.35,4.3639999999999999,3.38,3.37,3.44,4.9800000000000004,5.0199999999999996,4.0379999999999994,3.47,3.14,3.4,5.01,5.0599999999999996,4.016,4.5199999999999996,4.57,4.74,5.53,null,4.84,3.87,3.8,4.09,5.24,5.45,4.49,5.13,5.12,5.43,5.88,6.29,5.5699999999999994,3.45,3.08,3.34,4.9800000000000004,4.97,3.964,2.9,2.79,3.01,4.83,4.62,3.63,4.72,4.71,4.99,5.76,6.09,5.2539999999999996,3.93,3.87,4.07,5.23,5.43,4.5060000000000002,2.92,2.84,2.75,3.4,3.59,3.1]
[null,21,3.97,3.84,3.99,5.32,5.48,4.5200000000000005,3.79,3.68,3.81,5.17,5.37,4.3640000000000008,3.44,3.38,3.49,5,null,3.8275000000000001,3.47,3.16,3.44,5.03,5.05,4.03,4.63,4.49,4.68,5.56,5.81,5.0339999999999998,3.86,3.82,4.09,5.27,5.45,4.4979999999999993,5.08,5.08,5.45,5.9,6.3,5.5619999999999994,3.46,3.12,3.35,5,4.97,3.9799999999999995,2.92,2.83,3.03,4.84,4.63,3.65,4.82,4.76,5.03,5.74,6.09,5.2880000000000003,3.91,3.87,4.07,5.22,5.45,4.5039999999999996,null,2.84,2.75,3.4,3.6,3.1475]
["M",22,3.97,3.85,3.99,5.33,5.46,4.5200000000000005,3.79,3.69,3.83,5.18,5.33,4.3639999999999999,3.41,3.41,3.47,5.0199999999999996,5.03,4.0679999999999996,3.49,3.2,3.46,5.04,5.08,4.0540000000000003,4.59,4.5999999999999996,4.7,5.65,null,4.8849999999999998,3.86,3.88,4.0999999999999996,5.27,5.47,4.516,5.08,5.0999999999999996,5.42,5.9,6.27,5.5540000000000003,3.46,3.15,3.38,5.0199999999999996,4.9800000000000004,3.9979999999999998,2.92,2.86,3.06,4.8600000000000003,4.67,3.6739999999999995,4.78,4.79,5.04,5.8,6.05,5.2919999999999998,3.88,3.97,4.09,5.28,5.45,4.5339999999999998,null,2.84,2.75,3.45,3.61,3.1624999999999996]
[null,23,3.97,3.84,3.99,5.33,5.46,4.5180000000000007,3.78,3.72,3.81,5.2,5.33,4.3680000000000003,3.38,3.37,3.49,5.0199999999999996,5.01,4.0540000000000003,3.48,3.22,3.47,5.08,5.09,4.0679999999999996,4.45,4.59,4.72,5.57,null,4.8324999999999996,3.86,3.95,4.1100000000000003,5.29,5.49,4.5400000000000009,5.08,5.16,5.42,5.96,6.29,5.5819999999999999,3.46,3.18,3.4,5.04,5.0199999999999996,4.0200000000000005,2.92,2.87,3.08,4.87,4.71,3.6900000000000004,4.78,4.83,5.0999999999999996,5.7,6.1,5.3019999999999996,3.89,3.98,4.05,5.29,5.48,4.5380000000000003,null,2.84,2.73,3.45,3.62,3.16]
[null,24,3.96,3.85,4,5.33,5.45,4.5179999999999998,3.77,3.72,3.84,5.2,5.31,4.3680000000000003,3.41,3.39,3.5,5.03,5.05,4.0760000000000005,3.44,3.23,3.48,5.0999999999999996,5.09,4.0679999999999996,4.51,4.53,4.7300000000000004,5.56,null,4.8324999999999996,3.84,4.01,4.1399999999999997,5.29,5.5,4.5559999999999992,5.09,5.17,5.36,5.95,6.29,5.5720000000000001,3.45,3.18,3.43,5.05,5.03,4.0280000000000005,2.91,2.88,3.11,4.87,4.71,3.6960000000000002,4.75,4.7300000000000004,5.0199999999999996,5.74,6.06,5.26,3.93,4.05,4.1100000000000003,5.31,5.47,4.5739999999999998,null,2.84,2.73,3.45,3.62,3.16]
[null,25,3.95,3.85,4.01,5.33,5.43,4.5140000000000002,3.77,3.71,3.84,5.19,5.27,4.3559999999999999,3.36,3.4,3.47,5.03,5.04,4.0600000000000005,3.46,3.23,3.52,5.12,5.09,4.0839999999999996,4.4000000000000004,4.62,4.78,5.52,null,4.83,3.83,4.03,4.0999999999999996,5.29,5.48,4.5460000000000003,5.03,5.16,5.45,5.95,6.29,5.5759999999999996,3.44,3.18,3.44,5.05,5.0199999999999996,4.0259999999999998,2.89,2.88,3.12,4.87,4.7,3.6920000000000002,4.7699999999999996,4.8600000000000003,5.09,5.75,6.13,5.3199999999999994,3.89,4.07,4.0599999999999996,5.3,5.46,4.556,null,2.82,2.73,3.45,3.62,3.1550000000000002]
["J",26,3.94,3.85,4.01,5.33,5.39,4.5040000000000004,3.75,3.72,3.82,5.2,5.24,4.346000000000001,3.37,3.39,3.53,5.01,5.0199999999999996,4.0640000000000001,3.47,3.23,3.53,5.1100000000000003,5.05,4.0780000000000003,4.54,4.5999999999999996,4.68,5.49,null,4.8275000000000006,3.84,4.07,4.12,5.3,5.48,4.5620000000000003,5.07,5.13,5.45,5.98,6.3,5.5860000000000003,3.43,3.19,3.46,5.05,4.99,4.0239999999999991,2.89,2.87,3.14,4.88,4.66,3.6880000000000002,4.75,4.97,5.0599999999999996,5.68,6.05,5.3019999999999996,3.89,4.05,4.1100000000000003,5.29,5.47,4.5619999999999994,null,2.82,2.73,3.43,3.62,3.1500000000000004]
[null,27,3.94,3.85,4.01,5.33,5.37,4.5000000000000009,3.76,3.71,3.85,5.19,5.21,4.3440000000000003,3.33,3.4,3.5,5.05,4.97,4.05,3.44,3.23,3.55,5.13,5.01,4.0720000000000001,4.51,4.59,4.76,5.61,null,4.8674999999999997,3.84,4.05,4.1399999999999997,5.29,5.46,4.556,5.07,5.13,5.37,5.94,6.24,5.55,3.44,3.19,3.46,5.05,4.96,4.0200000000000005,2.89,2.87,3.15,4.87,4.62,3.6800000000000006,4.72,4.79,4.99,5.8,6.09,5.2780000000000005,3.89,4.08,4.08,5.31,5.46,4.5640000000000001,null,2.8,2.73,3.43,3.61,3.1424999999999996]
[null,28,3.93,3.85,4.0199999999999996,5.31,5.33,4.4879999999999995,3.75,3.7,3.85,5.17,5.17,4.3280000000000003,3.34,3.37,3.51,5.0599999999999996,4.92,4.0399999999999991,3.44,3.22,3.53,5.13,5,4.0640000000000001,4.5999999999999996,4.5599999999999996,4.7699999999999996,5.57,null,4.875,3.83,4.0599999999999996,4.1399999999999997,5.28,5.44,4.55,5.09,5.16,5.39,5.95,6.29,5.5759999999999996,3.43,3.19,3.48,5.0599999999999996,4.93,4.0179999999999998,2.87,2.88,3.16,4.87,4.57,3.6700000000000004,4.7,4.84,5.13,5.75,6.1,5.3039999999999994,3.9,4.09,4.13,5.3,5.42,4.5680000000000005,null,2.8,2.73,3.43,3.52,3.1199999999999997]
[null,29,3.94,3.86,4.03,5.31,5.31,4.49,3.73,3.69,3.87,5.16,5.16,4.3220000000000001,3.35,3.37,3.5,5.04,4.9000000000000004,4.0320000000000009,3.45,3.24,3.57,5.14,5.01,4.081999999999999,4.47,4.53,4.75,5.6,null,4.8375000000000004,3.82,4.09,4.13,5.3,5.44,4.556,5.0599999999999996,5.2,5.38,5.97,6.33,5.5879999999999992,3.44,3.2,3.48,5.08,4.8899999999999997,4.0179999999999998,2.86,2.88,3.18,4.9000000000000004,4.53,3.6700000000000004,4.8099999999999996,4.79,4.9800000000000004,5.78,6.01,5.2739999999999991,3.87,4.0999999999999996,4.1100000000000003,5.3,5.43,4.5619999999999994,null,2.8,2.73,3.43,3.5,3.1149999999999998]
["J",30,3.95,3.85,4.05,5.3,5.29,4.4880000000000004,3.76,3.69,3.9,5.16,5.1100000000000003,4.3239999999999998,3.35,3.38,3.54,5.04,4.8600000000000003,4.0339999999999998,3.43,3.24,3.59,5.13,4.9800000000000004,4.0739999999999998,4.42,4.5199999999999996,4.7300000000000004,5.56,null,4.8075000000000001,3.77,4.08,4.13,5.28,5.42,4.5359999999999996,5.08,5.19,5.49,5.86,6.3,5.5840000000000005,3.4,3.21,3.5,5.08,4.88,4.0140000000000002,2.84,2.88,3.2,4.87,4.5,3.6579999999999999,4.63,4.87,4.95,5.69,6.05,5.2380000000000004,3.84,4.0599999999999996,4.0999999999999996,5.29,5.43,4.5439999999999996,2.8,2.8,2.73,3.43,3.45,3.0420000000000003]
[null,31,3.96,3.85,4.07,5.29,5.24,4.4820000000000011,3.78,3.68,3.9,5.16,5.09,4.3220000000000001,3.34,3.37,3.54,5.04,4.84,4.0259999999999998,3.41,3.24,3.6,5.14,4.96,4.07,4.5199999999999996,4.5199999999999996,4.67,5.5,null,4.8025000000000002,3.79,4.07,4.16,5.19,5.44,4.53,5.05,5.24,5.44,5.9,6.32,5.5900000000000007,3.37,3.21,3.52,5.07,4.8600000000000003,4.0060000000000002,2.8,2.88,3.22,4.8600000000000003,4.4800000000000004,3.6480000000000006,4.66,4.8099999999999996,4.97,5.65,6,5.2179999999999991,3.87,4.09,4.09,5.21,5.41,4.5340000000000007,2.8,2.77,2.73,3.4,3.45,3.0300000000000002]
[null,32,3.97,3.83,4.1100000000000003,5.28,5.24,4.4859999999999998,3.78,3.66,3.91,5.15,5.0599999999999996,4.3119999999999994,3.35,3.35,3.56,5.03,4.83,4.0239999999999991,3.41,3.24,3.61,5.14,4.96,4.0720000000000001,4.43,4.59,4.78,5.53,5.85,5.0359999999999996,3.76,4.08,4.1500000000000004,5.28,5.45,4.5439999999999996,5.0199999999999996,5.13,5.41,5.92,6.38,5.5719999999999992,3.35,3.2,3.53,5.08,4.87,4.0060000000000002,2.77,2.87,3.25,4.8600000000000003,4.49,3.6480000000000006,4.6900000000000004,4.93,5.05,5.79,6.02,5.2960000000000003,3.83,4.0599999999999996,4.1399999999999997,5.29,5.41,4.5460000000000003,2.8,2.77,2.73,3.35,3.45,3.0200000000000005]
[null,33,3.99,3.82,4.1100000000000003,5.29,5.25,{"$f":"AVERAGE(C37:G37)","v":4.492},3.78,3.66,3.92,5.14,5.07,{"$f":"AVERAGE(I37:M37)","v":4.3140000000000001},3.33,3.35,3.56,5.0199999999999996,4.8600000000000003,{"$f":"AVERAGE(O37:S37)","v":4.024},3.4,3.24,3.63,5.14,5.0199999999999996,{"$f":"AVERAGE(U37:Y37)","v":4.0860000000000003},4.46,4.46,4.79,5.61,null,{"$f":"AVERAGE(AA37:AE37)","v":4.83},3.75,4.09,4.16,5.29,5.46,{"$f":"AVERAGE(AG37:AK37)","v":4.55},5.05,5.16,5.48,5.95,6.33,{"$f":"AVERAGE(AM37:AQ37)","v":5.5939999999999994},3.37,3.21,3.56,5.08,4.93,{"$f":"AVERAGE(AS37:AW37)","v":4.0299999999999994},2.77,2.88,3.26,4.87,4.54,{"$f":"AVERAGE(AY37:BC37)","v":3.6640000000000001},4.7699999999999996,4.83,5.07,5.75,null,{"$f":"AVERAGE(BE37:BI37)","v":5.1050000000000004},3.88,4.03,4.0999999999999996,5.31,5.46,{"$f":"AVERAGE(BK37:BO37)","v":4.556},2.8,2.77,2.73,3.35,3.45,{"$f":"AVERAGE(BQ37:BU37)","v":3.0200000000000005}]
[null,34,4,3.81,4.1399999999999997,5.3,5.27,4.5039999999999996,3.82,3.66,3.96,5.15,5.12,4.3420000000000005,3.36,3.34,3.6,5.04,4.9000000000000004,4.048,3.4,3.25,3.64,5.13,5.04,4.0920000000000005,4.45,4.57,4.78,5.58,null,4.8450000000000006,3.76,4.08,4.1900000000000004,5.29,5.52,4.5679999999999996,5.07,5.24,5.43,5.95,6.37,5.6120000000000001,3.39,3.21,3.58,5.08,4.96,4.0439999999999996,2.79,2.88,3.29,4.8600000000000003,4.5999999999999996,3.6840000000000002,4.76,4.83,5.13,5.75,6.19,5.3319999999999999,3.83,4.03,4.1399999999999997,5.3,5.46,4.5520000000000005,2.8,2.72,2.73,3.35,3.46,3.0119999999999996]
["A",35,4.01,3.81,4.1500000000000004,5.29,5.3,4.5120000000000005,3.82,3.65,3.98,5.16,5.15,4.3519999999999994,3.35,3.34,3.6,5.04,4.96,4.0579999999999998,3.43,3.23,3.65,5.14,5.07,4.1040000000000001,4.5199999999999996,4.5199999999999996,4.8899999999999997,5.59,null,4.88,3.8,4.0999999999999996,4.21,5.31,5.56,4.5959999999999992,5.33,5.23,5.49,5.97,6.38,5.68,3.37,3.21,3.58,5.08,4.99,4.0460000000000003,2.81,2.88,3.3,4.8600000000000003,4.66,3.7019999999999995,4.78,4.88,5.1100000000000003,5.76,6.2,5.3460000000000001,3.87,4.04,4.1900000000000004,5.31,5.52,4.5860000000000003,2.8,2.69,2.76,3.38,3.47,3.02]
[null,36,4.0199999999999996,3.8,4.17,5.29,5.33,4.5220000000000002,3.82,3.65,4.0199999999999996,5.17,5.2,4.371999999999999,3.41,3.35,3.6,5.0599999999999996,5.01,4.0860000000000003,3.41,3.24,3.66,5.13,5.0999999999999996,4.1079999999999997,4.5999999999999996,4.5999999999999996,4.87,5.6,null,4.9175000000000004,3.81,4.08,4.21,5.32,5.58,4.5999999999999996,5.1100000000000003,5.16,5.44,5.97,6.35,5.6059999999999999,3.37,3.21,3.59,5.0999999999999996,5.03,4.0600000000000005,2.82,2.89,3.31,4.8600000000000003,4.7,3.7159999999999997,4.8,4.8499999999999996,5.13,5.73,6.15,5.331999999999999,3.86,4.03,4.17,5.32,5.53,4.5820000000000007,2.8,2.69,2.76,3.4,3.5,3.0300000000000002]
[null,37,4.0199999999999996,3.82,4.1900000000000004,5.3,5.38,4.5419999999999998,3.84,3.63,4.01,5.18,5.22,4.3759999999999994,3.41,3.36,3.61,5.05,5.01,4.0879999999999992,3.4,3.26,3.68,5.16,5.09,4.1180000000000003,4.5599999999999996,4.75,4.78,5.61,null,4.9249999999999998,3.78,4.07,4.2300000000000004,5.34,5.56,4.5960000000000001,5.0999999999999996,5.22,5.43,6.01,6.36,5.6239999999999997,3.35,3.22,3.6,5.1100000000000003,5.05,4.0660000000000007,2.82,2.88,3.31,4.87,4.71,3.718,4.8,4.87,5.04,5.76,6.11,5.3159999999999998,3.84,4.04,4.1900000000000004,5.34,5.53,4.5880000000000001,2.77,2.69,2.76,3.4,3.58,3.04]
[null,38,4.01,3.79,4.2,5.3,5.41,4.5419999999999998,3.82,3.63,4.03,5.17,5.23,4.3759999999999994,3.4,3.33,3.6,5.0599999999999996,null,3.8475000000000001,3.42,3.25,3.66,5.15,5.07,4.1100000000000003,4.67,4.71,4.84,5.69,null,4.9775,3.78,4.08,4.21,5.35,5.55,4.5940000000000003,5.09,5.26,5.5,6.01,6.4,5.6519999999999992,3.34,3.22,3.6,5.1100000000000003,5.04,4.0619999999999994,2.79,2.88,3.31,4.9000000000000004,4.67,3.71,4.7699999999999996,4.84,5.0999999999999996,5.75,6.21,5.3340000000000005,3.83,4.0199999999999996,4.16,5.34,5.51,4.5720000000000001,2.77,2.69,2.8,3.45,3.59,3.06]
["S",39,3.99,3.79,4.22,5.31,5.42,4.5459999999999994,3.8,3.65,4.05,5.19,5.26,4.3900000000000006,3.36,3.3,3.66,5.07,null,3.8475000000000001,3.35,3.24,3.68,5.19,5.0599999999999996,4.1040000000000001,4.5199999999999996,4.62,4.8899999999999997,5.81,null,4.96,3.76,4.09,4.21,5.35,5.54,4.589999999999999,5.08,5.14,5.51,6.02,6.34,5.6180000000000003,3.31,3.22,3.6,5.13,4.99,4.05,2.75,2.88,3.31,4.91,4.6500000000000004,3.7,4.72,4.84,5.1100000000000003,5.74,6.19,5.3199999999999994,3.81,4.07,4.17,5.36,5.53,4.5880000000000001,2.77,2.67,2.8,3.45,3.59,3.0559999999999996]
[null,40,3.98,3.8,4.26,5.32,5.42,4.556,3.8,3.65,4.07,5.2,5.27,4.3979999999999997,3.4,3.3,3.62,5.07,4.9800000000000004,4.0739999999999998,3.34,3.25,3.67,5.19,5.05,4.0999999999999996,4.63,4.58,4.84,null,null,4.6833333333333336,3.75,4.07,4.2300000000000004,5.39,5.56,4.5999999999999996,5.16,5.19,5.43,6,6.41,5.6379999999999999,3.28,3.21,3.6,5.13,4.95,4.0339999999999998,2.71,2.88,3.3,4.91,4.5999999999999996,3.6799999999999997,4.75,4.9000000000000004,5.1100000000000003,5.76,6.18,5.3400000000000007,3.83,4.04,4.16,5.37,5.53,4.5860000000000003,2.76,2.67,2.82,3.45,3.56,3.052]
[null,41,3.97,3.79,4.28,5.34,5.43,4.5619999999999994,3.79,3.62,4.0999999999999996,5.21,5.27,4.3979999999999997,3.36,3.32,3.65,5.08,4.97,4.0759999999999996,3.3,3.25,3.66,5.19,5.01,4.0820000000000007,4.51,4.57,4.79,5.72,null,4.8975,3.74,4.07,4.21,5.42,5.53,4.5939999999999994,5.05,5.17,5.49,6.02,6.36,5.6179999999999994,3.25,3.21,3.61,5.14,4.92,4.0260000000000007,2.67,2.87,3.31,4.92,4.55,3.6640000000000001,4.6399999999999997,4.8499999999999996,5.0599999999999996,5.86,6.17,5.3159999999999998,3.86,4.03,4.1500000000000004,5.38,5.49,4.5820000000000007,2.74,2.67,2.82,3.45,3.49,3.0339999999999998]
[null,42,3.97,3.78,4.32,5.35,5.42,4.5680000000000005,3.77,3.62,4.1399999999999997,5.23,5.26,4.4040000000000008,3.38,3.33,3.67,5.0999999999999996,4.93,4.081999999999999,3.28,3.22,3.7,5.2,4.9400000000000004,4.0679999999999996,4.5999999999999996,4.68,4.92,null,null,4.7333333333333334,3.75,4.0999999999999996,4.2300000000000004,5.42,5.53,4.6059999999999999,5.13,5.14,5.5,6.04,6.39,5.64,3.23,3.21,3.63,5.14,4.88,4.0179999999999998,2.62,2.86,3.34,4.92,4.51,3.65,4.7300000000000004,4.8600000000000003,5.0599999999999996,5.83,6.19,5.3339999999999996,3.81,4.0199999999999996,4.1900000000000004,5.37,5.51,4.58,2.74,2.64,2.82,3.48,3.49,3.0340000000000003]
[null,43,3.97,3.79,4.3600000000000003,5.36,5.4,4.5760000000000005,3.78,3.6,4.2,5.25,5.26,4.4179999999999993,3.35,3.35,3.69,5.09,4.93,4.0819999999999999,3.26,3.25,3.7,5.19,4.93,4.0660000000000007,4.43,4.53,4.87,5.66,null,4.8725000000000005,3.73,4.09,4.26,5.41,5.51,4.5999999999999996,5.01,5.19,5.48,6.06,6.46,5.64,3.2,3.21,3.65,5.13,4.8499999999999996,4.008,2.58,2.87,3.35,4.8899999999999997,4.4400000000000004,3.6260000000000003,4.79,4.83,5.14,5.84,6.13,5.3460000000000001,3.83,4.0199999999999996,4.1900000000000004,5.38,5.49,4.581999999999999,2.74,2.62,2.82,3.48,3.45,3.0219999999999998]
["O",44,3.98,3.8,4.41,5.38,5.4,4.5939999999999994,3.81,3.6,4.25,5.25,5.25,4.4320000000000004,3.39,3.34,3.7,null,4.8899999999999997,3.83,3.24,3.24,3.73,5.16,4.91,4.056,4.66,4.58,4.95,null,null,4.7300000000000004,3.73,4.07,4.2699999999999996,5.43,5.51,4.6019999999999994,5.09,5.22,5.52,6.04,6.42,5.6579999999999995,3.18,3.19,3.66,5.09,4.78,3.9800000000000004,2.5499999999999998,2.85,3.38,4.8600000000000003,4.3499999999999996,3.5980000000000003,4.7300000000000004,4.8099999999999996,5.13,5.83,null,5.125,3.83,4.01,4.2300000000000004,5.38,5.51,4.5920000000000005,2.72,2.62,2.82,3.48,3.45,3.0179999999999998]
[null,45,4,3.78,4.46,5.39,5.39,4.6040000000000001,3.81,3.61,4.29,5.27,5.24,4.444,3.42,3.35,3.7,5.07,4.8499999999999996,4.0780000000000003,3.23,3.23,3.75,5.14,4.8499999999999996,4.0400000000000009,4.5599999999999996,4.53,4.8499999999999996,null,null,4.6466666666666665,3.7,4.0599999999999996,4.3099999999999996,5.42,5.48,4.5940000000000003,5.0199999999999996,5.0999999999999996,5.56,6.11,6.4,5.6379999999999999,3.17,3.18,3.69,5.07,4.71,3.964,2.54,2.82,3.4,4.82,4.26,3.5680000000000001,4.72,4.91,5.18,5.88,6.23,5.3839999999999995,3.85,3.95,4.2300000000000004,5.4,5.44,4.5739999999999998,2.72,2.62,2.82,3.5,3.4,3.012]
[null,46,4.01,3.77,4.49,5.42,5.41,4.6199999999999992,3.84,3.61,4.34,5.3,5.24,4.4659999999999993,3.4,3.37,3.74,5.07,4.8099999999999996,4.0780000000000003,3.22,3.19,3.74,5.09,4.6900000000000004,3.9859999999999998,4.6100000000000003,4.59,4.8899999999999997,null,null,4.6966666666666663,3.73,4.07,4.32,5.4,5.46,4.596000000000001,5.0999999999999996,5.2,5.53,6.06,6.43,5.6639999999999997,3.15,3.13,3.71,5.05,4.62,3.9319999999999999,2.5299999999999998,2.77,3.43,4.76,4.16,3.53,4.6900000000000004,4.8499999999999996,5.17,5.84,6.14,5.3379999999999992,3.78,4,4.26,5.39,5.43,4.5720000000000001,2.72,2.62,2.82,3.5,3.35,3.0019999999999998]
[null,47,4.03,3.78,4.53,5.46,5.42,4.6440000000000001,3.85,3.61,4.3899999999999997,5.32,5.27,4.4880000000000004,3.42,3.33,3.74,5.0999999999999996,4.76,4.07,3.22,3.15,3.77,5.07,4.6900000000000004,3.9800000000000004,4.4400000000000004,4.45,4.84,5.8,5.95,5.0960000000000001,3.72,4.04,4.32,5.41,5.41,4.58,5.07,5.24,5.54,6.06,6.4,5.6620000000000008,3.14,3.08,3.73,5,4.54,3.8980000000000006,2.52,2.74,3.45,4.72,4.0599999999999996,3.4979999999999998,4.6900000000000004,4.8600000000000003,5.14,5.88,6.14,5.3420000000000005,3.81,4.01,4.28,5.41,5.41,4.5840000000000005,2.69,2.62,2.82,3.5,3.34,2.9940000000000002]
["N",48,4.05,3.79,4.57,5.49,5.44,4.6680000000000001,3.87,3.62,4.41,5.36,5.25,4.5020000000000007,3.44,3.36,3.74,5.0999999999999996,4.72,4.0720000000000001,3.18,3.14,3.78,5.07,4.62,3.9579999999999997,4.4400000000000004,4.5599999999999996,4.84,null,null,4.6133333333333333,3.71,4.05,4.3499999999999996,5.42,5.38,4.5819999999999999,5.0199999999999996,5.22,5.47,6.02,6.37,5.6199999999999992,3.12,3.06,3.74,4.99,4.4800000000000004,3.8780000000000001,2.52,2.73,3.45,4.67,3.95,3.464,4.7300000000000004,4.87,5.22,5.82,6.2,5.3680000000000003,3.8,4.0199999999999996,4.28,5.4,5.41,4.5819999999999999,2.69,2.62,2.82,3.47,3.32,2.9840000000000004]
[null,49,4.07,3.8,4.59,5.51,5.44,4.6820000000000004,3.9,3.61,4.4000000000000004,5.37,5.26,4.508,3.43,3.38,3.76,5.1100000000000003,4.76,4.0879999999999992,3.19,3.13,3.78,5.05,4.46,3.9219999999999997,4.54,4.57,5.25,6.07,6.27,5.34,3.7,4.05,4.3499999999999996,5.42,5.38,4.58,5.13,5.22,5.62,6.13,6.53,5.726,3.12,3.04,3.73,4.96,4.38,3.8460000000000001,2.52,2.73,3.46,4.63,3.88,3.444,4.67,4.84,5.24,5.96,6.31,5.4039999999999999,3.84,4.0199999999999996,4.32,5.42,5.4,4.5999999999999996,2.69,2.62,2.79,3.45,3.27,2.964]
[null,50,4.08,3.79,4.59,5.52,null,4.4950000000000001,3.9,3.62,4.41,5.38,null,4.3274999999999997,3.45,3.41,3.78,5.1100000000000003,null,3.9375,3.2,3.15,3.79,5.01,null,3.7875000000000001,4.79,4.79,4.96,5.92,null,5.1150000000000002,3.71,4.04,4.3499999999999996,5.41,null,4.3774999999999995,5.19,5.33,5.58,6.15,null,5.5625,3.12,3.04,3.73,4.92,null,3.7025000000000001,2.52,2.73,3.42,4.5999999999999996,null,3.3174999999999999,4.84,5,5.28,6.01,null,5.2825000000000006,3.81,4.01,4.3,5.4,null,4.3800000000000008,2.69,2.62,2.79,3.27,null,2.8425000000000002]
[null,51,4.08,3.8,4.59,5.52,null,4.4974999999999996,3.9,3.63,4.41,5.39,null,4.3324999999999996,3.46,3.37,3.78,5.0999999999999996,null,3.9274999999999998,3.21,3.13,3.79,5.0199999999999996,null,3.7874999999999996,4.43,4.75,4.87,null,null,4.6833333333333336,3.71,4.04,4.3600000000000003,5.42,null,4.3825000000000003,5.12,5.24,5.56,6.18,null,5.5249999999999995,3.13,3.06,3.73,4.91,null,3.7075,2.5299999999999998,2.73,3.41,4.57,null,3.31,4.75,4.9000000000000004,5.13,5.92,null,5.1750000000000007,3.82,4.03,4.29,5.43,null,4.3925000000000001,2.69,2.62,2.79,3.27,null,2.8425000000000002]
["D",52,4.07,3.82,4.59,5.53,null,4.5025000000000004,3.89,3.65,4.42,5.4,null,4.34,3.45,3.35,3.75,5.07,null,3.9050000000000002,3.2,3.13,3.8,4.99,null,3.78,4.59,4.5,4.88,null,null,4.6566666666666663,3.71,4.05,4.38,5.42,null,4.3900000000000006,5.0599999999999996,5.21,5.49,6.08,null,5.46,3.14,3.07,3.74,4.91,null,3.7149999999999999,2.54,2.74,3.43,4.59,null,3.3250000000000002,4.74,4.9400000000000004,5.22,5.86,null,5.1899999999999995,3.83,3.97,4.34,5.43,null,4.3925000000000001,2.69,2.62,null,3.27,null,2.86]
[null,53,null,3.82,null,null,null,3.82,null,3.66,null,null,null,3.66,null,3.37,null,null,null,3.37,null,3.13,null,null,null,3.13,null,4.5599999999999996,null,null,null,4.5599999999999996,null,4.04,null,null,null,4.04,null,5.19,null,null,null,5.19,null,3.07,null,null,null,3.07,null,2.75,null,null,null,2.75,null,4.8099999999999996,null,null,null,4.8099999999999996,null,4.03,null,null,null,4.03,null,2.62,null,null,null,2.62]

{"sheet":"MoyQuinqHebdoVeaux","index":3,"n_rows":60,"n_cols":32,"rows_kept":60,"cut":false,"hidden":true,"merged":[[5,26,5,31],[5,2,5,7],[5,8,5,13],[5,14,5,19],[5,20,5,25]]}
[]
[]
[]
[]
[null,null,2019,2020,2021,2022,2023,"MOYENNE 5 ANS",2019,2020,2021,2022,2023,"MOYENNE 5 ANS",2019,2020,2021,2022,2023,"MOYENNE 5 ANS",2019,2020,2021,2022,2023,"MOYENNE 5 ANS",2019,2020,2021,2022,2023,"MOYENNE 5 ANS"]
["Mois","Sem.","Rose très clair",null,null,null,null,null,"R.clair",null,null,null,null,null,"Rosé",null,null,null,null,null,"NORMAND 45 à 50 Kg (Euros/tête)",null,null,null,null,null,"LAITIER 45 à 50 Kg (Euros/tête)"]
[]
[null,1,6.7,6.77,6.91,6.9600000381469727,7.9499998092651367,{"$f":"AVERAGE(C8:G8)","v":7.0579999694824211},6.25,6.37,6.39,6.9499998092651367,7.75,{"$f":"AVERAGE(I8:M8)","v":6.7419999618530282},4.4000000000000004,4.93,4.96,4.9600000381469727,5.5100002288818359,{"$f":"AVERAGE(O8:S8)","v":4.9520000534057615},75,55,40,35,40,{"$f":"AVERAGE(U8:Y8)","v":49},75,55,55,55,60,{"$f":"AVERAGE(AA8:AE8)","v":60}]
[null,2,6.82,6.95,6.86,7.1500000953674316,7.9899997711181641,7.1539999732971182,6.36,6.41,6.36,6.9600000381469727,7.7600002288818359,6.7700000534057612,4.4400000000000004,5.26,5.03,4.929999828338623,5.3899998664855957,5.0099999389648442,75,55,40,35,60,53,75,55,55,55,70,62]
[null,3,6.63,6.91,6.86,7.1500000953674316,7.9899997711181641,7.1079999732971189,6.32,6.41,6.37,6.9499998092651367,7.75,6.759999961853028,4.55,5.17,4.95,4.5999999046325684,5.380000114440918,4.9300000038146967,75,55,40,35,60,53,75,55,55,55,70,62]
["J",4,6.73,6.86,6.85,7.1500000953674316,7.880000114440918,7.0940000419616691,6.34,6.41,6.37,6.9499998092651367,7.7699999809265137,6.767999958038331,4.47,5.04,4.95,4.8499999046325684,5.2100000381469727,4.903999988555908,75,55,45,35,60,54,75,55,60,55,70,63]
[null,5,6.72,6.77,6.85,7.1100001335144043,"nc",6.8625000333786002,6.43,6.37,6.39,6.9200000762939453,7.77,6.7760000152587896,4.4800000000000004,5.18,5.0199999999999996,4.940000057220459,5.81,5.0860000114440913,75,55,45,35,70,56,75,55,60,55,80,65]
[null,6,6.56,6.78,6.85,7.0999999046325684,7.84,7.0259999809265139,6.34,6.34,6.37,6.9000000953674316,7.77,6.7440000190734866,4.3899999999999997,5.32,4.6399999999999997,5.0900001525878906,5.81,5.0500000305175785,75,55,45,45,70,58,75,55,60,65,80,67]
[null,7,6.7,6.8,6.85,7.0999999046325684,7.84,7.057999980926513,6.38,6.31,6.39,6.8899998664855957,7.76,6.7459999732971188,4.32,4.9400000000000004,4.8499999999999996,5.0799999237060547,5.81,4.9999999847412102,75,55,45,45,70,58,75,55,60,65,80,67]
["F",8,6.68,6.65,6.85,7.1599998474121094,7.84,7.0359999694824209,6.32,6.3,6.37,6.9000000953674316,7.76,6.7300000190734863,4.4800000000000004,4.5599999999999996,4.83,5.1599998474121094,5.81,4.9679999694824213,75,55,45,45,70,58,75,55,60,65,80,67]
[null,9,6.58,6.74,6.72,7.1599998474121094,7.74,6.9879999694824217,6.24,6.3,6.39,6.8899998664855957,7.74,6.7119999732971198,4.49,4.75,4.87,5.2300000190734863,5.43,4.9540000038146967,75,55,45,55,70,60,75,55,60,75,80,69]
[null,10,6.6,6.74,6.72,null,7.74,6.9499999999999993,6.17,6.27,6.35,6.8600001335144043,7.74,6.6780000267028807,4.32,4.9800000000000004,4.51,5.2300000190734863,5.93,4.9940000038146977,75,55,45,65,70,62,75,55,60,85,80,71]
[null,11,6.49,6.69,6.66,null,7.84,6.92,6.09,6.25,6.37,6.9099998474121094,7.74,6.6719999694824228,4.45,4.58,4.1100000000000003,5.2300000190734863,5.77,4.8280000038146973,75,null,45,65,70,63.75,75,null,60,85,80,75]
[null,12,6.63,6.59,6.53,6.9899997711181641,7.75,6.897999954223633,6.08,6.23,6.29,6.9800000190734863,7.73,6.6620000038146969,4.33,4.96,4.2300000000000004,4.9000000953674316,5.7,4.8240000190734857,75,null,45,65,70,63.75,75,null,60,85,80,75]
["M",13,6.48,6.67,6.48,6.9899997711181641,"nc",6.6549999427795417,5.98,6.21,6.32,6.9800000190734863,7.74,6.6460000038146969,4.21,4.72,4.0999999999999996,4.9000000953674316,5.92,4.7700000190734873,75,75,55,65,70,68,75,75,70,85,80,77]
[null,14,6.36,6.59,6.52,6.9899997711181641,7.8,6.8519999542236318,5.94,6.13,6.29,6.9899997711181641,7.73,6.6159999542236338,4.29,4.3499999999999996,4.22,4.9000000953674316,6.06,4.7640000190734861,75,75,55,65,80,70,75,75,70,85,90,79]
[null,15,6.24,6.58,6.42,7.179999828338623,7.72,6.8279999656677246,5.78,5.99,6.23,7.0500001907348633,7.67,6.5440000381469732,4.08,4.5,3.94,4.5100002288818359,5.7,4.546000045776367,75,null,50,65,80,67.5,75,null,65,85,90,78.75]
[null,16,6.01,6.63,6.42,7.179999828338623,7.72,6.791999965667725,5.73,5.87,6.18,7.070000171661377,7.64,6.4980000343322759,4.3499999999999996,4.45,4.22,4.75,5.84,4.7219999999999995,75,null,45,65,80,66.25,75,null,60,85,90,77.5]
["A",17,5.93,6.1,6.41,7.0999999046325684,"nc",6.3849999761581415,5.63,5.63,6.12,7.059999942779541,7.59,6.4059999885559078,3.97,4.0199999999999996,3.7,4.75,5.5,4.3879999999999999,75,70,45,65,95,70,75,70,60,85,110,80]
[null,18,5.94,6.41,6.41,7.1599998474121094,7.64,6.7119999694824219,5.61,5.47,6.11,7.0799999237060547,7.57,6.3679999847412114,4.22,3.76,3.97,4.75,5.27,4.3940000000000001,95,70,45,65,95,74,95,70,60,85,110,84]
[null,19,5.94,6.26,6.22,7.1599998474121094,7.64,6.6439999694824206,5.6,5.26,6.13,7.070000171661377,7.56,6.3240000343322746,4.05,3.64,3.92,4.5300002098083496,5.67,4.3620000419616698,95,70,45,65,95,74,95,70,60,85,110,84]
[null,20,5.98,5.93,6.35,null,7.68,6.4849999999999994,5.55,5.25,6.08,7.0799999237060547,7.52,6.2959999847412114,3.93,3.65,3.61,4.6999998092651367,5.48,4.2739999618530273,80,70,75,65,95,77,80,70,75,85,110,84]
["M",21,6.08,6.1,6.49,7.119999885559082,7.56,6.669999977111817,5.6,5.23,6.1,7.059999942779541,7.51,6.2999999885559079,3.92,3.9,3.83,4.6999998092651367,5.48,4.365999961853027,80,70,75,65,95,77,80,70,75,85,110,84]
[null,22,6.25,6.1,null,7.119999885559082,7.45,6.7299999713897707,5.59,5.15,6.03,7.0300002098083496,7.44,6.2480000419616699,3.95,3.94,3.52,4.6999998092651367,5.48,4.3179999618530278,null,70,90,65,95,80,null,70,90,85,110,88.75]
[null,23,6.12,6.23,6.38,6.9499998092651367,"nc",6.4199999523162843,5.52,5.18,6.04,6.9699997901916504,7.33,6.2079999580383305,3.86,3.87,4.09,4.3400001525878906,5.22,4.2760000305175776,100,75,100,65,115,91,100,75,100,85,130,98]
[null,24,6.27,6.34,6.25,7.0100002288818359,7.41,6.6560000457763664,5.48,5.2,5.99,6.9800000190734863,7.24,6.1780000038146978,4.04,4.09,3.66,4.4800000190734863,4.95,4.2440000038146968,110,85,100,65,115,95,110,85,100,85,130,102]
[null,25,6.13,6.34,6.08,7.059999942779541,7.26,6.5739999885559071,5.48,5.21,6,6.929999828338623,7.16,6.1559999656677249,3.86,3.6,3.69,4.7199997901916504,5.03,4.17999995803833,120,85,100,65,115,97,120,85,100,85,130,104]
["J",26,5.75,6.34,6.07,6.8499999046325684,7.1,6.4219999809265129,5.46,5.21,5.99,6.8400001525878906,7.06,6.1120000305175779,3.88,3.77,3.32,4.7199997901916504,5.05,4.14799995803833,120,85,100,65,115,97,120,85,100,85,130,104]
[null,27,5.92,5.91,6.24,6.9000000953674316,"nc",6.242500023841858,5.47,5.21,5.96,6.8600001335144043,7.04,6.1080000267028804,3.89,3.84,3.59,4.7199997901916504,5.05,4.2179999580383303,110,85,100,65,115,95,110,85,100,85,130,102]
[null,28,5.89,6.13,6.06,6.929999828338623,"nc",6.2524999570846553,5.42,5.23,5.98,6.8299999237060547,7.04,6.0999999847412116,4.1100000000000003,4.1100000000000003,3.72,4.7199997901916504,4.71,4.2739999580383303,90,80,null,65,110,86.25,90,80,null,85,125,95]
[null,29,5.91,6.26,6,6.880000114440918,7.35,6.4800000228881842,5.4,5.2,6,6.8299999237060547,7.03,6.0919999847412116,3.87,4.08,3.29,4.7199997901916504,4.6100000000000003,4.1139999580383302,70,80,100,65,100,83,70,80,100,85,115,90]
["J",30,5.96,6.11,6.17,7.0500001907348633,7.26,6.5100000381469725,5.33,5.19,5.96,6.8299999237060547,7.05,6.0719999847412112,3.53,4.3,3.82,4.7199997901916504,4.79,4.2319999580383296,70,70,90,65,90,77,70,70,90,85,105,84]
[null,31,5.79,6.11,6.02,7.0500001907348633,7.26,6.4460000381469724,5.35,5.17,5.97,6.8299999237060547,6.95,6.0539999847412105,3.83,4.3499999999999996,3.79,4.7199997901916504,4.43,4.2239999580383296,65,70,85,65,80,73,65,70,85,85,95,80]
[null,32,5.66,6.11,6.02,7.0500001907348633,"nc",6.2100000476837156,5.36,5.2,5.98,6.8400001525878906,6.96,6.0680000305175783,3.93,4.03,3.78,4.7199997901916504,4.43,4.1779999580383302,55,65,75,65,80,68,55,65,75,85,95,75]
[null,33,5.89,6.02,6.22,null,"nc",{"$f":"AVERAGE(C40:G40)","v":6.043333333333333},5.41,5.25,6.02,6.7899999618530273,6.96,{"$f":"AVERAGE(I40:M40)","v":6.0859999923706054},4.08,4.33,3.78,4.7199997901916504,4.6900000000000004,{"$f":"AVERAGE(O40:S40)","v":4.3199999580383297},55,60,75,65,null,{"$f":"AVERAGE(U40:Y40)","v":63.75},55,60,75,85,null,{"$f":"AVERAGE(AA40:AE40)","v":68.75}]
[null,34,5.89,6.02,6.27,6.880000114440918,6.97,6.4060000228881835,5.42,5.25,6.09,6.8600001335144043,6.94,6.1120000267028809,3.89,3.78,3.78,4.7199997901916504,4.6900000000000004,4.17199995803833,50,60,75,60,80,65,50,60,75,80,95,72]
["A",35,5.98,6.07,6.31,7.0300002098083496,"nc",6.3475000524520873,5.44,5.35,6.17,6.880000114440918,6.96,6.1600000228881839,3.74,4.0599999999999996,3.93,4.7199997901916504,4.6900000000000004,4.2279999580383301,50,55,70,60,60,59,50,55,70,80,75,66]
[null,36,6.06,6.07,6.38,7.0300002098083496,7.1,6.5280000419616702,5.51,5.45,6.23,6.9499998092651367,6.96,6.2199999618530279,3.8,4.16,4.28,4.820000171661377,4.6900000000000004,4.3500000343322762,45,45,65,60,60,55,45,45,65,80,75,62]
[null,37,6.12,6.24,6.42,7.119999885559082,"nc",6.4749999713897708,5.56,5.5,6.32,7.0399999618530273,7,6.2839999923706049,3.94,4.04,4.5199999999999996,4.8600001335144043,4.7300000000000004,4.4180000267028809,null,45,65,50,60,55,null,45,65,70,75,63.75]
[null,38,6.04,6.34,6.47,null,"nc",6.2833333333333323,5.63,6.64,6.36,7.1100001335144043,7,6.5480000267028799,4.09,4.3,4.5599999999999996,4.8600001335144043,4.7300000000000004,4.5080000267028808,65,45,65,45,60,56,65,45,65,65,75,63]
["S",39,6.25,6.28,6.55,7.2300000190734863,"nc",6.577500004768372,5.7,5.7,6.49,7.1999998092651367,7.03,6.4239999618530277,4,4.38,4.5599999999999996,4.8600001335144043,4.7300000000000004,4.5060000267028801,65,45,55,45,55,53,65,45,55,65,70,60]
[null,40,6.32,6.31,6.64,7.320000171661377,7.18,6.7540000343322761,5.77,5.83,6.57,7.3000001907348633,7.05,6.5040000381469723,4.2699999999999996,4.6100000000000003,4.62,4.8600001335144043,4.7300000000000004,4.6180000267028811,60,45,55,40,45,49,60,45,55,60,60,56]
[null,41,6.31,6.55,null,7.320000171661377,"nc",6.7266667238871252,5.85,6,6.66,7.380000114440918,7.05,6.588000022888183,4.33,4.71,4.62,4.9200000762939453,4.7699999999999996,4.6700000152587888,60,45,55,40,40,48,60,45,55,60,55,55]
[null,42,6.15,6.63,null,7.5500001907348633,7.13,6.8650000476837159,5.9,6.12,6.66,7.440000057220459,7.07,6.6380000114440918,4.51,4.76,4.62,5.3499999046325684,5.13,4.8739999809265138,55,45,55,40,40,47,55,45,55,60,55,54]
["O",43,6.35,6.63,6.78,null,7.18,6.7350000000000003,5.97,6.18,6.69,7.4800000190734863,7.14,6.6920000038146963,4.37,4.8499999999999996,4.6100000000000003,5.4899997711181641,5.28,4.9199999542236323,55,45,55,40,40,47,55,45,55,60,55,54]
[null,44,6.38,6.71,null,7.559999942779541,7.25,6.9749999856948852,6.07,6.27,6.74,7.5300002098083496,7.21,6.7640000419616699,4.62,4.8600000000000003,4.6100000000000003,5.4899997711181641,5.28,4.9719999542236328,55,45,55,40,40,47,55,45,55,60,55,54]
[null,45,6.51,6.71,6.92,7.6599998474121094,"nc",6.9499999618530275,6.12,6.3,6.78,7.559999942779541,7.24,6.7999999885559079,4.6399999999999997,5.1100000000000003,4.7,5.4899997711181641,5.38,5.0639999542236325,55,45,null,40,40,45,55,45,null,60,55,53.75]
[null,46,6.67,6.88,6.92,7.690000057220459,7.4,7.1120000114440911,6.21,6.37,6.84,7.6100001335144043,7.29,6.8640000267028807,4.46,5.09,4.7,5.4899997711181641,5.38,5.0239999542236324,55,null,55,40,40,47.5,55,null,55,60,55,56.25]
[null,47,6.77,6.88,6.93,null,7.48,7.0149999999999997,6.27,6.38,6.89,7.619999885559082,7.37,6.9059999771118159,4.51,4.9000000000000004,4.3600000000000003,5.2699999809265137,5.65,4.9379999961853027,55,null,55,null,40,50,55,null,55,null,55,55]
["N",48,6.68,6.87,6.97,7.7899999618530273,7.51,7.1639999923706057,6.29,6.37,6.92,7.6500000953674316,7.43,6.9320000190734863,4.49,5.0199999999999996,4.42,5.4899997711181641,5.68,5.0199999542236329,55,null,55,40,40,47.5,55,null,55,60,55,56.25]
[null,49,6.8,6.87,6.97,null,7.65,7.0724999999999998,6.31,6.39,6.95,7.7300000190734863,7.46,6.968000003814697,4.43,5.2,4.8099999999999996,5.5500001907348633,5.68,5.1340000381469721,55,45,55,40,40,47,55,45,55,60,55,54]
[null,50,6.85,6.77,7.03,7.8400001525878906,null,7.1225000381469723,6.33,6.39,6.98,7.75,null,6.8624999999999998,4.45,5.07,5.04,5.5500001907348633,null,5.0275000476837155,55,40,55,40,null,47.5,55,55,55,60,null,56.25]
[null,51,6.84,6.85,7.03,7.880000114440918,null,7.1500000286102292,6.34,6.4,6.94,7.75,null,6.8574999999999999,4.8,5.18,4.68,5.5500001907348633,null,5.0525000476837159,55,40,55,40,null,47.5,55,55,55,60,null,56.25]
["D",52,6.75,6.91,7.07,7.929999828338623,null,7.1649999570846559,6.39,6.38,6.98,7.7800002098083496,null,6.8825000524520874,5.12,4.96,4.8899999999999997,5.5500001907348633,null,5.1300000476837155,null,40,55,null,null,47.5,null,55,55,null,null,55]
[null,53,null,6.91,null,null,null,6.91,null,6.4,null,null,null,6.4,null,4.8099999999999996,null,null,null,4.8099999999999996,null,null,null,null,null,{"$error":"#DIV/0!"},null,null,null,null,null,{"$error":"#DIV/0!"}]

{"sheet":"Données-VeauxCharolais-Limousin","index":4,"n_rows":85,"n_cols":22,"rows_kept":85,"cut":false,"hidden":true,"merged":[[5,0,5,5],[5,6,5,11],[4,15,4,17],[4,18,5,21],[5,15,5,17]]}
[]
["POUR MÉMOIRE ONGLET SANS USAGE"]
[]
[]
[2017,2018,2019,2020,2021,"MOYENNE 5 ANS",2017,2018,2019,2020,2021,"MOYENNE 5 ANS",null,"Année","Mois","      VEAUX GRAND NORD R3",null,null,"VEAUX CHÂTEAU GONTIER"]
["CHAROLAIS 60-70KG (Euros/tête)",null,null,null,null,null,"LIMOUSIN 60-70KG (Euros/tête)",null,null,null,null,null,null,null,null,"(Euros/Kg net"]
[null,null,null,null,null,null,null,null,null,null,null,null,null,null,null,"Rose très clair","R.clair","Rosé","N.45-50","CH 60-70","LIM 60-70","LAIT 45-50"]
[375,375,325,300,null,{"$f":"AVERAGE(A8:E8)","v":343.75},375,375,325,300,null,{"$f":"AVERAGE(G8:K8)","v":343.75},null,2021,"J",6.87,6.3724999999999996,4.9725000000000001,41.25,null,null,56.25]
[375,375,325,300,null,343.75,375,375,325,300,null,343.75,null,null,"F",6.85,6.38,4.835,45,null,null,60]
[375,375,325,300,null,343.75,375,375,325,300,null,343.75,null,null,"M",6.6219999999999999,6.3440000000000003,4.3639999999999999,47,null,null,62]
[375,375,325,300,null,343.75,375,375,325,300,null,343.75,null,null,"A",6.4424999999999999,6.2050000000000001,4.0199999999999996,48.75,null,null,63.75]
[375,375,325,300,null,343.75,375,375,325,300,null,343.75,null,null,"M",6.3674999999999997,6.1050000000000004,3.8325,60,null,null,67.5]
[375,375,325,300,null,343.75,375,375,325,300,null,343.75,null,null,"J",6.1950000000000003,6.01,3.6560000000000001,98,null,null,98]
[375,375,325,300,null,{"$f":"AVERAGE(A14:E14)","v":343.75},375,375,325,300,null,343.75,null,null,"J",6.1174999999999997,5.9749999999999996,3.605,96.6666666666667,null,null,96.6666666666667]
[365,375,325,300,null,341.25,365,375,325,300,null,341.25,null,null,"A",6.1325000000000003,6.0149999999999997,3.7825000000000002,77.5,null,null,77.5]
[365,375,325,300,null,341.25,365,375,325,300,null,341.25,null,null,"S",6.4260000000000002,6.3140000000000001,4.37,64,null,null,64]
[365,375,325,300,null,341.25,365,375,325,300,null,341.25,null,null,"O",6.71,6.6449999999999996,4.6174999999999997,55,null,null,55]
[365,375,325,null,null,355,365,375,325,null,null,355,null,null,"N",6.9233333333333302,6.8125,4.5925000000000002,55,null,null,55]
[365,375,325,null,null,355,365,375,325,null,null,355,null,null,"D",7.0140000000000002,6.9539999999999997,4.7679999999999998,55,null,null,55]
[350,365,325,300,null,335,350,365,325,300,null,335,null,null,"moyenne an",6.5558611111111098,6.3443333333333296,4.2846250000000001,61.9305555555556,{"$f":"#DIV/0!","v":{"$error":"#DIV/0!"}},{"$f":"#DIV/0!","v":{"$error":"#DIV/0!"}},67.5555555555556]
[330,365,325,300,null,330,330,365,325,300,null,330,null,2020,"J",6.8520000000000003,6.3940000000000001,5.1159999999999997,55,300,300,55]
[330,365,325,null,null,340,330,365,325,null,null,340,null,null,"F",6.7424999999999997,6.3125,4.8925000000000001,55,300,300,55]
[330,375,320,null,null,341.66666666666669,330,375,320,null,null,341.66666666666669,null,null,"M",6.6725000000000003,6.24,4.8099999999999996,65,300,300,65]
[320,375,320,290,null,326.25,320,375,320,290,null,326.25,null,null,"A",6.4619999999999997,5.8179999999999996,4.2160000000000002,71.6666666666667,293.33333333333297,293.33333333333297,71.6666666666667]
[320,375,320,290,null,326.25,320,375,320,290,null,326.25,null,null,"M",6.0975000000000001,5.2225000000000001,3.7825000000000002,70,290,290,70]
[320,375,320,290,null,326.25,320,375,320,290,null,326.25,null,null,"J",6.3125,5.2,3.8325,82.5,290,290,82.5]
[320,365,320,290,null,323.75,320,365,320,290,null,323.75,null,null,"J",6.1040000000000001,5.2,4.1360000000000001,77,290,290,77]
[320,365,320,290,null,323.75,320,365,320,290,null,323.75,null,null,"A",6.0549999999999997,5.2625000000000002,4.05,60,290,290,60]
[320,365,null,290,null,325,320,365,null,290,null,325,null,null,"S",6.2480000000000002,5.8239999999999998,4.298,45,290,290,45]
[320,365,360,290,null,333.75,320,365,360,290,null,333.75,null,null,"O",6.63,6.1425000000000001,4.7949999999999999,45,290,290,45]
[320,365,360,290,null,333.75,320,365,360,290,null,333.75,null,null,"N",6.835,6.3550000000000004,5.03]
[320,365,360,290,null,333.75,320,365,360,290,null,{"$f":"AVERAGE(G32:K32)","v":333.75},null,null,"D",6.8620000000000001,6.3920000000000003,5.0439999999999996,41.25,290,290,52.5]
[320,365,360,290,null,333.75,320,365,360,290,null,333.75,null,null,"moyenne an",6.4894166666666697,5.86358333333333,4.5002083333333296,60.674242424242401,293.030303030303,293.030303030303,61.696969696969703]
[320,365,350,290,null,331.25,320,365,350,290,null,331.25,null,2019,"J",6.72,6.34,4.468,75,325,325,75]
[310,365,330,290,null,323.75,310,365,330,290,null,323.75,null,null,"F",6.63,6.32,4.42,75,325,325,75]
[310,365,330,290,null,323.75,310,365,330,290,null,323.75,null,null,"M",6.55,6.08,4.3274999999999997,75,325,325,75]
[290,365,330,290,null,318.75,290,365,330,290,null,318.75,null,null,"A",6.1349999999999998,5.77,4.1725000000000003,75,322.5,322.5,75]
[280,365,320,290,null,313.75,280,365,320,290,null,313.75,null,null,"M",6.0380000000000003,5.59,4.0140000000000002,87.5,320,320,87.5]
[280,365,300,290,null,308.75,280,365,300,290,null,308.75,null,null,"J",6.0674999999999999,5.4850000000000003,3.91,112.5,360,360,112.5]
[null,null,300,290,null,295,null,null,300,290,null,295,null,null,"J",5.8940000000000001,5.3940000000000001,3.8460000000000001,81,332,332,81]
[270,365,280,290,null,301.25,270,365,280,290,null,301.25,null,null,"A",5.8550000000000004,5.4074999999999998,3.91,52.5,290,290,52.5]
[270,365,280,290,null,301.25,270,365,280,290,null,301.25,null,null,"S",6.1174999999999997,5.6,3.9575,58.3333333333333,290,290,58.3333333333333]
[270,365,270,290,null,298.75,270,365,270,290,null,298.75,null,null,"O",6.3019999999999996,5.9119999999999999,4.42,57,300,300,57]
[270,355,null,290,null,305,270,355,null,290,null,305,null,null,"N",6.6574999999999998,6.2225000000000001,4.5250000000000004,55,300,300,55]
[260,345,300,290,null,298.75,260,345,300,290,null,298.75,null,null,"D",6.81,6.3425000000000002,4.7,55,300,300,55]
[250,335,300,290,null,293.75,250,335,300,290,null,293.75,null,null,"moyenne an",6.3147083333333303,5.8719583333333301,4.22254166666667,71.5694444444444,315.79166666666703,315.79166666666703,71.5694444444444]
[250,325,300,290,null,291.25,250,325,300,290,null,291.25,null,2018,"J",6.9240000000000004,6.4960000000000004,5.0019999999999998,77,375,375,62]
[250,325,300,290,null,291.25,250,325,300,290,null,291.25,null,null,"F",6.8550000000000004,6.5274999999999999,5.1174999999999997,102.5,375,375,87.5]
[250,325,300,290,null,291.25,250,325,300,290,null,291.25,null,null,"M",6.7575000000000003,6.5,5.12,115,372.5,372.5,100]
[250,325,300,290,null,291.25,250,325,300,290,null,291.25,null,null,"A",6.7275,6.3624999999999998,4.9225000000000003,143.75,370,370,123.75]
[250,325,300,290,null,291.25,250,325,300,290,null,291.25,null,null,"M",6.5579999999999998,6.2039999999999997,4.4660000000000002,155,369,369,130]
[250,null,300,290,null,280,250,null,300,290,null,280,null,null,"J",6.5525000000000002,6.0525000000000002,4.0824999999999996,155,365,365,137.5]
[250,325,300,null,null,291.66666666666669,250,325,300,null,null,291.66666666666669,null,null,"J",6.4474999999999998,6.1349999999999998,3.9474999999999998,137.5,365,365,127.5]
[375,325,300,null,null,333.33333333333331,375,325,300,null,null,333.33333333333331,null,null,"A",6.4260000000000002,6.1059999999999999,4.3339999999999996,81.25,365,365,76.25]
[375,325,300,null,null,333.33333333333331,375,325,300,null,null,333.33333333333331,null,null,"S",6.4950000000000001,6.1224999999999996,4.3425000000000002,55,350,350,50]
[375,325,300,290,null,322.5,375,325,300,290,null,322.5,null,null,"O",6.4219999999999997,6.1760000000000002,4.508,40,325,325,35]
[375,325,300,290,null,322.5,375,325,300,290,null,322.5,null,null,"N",6.4474999999999998,6.2074999999999996,4.3825000000000003,40,325,325,35]
[375,325,300,290,null,322.5,375,325,300,290,null,322.5,null,null,"D",6.7575000000000003,6.2750000000000004,4.5025000000000004,40,325,325,35]
[null,325,null,290,null,307.5,null,325,null,290,null,307.5,null,null,"moyenne an",6.6141666666666703,6.2637083333333301,4.5606249999999999,95.1666666666667,356.79166666666703,356.79166666666703,83.2916666666667]
[null,null,null,null,null,null,null,null,null,null,null,null,null,2017,"J",7.17,6.7525000000000004,4.99,55,375,375,55]
[null,null,null,null,null,null,null,null,null,null,null,null,null,null,"F",7.0650000000000004,6.7350000000000003,5.165,66.25,372.5,372.5,66.25]
[null,null,null,null,null,null,null,null,null,null,null,null,null,null,"M",6.8940000000000001,6.5960000000000001,4.9660000000000002,96,362,362,96]
[null,null,null,null,null,null,null,null,null,null,null,null,null,null,"A",6.7750000000000004,6.4574999999999996,4.7575000000000003,115,327.5,327.5,115]
[null,null,null,null,null,null,null,null,null,null,null,null,null,null,"M",6.5925000000000002,6.2949999999999999,4.55,115,320,320,115]
[null,null,null,null,null,null,null,null,null,null,null,null,null,null,"J",6.4379999999999997,6.0259999999999998,4.3760000000000003,118,320,320,118]
[null,null,null,null,null,null,null,null,null,null,null,null,null,null,"J",6.1,5.7975000000000003,3.7725,98.75,307.5,307.5,98.75]
[null,null,null,null,null,null,null,null,null,null,null,null,null,null,"A",6.0724999999999998,5.8425000000000002,3.7574999999999998,53.3333333333333,276.66666666666703,276.66666666666703,53.3333333333333]
[null,null,null,null,null,null,null,null,null,null,null,null,null,null,"S",6.4480000000000004,5.9219999999999997,3.8860000000000001,73,264,264,73]
[null,null,null,null,null,null,null,null,null,null,null,null,null,null,"O",6.49,6.0750000000000002,4.34,75,250,250,75]
[null,null,null,null,null,null,null,null,null,null,null,null,null,null,"N",6.58,6.2474999999999996,4.55,70,281.25,281.25,67.5]
[null,null,null,null,null,null,null,null,null,null,null,null,null,null,"D",6.7539999999999996,6.4320000000000004,4.798,75,375,375,60]
[null,null,null,null,null,null,null,null,null,null,null,null,null,null,"moyenne an",6.6149166666666703,6.264875,4.492375,84.1944444444444,319.284722222222,319.284722222222,82.7361111111111]
[null,null,null,null,null,null,null,null,null,null,null,null,null,"Moyenne 5 ans","J",{"$f":"AVERAGE(P8,P21,P34,P47,P60)","v":6.9072000000000005},6.4709999999999992,4.9096999999999991,60.65,343.75,343.75,60.65]
[null,null,null,null,null,null,null,null,null,null,null,null,null,null,"F",6.8285,6.4550000000000001,4.8860000000000001,68.75,343.125,343.125,68.75]
[null,null,null,null,null,null,null,null,null,null,null,null,null,null,"M",6.6992000000000003,6.3520000000000003,4.7175000000000002,79.599999999999994,339.875,339.875,79.599999999999994]
[null,null,null,null,null,null,null,null,null,null,null,null,null,null,"A",6.5083999999999991,6.1226000000000003,4.4177,90.833333333333343,328.33333333333326,328.33333333333326,89.833333333333343]
[null,null,null,null,null,null,null,null,null,null,null,null,null,null,"M",6.3307000000000002,5.8833000000000002,4.1290000000000004,97.5,324.75,324.75,94]
[null,null,null,null,null,null,null,null,null,null,null,null,null,null,"J",6.3130999999999995,5.7547000000000006,3.9714,113.2,333.75,333.75,109.7]
[null,null,null,null,null,null,null,null,null,null,null,null,null,null,"J",6.1325999999999992,5.7003000000000004,3.8613999999999997,98.183333333333337,323.625,323.625,96.183333333333337]
[null,null,null,null,null,null,null,null,null,null,null,null,null,null,"A",6.1081999999999992,5.7266999999999992,3.9668000000000001,64.916666666666657,305.41666666666674,305.41666666666674,63.916666666666664]
[null,null,null,null,null,null,null,null,null,null,null,null,null,null,"S",6.3468999999999998,5.9565000000000001,4.1707999999999998,59.066666666666663,298.5,298.5,58.066666666666663]
[null,null,null,null,null,null,null,null,null,null,null,null,null,null,"O",6.5108000000000006,6.1901000000000002,4.5360999999999994,54.4,291.25,291.25,53.4]
[null,null,null,null,null,null,null,null,null,null,null,null,null,null,"N",6.6886666666666654,6.3689999999999998,4.6160000000000005,55,302.08333333333331,302.08333333333331,53.125]
[null,null,null,null,null,null,null,null,null,null,null,null,null,null,"D",6.8394999999999992,6.4791000000000007,4.7625000000000002,53.25,322.5,322.5,51.5]
[null,null,null,null,null,null,null,null,null,null,null,null,null,null,"moyenne an",{"$f":"AVERAGE(P73:P84)","v":6.5178138888888881},6.121691666666667,4.4120750000000006,74.612499999999997,321.41319444444446,321.41319444444446,73.22708333333334]

{"sheet":"MoyQuinqHebdoPorcs","index":5,"n_rows":56,"n_cols":8,"rows_kept":56,"cut":false,"hidden":true,"merged":[[1,2,1,7]]}
[null,null,2019,2020,2021,2022,2023,"MOYENNE 5 ANS"]
["Année","Sem."]
[]
[null,1,1.41,1.87,1.42,1.47,2.04,{"$f":"AVERAGE(C4:G4)","v":1.6420000000000001}]
[null,2,1.4,1.85,1.43,1.47,2.09,1.6479999999999997]
[null,3,1.4,1.82,1.43,1.47,2.12,1.6479999999999997]
["J",4,1.4,1.76,1.43,1.47,2.17,1.6460000000000001]
[null,5,1.4,1.71,1.43,1.47,2.2200000000000002,1.6460000000000001]
[null,6,1.4,1.7,1.43,1.47,2.27,1.6539999999999999]
[null,7,1.41,1.7,1.44,1.49,2.33,1.6740000000000002]
["F",8,1.41,1.7,1.45,1.49,2.37,1.6839999999999999]
[null,9,1.41,1.72,1.47,1.51,2.42,1.706]
[null,10,1.41,1.75,1.5,1.55,2.48,1.738]
[null,11,1.41,1.76,1.54,1.59,2.54,1.768]
[null,12,1.44,1.79,1.57,1.72,2.56,1.8160000000000001]
["M",13,1.49,1.79,1.58,1.82,2.57,1.85]
[null,14,1.54,1.77,1.6,1.88,2.57,1.8719999999999999]
[null,15,1.59,1.76,1.62,1.91,2.57,1.8900000000000001]
[null,16,1.63,1.75,1.65,1.92,2.56,1.9019999999999999]
["A",17,1.64,1.74,1.7,1.92,2.52,1.9039999999999999]
[null,18,1.65,1.73,1.75,1.93,2.4700000000000002,1.9059999999999999]
[null,19,1.65,1.68,1.77,1.93,2.41,1.8879999999999999]
[null,20,1.67,1.64,1.77,1.92,2.39,1.8780000000000001]
["M",21,1.68,1.58,1.77,1.93,2.3199999999999998,1.8559999999999999]
[null,22,1.7,1.58,1.77,1.93,2.37,1.8700000000000003]
[null,23,1.71,1.57,1.78,1.93,2.38,1.8740000000000001]
[null,24,1.73,1.58,1.78,1.93,2.4,1.8839999999999999]
[null,25,1.74,1.59,1.78,1.93,2.44,1.8960000000000001]
["J",26,1.75,1.58,1.75,1.97,2.48,1.9059999999999999]
[null,27,1.75,1.56,1.69,2.02,2.52,1.9079999999999999]
[null,28,1.75,1.58,1.65,2.0699999999999998,2.5499999999999998,1.9200000000000004]
[null,29,1.75,1.55,1.6,2.09,2.5499999999999998,1.9079999999999999]
["J",30,1.77,1.53,1.59,2.1,2.54,1.9060000000000001]
[null,31,1.78,1.53,1.58,2.11,2.54,1.9079999999999999]
[null,32,1.8,1.53,1.58,2.14,2.5,1.9100000000000001]
[null,33,1.8,1.53,1.59,2.1800000000000002,2.44,{"$f":"AVERAGE(C36:G36)","v":1.9079999999999999}]
[null,34,1.81,1.53,1.59,2.2200000000000002,2.39,1.9080000000000001]
["A",35,1.83,1.56,1.59,2.2400000000000002,2.33,1.9100000000000001]
[null,36,1.85,1.59,1.58,2.25,2.27,1.9080000000000001]
[null,37,1.9,1.6,1.58,2.25,2.2400000000000002,1.9140000000000001]
[null,38,1.92,1.62,1.56,2.2599999999999998,2.25,1.9219999999999999]
["S",39,1.93,1.61,1.52,2.2599999999999998,2.2200000000000002,1.9080000000000001]
[null,40,1.93,1.62,1.49,2.27,2.21,1.9039999999999999]
[null,41,1.92,1.61,1.46,2.27,2.2000000000000002,1.8920000000000001]
[null,42,1.93,1.61,1.45,2.2599999999999998,2.15,1.8800000000000001]
["O",43,1.93,1.6,1.44,2.21,2.1,1.8560000000000003]
[null,44,1.92,1.6,1.44,2.16,2.06,1.8359999999999999]
[null,45,1.91,1.59,1.44,2.11,2.02,1.8139999999999996]
[null,46,1.91,1.58,1.44,2.0499999999999998,2,1.796]
[null,47,1.91,1.53,1.45,2.04,1.99,1.784]
["N",48,1.92,1.49,1.46,2.04,1.99,1.78]
[null,49,1.93,1.46,1.46,2.04,2,1.778]
[null,50,1.93,1.44,1.47,2.04,null,1.72]
[null,51,1.93,1.43,1.47,2.04,null,1.7175]
["D",52,1.9,1.44,1.47,2.0499999999999998,null,1.7149999999999999]
[null,53,null,1.43,null,null,null,1.43]

{"sheet":"MoyQuindHebdoOvins","index":6,"n_rows":56,"n_cols":8,"rows_kept":56,"cut":false,"hidden":true,"merged":[[1,2,1,7]]}
[null,null,2019,2020,2021,2022,2023,"MOYENNE 5 ANS"]
["Année","Sem."]
[]
[null,1,6.26,6.78,7.23,7.940000057220459,8.4300003051757813,{"$f":"AVERAGE(C4:G4)","v":7.3280000724792469}]
[null,2,6.15,6.64,7.27,7.8000001907348633,8.2799997329711914,7.2279999847412117]
[null,3,6.03,6.65,7.2,7.7199997901916504,8.2200002670288086,7.1640000114440907]
["J",4,5.91,6.53,7.18,7.7100000381469727,8.119999885559082,7.0899999847412118]
[null,5,5.76,6.48,7.08,7.690000057220459,8.0299999999999994,7.0080000114440919]
[null,6,5.69,6.45,6.97,7.5199999809265137,7.97,6.919999996185302]
[null,7,5.7,6.42,6.93,7.5100002288818359,7.86,6.8840000457763679]
["F",8,5.76,6.39,6.95,7.4200000762939453,7.83,6.870000015258789]
[null,9,5.88,6.48,6.99,7.440000057220459,7.84,6.9260000114440912]
[null,10,6.01,6.51,7.07,7.5399999618530273,7.93,7.0119999923706047]
[null,11,6.13,6.6,7.28,7.630000114440918,8.06,7.1400000228881835]
[null,12,6.26,6.65,7.5,7.570000171661377,8.19,7.2340000343322757]
["M",13,6.24,6.53,7.65,7.6700000762939453,8.42,7.3020000152587894]
[null,14,6.39,6.18,7.53,7.929999828338623,8.5500000000000007,7.3159999656677259]
[null,15,6.59,6.2,7.56,8.0699996948242188,8.44,7.3719999389648434]
[null,16,6.67,6.3,7.54,8.0699996948242188,8.44,7.4039999389648425]
["A",17,6.56,6.37,7.48,8.0699996948242188,8.4700000000000006,7.3899999389648441]
[null,18,6.52,6.5,7.42,8.0799999237060547,8.36,7.3759999847412105]
[null,19,6.43,6.47,7.47,8.0600004196166992,8.2899999999999991,7.3440000839233388]
[null,20,6.37,6.46,7.38,8.0600004196166992,8.2899999999999991,7.3120000839233397]
["M",21,6.2,6.47,7.31,7.929999828338623,8.24,7.2299999656677247]
[null,22,6.13,6.49,7.26,7.9699997901916504,8.19,7.2079999580383305]
[null,23,6.03,6.56,7.19,7.9200000762939453,8.18,7.1760000152587891]
[null,24,6,6.58,7.09,7.9499998092651367,8.19,7.1619999618530272]
[null,25,5.94,6.61,7.06,8,8.15,7.1519999999999992]
["J",26,5.93,6.6,6.98,7.9800000190734863,8.27,7.1520000038146971]
[null,27,5.91,6.55,7.02,8.119999885559082,8.2100000000000009,7.1619999771118161]
[null,28,5.86,6.58,6.99,8.0699996948242188,8.17,7.1339999389648439]
[null,29,5.89,6.64,7.06,8.0600004196166992,8.18,7.1660000839233389]
["J",30,5.9,6.71,7.02,8.0500001907348633,8.1199999999999992,7.1600000381469728]
[null,31,5.9,6.77,7.04,8.0100002288818359,8.06,7.1560000457763682]
[null,32,5.89,6.8,7.07,8.0200004577636719,8,7.156000091552734]
[null,33,5.91,6.83,7.04,8,8.02,{"$f":"AVERAGE(C36:G36)","v":7.1599999999999993}]
[null,34,5.99,6.83,7.18,8.0299997329711914,8,7.2059999465942379]
["A",35,6.09,6.91,7.25,7.9699997901916504,7.96,7.2359999580383301]
[null,36,6.13,6.99,7.29,8.0100002288818359,8,7.2840000457763665]
[null,37,6.15,6.98,7.36,8,7.98,7.2939999999999996]
[null,38,6.23,6.92,7.37,7.9600000381469727,8.0399999999999991,7.3040000076293952]
["S",39,6.17,7,7.44,7.9699997901916504,8.0399999999999991,7.3239999580383301]
[null,40,6.18,7,7.46,7.9600000381469727,8.09,7.338000007629395]
[null,41,6.15,7.02,7.53,7.9499998092651367,8.1999999999999993,7.3699999618530274]
[null,42,6.17,7.03,7.57,7.9600000381469727,8.34,7.4140000076293946]
["O",43,6.19,7.02,7.6,8,8.35,7.4320000000000004]
[null,44,6.19,7.01,7.75,8.0399999618530273,8.44,7.4859999923706058]
[null,45,6.25,7,7.77,8.1499996185302734,8.5299999999999994,7.5399999237060538]
[null,46,6.37,7.07,7.84,8.2899999618530273,8.57,7.6279999923706061]
[null,47,6.48,7.11,7.85,null,8.59,7.5074999999999994]
["N",48,6.62,7.2,7.97,8.5200004577636719,8.7200000000000006,7.8060000915527343]
[null,49,6.67,7.21,7.96,8.5100002288818359,8.73,7.8160000457763674]
[null,50,6.7,7.23,8.0399999999999991,8.5699996948242188,null,7.6349999237060544]
[null,51,6.77,7.25,8.06,8.5699996948242188,null,7.6624999237060543]
["D",52,6.78,7.3,8.07,8.5600004196166992,null,7.6775001049041744]
[null,53,null,7.26,null,null,null,7.26]

{"sheet":"GrosBovinsAnneeEnCours","index":7,"n_rows":127,"n_cols":24,"rows_kept":127,"cut":false,"hidden":false,"merged":[[11,2,12,12],[11,15,11,16],[12,15,12,16],[13,2,13,4],[13,6,13,10],[13,11,13,12],[13,16,15,16],[14,23,15,23],[72,2,72,3],[72,4,72,7],[13,18,13,20],[13,21,13,23],[14,2,14,3],[14,6,14,7],[14,11,14,12],[14,18,15,18],[14,19,15,19],[14,20,15,20],[14,21,15,21],[14,22,15,22]]}
["COTATIONS DES GROS BOVINS"]
["Source : DRAAF Pays de la Loire - SRISE - FranceAgriMer"]
[]
[]
["1 – COTATION REGIONALE GRAND OUEST ENTREE ABATTOIR en €/Kg net"]
[]
["2 – MOYENNE NATIONALE DES BOVINS MAIGRES DESTINES A L'ENGRAISSEMENT CHAROLAIS MALE de 6-12 mois catégorie U (350kg) en €/kg vif"]
[]
["3 – COTATION DES GROS BOVINS VIFS SUR LE MARCHE DE CHOLET (en Euro/Kg Net) – à partir de la ligne 72"]
[]
[null,null,null,null,null,null,null,null,null,null,null,null,null,null,null,"Mis à jour : 04/06/2024"]
[null,null,"1 – COTATION REGIONALE ENTREE ABATTOIR GRAND OUEST FRANCEAGRIMER-HEBDOMADAIRE (€/Kg net)",null,null,null,null,null,null,null,null,null,null,null,null,"2 – COT. HEBDO"]
[null,null,null,null,null,null,null,null,null,null,null,null,null,null,null,"MAIGRE   €/kg vif"]
["Année","Sem.","JEUNES BOVINS",null,null,"BOEUFS","VACHES",null,null,null,null,"GENISSES",null,null,null,"Ref. nationale","Sem.",null,"Vache Viande R",null,null,"Vache lait P"]
[null,null,"VIANDE",null,"MIXTE","MIXTE","VIANDE",null,"Blonde","MIXTE","LAIT","VIANDES + 350kg",null,null,null,"Charolais Mâles",null,"Nantes","Evolution/semaine -1",{"$f":"\"Evolution/ semaine id \" & A17-1","v":"Evolution/ semaine id 2023"},"Evolution/semaine id moy. 5 ans","Evolution/semaine -1",{"$f":"\"Evolution/ semaine id \" & A17-1","v":"Evolution/ semaine id 2023"},"Evolution/semaine id moy. 5 ans"]
[null,null,"U","R","O","O","U","R","U","O","P","U","R",null,null,"6/12 mois  ( U ) 350 kg"]
[2024,1,5.45,5.28,null,4.5999999999999996,null,5.44,6.39,4.4400000000000004,3.93,6.13,5.43,null,null,3.32,1,3.25,null,{"$f":"(H17-GrosBovins2023!H18)/GrosBovins2023!H18","v":1.8416206261511372E-3},{"$f":"(H17-MoyQuinqHebdoGB!AL5)/MoyQuinqHebdoGB!AL5","v":0.27579737335834897},null,{"$f":"(K17-GrosBovins2023!K17)/GrosBovins2023!K17","v":-0.14379084967320255},{"$f":"(K17-MoyQuinqHebdoGB!BD5)/MoyQuinqHebdoGB!BD5","v":0.22735790131168043}]
[null,2,5.47,5.31,4.8499999999999996,4.59,null,5.46,6.36,4.49,3.97,6.21,5.43,null,null,3.32,2,3.25,{"$f":"(H18-H17)/H17","v":3.6764705882352156E-3},{"$f":"(H18-GrosBovins2023!H19)/GrosBovins2023!H19","v":5.5248618784530844E-3},{"$f":"(H18-MoyQuinqHebdoGB!AL6)/MoyQuinqHebdoGB!AL6","v":0.27749181094993008},{"$f":"(K18-K17)/K17","v":1.0178117048346065E-2},{"$f":"(K18-GrosBovins2023!K18)/GrosBovins2023!K18","v":-0.13695652173913034},{"$f":"(K18-MoyQuinqHebdoGB!BD6)/MoyQuinqHebdoGB!BD6","v":0.23138957816377204}]
[null,3,5.49,5.32,4.88,4.66,5.88,5.46,6.43,4.5,4,6.16,5.45,null,null,3.39,3,3.3,{"$f":"(H19-H18)/H18","v":0},{"$f":"(H19-GrosBovins2023!H20)/GrosBovins2023!H20","v":7.3800738007380141E-3},{"$f":"(H19-MoyQuinqHebdoGB!AL7)/MoyQuinqHebdoGB!AL7","v":0.27689429373246027},{"$f":"(K19-K18)/K18","v":7.5566750629722425E-3},{"$f":"(K19-GrosBovins2023!K19)/GrosBovins2023!K19","v":-0.13232104121475061},{"$f":"(K19-MoyQuinqHebdoGB!BD7)/MoyQuinqHebdoGB!BD7","v":0.234567901234568}]
["J",4,5.5,5.35,4.95,4.7,5.89,5.47,6.42,4.53,4.05,6.17,5.46,null,null,3.4,4,3.3,{"$f":"(H20-H19)/H19","v":1.8315018315017925E-3},{"$f":"(H20-GrosBovins2023!H21)/GrosBovins2023!H21","v":9.2250922509224762E-3},{"$f":"(H20-MoyQuinqHebdoGB!AL8)/MoyQuinqHebdoGB!AL8","v":0.27863487611033172},1.2499999999999956E-2,{"$f":"(K20-GrosBovins2023!K20)/GrosBovins2023!K20","v":-0.11764705882352942},{"$f":"(K20-MoyQuinqHebdoGB!BD8)/MoyQuinqHebdoGB!BD8","v":0.24615384615384611}]
[null,5,5.53,5.38,4.96,4.6399999999999997,null,5.49,6.46,4.58,4.09,6.17,5.45,null,null,3.42,5,3.35,3.6563071297989877E-3,{"$f":"(H21-GrosBovins2023!H22)/GrosBovins2023!H22","v":1.2915129151291565E-2},{"$f":"(H21-MoyQuinqHebdoGB!AL9)/MoyQuinqHebdoGB!AL9","v":0.277932960893855},9.8765432098765517E-3,{"$f":"(K21-GrosBovins2023!K21)/GrosBovins2023!K21","v":-0.10307017543859645},{"$f":"(K21-MoyQuinqHebdoGB!BD9)/MoyQuinqHebdoGB!BD9","v":0.25152998776009794}]
[null,6,5.56,5.4,null,4.7300000000000004,null,5.51,6.5,4.6100000000000003,4.13,6.23,5.49,null,null,3.45,6,3.4,3.642987249544549E-3,{"$f":"(H22-GrosBovins2023!H23)/GrosBovins2023!H23","v":1.6605166051660489E-2},{"$f":"(H22-MoyQuinqHebdoGB!AL10)/MoyQuinqHebdoGB!AL10","v":0.27782931354359913},9.7799511002445074E-3,{"$f":"(K22-GrosBovins2023!K22)/GrosBovins2023!K22","v":-9.4298245614035034E-2},{"$f":"(K22-MoyQuinqHebdoGB!BD10)/MoyQuinqHebdoGB!BD10","v":0.25608272506082747}]
[null,7,5.57,5.42,null,4.7,null,5.5,6.47,4.62,4.16,6.2,5.48,null,null,3.49,7,3.45,-1.8148820326678379E-3,{"$f":"(H23-GrosBovins2023!H24)/GrosBovins2023!H24","v":1.102941176470581E-2},{"$f":"(H23-MoyQuinqHebdoGB!AL11)/MoyQuinqHebdoGB!AL11","v":0.27255900046274872},7.2639225181598665E-3,{"$f":"(K23-GrosBovins2023!K23)/GrosBovins2023!K23","v":-9.5652173913043384E-2},{"$f":"(K23-MoyQuinqHebdoGB!BD11)/MoyQuinqHebdoGB!BD11","v":0.24849939975990423}]
[null,8,5.58,5.44,4.99,4.74,5.91,5.49,6.46,4.62,4.16,6.16,5.48,null,null,3.53,8,3.5,-1.8181818181817794E-3,{"$f":"(H24-GrosBovins2023!H25)/GrosBovins2023!H25","v":5.49450549450554E-3},{"$f":"(H24-MoyQuinqHebdoGB!AL12)/MoyQuinqHebdoGB!AL12","v":0.25975217989903615},0,{"$f":"(K24-GrosBovins2023!K24)/GrosBovins2023!K24","v":-0.10344827586206887},{"$f":"(K24-MoyQuinqHebdoGB!BD12)/MoyQuinqHebdoGB!BD12","v":0.22713864306784676}]
["F",9,5.58,5.43,null,4.74,null,5.46,6.51,4.66,4.16,6.19,5.48,null,null,3.57,9,3.55,-5.464480874316985E-3,{"$f":"(H25-GrosBovins2023!H26)/GrosBovins2023!H26","v":-3.6496350364964344E-3},{"$f":"(H25-MoyQuinqHebdoGB!AL13)/MoyQuinqHebdoGB!AL13","v":0.24600638977635791},0,{"$f":"(K25-GrosBovins2023!K25)/GrosBovins2023!K25","v":-0.11300639658848619},{"$f":"(K25-MoyQuinqHebdoGB!BD13)/MoyQuinqHebdoGB!BD13","v":0.21212121212121218}]
[null,10,5.58,5.43,null,4.7300000000000004,5.94,5.49,6.47,4.6399999999999997,4.16,6.22,5.48,null,null,3.59,10,3.6,5.49450549450554E-3,{"$f":"(H26-GrosBovins2023!H27)/GrosBovins2023!H27","v":-5.4347826086955367E-3},{"$f":"(H26-MoyQuinqHebdoGB!AL14)/MoyQuinqHebdoGB!AL14","v":0.24716038164470697},0,{"$f":"(K26-GrosBovins2023!K26)/GrosBovins2023!K26","v":-0.12421052631578944},{"$f":"(K26-MoyQuinqHebdoGB!BD14)/MoyQuinqHebdoGB!BD14","v":0.19884726224783858}]
[null,11,5.57,5.4,5.01,4.75,5.97,5.48,6.48,4.63,4.18,6.27,5.48,null,null,3.61,11,3.6,-1.8214936247722745E-3,{"$f":"(H27-GrosBovins2023!H28)/GrosBovins2023!H28","v":-9.0415913200723001E-3},{"$f":"(H27-MoyQuinqHebdoGB!AL15)/MoyQuinqHebdoGB!AL15","v":0.23813827383642119},4.8076923076922047E-3,{"$f":"(K27-GrosBovins2023!K27)/GrosBovins2023!K27","v":-0.12916666666666671},{"$f":"(K27-MoyQuinqHebdoGB!BD15)/MoyQuinqHebdoGB!BD15","v":0.19496855345911934}]
[null,12,5.55,5.39,null,4.76,null,5.48,6.54,4.6399999999999997,4.17,6.46,5.46,null,null,3.65,12,3.65,0,{"$f":"(H28-GrosBovins2023!H29)/GrosBovins2023!H29","v":-3.6363636363635587E-3},{"$f":"(H28-MoyQuinqHebdoGB!AL16)/MoyQuinqHebdoGB!AL16","v":0.23367852318775331},-2.3923444976076047E-3,{"$f":"(K28-GrosBovins2023!K28)/GrosBovins2023!K28","v":-0.13485477178423244},{"$f":"(K28-MoyQuinqHebdoGB!BD16)/MoyQuinqHebdoGB!BD16","v":0.18533257532689032}]
["M",13,5.54,5.36,null,4.78,null,5.48,6.5,4.66,4.18,6.25,5.46,null,null,3.65,13,3.65,0,{"$f":"(H29-GrosBovins2023!H30)/GrosBovins2023!H30","v":-5.4446460980035142E-3},{"$f":"(H29-MoyQuinqHebdoGB!AL17)/MoyQuinqHebdoGB!AL17","v":0.23534715960324629},2.3980815347721313E-3,{"$f":"(K29-GrosBovins2023!K29)/GrosBovins2023!K29","v":-0.13097713097713096},{"$f":"(K29-MoyQuinqHebdoGB!BD17)/MoyQuinqHebdoGB!BD17","v":0.18413597733711046}]
[null,14,5.5,5.33,4.9000000000000004,4.79,null,5.49,6.47,4.66,4.18,6.23,5.43,null,null,3.67,14,3.7,1.8248175182481361E-3,{"$f":"(H30-GrosBovins2023!H31)/GrosBovins2023!H31","v":1.1049723756906169E-2},{"$f":"(H30-MoyQuinqHebdoGB!AL18)/MoyQuinqHebdoGB!AL18","v":0.23704371338440752},0,{"$f":"(K30-GrosBovins2023!K30)/GrosBovins2023!K30","v":-0.12552301255230136},{"$f":"(K30-MoyQuinqHebdoGB!BD18)/MoyQuinqHebdoGB!BD18","v":0.18346545866364627}]
[null,15,5.47,5.28,null,4.7699999999999996,null,5.48,6.5,4.66,4.1900000000000004,6.18,5.48,null,null,3.69,15,3.7,-1.8214936247722745E-3,{"$f":"(H31-GrosBovins2023!H32)/GrosBovins2023!H32","v":5.5045871559633482E-3},{"$f":"(H31-MoyQuinqHebdoGB!AL19)/MoyQuinqHebdoGB!AL19","v":0.23813827383642119},{"$f":"(K31-K30)/K30","v":2.3923444976078172E-3},{"$f":"(K31-GrosBovins2023!K31)/GrosBovins2023!K31","v":-0.11416490486257928},{"$f":"(K31-MoyQuinqHebdoGB!BD19)/MoyQuinqHebdoGB!BD19","v":0.18831537152580816}]
[null,16,5.43,5.25,null,4.74,5.93,5.5,6.58,4.67,4.2,6.17,5.44,null,null,3.74,16,3.75,3.6496350364962722E-3,{"$f":"(H32-GrosBovins2023!H33)/GrosBovins2023!H33","v":1.102941176470581E-2},{"$f":"(H32-MoyQuinqHebdoGB!AL20)/MoyQuinqHebdoGB!AL20","v":0.23929698062190158},{"$f":"(K32-K31)/K31","v":2.386634844868684E-3},{"$f":"(K32-GrosBovins2023!K32)/GrosBovins2023!K32","v":-0.10638297872340426},{"$f":"(K32-MoyQuinqHebdoGB!BD20)/MoyQuinqHebdoGB!BD20","v":0.18711136235161135}]
["A",17,5.4,5.22,null,4.8099999999999996,null,5.49,6.51,4.6900000000000004,4.22,6.25,5.45,null,null,3.76,17,3.75,-1.8181818181817794E-3,{"$f":"(H33-GrosBovins2023!H34)/GrosBovins2023!H34","v":9.1911764705882026E-3},{"$f":"(H33-MoyQuinqHebdoGB!AL21)/MoyQuinqHebdoGB!AL21","v":0.23426258992805749},4.76190476190466E-3,{"$f":"(K33-GrosBovins2023!K33)/GrosBovins2023!K33","v":-9.6359743040685258E-2},{"$f":"(K33-MoyQuinqHebdoGB!BD21)/MoyQuinqHebdoGB!BD21","v":0.18539325842696636}]
[null,18,5.37,5.21,4.82,4.8099999999999996,null,5.5,6.58,4.72,4.25,6.26,5.5,null,null,3.78,18,3.75,1.8214936247722745E-3,{"$f":"(H34-GrosBovins2023!H35)/GrosBovins2023!H35","v":1.102941176470581E-2},{"$f":"(H34-MoyQuinqHebdoGB!AL22)/MoyQuinqHebdoGB!AL22","v":0.23263110712684901},7.1090047393365524E-3,{"$f":"(K34-GrosBovins2023!K34)/GrosBovins2023!K34","v":-8.4051724137930967E-2},{"$f":"(K34-MoyQuinqHebdoGB!BD22)/MoyQuinqHebdoGB!BD22","v":0.18450390189520621}]
[null,19,5.35,5.2,null,4.84,null,5.52,6.56,4.7699999999999996,4.29,6.28,5.5,null,null,3.78,19,3.75,3.6363636363635587E-3,{"$f":"(H35-GrosBovins2023!H36)/GrosBovins2023!H36","v":1.2844036697247594E-2},{"$f":"(H35-MoyQuinqHebdoGB!AL23)/MoyQuinqHebdoGB!AL23","v":0.23545210384959706},9.4117647058823608E-3,{"$f":"(K35-GrosBovins2023!K35)/GrosBovins2023!K35","v":-6.9414316702820014E-2},{"$f":"(K35-MoyQuinqHebdoGB!BD23)/MoyQuinqHebdoGB!BD23","v":0.19100499722376477}]
[null,20,5.36,5.2,null,4.8,null,5.5,6.57,4.76,4.33,6.3,5.49,null,null,3.78,20,3.75,-3.6231884057970243E-3,{"$f":"(H36-GrosBovins2023!H37)/GrosBovins2023!H37","v":9.1743119266054721E-3},{"$f":"(H36-MoyQuinqHebdoGB!AL24)/MoyQuinqHebdoGB!AL24","v":0.22494432071269482},9.3240093240093327E-3,{"$f":"(K36-GrosBovins2023!K36)/GrosBovins2023!K36","v":-6.2770562770562782E-2},{"$f":"(K36-MoyQuinqHebdoGB!BD24)/MoyQuinqHebdoGB!BD24","v":0.19283746556473835}]
[null,21,5.36,5.21,null,4.84,5.88,5.51,6.52,4.76,4.33,6.26,5.5,null,null,3.84,21,3.75,1.8181818181817794E-3,{"$f":"(H37-GrosBovins2023!H38)/GrosBovins2023!H38","v":7.3126142595978131E-3},{"$f":"(H37-MoyQuinqHebdoGB!AL25)/MoyQuinqHebdoGB!AL25","v":0.22498888394842165},0,{"$f":"(K37-GrosBovins2023!K37)/GrosBovins2023!K37","v":-6.479481641468679E-2},{"$f":"(K37-MoyQuinqHebdoGB!BD25)/MoyQuinqHebdoGB!BD25","v":0.18630136986301374}]
["M",22,null,null,null,null,null,null,null,null,null,null,null,null,null,null,22,null,-1,{"$f":"(H38-GrosBovins2023!H39)/GrosBovins2023!H39","v":-1},{"$f":"(H38-MoyQuinqHebdoGB!AL26)/MoyQuinqHebdoGB!AL26","v":-1},-1,{"$f":"(K38-GrosBovins2023!K38)/GrosBovins2023!K38","v":-1},{"$f":"(K38-MoyQuinqHebdoGB!BD26)/MoyQuinqHebdoGB!BD26","v":-1}]
[null,23,null,null,null,null,null,null,null,null,null,null,null,null,null,null,23,null,{"$error":"#DIV/0!"},{"$f":"(H39-GrosBovins2023!H40)/GrosBovins2023!H40","v":-1},{"$f":"(H39-MoyQuinqHebdoGB!AL27)/MoyQuinqHebdoGB!AL27","v":-1},{"$error":"#DIV/0!"},{"$f":"(K39-GrosBovins2023!K39)/GrosBovins2023!K39","v":-1},{"$f":"(K39-MoyQuinqHebdoGB!BD27)/MoyQuinqHebdoGB!BD27","v":-1}]
[null,24,null,null,null,null,null,null,null,null,null,null,null,null,null,null,24,null,{"$error":"#DIV/0!"},{"$f":"(H40-GrosBovins2023!H41)/GrosBovins2023!H41","v":-1},{"$f":"(H40-MoyQuinqHebdoGB!AL28)/MoyQuinqHebdoGB!AL28","v":-1},{"$error":"#DIV/0!"},{"$f":"(K40-GrosBovins2023!K40)/GrosBovins2023!K40","v":-1},{"$f":"(K40-MoyQuinqHebdoGB!BD28)/MoyQuinqHebdoGB!BD28","v":-1}]
[null,25,null,null,null,null,null,null,null,null,null,null,null,null,null,null,25,null,{"$error":"#DIV/0!"},{"$f":"(H41-GrosBovins2023!H42)/GrosBovins2023!H42","v":-1},{"$f":"(H41-MoyQuinqHebdoGB!AL29)/MoyQuinqHebdoGB!AL29","v":-1},{"$error":"#DIV/0!"},{"$f":"(K41-GrosBovins2023!K41)/GrosBovins2023!K41","v":-1},{"$f":"(K41-MoyQuinqHebdoGB!BD29)/MoyQuinqHebdoGB!BD29","v":-1}]
["J",26,null,null,null,null,null,null,null,null,null,null,null,null,null,null,26,null,{"$error":"#DIV/0!"},{"$f":"(H42-GrosBovins2023!H43)/GrosBovins2023!H43","v":-1},{"$f":"(H42-MoyQuinqHebdoGB!AL30)/MoyQuinqHebdoGB!AL30","v":-1},{"$error":"#DIV/0!"},{"$f":"(K42-GrosBovins2023!K42)/GrosBovins2023!K42","v":-1},{"$f":"(K42-MoyQuinqHebdoGB!BD30)/MoyQuinqHebdoGB!BD30","v":-1}]
[null,27,null,null,null,null,null,null,null,null,null,null,null,null,null,null,27,null,{"$error":"#DIV/0!"},{"$f":"(H43-GrosBovins2023!H44)/GrosBovins2023!H44","v":-1},{"$f":"(H43-MoyQuinqHebdoGB!AL31)/MoyQuinqHebdoGB!AL31","v":-1},{"$error":"#DIV/0!"},{"$f":"(K43-GrosBovins2023!K43)/GrosBovins2023!K43","v":-1},{"$f":"(K43-MoyQuinqHebdoGB!BD31)/MoyQuinqHebdoGB!BD31","v":-1}]
[null,28,null,null,null,null,null,null,null,null,null,null,null,null,null,null,28,null,{"$error":"#DIV/0!"},{"$f":"(H44-GrosBovins2023!H45)/GrosBovins2023!H45","v":-1},{"$f":"(H44-MoyQuinqHebdoGB!AL32)/MoyQuinqHebdoGB!AL32","v":-1},{"$error":"#DIV/0!"},{"$f":"(K44-GrosBovins2023!K44)/GrosBovins2023!K44","v":-1},{"$f":"(K44-MoyQuinqHebdoGB!BD32)/MoyQuinqHebdoGB!BD32","v":-1}]
[null,29,null,null,null,null,null,null,null,null,null,null,null,null,null,null,29,null,{"$error":"#DIV/0!"},{"$f":"(H45-GrosBovins2023!H46)/GrosBovins2023!H46","v":-1},{"$f":"(H45-MoyQuinqHebdoGB!AL33)/MoyQuinqHebdoGB!AL33","v":-1},{"$error":"#DIV/0!"},{"$f":"(K45-GrosBovins2023!K45)/GrosBovins2023!K45","v":-1},{"$f":"(K45-MoyQuinqHebdoGB!BD33)/MoyQuinqHebdoGB!BD33","v":-1}]
["J",30,null,null,null,null,null,null,null,null,null,null,null,null,null,null,30,null,{"$error":"#DIV/0!"},{"$f":"(H46-GrosBovins2023!H47)/GrosBovins2023!H47","v":-1},{"$f":"(H46-MoyQuinqHebdoGB!AL34)/MoyQuinqHebdoGB!AL34","v":-1},{"$error":"#DIV/0!"},{"$f":"(K46-GrosBovins2023!K46)/GrosBovins2023!K46","v":-1},{"$f":"(K46-MoyQuinqHebdoGB!BD34)/MoyQuinqHebdoGB!BD34","v":-1}]
[null,31,null,null,null,null,null,null,null,null,null,null,null,null,null,null,31,null,{"$error":"#DIV/0!"},{"$f":"(H47-GrosBovins2023!H48)/GrosBovins2023!H48","v":-1},{"$f":"(H47-MoyQuinqHebdoGB!AL35)/MoyQuinqHebdoGB!AL35","v":-1},{"$error":"#DIV/0!"},{"$f":"(K47-GrosBovins2023!K47)/GrosBovins2023!K47","v":-1},{"$f":"(K47-MoyQuinqHebdoGB!BD35)/MoyQuinqHebdoGB!BD35","v":-1}]
[null,32,null,null,null,null,null,null,null,null,null,null,null,null,null,null,32,null,{"$error":"#DIV/0!"},{"$f":"(H48-GrosBovins2023!H49)/GrosBovins2023!H49","v":-1},{"$f":"(H48-MoyQuinqHebdoGB!AL36)/MoyQuinqHebdoGB!AL36","v":-1},{"$error":"#DIV/0!"},{"$f":"(K48-GrosBovins2023!K48)/GrosBovins2023!K48","v":-1},{"$f":"(K48-MoyQuinqHebdoGB!BD36)/MoyQuinqHebdoGB!BD36","v":-1}]
[null,33,null,null,null,null,null,null,null,null,null,null,null,null,null,null,33,null,{"$error":"#DIV/0!"},{"$f":"(H49-GrosBovins2023!H50)/GrosBovins2023!H50","v":-1},{"$f":"(H49-MoyQuinqHebdoGB!AL37)/MoyQuinqHebdoGB!AL37","v":-1},{"$error":"#DIV/0!"},{"$f":"(K49-GrosBovins2023!K49)/GrosBovins2023!K49","v":-1},{"$f":"(K49-MoyQuinqHebdoGB!BD37)/MoyQuinqHebdoGB!BD37","v":-1}]
[null,34,null,null,null,null,null,null,null,null,null,null,null,null,null,null,34,null,{"$error":"#DIV/0!"},{"$f":"(H50-GrosBovins2023!H51)/GrosBovins2023!H51","v":-1},{"$f":"(H50-MoyQuinqHebdoGB!AL38)/MoyQuinqHebdoGB!AL38","v":-1},{"$error":"#DIV/0!"},{"$f":"(K50-GrosBovins2023!K50)/GrosBovins2023!K50","v":-1},{"$f":"(K50-MoyQuinqHebdoGB!BD38)/MoyQuinqHebdoGB!BD38","v":-1}]
["A",35,null,null,null,null,null,null,null,null,null,null,null,null,null,null,35,null,{"$error":"#DIV/0!"},{"$f":"(H51-GrosBovins2023!H52)/GrosBovins2023!H52","v":-1},{"$f":"(H51-MoyQuinqHebdoGB!AL39)/MoyQuinqHebdoGB!AL39","v":-1},{"$error":"#DIV/0!"},{"$f":"(K51-GrosBovins2023!K51)/GrosBovins2023!K51","v":-1},{"$f":"(K51-MoyQuinqHebdoGB!BD39)/MoyQuinqHebdoGB!BD39","v":-1}]
[null,36,null,null,null,null,null,null,null,null,null,null,null,null,null,null,36,null,{"$error":"#DIV/0!"},{"$f":"(H52-GrosBovins2023!H53)/GrosBovins2023!H53","v":-1},{"$f":"(H52-MoyQuinqHebdoGB!AL40)/MoyQuinqHebdoGB!AL40","v":-1},{"$error":"#DIV/0!"},{"$f":"(K52-GrosBovins2023!K52)/GrosBovins2023!K52","v":-1},{"$f":"(K52-MoyQuinqHebdoGB!BD40)/MoyQuinqHebdoGB!BD40","v":-1}]
[null,37,null,null,null,null,null,null,null,null,null,null,null,null,null,null,37,null,{"$error":"#DIV/0!"},{"$f":"(H53-GrosBovins2023!H54)/GrosBovins2023!H54","v":-1},{"$f":"(H53-MoyQuinqHebdoGB!AL41)/MoyQuinqHebdoGB!AL41","v":-1},{"$error":"#DIV/0!"},{"$f":"(K53-GrosBovins2023!K53)/GrosBovins2023!K53","v":-1},{"$f":"(K53-MoyQuinqHebdoGB!BD41)/MoyQuinqHebdoGB!BD41","v":-1}]
[null,38,null,null,null,null,null,null,null,null,null,null,null,null,null,null,38,null,{"$error":"#DIV/0!"},{"$f":"(H54-GrosBovins2023!H55)/GrosBovins2023!H55","v":-1},{"$f":"(H54-MoyQuinqHebdoGB!AL42)/MoyQuinqHebdoGB!AL42","v":-1},{"$error":"#DIV/0!"},{"$f":"(K54-GrosBovins2023!K54)/GrosBovins2023!K54","v":-1},{"$f":"(K54-MoyQuinqHebdoGB!BD42)/MoyQuinqHebdoGB!BD42","v":-1}]
["S",39,null,null,null,null,null,null,null,null,null,null,null,null,null,null,39,null,{"$error":"#DIV/0!"},{"$f":"(H55-GrosBovins2023!H56)/GrosBovins2023!H56","v":-1},{"$f":"(H55-MoyQuinqHebdoGB!AL43)/MoyQuinqHebdoGB!AL43","v":-1},{"$error":"#DIV/0!"},{"$f":"(K55-GrosBovins2023!K55)/GrosBovins2023!K55","v":-1},{"$f":"(K55-MoyQuinqHebdoGB!BD43)/MoyQuinqHebdoGB!BD43","v":-1}]
[null,40,null,null,null,null,null,null,null,null,null,null,null,null,null,null,40,null,{"$error":"#DIV/0!"},{"$f":"(H56-GrosBovins2023!H57)/GrosBovins2023!H57","v":-1},{"$f":"(H56-MoyQuinqHebdoGB!AL44)/MoyQuinqHebdoGB!AL44","v":-1},{"$error":"#DIV/0!"},{"$f":"(K56-GrosBovins2023!K56)/GrosBovins2023!K56","v":-1},{"$f":"(K56-MoyQuinqHebdoGB!BD44)/MoyQuinqHebdoGB!BD44","v":-1}]
[null,41,null,null,null,null,null,null,null,null,null,null,null,null,null,null,41,null,{"$error":"#DIV/0!"},{"$f":"(H57-GrosBovins2023!H58)/GrosBovins2023!H58","v":-1},{"$f":"(H57-MoyQuinqHebdoGB!AL45)/MoyQuinqHebdoGB!AL45","v":-1},{"$error":"#DIV/0!"},{"$f":"(K57-GrosBovins2023!K57)/GrosBovins2023!K57","v":-1},{"$f":"(K57-MoyQuinqHebdoGB!BD45)/MoyQuinqHebdoGB!BD45","v":-1}]
[null,42,null,null,null,null,null,null,null,null,null,null,null,null,null,null,42,null,{"$error":"#DIV/0!"},{"$f":"(H58-GrosBovins2023!H59)/GrosBovins2023!H59","v":-1},{"$f":"(H58-MoyQuinqHebdoGB!AL46)/MoyQuinqHebdoGB!AL46","v":-1},{"$error":"#DIV/0!"},{"$f":"(K58-GrosBovins2023!K58)/GrosBovins2023!K58","v":-1},{"$f":"(K58-MoyQuinqHebdoGB!BD46)/MoyQuinqHebdoGB!BD46","v":-1}]
[null,43,null,null,null,null,null,null,null,null,null,null,null,null,null,null,43,null,{"$error":"#DIV/0!"},{"$f":"(H59-GrosBovins2023!H60)/GrosBovins2023!H60","v":-1},{"$f":"(H59-MoyQuinqHebdoGB!AL47)/MoyQuinqHebdoGB!AL47","v":-1},{"$error":"#DIV/0!"},{"$f":"(K59-GrosBovins2023!K59)/GrosBovins2023!K59","v":-1},{"$f":"(K59-MoyQuinqHebdoGB!BD47)/MoyQuinqHebdoGB!BD47","v":-1}]
["O",44,null,null,null,null,null,null,null,null,null,null,null,null,null,null,44,null,{"$error":"#DIV/0!"},{"$f":"(H60-GrosBovins2023!H61)/GrosBovins2023!H61","v":-1},{"$f":"(H60-MoyQuinqHebdoGB!AL48)/MoyQuinqHebdoGB!AL48","v":-1},{"$error":"#DIV/0!"},{"$f":"(K60-GrosBovins2023!K60)/GrosBovins2023!K60","v":-1},{"$f":"(K60-MoyQuinqHebdoGB!BD48)/MoyQuinqHebdoGB!BD48","v":-1}]
[null,45,null,null,null,null,null,null,null,null,null,null,null,null,null,null,45,null,{"$error":"#DIV/0!"},{"$f":"(H61-GrosBovins2023!H62)/GrosBovins2023!H62","v":-1},{"$f":"(H61-MoyQuinqHebdoGB!AL49)/MoyQuinqHebdoGB!AL49","v":-1},{"$error":"#DIV/0!"},{"$f":"(K61-GrosBovins2023!K61)/GrosBovins2023!K61","v":-1},{"$f":"(K61-MoyQuinqHebdoGB!BD49)/MoyQuinqHebdoGB!BD49","v":-1}]
[null,46,null,null,null,null,null,null,null,null,null,null,null,null,null,null,46,null,{"$error":"#DIV/0!"},{"$f":"(H62-GrosBovins2023!H63)/GrosBovins2023!H63","v":-1},{"$f":"(H62-MoyQuinqHebdoGB!AL50)/MoyQuinqHebdoGB!AL50","v":-1},{"$error":"#DIV/0!"},{"$f":"(K62-GrosBovins2023!K62)/GrosBovins2023!K62","v":-1},{"$f":"(K62-MoyQuinqHebdoGB!BD50)/MoyQuinqHebdoGB!BD50","v":-1}]
[null,47,null,null,null,null,null,null,null,null,null,null,null,null,null,null,47,null,{"$error":"#DIV/0!"},{"$f":"(H63-GrosBovins2023!H64)/GrosBovins2023!H64","v":-1},{"$f":"(H63-MoyQuinqHebdoGB!AL51)/MoyQuinqHebdoGB!AL51","v":-1},{"$error":"#DIV/0!"},{"$f":"(K63-GrosBovins2023!K63)/GrosBovins2023!K63","v":-1},{"$f":"(K63-MoyQuinqHebdoGB!BD51)/MoyQuinqHebdoGB!BD51","v":-1}]
["N",48,null,null,null,null,null,null,null,null,null,null,null,null,null,null,48,null,{"$error":"#DIV/0!"},{"$f":"(H64-GrosBovins2023!H65)/GrosBovins2023!H65","v":-1},{"$f":"(H64-MoyQuinqHebdoGB!AL52)/MoyQuinqHebdoGB!AL52","v":-1},{"$error":"#DIV/0!"},{"$f":"(K64-GrosBovins2023!K64)/GrosBovins2023!K64","v":-1},{"$f":"(K64-MoyQuinqHebdoGB!BD52)/MoyQuinqHebdoGB!BD52","v":-1}]
[null,49,null,null,null,null,null,null,null,null,null,null,null,null,null,null,49,null,{"$error":"#DIV/0!"},{"$f":"(H65-GrosBovins2023!H66)/GrosBovins2023!H66","v":-1},{"$f":"(H65-MoyQuinqHebdoGB!AL53)/MoyQuinqHebdoGB!AL53","v":-1},{"$error":"#DIV/0!"},{"$f":"(K65-GrosBovins2023!K65)/GrosBovins2023!K65","v":-1},{"$f":"(K65-MoyQuinqHebdoGB!BD53)/MoyQuinqHebdoGB!BD53","v":-1}]
[null,50,null,null,null,null,null,null,null,null,null,null,null,null,null,null,50,null,{"$error":"#DIV/0!"},{"$f":"(H66-GrosBovins2023!H67)/GrosBovins2023!H67","v":-1},{"$f":"(H66-MoyQuinqHebdoGB!AL54)/MoyQuinqHebdoGB!AL54","v":-1},{"$error":"#DIV/0!"},{"$f":"(K66-GrosBovins2023!K66)/GrosBovins2023!K66","v":-1},{"$f":"(K66-MoyQuinqHebdoGB!BD54)/MoyQuinqHebdoGB!BD54","v":-1}]
[null,51,null,null,null,null,null,null,null,null,null,null,null,null,null,null,51,null,{"$error":"#DIV/0!"},{"$f":"(H67-GrosBovins2023!H68)/GrosBovins2023!H68","v":-1},{"$f":"(H67-MoyQuinqHebdoGB!AL55)/MoyQuinqHebdoGB!AL55","v":-1},{"$error":"#DIV/0!"},{"$f":"(K67-GrosBovins2023!K67)/GrosBovins2023!K67","v":-1},{"$f":"(K67-MoyQuinqHebdoGB!BD55)/MoyQuinqHebdoGB!BD55","v":-1}]
["D",52,null,null,null,null,null,null,null,null,null,null,null,null,null,null,52,null,{"$error":"#DIV/0!"},{"$f":"(H68-GrosBovins2023!H69)/GrosBovins2023!H69","v":{"$error":"#DIV/0!"}},{"$f":"(H68-MoyQuinqHebdoGB!AL56)/MoyQuinqHebdoGB!AL56","v":-1},{"$error":"#DIV/0!"},{"$f":"(K68-GrosBovins2023!K68)/GrosBovins2023!K68","v":-1},{"$f":"(K68-MoyQuinqHebdoGB!BD56)/MoyQuinqHebdoGB!BD56","v":-1}]
[]
[]
["3 – COTATION DES GROS BOVINS VIFS SUR LE MARCHE DE CHOLET (en Euro/Kg Net)"]
[]
[null,null,"GENISSES",null,"VACHES",null,null,null,"JEUNES BOVINS","TAUREAUX"]
["semaines","année+mois","Viande, mixte, lait","Viande, mixte, lait","Blonde","Blonde","Mixte","Lait","Viande","Viande, mixte, lait"]
[2024,null,"U","R","U","R","O","P","U","URO"]
[1,202401,null,null,6.1,5.55,4.05]
[2,202401,null,null,6.1,5.55,4.2,3.75,5.3]
[3,202401,null,null,6.1,5.55,4.25,3.75,5.34]
[4,202401,null,null,6.1,5.55,4.3,3.8,5.35]
[5,202402,null,null,6.1,5.55,4.3,3.8,5.35]
[6,202402,null,null,6.1,5.55,4.33,3.85,5.38]
[7,202402,null,null,6.1,5.55,4.33,3.85,5.38]
[8,202402,null,null,6.1,5.55,4.3499999999999996,3.9,5.38]
[9,202402,null,null,6.1,5.55,4.3499999999999996,3.9,5.38]
[10,202403,null,null,6.1,5.55,4.3499999999999996,3.9,5.38]
[11,202403,null,null,6.1,5.55,4.3499999999999996,3.9,5.38]
[12,202403,null,null,6.1,5.55,4.3499999999999996,3.9,5.35]
[13,202403,null,null,6.1,5.55,4.3499999999999996,3.9,5.32]
[14,202404,null,null,6.1,5.55,4.3499999999999996,3.9,5.29]
[15,202404,null,null,6.1,5.55,4.3499999999999996,3.9,5.26]
[16,202404,null,null,6.1,5.55,4.3499999999999996,3.9,5.25]
[17,202404,null,null,6.1,5.55,4.3499999999999996,3.93,5.22]
[18,202405,null,null,6.1,5.55,null,3.95,5.2]
[19,202405,null,null,6.1,5.6,4.4000000000000004,4,5.2]
[20,202405,null,null,6.15,5.6,4.45,4.05,5.2]
[21,202405,null,null,6.15,5.6,4.45,4.05,5.2]
[22,202405,null,null,6.15,5.6,4.45,4.05,5.2]
[23,202406]
[24,202406]
[25,202406]
[26,202406]
[27,202407]
[28,202407]
[29,202407]
[30,202407]
[31,202408]
[32,202408]
[33,202408]
[34,202408]
[35,202408]
[36,202409]
[37,202409]
[38,202409]
[39,202409]
[40,202410]
[41,202410]
[42,202410]
[43,202410]
[44,202410]
[45,202411]
[46,202411]
[47,202411]
[48,202411]
[49,202412]
[50,202412]
[51,202412]
[52,202412]

{"sheet":"GrosBovins2023","index":8,"n_rows":127,"n_cols":24,"rows_kept":127,"cut":false,"hidden":false,"merged":[[11,2,12,12],[11,15,11,16],[12,15,12,16],[13,2,13,4],[13,6,13,10],[13,11,13,12],[13,16,15,16],[14,23,15,23],[72,2,72,3],[72,4,72,7],[13,18,13,20],[13,21,13,23],[14,2,14,3],[14,6,14,7],[14,11,14,12],[14,18,15,18],[14,19,15,19],[14,20,15,20],[14,21,15,21],[14,22,15,22]]}
["COTATIONS DES GROS BOVINS"]
["Source : DRAAF Pays de la Loire - SRISE - FranceAgriMer"]
[]
[]
["1 – COTATION REGIONALE GRAND OUEST ENTREE ABATTOIR en €/Kg net"]
[]
["2 – MOYENNE NATIONALE DES BOVINS MAIGRES DESTINES A L'ENGRAISSEMENT CHAROLAIS MALE de 6-12 mois catégorie U (350kg) en €/kg vif"]
[]
["3 – COTATION DES GROS BOVINS VIFS SUR LE MARCHE DE CHOLET (en Euro/Kg Net) – à partir de la ligne 72"]
[]
[null,null,"Mis à jour : 18/12/2023",null,null,null,null,null,null,null,null,null,null,null,null,"Mis à jour :18/12/2023"]
[null,null,"1 – COTATION REGIONALE ENTREE ABATTOIR GRAND OUEST FRANCEAGRIMER-HEBDOMADAIRE (€/Kg net)",null,null,null,null,null,null,null,null,null,null,null,null,"2 – COT. HEBDO"]
[null,null,null,null,null,null,null,null,null,null,null,null,null,null,null,"MAIGRE   €/kg vif"]
["Année","Sem.","JEUNES BOVINS",null,null,"BOEUFS","VACHES",null,null,null,null,"GENISSES",null,null,null,"Ref. nationale","Sem.",null,"Vache Viande R",null,null,"Vache lait P"]
[null,null,"VIANDE",null,"MIXTE","MIXTE","VIANDE",null,"Blonde","MIXTE","LAIT","VIANDES + 350kg",null,null,null,"Charolais Mâles",null,"nantes","Evolution/semaine -1",{"$f":"\"Evolution/ semaine id \" & A17-1","v":"Evolution/ semaine id 2022"},"Evolution/semaine id moy. 5 ans","Evolution/semaine -1",{"$f":"\"Evolution/ semaine id \" & A17-1","v":"Evolution/ semaine id 2022"},"Evolution/semaine id moy. 5 ans"]
[null,null,"U","R","O","O","U","R","U","O","P","U","R",null,null,"6/12 mois  ( U ) 350 kg"]
[2023,1,5.54,5.4,5.0999999999999996,5.05,5.71,5.41,6.05,4.93,4.59,5.84,5.41,null,null,3.39,1,3.27,{"$f":"(H17-GrosBovins2022!H68)/GrosBovins2022!H68","v":-1.8450184501844625E-3},{"$f":"(H17-GrosBovins2022!H18)/GrosBovins2022!H18","v":0.22675736961451246},{"$f":"(H17-MoyQuinqHebdoGB!AL5)/MoyQuinqHebdoGB!AL5","v":0.26876172607879922},{"$f":"(K17-GrosBovins2022!K68)/GrosBovins2022!K68","v":0},{"$f":"(K17-GrosBovins2022!K17)/GrosBovins2022!K17","v":0.31896551724137928},{"$f":"(K17-MoyQuinqHebdoGB!BD5)/MoyQuinqHebdoGB!BD5","v":0.43347907557776405}]
[null,2,5.54,5.4,5.09,5.03,5.71,5.43,6.13,4.9400000000000004,4.5999999999999996,5.83,5.41,null,null,3.39,2,3.27,{"$f":"(H18-H17)/H17","v":3.6968576709795883E-3},{"$f":"(H18-GrosBovins2022!H19)/GrosBovins2022!H19","v":0.2229729729729728},{"$f":"(H18-MoyQuinqHebdoGB!AL6)/MoyQuinqHebdoGB!AL6","v":0.27047262517547982},{"$f":"(K18-K17)/K17","v":2.1786492374727207E-3},{"$f":"(K18-GrosBovins2022!K18)/GrosBovins2022!K18","v":0.30681818181818171},{"$f":"(K18-MoyQuinqHebdoGB!BD6)/MoyQuinqHebdoGB!BD6","v":0.42679900744416893}]
[null,3,5.55,5.41,5.1100000000000003,5.0199999999999996,5.76,5.43,6.13,4.9400000000000004,4.6100000000000003,5.9,5.42,null,null,3.38,3,3.25,0,{"$f":"(H19-GrosBovins2022!H20)/GrosBovins2022!H20","v":0.2174887892376681},{"$f":"(H19-MoyQuinqHebdoGB!AL7)/MoyQuinqHebdoGB!AL7","v":0.2698783910196445},{"$f":"(K19-K18)/K18","v":2.1739130434784079E-3},{"$f":"(K19-GrosBovins2022!K19)/GrosBovins2022!K19","v":0.28412256267409486},{"$f":"(K19-MoyQuinqHebdoGB!BD7)/MoyQuinqHebdoGB!BD7","v":0.42283950617283972}]
["J",4,5.53,5.39,5.0999999999999996,5.0199999999999996,5.7,5.42,6.11,4.93,4.59,5.87,5.42,null,null,3.4,4,3.25,-1.8416206261509737E-3,{"$f":"(H20-GrosBovins2022!H21)/GrosBovins2022!H21","v":0.1991150442477877},{"$f":"(H20-MoyQuinqHebdoGB!AL8)/MoyQuinqHebdoGB!AL8","v":0.26694717157550241},-4.3383947939263472E-3,{"$f":"(K20-GrosBovins2022!K20)/GrosBovins2022!K20","v":0.25753424657534246},{"$f":"(K20-MoyQuinqHebdoGB!BD8)/MoyQuinqHebdoGB!BD8","v":0.41230769230769226}]
[null,5,5.52,5.4,5.07,4.88,5.76,5.42,6.19,4.91,4.5599999999999996,5.9,5.41,null,null,3.43,5,3.3,0,{"$f":"(H21-GrosBovins2022!H22)/GrosBovins2022!H22","v":0.18082788671023967},{"$f":"(H21-MoyQuinqHebdoGB!AL9)/MoyQuinqHebdoGB!AL9","v":0.26163873370577295},-6.5359477124183546E-3,{"$f":"(K21-GrosBovins2022!K21)/GrosBovins2022!K21","v":0.21599999999999989},{"$f":"(K21-MoyQuinqHebdoGB!BD9)/MoyQuinqHebdoGB!BD9","v":0.39534883720930231}]
[null,6,5.52,5.41,null,4.99,5.75,5.42,6.13,4.91,4.5599999999999996,5.92,5.41,null,null,3.44,6,3.33,0,{"$f":"(H22-GrosBovins2022!H23)/GrosBovins2022!H23","v":0.16559139784946225},{"$f":"(H22-MoyQuinqHebdoGB!AL10)/MoyQuinqHebdoGB!AL10","v":0.25695732838589974},0,{"$f":"(K22-GrosBovins2022!K22)/GrosBovins2022!K22","v":0.18749999999999994},{"$f":"(K22-MoyQuinqHebdoGB!BD10)/MoyQuinqHebdoGB!BD10","v":0.38686131386861328}]
[null,7,5.53,5.41,null,5.0199999999999996,5.73,5.42,6.19,4.93,4.5999999999999996,5.84,5.39,null,null,3.43,7,3.3,0,{"$f":"(H23-GrosBovins2022!H24)/GrosBovins2022!H24","v":0.13865546218487398},{"$f":"(H23-MoyQuinqHebdoGB!AL11)/MoyQuinqHebdoGB!AL11","v":0.25404905136510869},8.7719298245614117E-3,{"$f":"(K23-GrosBovins2022!K23)/GrosBovins2022!K23","v":0.16161616161616155},{"$f":"(K23-MoyQuinqHebdoGB!BD11)/MoyQuinqHebdoGB!BD11","v":0.3805522208883555}]
["F",8,5.54,5.42,null,5.07,5.76,5.44,6.19,4.97,4.6399999999999997,5.93,5.43,null,null,3.46,8,3.4,3.690036900369089E-3,{"$f":"(H24-GrosBovins2022!H25)/GrosBovins2022!H25","v":0.13333333333333347},{"$f":"(H24-MoyQuinqHebdoGB!AL12)/MoyQuinqHebdoGB!AL12","v":0.2482790270766406},8.6956521739130523E-3,{"$f":"(K24-GrosBovins2022!K24)/GrosBovins2022!K24","v":0.12077294685990339},{"$f":"(K24-MoyQuinqHebdoGB!BD12)/MoyQuinqHebdoGB!BD12","v":0.36873156342182895}]
[null,9,5.56,5.43,5.1100000000000003,5.08,5.88,5.46,6.2,5,4.6900000000000004,5.91,5.46,null,null,3.47,9,3.42,3.6764705882352156E-3,{"$f":"(H25-GrosBovins2022!H26)/GrosBovins2022!H26","v":0.12577319587628874},{"$f":"(H25-MoyQuinqHebdoGB!AL13)/MoyQuinqHebdoGB!AL13","v":0.24600638977635791},1.0775862068965671E-2,{"$f":"(K25-GrosBovins2022!K25)/GrosBovins2022!K25","v":0.11401425178147279},{"$f":"(K25-MoyQuinqHebdoGB!BD13)/MoyQuinqHebdoGB!BD13","v":0.36655011655011671}]
[null,10,5.57,5.46,5.13,5.1100000000000003,5.8,5.48,6.21,5.04,4.75,5.93,5.47,null,null,3.52,10,3.45,3.6630036630037476E-3,{"$f":"(H26-GrosBovins2022!H27)/GrosBovins2022!H27","v":0.11608961303462327},{"$f":"(H26-MoyQuinqHebdoGB!AL14)/MoyQuinqHebdoGB!AL14","v":0.24488868696047258},1.2793176972281365E-2,{"$f":"(K26-GrosBovins2022!K26)/GrosBovins2022!K26","v":0.11764705882352941},{"$f":"(K26-MoyQuinqHebdoGB!BD14)/MoyQuinqHebdoGB!BD14","v":0.36887608069164257}]
[null,11,5.6,5.47,null,5.12,5.8,5.52,6.21,5.07,4.8,6,5.49,null,null,3.53,11,3.48,7.2992700729925444E-3,{"$f":"(H27-GrosBovins2022!H28)/GrosBovins2022!H28","v":0.11740890688259092},{"$f":"(H27-MoyQuinqHebdoGB!AL15)/MoyQuinqHebdoGB!AL15","v":0.24717577948486205},1.0526315789473648E-2,{"$f":"(K27-GrosBovins2022!K27)/GrosBovins2022!K27","v":0.11888111888111882},{"$f":"(K27-MoyQuinqHebdoGB!BD15)/MoyQuinqHebdoGB!BD15","v":0.37221269296740983}]
[null,12,5.62,5.47,5.16,5.15,null,5.53,6.22,5.08,4.82,6.05,5.49,null,null,3.54,12,3.48,1.811594202898673E-3,{"$f":"(H28-GrosBovins2022!H29)/GrosBovins2022!H29","v":0.10821643286573146},{"$f":"(H28-MoyQuinqHebdoGB!AL16)/MoyQuinqHebdoGB!AL16","v":0.24493471409275103},4.1666666666667629E-3,{"$f":"(K28-GrosBovins2022!K28)/GrosBovins2022!K28","v":0.11059907834101393},{"$f":"(K28-MoyQuinqHebdoGB!BD16)/MoyQuinqHebdoGB!BD16","v":0.37009664582148966}]
["M",13,5.62,5.48,5.17,5.16,6.16,5.5,6.37,5.09,4.8099999999999996,6.12,5.49,null,null,3.55,13,3.48,-5.4249547920434448E-3,{"$f":"(H29-GrosBovins2022!H30)/GrosBovins2022!H30","v":9.7804391217564915E-2},{"$f":"(H29-MoyQuinqHebdoGB!AL17)/MoyQuinqHebdoGB!AL17","v":0.23985572587917045},-2.074688796680638E-3,{"$f":"(K29-GrosBovins2022!K29)/GrosBovins2022!K29","v":9.5671981776765364E-2},{"$f":"(K29-MoyQuinqHebdoGB!BD17)/MoyQuinqHebdoGB!BD17","v":0.36260623229461753}]
[null,14,5.6,5.45,5.14,5.15,5.87,5.51,6.25,5.07,4.78,6.02,5.48,null,null,3.57,14,3.5,1.8181818181817794E-3,{"$f":"(H30-GrosBovins2022!H31)/GrosBovins2022!H31","v":8.8932806324110714E-2},{"$f":"(H30-MoyQuinqHebdoGB!AL18)/MoyQuinqHebdoGB!AL18","v":0.24155024785939616},-6.2370062370061046E-3,{"$f":"(K30-GrosBovins2022!K30)/GrosBovins2022!K30","v":7.6576576576576544E-2},{"$f":"(K30-MoyQuinqHebdoGB!BD18)/MoyQuinqHebdoGB!BD18","v":0.35334088335220809}]
[null,15,5.58,5.44,5.1100000000000003,5.1100000000000003,null,5.43,6.27,5.03,4.7300000000000004,6.02,5.47,null,null,3.57,15,3.5,{"$f":"(H31-H30)/H30","v":-1.4519056261343026E-2},{"$f":"(H31-GrosBovins2022!H32)/GrosBovins2022!H32","v":6.4705882352941196E-2},{"$f":"(H31-MoyQuinqHebdoGB!AL19)/MoyQuinqHebdoGB!AL19","v":0.22684139177586976},-1.0460251046025068E-2,{"$f":"(K31-GrosBovins2022!K31)/GrosBovins2022!K31","v":5.3452115812917637E-2},{"$f":"(K31-MoyQuinqHebdoGB!BD19)/MoyQuinqHebdoGB!BD19","v":0.3414634146341462}]
[null,16,5.57,5.46,5.1100000000000003,5.0999999999999996,null,5.45,6.24,5.01,4.7,5.99,5.47,null,null,3.57,16,3.5,{"$f":"(H32-H31)/H31","v":3.6832412523021109E-3},{"$f":"(H32-GrosBovins2022!H33)/GrosBovins2022!H33","v":6.0311284046692705E-2},{"$f":"(H32-MoyQuinqHebdoGB!AL20)/MoyQuinqHebdoGB!AL20","v":0.2280306444344298},-6.3424947145877897E-3,{"$f":"(K32-GrosBovins2022!K32)/GrosBovins2022!K32","v":3.2967032967033044E-2},{"$f":"(K32-MoyQuinqHebdoGB!BD20)/MoyQuinqHebdoGB!BD20","v":0.32843414358394601}]
["A",17,5.55,5.42,5.09,5.0599999999999996,5.85,5.44,6.22,4.99,4.67,6.05,5.44,null,null,3.57,17,3.5,-1.8348623853210618E-3,{"$f":"(H33-GrosBovins2022!H34)/GrosBovins2022!H34","v":5.0193050193050329E-2},{"$f":"(H33-MoyQuinqHebdoGB!AL21)/MoyQuinqHebdoGB!AL21","v":0.22302158273381292},-6.3829787234043079E-3,{"$f":"(K33-GrosBovins2022!K33)/GrosBovins2022!K33","v":6.465517241379364E-3},{"$f":"(K33-MoyQuinqHebdoGB!BD21)/MoyQuinqHebdoGB!BD21","v":0.31179775280898891}]
[null,18,5.53,5.39,null,5.05,5.85,5.44,6.27,4.97,4.6399999999999997,6.02,5.45,null,null,3.57,18,3.5,0,{"$f":"(H34-GrosBovins2022!H35)/GrosBovins2022!H35","v":4.4145873320537508E-2},{"$f":"(H34-MoyQuinqHebdoGB!AL22)/MoyQuinqHebdoGB!AL22","v":0.21918422232182894},-6.4239828693790687E-3,{"$f":"(K34-GrosBovins2022!K34)/GrosBovins2022!K34","v":-2.109704641350222E-2},{"$f":"(K34-MoyQuinqHebdoGB!BD22)/MoyQuinqHebdoGB!BD22","v":0.29319955406911918}]
[null,19,5.5,5.37,5.05,5.05,5.9,5.44,6.32,4.96,4.6100000000000003,6.07,5.43,null,null,3.57,19,3.5,0,{"$f":"(H35-GrosBovins2022!H36)/GrosBovins2022!H36","v":3.8167938931297746E-2},{"$f":"(H35-MoyQuinqHebdoGB!AL23)/MoyQuinqHebdoGB!AL23","v":0.21754700089525525},-6.4655172413791732E-3,{"$f":"(K35-GrosBovins2022!K35)/GrosBovins2022!K35","v":-3.7578288100208711E-2},{"$f":"(K35-MoyQuinqHebdoGB!BD23)/MoyQuinqHebdoGB!BD23","v":0.27984453081621352}]
[null,20,5.48,5.35,5.0199999999999996,5.0599999999999996,null,5.45,6.29,4.97,4.62,6.09,5.43,null,null,3.59,20,3.5,1.8382352941176078E-3,{"$f":"(H36-GrosBovins2022!H37)/GrosBovins2022!H37","v":3.4155597722960271E-2},{"$f":"(H36-MoyQuinqHebdoGB!AL24)/MoyQuinqHebdoGB!AL24","v":0.21380846325167036},2.1691973969630773E-3,{"$f":"(K36-GrosBovins2022!K36)/GrosBovins2022!K36","v":-4.3478260869565209E-2},{"$f":"(K36-MoyQuinqHebdoGB!BD24)/MoyQuinqHebdoGB!BD24","v":0.27272727272727282}]
["M",21,5.48,5.37,null,5.05,5.81,5.45,6.3,4.97,4.63,6.09,5.45,null,null,3.6,21,3.5,0,{"$f":"(H37-GrosBovins2022!H38)/GrosBovins2022!H38","v":3.4155597722960271E-2},{"$f":"(H37-MoyQuinqHebdoGB!AL25)/MoyQuinqHebdoGB!AL25","v":0.21164962205424656},2.1645021645021181E-3,{"$f":"(K37-GrosBovins2022!K37)/GrosBovins2022!K37","v":-4.338842975206611E-2},{"$f":"(K37-MoyQuinqHebdoGB!BD25)/MoyQuinqHebdoGB!BD25","v":0.26849315068493151}]
[null,22,5.46,5.33,5.03,5.08,null,5.47,6.27,4.9800000000000004,4.67,6.05,5.45,null,null,3.61,22,3.5,3.6697247706421235E-3,{"$f":"(H38-GrosBovins2022!H39)/GrosBovins2022!H39","v":3.4026465028355331E-2},{"$f":"(H38-MoyQuinqHebdoGB!AL26)/MoyQuinqHebdoGB!AL26","v":0.21124889282550924},8.6393088552915841E-3,{"$f":"(K38-GrosBovins2022!K38)/GrosBovins2022!K38","v":-3.9094650205761396E-2},{"$f":"(K38-MoyQuinqHebdoGB!BD26)/MoyQuinqHebdoGB!BD26","v":0.27109417528579222}]
[null,23,5.46,5.33,5.01,5.09,null,5.49,6.29,5.0199999999999996,4.71,6.1,5.48,null,null,3.62,23,3.55,3.6563071297989877E-3,{"$f":"(H39-GrosBovins2022!H40)/GrosBovins2022!H40","v":3.7807183364839354E-2},{"$f":"(H39-MoyQuinqHebdoGB!AL27)/MoyQuinqHebdoGB!AL27","v":0.2092511013215857},8.5653104925053607E-3,{"$f":"(K39-GrosBovins2022!K39)/GrosBovins2022!K39","v":-3.2854209445585245E-2},{"$f":"(K39-MoyQuinqHebdoGB!BD27)/MoyQuinqHebdoGB!BD27","v":0.27642276422764211}]
[null,24,5.45,5.31,5.05,5.09,null,5.5,6.29,5.03,4.71,6.06,5.47,null,null,3.62,24,3.55,1.8214936247722745E-3,{"$f":"(H40-GrosBovins2022!H41)/GrosBovins2022!H41","v":3.9697542533081276E-2},{"$f":"(H40-MoyQuinqHebdoGB!AL28)/MoyQuinqHebdoGB!AL28","v":0.20719929762949979},0,{"$f":"(K40-GrosBovins2022!K40)/GrosBovins2022!K40","v":-3.2854209445585245E-2},{"$f":"(K40-MoyQuinqHebdoGB!BD28)/MoyQuinqHebdoGB!BD28","v":0.27435064935064929}]
[null,25,5.43,5.27,5.04,5.09,null,5.48,6.29,5.0199999999999996,4.7,6.13,5.46,null,null,3.62,25,3.55,-3.6363636363635587E-3,{"$f":"(H41-GrosBovins2022!H42)/GrosBovins2022!H42","v":3.3962264150943514E-2},{"$f":"(H41-MoyQuinqHebdoGB!AL29)/MoyQuinqHebdoGB!AL29","v":0.205455345358557},-2.1231422505307404E-3,{"$f":"(K41-GrosBovins2022!K41)/GrosBovins2022!K41","v":-3.4907597535934275E-2},{"$f":"(K41-MoyQuinqHebdoGB!BD29)/MoyQuinqHebdoGB!BD29","v":0.27302275189599134}]
["J",26,5.39,5.24,5.0199999999999996,5.05,null,5.48,6.3,4.99,4.66,6.05,5.47,null,null,3.62,26,3.53,0,{"$f":"(H42-GrosBovins2022!H43)/GrosBovins2022!H43","v":3.5916824196597426E-2},{"$f":"(H42-MoyQuinqHebdoGB!AL30)/MoyQuinqHebdoGB!AL30","v":0.20122753178430516},-8.5106382978723475E-3,{"$f":"(K42-GrosBovins2022!K42)/GrosBovins2022!K42","v":-4.5081967213114707E-2},{"$f":"(K42-MoyQuinqHebdoGB!BD30)/MoyQuinqHebdoGB!BD30","v":0.2635574837310195}]
[null,27,5.37,5.21,4.97,5.01,null,5.46,6.24,4.96,4.62,6.09,5.46,null,null,3.61,27,3.5,-3.6496350364964344E-3,{"$f":"(H43-GrosBovins2022!H44)/GrosBovins2022!H44","v":3.4090909090909033E-2},{"$f":"(H43-MoyQuinqHebdoGB!AL31)/MoyQuinqHebdoGB!AL31","v":0.19841966637401226},-8.5836909871244704E-3,{"$f":"(K43-GrosBovins2022!K43)/GrosBovins2022!K43","v":-5.1334702258726897E-2},{"$f":"(K43-MoyQuinqHebdoGB!BD31)/MoyQuinqHebdoGB!BD31","v":0.25543478260869545}]
[null,28,5.33,5.17,4.92,5,null,5.44,6.29,4.93,4.57,6.1,5.42,null,null,3.52,28,3.45,-3.6630036630035849E-3,{"$f":"(H44-GrosBovins2022!H45)/GrosBovins2022!H45","v":2.641509433962275E-2},{"$f":"(H44-MoyQuinqHebdoGB!AL32)/MoyQuinqHebdoGB!AL32","v":0.19560439560439574},-1.0822510822510784E-2,{"$f":"(K44-GrosBovins2022!K44)/GrosBovins2022!K44","v":-6.1601642710472242E-2},{"$f":"(K44-MoyQuinqHebdoGB!BD32)/MoyQuinqHebdoGB!BD32","v":0.24523160762942775}]
[null,29,5.31,5.16,4.9000000000000004,5.01,null,5.44,6.33,4.8899999999999997,4.53,6.01,5.43,null,null,3.5,29,3.45,0,{"$f":"(H45-GrosBovins2022!H46)/GrosBovins2022!H46","v":3.0303030303030328E-2},{"$f":"(H45-MoyQuinqHebdoGB!AL33)/MoyQuinqHebdoGB!AL33","v":0.19402985074626872},-8.7527352297593064E-3,{"$f":"(K45-GrosBovins2022!K45)/GrosBovins2022!K45","v":-7.551020408163267E-2},{"$f":"(K45-MoyQuinqHebdoGB!BD33)/MoyQuinqHebdoGB!BD33","v":0.23433242506811983}]
["J",30,5.29,5.1100000000000003,4.8600000000000003,4.9800000000000004,null,5.42,6.3,4.88,4.5,6.05,5.43,null,null,3.45,30,3.45,-3.6764705882353786E-3,{"$f":"(H46-GrosBovins2022!H47)/GrosBovins2022!H47","v":4.4315992292870816E-2},{"$f":"(H46-MoyQuinqHebdoGB!AL34)/MoyQuinqHebdoGB!AL34","v":0.19488536155202832},-6.6225165562914454E-3,{"$f":"(K46-GrosBovins2022!K46)/GrosBovins2022!K46","v":-7.5975359342915827E-2},{"$f":"(K46-MoyQuinqHebdoGB!BD34)/MoyQuinqHebdoGB!BD34","v":0.23018042646254785}]
[null,31,5.24,5.09,4.84,4.96,null,5.44,6.32,4.8600000000000003,4.4800000000000004,6,5.41,null,null,3.45,31,3.45,3.690036900369089E-3,{"$f":"(H47-GrosBovins2022!H48)/GrosBovins2022!H48","v":3.0303030303030328E-2},{"$f":"(H47-MoyQuinqHebdoGB!AL35)/MoyQuinqHebdoGB!AL35","v":0.20088300220750555},-4.4444444444443499E-3,{"$f":"(K47-GrosBovins2022!K47)/GrosBovins2022!K47","v":-7.8189300411522611E-2},{"$f":"(K47-MoyQuinqHebdoGB!BD35)/MoyQuinqHebdoGB!BD35","v":0.22807017543859642}]
[null,32,5.24,5.0599999999999996,4.83,4.96,5.85,5.45,6.38,4.87,4.49,6.02,5.41,null,null,3.45,32,3.45,1.8382352941176078E-3,{"$f":"(H48-GrosBovins2022!H49)/GrosBovins2022!H49","v":3.0245746691871481E-2},{"$f":"(H48-MoyQuinqHebdoGB!AL36)/MoyQuinqHebdoGB!AL36","v":0.19938380281690155},2.2321428571428093E-3,{"$f":"(K48-GrosBovins2022!K48)/GrosBovins2022!K48","v":-7.6131687242798368E-2},{"$f":"(K48-MoyQuinqHebdoGB!BD36)/MoyQuinqHebdoGB!BD36","v":0.2308114035087718}]
[null,33,5.25,5.07,4.8600000000000003,5.0199999999999996,null,5.46,6.33,4.93,4.54,null,5.46,null,null,3.45,33,3.45,1.8348623853210618E-3,{"$f":"(H49-GrosBovins2022!H50)/GrosBovins2022!H50","v":3.2136105860113409E-2},{"$f":"(H49-MoyQuinqHebdoGB!AL37)/MoyQuinqHebdoGB!AL37","v":0.20000000000000004},1.1135857461024459E-2,{"$f":"(K49-GrosBovins2022!K49)/GrosBovins2022!K49","v":-6.7761806981519526E-2},{"$f":"(K49-MoyQuinqHebdoGB!BD37)/MoyQuinqHebdoGB!BD37","v":0.23908296943231436}]
[null,34,5.27,5.12,4.9000000000000004,5.04,null,5.52,6.37,4.96,4.5999999999999996,6.19,5.46,null,null,3.46,34,3.45,1.0989010989010917E-2,{"$f":"(H50-GrosBovins2022!H51)/GrosBovins2022!H51","v":3.9548022598870053E-2},{"$f":"(H50-MoyQuinqHebdoGB!AL38)/MoyQuinqHebdoGB!AL38","v":0.2084063047285464},1.3215859030836918E-2,{"$f":"(K50-GrosBovins2022!K50)/GrosBovins2022!K50","v":-5.3497942386831414E-2},{"$f":"(K50-MoyQuinqHebdoGB!BD38)/MoyQuinqHebdoGB!BD38","v":0.24864277958740486}]
["A",35,5.3,5.15,4.96,5.07,null,5.56,6.38,4.99,4.66,6.2,5.52,null,null,3.47,35,3.45,7.2463768115942099E-3,{"$f":"(H51-GrosBovins2022!H52)/GrosBovins2022!H52","v":4.5112781954887091E-2},{"$f":"(H51-MoyQuinqHebdoGB!AL39)/MoyQuinqHebdoGB!AL39","v":0.20974760661444747},1.3043478260869674E-2,{"$f":"(K51-GrosBovins2022!K51)/GrosBovins2022!K51","v":-4.1152263374485631E-2},{"$f":"(K51-MoyQuinqHebdoGB!BD39)/MoyQuinqHebdoGB!BD39","v":0.25877903835764471}]
[null,36,5.33,5.2,5.01,5.0999999999999996,null,5.58,6.35,5.03,4.7,6.15,5.53,null,null,3.5,36,3.5,3.5971223021583568E-3,{"$f":"(H52-GrosBovins2022!H53)/GrosBovins2022!H53","v":4.4943820224719142E-2},{"$f":"(H52-MoyQuinqHebdoGB!AL40)/MoyQuinqHebdoGB!AL40","v":0.21304347826086967},8.5836909871244704E-3,{"$f":"(K52-GrosBovins2022!K52)/GrosBovins2022!K52","v":-3.2921810699588501E-2},{"$f":"(K52-MoyQuinqHebdoGB!BD40)/MoyQuinqHebdoGB!BD40","v":0.26480086114101198}]
[null,37,5.38,5.22,5.01,5.09,null,5.56,6.36,5.05,4.71,6.11,5.53,null,null,3.58,37,3.53,-3.5842293906810864E-3,{"$f":"(H53-GrosBovins2022!H54)/GrosBovins2022!H54","v":3.925233644859813E-2},{"$f":"(H53-MoyQuinqHebdoGB!AL41)/MoyQuinqHebdoGB!AL41","v":0.20974760661444725},2.1276595744680396E-3,{"$f":"(K53-GrosBovins2022!K53)/GrosBovins2022!K53","v":-3.2854209445585245E-2},{"$f":"(K53-MoyQuinqHebdoGB!BD41)/MoyQuinqHebdoGB!BD41","v":0.26681011296395912}]
[null,38,5.41,5.23,null,5.07,null,5.55,6.4,5.04,4.67,6.21,5.51,null,null,3.59,38,3.53,-1.7985611510790984E-3,{"$f":"(H54-GrosBovins2022!H55)/GrosBovins2022!H55","v":3.7383177570093497E-2},{"$f":"(H54-MoyQuinqHebdoGB!AL42)/MoyQuinqHebdoGB!AL42","v":0.2080975185023943},-8.492569002123149E-3,{"$f":"(K54-GrosBovins2022!K54)/GrosBovins2022!K54","v":-4.6938775510204166E-2},{"$f":"(K54-MoyQuinqHebdoGB!BD42)/MoyQuinqHebdoGB!BD42","v":0.2587601078167116}]
["S",39,5.42,5.26,null,5.0599999999999996,null,5.54,6.34,4.99,4.6500000000000004,6.19,5.53,null,null,3.59,39,3.53,-1.8018018018017634E-3,{"$f":"(H55-GrosBovins2022!H56)/GrosBovins2022!H56","v":2.7829313543599327E-2},{"$f":"(H55-MoyQuinqHebdoGB!AL43)/MoyQuinqHebdoGB!AL43","v":0.20697167755991314},-4.2826552462525858E-3,{"$f":"(K55-GrosBovins2022!K55)/GrosBovins2022!K55","v":-5.2953156822810543E-2},{"$f":"(K55-MoyQuinqHebdoGB!BD43)/MoyQuinqHebdoGB!BD43","v":0.2567567567567568}]
[null,40,5.42,5.27,4.9800000000000004,5.05,null,5.56,6.41,4.95,4.5999999999999996,6.18,5.53,null,null,3.56,40,3.45,3.6101083032490204E-3,{"$f":"(H56-GrosBovins2022!H57)/GrosBovins2022!H57","v":2.5830258302582967E-2},{"$f":"(H56-MoyQuinqHebdoGB!AL44)/MoyQuinqHebdoGB!AL44","v":0.20869565217391306},-1.0752688172043163E-2,{"$f":"(K56-GrosBovins2022!K56)/GrosBovins2022!K56","v":-6.3136456211812728E-2},{"$f":"(K56-MoyQuinqHebdoGB!BD44)/MoyQuinqHebdoGB!BD44","v":0.25}]
[null,41,5.43,5.27,4.97,5.01,null,5.53,6.36,4.92,4.55,6.17,5.49,null,null,3.49,41,3.38,-5.3956834532372959E-3,{"$f":"(H57-GrosBovins2022!H58)/GrosBovins2022!H58","v":2.0295202952029578E-2},{"$f":"(H57-MoyQuinqHebdoGB!AL45)/MoyQuinqHebdoGB!AL45","v":0.20374401393121483},-1.0869565217391266E-2,{"$f":"(K57-GrosBovins2022!K57)/GrosBovins2022!K57","v":-7.5203252032520346E-2},{"$f":"(K57-MoyQuinqHebdoGB!BD45)/MoyQuinqHebdoGB!BD45","v":0.24181222707423572}]
[null,42,5.42,5.26,4.93,4.9400000000000004,null,5.53,6.39,4.88,4.51,6.19,5.51,null,null,3.49,42,3.38,0,{"$f":"(H58-GrosBovins2022!H59)/GrosBovins2022!H59","v":2.2181146025878024E-2},{"$f":"(H58-MoyQuinqHebdoGB!AL46)/MoyQuinqHebdoGB!AL46","v":0.20060790273556239},-8.7912087912087999E-3,{"$f":"(K58-GrosBovins2022!K58)/GrosBovins2022!K58","v":-8.333333333333337E-2},{"$f":"(K58-MoyQuinqHebdoGB!BD46)/MoyQuinqHebdoGB!BD46","v":0.23561643835616436}]
["O",43,5.4,5.26,4.93,4.93,null,5.51,6.46,4.8499999999999996,4.4400000000000004,6.13,5.49,null,null,3.45,43,3.4,-3.6166365280290162E-3,{"$f":"(H59-GrosBovins2022!H60)/GrosBovins2022!H60","v":1.4732965009208118E-2},{"$f":"(H59-MoyQuinqHebdoGB!AL47)/MoyQuinqHebdoGB!AL47","v":0.19782608695652179},-1.5521064301551974E-2,{"$f":"(K59-GrosBovins2022!K59)/GrosBovins2022!K59","v":-9.2024539877300471E-2},{"$f":"(K59-MoyQuinqHebdoGB!BD47)/MoyQuinqHebdoGB!BD47","v":0.22448979591836735}]
[null,44,5.4,5.25,4.8899999999999997,4.91,null,5.51,6.42,4.78,4.3499999999999996,null,5.51,null,null,3.45,44,3.4,0,{"$f":"(H60-GrosBovins2022!H61)/GrosBovins2022!H61","v":1.6605166051660489E-2},{"$f":"(H60-MoyQuinqHebdoGB!AL48)/MoyQuinqHebdoGB!AL48","v":0.19730551933941776},-2.0270270270270438E-2,{"$f":"(K60-GrosBovins2022!K60)/GrosBovins2022!K60","v":-0.1049382716049384},{"$f":"(K60-MoyQuinqHebdoGB!BD48)/MoyQuinqHebdoGB!BD48","v":0.20900500277932163}]
[null,45,5.39,5.24,4.8499999999999996,4.8499999999999996,null,5.48,6.4,4.71,4.26,6.23,5.44,null,null,3.4,45,3.4,-5.4446460980035142E-3,{"$f":"(H61-GrosBovins2022!H62)/GrosBovins2022!H62","v":1.4814814814814828E-2},{"$f":"(H61-MoyQuinqHebdoGB!AL49)/MoyQuinqHebdoGB!AL49","v":0.19286025250326513},-2.0689655172413762E-2,{"$f":"(K61-GrosBovins2022!K61)/GrosBovins2022!K61","v":-0.11618257261410798},{"$f":"(K61-MoyQuinqHebdoGB!BD49)/MoyQuinqHebdoGB!BD49","v":0.1939461883408071}]
[null,46,5.41,5.24,4.8099999999999996,4.6900000000000004,null,5.46,6.43,4.62,4.16,6.14,5.43,null,null,3.35,46,3.35,-3.6496350364964344E-3,{"$f":"(H62-GrosBovins2022!H63)/GrosBovins2022!H63","v":9.242144177449136E-3},{"$f":"(H62-MoyQuinqHebdoGB!AL50)/MoyQuinqHebdoGB!AL50","v":0.18798955613576998},-2.3474178403755788E-2,{"$f":"(K62-GrosBovins2022!K62)/GrosBovins2022!K62","v":-0.12605042016806717},{"$f":"(K62-MoyQuinqHebdoGB!BD50)/MoyQuinqHebdoGB!BD50","v":0.17847025495750718}]
[null,47,5.42,5.27,4.76,4.6900000000000004,5.95,5.41,6.4,4.54,4.0599999999999996,6.14,5.41,null,null,3.34,47,3.32,-9.157509157509125E-3,{"$f":"(H63-GrosBovins2022!H64)/GrosBovins2022!H64","v":-1.8450184501844625E-3},{"$f":"(H63-MoyQuinqHebdoGB!AL51)/MoyQuinqHebdoGB!AL51","v":0.18122270742358079},-2.4038461538461665E-2,{"$f":"(K63-GrosBovins2022!K63)/GrosBovins2022!K63","v":-0.13983050847457631},{"$f":"(K63-MoyQuinqHebdoGB!BD51)/MoyQuinqHebdoGB!BD51","v":0.16066323613493422}]
["N",48,5.44,5.25,4.72,4.62,null,5.38,6.37,4.4800000000000004,3.95,6.2,5.41,null,null,3.32,48,3.27,-5.5452865064695468E-3,{"$f":"(H64-GrosBovins2022!H65)/GrosBovins2022!H65","v":-7.3800738007380141E-3},{"$f":"(H64-MoyQuinqHebdoGB!AL52)/MoyQuinqHebdoGB!AL52","v":0.17415975556525537},-2.7093596059113163E-2,{"$f":"(K64-GrosBovins2022!K64)/GrosBovins2022!K64","v":-0.1541755888650963},{"$f":"(K64-MoyQuinqHebdoGB!BD52)/MoyQuinqHebdoGB!BD52","v":0.14030023094688227}]
[null,49,5.44,5.26,4.76,4.46,6.27,5.38,6.53,4.38,3.88,6.31,5.4,null,null,3.27,49,3.27,0,{"$f":"(H65-GrosBovins2022!H66)/GrosBovins2022!H66","v":-5.5452865064695468E-3},{"$f":"(H65-MoyQuinqHebdoGB!AL53)/MoyQuinqHebdoGB!AL53","v":0.1746724890829694},-1.7721518987341842E-2,{"$f":"(K65-GrosBovins2022!K65)/GrosBovins2022!K65","v":-0.16198704103671707},{"$f":"(K65-MoyQuinqHebdoGB!BD53)/MoyQuinqHebdoGB!BD53","v":0.12659698025551683}]
[null,50,5.44,5.26,4.7699999999999996,4.54,6.16,5.38,6.53,4.38,3.84,6.32,5.41,null,null,3.32,50,3.25,0,{"$f":"(H66-GrosBovins2022!H67)/GrosBovins2022!H67","v":-7.3800738007380141E-3},{"$f":"(H66-MoyQuinqHebdoGB!AL54)/MoyQuinqHebdoGB!AL54","v":0.2290119931467734},-1.0309278350515474E-2,{"$f":"(K66-GrosBovins2022!K66)/GrosBovins2022!K66","v":-0.16521739130434779},{"$f":"(K66-MoyQuinqHebdoGB!BD54)/MoyQuinqHebdoGB!BD54","v":0.15749811605124339}]
[null,51,5.44,5.26,4.72,4.5199999999999996,null,5.4,6.36,4.38,3.85,6.11,5.42,null,null,3.32,51,3.25,3.7174721189591939E-3,{"$f":"(H67-GrosBovins2022!H68)/GrosBovins2022!H68","v":-3.6900369003689251E-3},{"$f":"(H67-MoyQuinqHebdoGB!AL55)/MoyQuinqHebdoGB!AL55","v":0.23217341699942956},2.6041666666667268E-3,{"$f":"(K67-GrosBovins2022!K67)/GrosBovins2022!K67","v":-0.15754923413566743},{"$f":"(K67-MoyQuinqHebdoGB!BD55)/MoyQuinqHebdoGB!BD55","v":0.16314199395770393}]
["D",52,5.44,5.28,null,4.5999999999999996,null,5.43,null,4.42,3.87,null,5.41,null,null,3.32,52,3.25,5.5555555555554369E-3,{"$f":"(H68-GrosBovins2022!H69)/GrosBovins2022!H69","v":{"$error":"#DIV/0!"}},{"$f":"(H68-MoyQuinqHebdoGB!AL56)/MoyQuinqHebdoGB!AL56","v":0.23690205011389498},5.1948051948051991E-3,{"$f":"(K68-GrosBovins2022!K68)/GrosBovins2022!K68","v":-0.15686274509803916},{"$f":"(K68-MoyQuinqHebdoGB!BD56)/MoyQuinqHebdoGB!BD56","v":0.1639097744360902}]
[]
[]
["3 – COTATION DES GROS BOVINS VIFS SUR LE MARCHE DE CHOLET (en Euro/Kg Net)"]
[]
[null,null,"GENISSES",null,"VACHES",null,null,null,"JEUNES BOVINS","TAUREAUX"]
["semaines","année+mois","Viande, mixte, lait","Viande, mixte, lait","Blonde","Blonde","Mixte","Lait","Viande","Viande, mixte, lait"]
[2023,null,"U","R","U","R","O","P","U","URO"]
[1,202301,5.54,5.26,5.7,5.3,4.62,4.4000000000000004,5.32]
[2,202301,5.54,5.26,5.7,5.3,4.62,4.4000000000000004,5.32]
[3,202301,5.54,5.26,5.7,5.3,4.62,4.4000000000000004,5.32,4.55]
[4,202301,5.54,5.26,5.7,5.3,4.62,4.4000000000000004,5.32,4.55]
[5,202302,5.54,5.26,5.7,5.3,4.62,4.4000000000000004,5.3]
[6,202302,5.54,5.26,5.7,5.3,4.62,4.38,5.3,4.55]
[7,202302,5.54,5.27,5.7,5.3,4.62,4.38,5.3]
[8,202302,5.54,5.27,5.7,5.3,4.6500000000000004,4.4000000000000004,5.3]
[9,202303,5.56,5.31,5.75,5.35,4.68,4.45,5.3]
[10,202303,5.59,5.32,5.8,5.35,4.7,4.5,5.3]
[11,202303,5.62,5.36,5.85,5.4,4.7699999999999996,4.57,5.36]
[12,202303,5.68,5.41,5.9,5.45,4.8,4.5999999999999996,5.36]
[13,202303,5.68,5.41,5.9,5.45,4.8,4.5999999999999996,5.36]
[14,202304,5.66,5.4,5.9,5.45,4.8,4.57,5.34]
[15,202304,5.65,5.38,5.9,5.45,4.7699999999999996,4.54,5.32]
[16,202304,5.65,5.38,5.9,5.45,4.75,4.5199999999999996,5.3]
[17,202304,5.65,5.38,5.9,5.45,4.7300000000000004,4.5,5.28]
[18,202305,5.63,5.38,5.9,5.45,4.7300000000000004,4.4800000000000004,5.26]
[19,202305,5.63,5.38,5.9,5.45,4.71,4.46,5.26]
[20,202305,5.65,5.38,5.9,5.45,4.71,4.46,5.26]
[21,202305,5.65,5.38,5.9,5.45,4.71,4.46,5.26]
[22,202306,5.65,5.38,5.9,5.45,4.7300000000000004,4.46,5.26]
[23,202306,5.65,5.38,5.9,5.45,4.75,4.5,5.26]
[24,202306,5.7,5.38,5.95,5.45,4.7699999999999996,4.5,5.26]
[25,202306,5.72,5.38,6,5.45,4.7699999999999996,4.49,5.25]
[26,202306,5.72,5.37,6,5.45,4.75,4.4400000000000004,5.2]
[27,202307,null,null,6,5.45,4.7,4.3899999999999997,5.16]
[28,202307,null,null,6,5.45,4.6500000000000004,4.3499999999999996,5.1100000000000003]
[29,202307,null,null,6,5.45,4.62,4.32,5.09]
[30,202307,null,null,6,5.45,4.5999999999999996,4.3,5.0599999999999996]
[31,202308,null,null,6,5.45,4.58,4.28,5.04]
[32,202308,null,null,6,5.45,4.58,4.28,5.04]
[33,202308,null,null,6,5.45,4.58,{"$f":"H109-0.05","v":4.28},5.04]
[34,202308,null,null,6.05,5.5,4.63,4.33,5.04]
[35,202309,null,null,6.1,5.55,4.68,4.38,5.07]
[36,202309,null,null,6.1,5.55,4.7300000000000004,4.43,5.12]
[37,202309,null,null,6.1,5.55,4.78,4.4800000000000004,5.17]
[38,202309,null,null,6.1,5.55,4.75,4.4800000000000004,5.2]
[39,202309,null,null,6.1,5.55,4.72,4.45,5.22]
[40,202310,null,null,6.1,5.55,4.7,4.42,5.22]
[41,202310,null,null,6.1,5.55,4.6500000000000004,4.38,5.22]
[42,202310,null,null,6.1,5.55,4.5999999999999996,4.25,5.22]
[43,202310,null,null,6.1,5.5,4.55,4.3,5.22]
[44,202311,null,null,6.1,5.55,4.5,4.1500000000000004,5.22]
[45,202311,null,null,6.1,5.55,4.47,4.08,5.22]
[46,202311,null,null,6.1,5.55,4.37,3.98,5.22]
[47,202311,null,null,6.1,5.55,4.2699999999999996,3.88,5.22]
[48,202312,null,null,6.1,5.55,4.17,3.78,5.22]
[49,202312,null,null,6.1,5.55,4.07,3.68,5.22]
[50,202312,null,null,6.1,5.55,4.05,3.63,5.22]
[51,202312,null,null,6.1,5.55,4.05,3.63,5.35]
[52,202312,null,null,6.1,5.55]

{"sheet":"GrosBovins2022","index":9,"n_rows":127,"n_cols":24,"rows_kept":127,"cut":false,"hidden":false,"merged":[[14,23,15,23],[72,2,72,3],[72,4,72,7],[13,18,13,20],[13,21,13,23],[14,2,14,3],[14,6,14,7],[14,11,14,12],[14,18,15,18],[14,19,15,19],[14,20,15,20],[14,21,15,21],[14,22,15,22],[11,2,12,12],[11,15,11,16],[12,15,12,16],[13,2,13,4],[13,6,13,10],[13,11,13,12],[13,16,15,16]]}
["COTATIONS DES GROS BOVINS"]
["Source : DRAAF Pays de la Loire - SRISE - FranceAgriMer"]
[]
[]
["1 – COTATION REGIONALE GRAND OUEST ENTREE ABATTOIR en €/Kg net"]
[]
["2 – MOYENNE NATIONALE DES BOVINS MAIGRES DESTINES A L'ENGRAISSEMENT CHAROLAIS MALE de 6-12 mois catégorie U (350kg) en €/kg vif"]
[]
["3 – COTATION DES GROS BOVINS VIFS SUR LE MARCHE DE CHOLET (en Euro/Kg Net) – à partir de la ligne 72"]
[]
[null,null,"Mis à jour : 29/01/2023",null,null,null,null,null,null,null,null,null,null,null,null,"Mis à jour : 29/01/2023"]
[null,null,"1 – COTATION REGIONALE ENTREE ABATTOIR GRAND OUEST FRANCEAGRIMER-HEBDOMADAIRE (€/Kg net)",null,null,null,null,null,null,null,null,null,null,null,null,"2 – COT. HEBDO"]
[null,null,null,null,null,null,null,null,null,null,null,null,null,null,null,"MAIGRE   €/kg vif"]
["Année","Sem.","JEUNES BOVINS",null,null,"BOEUFS","VACHES",null,null,null,null,"GENISSES",null,null,"NANTES","Ref. nationale","Sem.",null,"Vache Viande R",null,null,"Vache lait P"]
[null,null,"VIANDE",null,"MIXTE","MIXTE","VIANDE",null,"Blonde","MIXTE","LAIT","VIANDES + 350kg",null,null,null,"Charolais Mâles",null,null,"Evolution/semaine -1",{"$f":"\"Evolution/ semaine id \" & A17-1","v":"Evolution/ semaine id 2021"},"Evolution/semaine id moy. 5 ans","Evolution/semaine -1",{"$f":"\"Evolution/ semaine id \" & A17-1","v":"Evolution/ semaine id 2021"},"Evolution/semaine id moy. 5 ans"]
[null,null,"U","R","O","O","U","R","U","O","P","U","R",null,null,"6/12 mois  ( U ) 350"]
[2022,1,4.5999999999999996,4.4400000000000004,3.79,3.8,4.88,4.38,5.5,3.76,3.48,5.0999999999999996,4.32,null,null,2.72,1,null,{"$f":"(H17-GrosBovins2021!H68)/GrosBovins2021!H68","v":0},{"$f":"(H17-GrosBovins2021!H17)/GrosBovins2021!H17","v":8.6848635235731914E-2},{"$f":"(H17-MoyQuinqHebdoGB!AL5)/MoyQuinqHebdoGB!AL5","v":2.7204502814258829E-2},{"$f":"(K17-GrosBovins2021!K68)/GrosBovins2021!K68","v":1.4577259475218606E-2},{"$f":"(K17-GrosBovins2021!K17)/GrosBovins2021!K17","v":0.26086956521739141},{"$f":"(K17-MoyQuinqHebdoGB!BD5)/MoyQuinqHebdoGB!BD5","v":8.682073703935056E-2}]
[null,2,4.62,4.46,3.82,3.81,4.87,4.41,5.52,3.79,3.52,5.08,4.38,null,2.82,2.78,2,null,{"$f":"(H18-H17)/H17","v":6.8493150684932076E-3},{"$f":"(H18-GrosBovins2021!H18)/GrosBovins2021!H18","v":9.9750623441396596E-2},{"$f":"(H18-MoyQuinqHebdoGB!AL6)/MoyQuinqHebdoGB!AL6","v":3.1820308844174319E-2},{"$f":"(K18-K17)/K17","v":1.1494252873563229E-2},{"$f":"(K18-GrosBovins2021!K18)/GrosBovins2021!K18","v":0.27075812274368233},{"$f":"(K18-MoyQuinqHebdoGB!BD6)/MoyQuinqHebdoGB!BD6","v":9.1811414392059795E-2}]
[null,3,4.6500000000000004,4.5,3.82,3.85,4.97,4.4400000000000004,5.54,3.82,3.59,5.25,4.4000000000000004,null,2.82,2.79,3,null,6.8027210884354303E-3,{"$f":"(H19-GrosBovins2021!H19)/GrosBovins2021!H19","v":0.10447761194029873},{"$f":"(H19-MoyQuinqHebdoGB!AL7)/MoyQuinqHebdoGB!AL7","v":3.835360149672605E-2},{"$f":"(K19-K18)/K18","v":1.9886363636363591E-2},{"$f":"(K19-GrosBovins2021!K19)/GrosBovins2021!K19","v":0.29602888086642593},{"$f":"(K19-MoyQuinqHebdoGB!BD7)/MoyQuinqHebdoGB!BD7","v":0.10802469135802473}]
["J",4,4.6900000000000004,4.51,3.87,3.89,4.92,4.46,5.6,3.86,3.65,5.21,4.4400000000000004,null,2.85,2.84,4,null,4.5045045045044082E-3,{"$f":"(H20-GrosBovins2021!H20)/GrosBovins2021!H20","v":0.10669975186104211},{"$f":"(H20-MoyQuinqHebdoGB!AL8)/MoyQuinqHebdoGB!AL8","v":4.2543244506778745E-2},1.6713091922005586E-2,{"$f":"(K20-GrosBovins2021!K20)/GrosBovins2021!K20","v":0.31294964028776984},{"$f":"(K20-MoyQuinqHebdoGB!BD8)/MoyQuinqHebdoGB!BD8","v":0.12307692307692306}]
[null,5,4.7300000000000004,4.57,3.94,3.93,4.9800000000000004,4.5199999999999996,5.54,3.91,3.75,5.24,4.45,null,2.85,2.84,5,null,1.345291479820619E-2,{"$f":"(H21-GrosBovins2021!H21)/GrosBovins2021!H21","v":0.11604938271604932},{"$f":"(H21-MoyQuinqHebdoGB!AL9)/MoyQuinqHebdoGB!AL9","v":5.2141527001862253E-2},2.7397260273972629E-2,{"$f":"(K21-GrosBovins2021!K21)/GrosBovins2021!K21","v":0.34892086330935262},{"$f":"(K21-MoyQuinqHebdoGB!BD9)/MoyQuinqHebdoGB!BD9","v":0.14749082007343947}]
[null,6,4.8,4.63,4.01,4.05,5.0199999999999996,4.59,5.62,4.01,3.84,5.3,4.51,null,2.85,2.9,6,null,1.5486725663716878E-2,{"$f":"(H22-GrosBovins2021!H22)/GrosBovins2021!H22","v":0.13895781637717111},{"$f":"(H22-MoyQuinqHebdoGB!AL10)/MoyQuinqHebdoGB!AL10","v":6.4471243042671517E-2},2.3999999999999962E-2,{"$f":"(K22-GrosBovins2021!K22)/GrosBovins2021!K22","v":0.37634408602150532},{"$f":"(K22-MoyQuinqHebdoGB!BD10)/MoyQuinqHebdoGB!BD10","v":0.1678832116788323}]
[null,7,4.8600000000000003,4.71,4.12,4.1399999999999997,5.05,4.6500000000000004,5.63,4.12,3.96,5.24,4.6100000000000003,null,2.88,2.96,7,null,1.3071895424836709E-2,{"$f":"(H23-GrosBovins2021!H23)/GrosBovins2021!H23","v":0.14814814814814828},{"$f":"(H23-MoyQuinqHebdoGB!AL11)/MoyQuinqHebdoGB!AL11","v":7.5890791300323987E-2},3.1250000000000028E-2,{"$f":"(K23-GrosBovins2021!K23)/GrosBovins2021!K23","v":0.40925266903914587},{"$f":"(K23-MoyQuinqHebdoGB!BD11)/MoyQuinqHebdoGB!BD11","v":0.18847539015606263}]
["F",8,4.9400000000000004,4.76,4.2699999999999996,4.28,5.14,4.76,5.65,4.25,4.1399999999999997,5.34,4.71,null,2.93,3.04,8,null,2.3655913978494501E-2,{"$f":"(H24-GrosBovins2021!H24)/GrosBovins2021!H24","v":0.16953316953316941},{"$f":"(H24-MoyQuinqHebdoGB!AL12)/MoyQuinqHebdoGB!AL12","v":9.2244148692060393E-2},4.5454545454545386E-2,{"$f":"(K24-GrosBovins2021!K24)/GrosBovins2021!K24","v":0.46289752650176663},{"$f":"(K24-MoyQuinqHebdoGB!BD12)/MoyQuinqHebdoGB!BD12","v":0.22123893805309736}]
[null,9,4.9800000000000004,4.82,4.34,4.33,5.0999999999999996,4.8,5.65,4.33,4.21,5.41,4.74,null,2.98,3.13,9,null,8.4033613445378234E-3,{"$f":"(H25-GrosBovins2021!H25)/GrosBovins2021!H25","v":0.17359413202933985},{"$f":"(H25-MoyQuinqHebdoGB!AL13)/MoyQuinqHebdoGB!AL13","v":9.5390232770424507E-2},1.6908212560386545E-2,{"$f":"(K25-GrosBovins2021!K25)/GrosBovins2021!K25","v":0.47202797202797209},{"$f":"(K25-MoyQuinqHebdoGB!BD13)/MoyQuinqHebdoGB!BD13","v":0.2266899766899767}]
[null,10,5.0199999999999996,4.8499999999999996,4.42,4.4000000000000004,5.19,4.8499999999999996,5.68,4.3899999999999997,4.25,5.36,4.78,null,3.05,3.2,10,null,1.041666666666663E-2,{"$f":"(H26-GrosBovins2021!H26)/GrosBovins2021!H26","v":0.18292682926829271},{"$f":"(H26-MoyQuinqHebdoGB!AL14)/MoyQuinqHebdoGB!AL14","v":0.10177192185370275},9.5011876484560661E-3,{"$f":"(K26-GrosBovins2021!K26)/GrosBovins2021!K26","v":0.46551724137931039},{"$f":"(K26-MoyQuinqHebdoGB!BD14)/MoyQuinqHebdoGB!BD14","v":0.22478386167146966}]
[null,11,5.0599999999999996,4.88,4.47,4.5,5.28,4.91,5.71,4.45,4.29,5.46,4.8499999999999996,null,3.15,3.24,11,null,1.237113402061866E-2,{"$f":"(H27-GrosBovins2021!H27)/GrosBovins2021!H27","v":0.20048899755501229},{"$f":"(H27-MoyQuinqHebdoGB!AL15)/MoyQuinqHebdoGB!AL15","v":0.10935381834613646},9.4117647058823608E-3,{"$f":"(K27-GrosBovins2021!K27)/GrosBovins2021!K27","v":0.45918367346938782},{"$f":"(K27-MoyQuinqHebdoGB!BD15)/MoyQuinqHebdoGB!BD15","v":0.22641509433962256}]
[null,12,5.09,4.91,4.51,4.5599999999999996,5.27,4.9400000000000004,5.7,4.5,4.34,5.47,4.88,null,3.2,3.25,12,null,6.1099796334012722E-3,{"$f":"(H28-GrosBovins2021!H28)/GrosBovins2021!H28","v":0.19902912621359228},{"$f":"(H28-MoyQuinqHebdoGB!AL16)/MoyQuinqHebdoGB!AL16","v":0.11211166141377762},1.1655011655011614E-2,{"$f":"(K28-GrosBovins2021!K28)/GrosBovins2021!K28","v":0.47118644067796595},{"$f":"(K28-MoyQuinqHebdoGB!BD16)/MoyQuinqHebdoGB!BD16","v":0.23365548607163164}]
["M",13,5.1100000000000003,4.9400000000000004,4.5599999999999996,4.6100000000000003,5.3,4.99,5.81,4.55,4.3899999999999997,5.58,4.93,null,3.25,3.28,13,null,1.0121457489878506E-2,{"$f":"(H29-GrosBovins2021!H29)/GrosBovins2021!H29","v":0.21707317073170748},{"$f":"(H29-MoyQuinqHebdoGB!AL17)/MoyQuinqHebdoGB!AL17","v":0.12488728584310195},1.1520737327188899E-2,{"$f":"(K29-GrosBovins2021!K29)/GrosBovins2021!K29","v":0.483108108108108},{"$f":"(K29-MoyQuinqHebdoGB!BD17)/MoyQuinqHebdoGB!BD17","v":0.24362606232294615}]
[null,14,5.13,4.9800000000000004,4.6100000000000003,4.6399999999999997,5.59,5.01,5.86,4.5999999999999996,4.4400000000000004,5.67,4.99,null,3.3,3.31,14,null,4.0080160320640429E-3,{"$f":"(H30-GrosBovins2021!H30)/GrosBovins2021!H30","v":0.22493887530562345},{"$f":"(H30-MoyQuinqHebdoGB!AL18)/MoyQuinqHebdoGB!AL18","v":0.12888688598467782},1.1389521640091278E-2,{"$f":"(K30-GrosBovins2021!K30)/GrosBovins2021!K30","v":0.49494949494949497},{"$f":"(K30-MoyQuinqHebdoGB!BD18)/MoyQuinqHebdoGB!BD18","v":0.2570781426953565}]
[null,15,5.17,4.99,4.67,4.6900000000000004,5.38,5.0599999999999996,5.77,4.6399999999999997,4.49,5.59,5.03,null,3.35,3.33,15,null,{"$f":"(H31-H30)/H30","v":9.980039920159646E-3},{"$f":"(H31-GrosBovins2021!H31)/GrosBovins2021!H31","v":0.23414634146341465},{"$f":"(H31-MoyQuinqHebdoGB!AL19)/MoyQuinqHebdoGB!AL19","v":0.14324446452779019},1.1261261261261221E-2,{"$f":"(K31-GrosBovins2021!K31)/GrosBovins2021!K31","v":0.51178451178451179},{"$f":"(K31-MoyQuinqHebdoGB!BD19)/MoyQuinqHebdoGB!BD19","v":0.27339761769710702}]
[null,16,5.21,5.0199999999999996,4.74,4.74,5.4,5.0999999999999996,5.79,4.7,4.55,5.57,5.09,null,3.35,3.35,16,null,{"$f":"(H32-H31)/H31","v":7.9051383399209568E-3},{"$f":"(H32-GrosBovins2021!H32)/GrosBovins2021!H32","v":0.24694376528117354},{"$f":"(H32-MoyQuinqHebdoGB!AL20)/MoyQuinqHebdoGB!AL20","v":0.14916629112212684},1.336302895322931E-2,{"$f":"(K32-GrosBovins2021!K32)/GrosBovins2021!K32","v":0.52684563758389258},{"$f":"(K32-MoyQuinqHebdoGB!BD20)/MoyQuinqHebdoGB!BD20","v":0.28603730921424553}]
["A",17,5.24,5.07,4.78,4.79,5.44,5.14,5.8,4.7699999999999996,4.6399999999999997,5.58,5.12,null,3.4,3.37,17,null,7.8431372549019676E-3,{"$f":"(H33-GrosBovins2021!H33)/GrosBovins2021!H33","v":0.25365853658536586},{"$f":"(H33-MoyQuinqHebdoGB!AL21)/MoyQuinqHebdoGB!AL21","v":0.15557553956834516},1.9780219780219748E-2,{"$f":"(K33-GrosBovins2021!K33)/GrosBovins2021!K33","v":0.55704697986577167},{"$f":"(K33-MoyQuinqHebdoGB!BD21)/MoyQuinqHebdoGB!BD21","v":0.30337078651685401}]
[null,18,5.28,5.12,4.8899999999999997,4.9000000000000004,5.46,5.18,5.83,4.88,4.74,5.65,5.17,null,3.4,3.4,18,null,7.7821011673151821E-3,{"$f":"(H34-GrosBovins2021!H34)/GrosBovins2021!H34","v":0.26341463414634153},{"$f":"(H34-MoyQuinqHebdoGB!AL22)/MoyQuinqHebdoGB!AL22","v":0.16091438816674136},2.155172413793115E-2,{"$f":"(K34-GrosBovins2021!K34)/GrosBovins2021!K34","v":0.58528428093645479},{"$f":"(K34-MoyQuinqHebdoGB!BD22)/MoyQuinqHebdoGB!BD22","v":0.32107023411371238}]
[null,19,5.3,5.15,4.97,4.9800000000000004,5.45,5.21,5.88,4.9400000000000004,4.79,5.68,5.22,null,3.4,3.44,19,null,5.7915057915058398E-3,{"$f":"(H35-GrosBovins2021!H35)/GrosBovins2021!H35","v":0.27696078431372545},{"$f":"(H35-MoyQuinqHebdoGB!AL23)/MoyQuinqHebdoGB!AL23","v":0.16606982990152194},1.0548523206751016E-2,{"$f":"(K35-GrosBovins2021!K35)/GrosBovins2021!K35","v":0.60200668896321063},{"$f":"(K35-MoyQuinqHebdoGB!BD23)/MoyQuinqHebdoGB!BD23","v":0.32981676846196578}]
[null,20,5.31,5.18,4.9800000000000004,5.01,5.53,5.24,5.88,4.9800000000000004,4.83,5.76,5.23,null,3.4,3.44,20,null,5.7581573896353646E-3,{"$f":"(H36-GrosBovins2021!H36)/GrosBovins2021!H36","v":0.28117359413202941},{"$f":"(H36-MoyQuinqHebdoGB!AL24)/MoyQuinqHebdoGB!AL24","v":0.16703786191536749},8.3507306889352897E-3,{"$f":"(K36-GrosBovins2021!K36)/GrosBovins2021!K36","v":0.60465116279069786},{"$f":"(K36-MoyQuinqHebdoGB!BD24)/MoyQuinqHebdoGB!BD24","v":0.33057851239669428}]
["M",21,5.32,5.17,5,5.03,5.56,5.27,5.9,5,4.84,5.74,5.22,null,3.4,3.4,21,null,5.7251908396945342E-3,{"$f":"(H37-GrosBovins2021!H37)/GrosBovins2021!H37","v":0.28850855745721266},{"$f":"(H37-MoyQuinqHebdoGB!AL25)/MoyQuinqHebdoGB!AL25","v":0.17163183637172083},2.0703933747411567E-3,{"$f":"(K37-GrosBovins2021!K37)/GrosBovins2021!K37","v":0.59735973597359737},{"$f":"(K37-MoyQuinqHebdoGB!BD25)/MoyQuinqHebdoGB!BD25","v":0.32602739726027397}]
[null,22,5.33,5.18,5.0199999999999996,5.04,5.65,5.27,5.9,5.0199999999999996,4.8600000000000003,5.8,5.28,null,3.45,3.45,22,null,0,{"$f":"(H38-GrosBovins2021!H38)/GrosBovins2021!H38","v":0.28536585365853662},{"$f":"(H38-MoyQuinqHebdoGB!AL26)/MoyQuinqHebdoGB!AL26","v":0.16696191319751982},4.1322314049587732E-3,{"$f":"(K38-GrosBovins2021!K38)/GrosBovins2021!K38","v":0.58823529411764719},{"$f":"(K38-MoyQuinqHebdoGB!BD26)/MoyQuinqHebdoGB!BD26","v":0.32280892759934704}]
[null,23,5.33,5.2,5.0199999999999996,5.08,5.57,5.29,5.96,5.04,4.87,5.7,5.29,null,3.45,3.47,23,null,3.7950664136623272E-3,{"$f":"(H39-GrosBovins2021!H39)/GrosBovins2021!H39","v":0.28710462287104616},{"$f":"(H39-MoyQuinqHebdoGB!AL27)/MoyQuinqHebdoGB!AL27","v":0.16519823788546231},2.0576131687242358E-3,{"$f":"(K39-GrosBovins2021!K39)/GrosBovins2021!K39","v":0.58116883116883111},{"$f":"(K39-MoyQuinqHebdoGB!BD27)/MoyQuinqHebdoGB!BD27","v":0.31978319783197823}]
[null,24,5.33,5.2,5.03,5.0999999999999996,5.56,5.29,5.95,5.05,4.87,5.74,5.31,null,3.45,3.48,24,null,0,{"$f":"(H40-GrosBovins2021!H40)/GrosBovins2021!H40","v":0.2777777777777779},{"$f":"(H40-MoyQuinqHebdoGB!AL28)/MoyQuinqHebdoGB!AL28","v":0.16110623353819162},0,{"$f":"(K40-GrosBovins2021!K40)/GrosBovins2021!K40","v":0.56591639871382649},{"$f":"(K40-MoyQuinqHebdoGB!BD28)/MoyQuinqHebdoGB!BD28","v":0.31764069264069261}]
[null,25,5.33,5.19,5.03,5.12,5.52,5.29,5.95,5.05,4.87,5.75,5.3,null,3.45,3.48,25,null,0,{"$f":"(H41-GrosBovins2021!H41)/GrosBovins2021!H41","v":0.29024390243902454},{"$f":"(H41-MoyQuinqHebdoGB!AL29)/MoyQuinqHebdoGB!AL29","v":0.16366036075670914},0,{"$f":"(K41-GrosBovins2021!K41)/GrosBovins2021!K41","v":0.5608974358974359},{"$f":"(K41-MoyQuinqHebdoGB!BD29)/MoyQuinqHebdoGB!BD29","v":0.31906825568797398}]
["J",26,5.33,5.2,5.01,5.1100000000000003,5.49,5.3,5.98,5.05,4.88,5.68,5.29,null,3.43,3.48,26,null,1.8903591682419257E-3,{"$f":"(H42-GrosBovins2021!H42)/GrosBovins2021!H42","v":0.28640776699029119},{"$f":"(H42-MoyQuinqHebdoGB!AL30)/MoyQuinqHebdoGB!AL30","v":0.16177115300306871},2.0533880903490323E-3,{"$f":"(K42-GrosBovins2021!K42)/GrosBovins2021!K42","v":0.55414012738853491},{"$f":"(K42-MoyQuinqHebdoGB!BD30)/MoyQuinqHebdoGB!BD30","v":0.32321041214750534}]
[null,27,5.33,5.19,5.05,5.13,5.61,5.29,5.94,5.05,4.87,5.8,5.31,null,3.43,3.46,27,null,-1.8867924528301486E-3,{"$f":"(H43-GrosBovins2021!H43)/GrosBovins2021!H43","v":0.2777777777777779},{"$f":"(H43-MoyQuinqHebdoGB!AL31)/MoyQuinqHebdoGB!AL31","v":0.1611062335381914},-2.0491803278688088E-3,{"$f":"(K43-GrosBovins2021!K43)/GrosBovins2021!K43","v":0.54603174603174609},{"$f":"(K43-MoyQuinqHebdoGB!BD31)/MoyQuinqHebdoGB!BD31","v":0.32336956521739113}]
[null,28,5.31,5.17,5.0599999999999996,5.13,5.57,5.28,5.95,5.0599999999999996,4.87,5.75,5.3,null,3.43,3.46,28,null,-1.8903591682419257E-3,{"$f":"(H44-GrosBovins2021!H44)/GrosBovins2021!H44","v":0.27536231884057988},{"$f":"(H44-MoyQuinqHebdoGB!AL32)/MoyQuinqHebdoGB!AL32","v":0.16043956043956054},0,{"$f":"(K44-GrosBovins2021!K44)/GrosBovins2021!K44","v":0.54113924050632911},{"$f":"(K44-MoyQuinqHebdoGB!BD32)/MoyQuinqHebdoGB!BD32","v":0.32697547683923694}]
[null,29,5.31,5.16,5.04,5.14,5.6,5.3,5.97,5.08,4.9000000000000004,5.78,5.3,null,3.43,3.46,29,null,3.7878787878787069E-3,{"$f":"(H45-GrosBovins2021!H45)/GrosBovins2021!H45","v":0.28329297820823246},{"$f":"(H45-MoyQuinqHebdoGB!AL33)/MoyQuinqHebdoGB!AL33","v":0.16330114135206317},6.1601642710472785E-3,{"$f":"(K45-GrosBovins2021!K45)/GrosBovins2021!K45","v":0.54088050314465408},{"$f":"(K45-MoyQuinqHebdoGB!BD33)/MoyQuinqHebdoGB!BD33","v":0.33514986376021794}]
["J",30,5.3,5.16,5.04,5.13,5.56,5.28,5.86,5.08,4.87,5.69,5.29,null,3.43,3.41,30,null,-3.7735849056602972E-3,{"$f":"(H46-GrosBovins2021!H46)/GrosBovins2021!H46","v":0.27845036319612598},{"$f":"(H46-MoyQuinqHebdoGB!AL34)/MoyQuinqHebdoGB!AL34","v":0.16402116402116418},-6.1224489795918867E-3,{"$f":"(K46-GrosBovins2021!K46)/GrosBovins2021!K46","v":0.52187499999999998},{"$f":"(K46-MoyQuinqHebdoGB!BD34)/MoyQuinqHebdoGB!BD34","v":0.33132859486057958}]
[null,31,5.29,5.16,5.04,5.14,5.5,5.19,5.9,5.07,4.8600000000000003,5.65,5.21,null,3.4,3.39,31,null,-1.7045454545454516E-2,{"$f":"(H47-GrosBovins2021!H47)/GrosBovins2021!H47","v":0.24759615384615391},{"$f":"(H47-MoyQuinqHebdoGB!AL35)/MoyQuinqHebdoGB!AL35","v":0.14569536423841062},-2.0533880903490323E-3,{"$f":"(K47-GrosBovins2021!K47)/GrosBovins2021!K47","v":0.50931677018633537},{"$f":"(K47-MoyQuinqHebdoGB!BD35)/MoyQuinqHebdoGB!BD35","v":0.33223684210526305}]
[null,32,5.28,5.15,5.03,5.14,5.53,5.28,5.92,5.08,4.8600000000000003,5.79,5.29,null,3.35,3.38,32,null,1.7341040462427716E-2,{"$f":"(H48-GrosBovins2021!H48)/GrosBovins2021!H48","v":0.27228915662650599},{"$f":"(H48-MoyQuinqHebdoGB!AL36)/MoyQuinqHebdoGB!AL36","v":0.16197183098591564},0,{"$f":"(K48-GrosBovins2021!K48)/GrosBovins2021!K48","v":0.49538461538461548},{"$f":"(K48-MoyQuinqHebdoGB!BD36)/MoyQuinqHebdoGB!BD36","v":0.33223684210526305}]
[null,33,5.29,5.14,5.0199999999999996,5.14,5.61,5.29,5.95,5.08,4.87,5.75,5.31,null,3.35,3.35,33,null,1.8939393939393534E-3,{"$f":"(H49-GrosBovins2021!H49)/GrosBovins2021!H49","v":0.27163461538461536},{"$f":"(H49-MoyQuinqHebdoGB!AL37)/MoyQuinqHebdoGB!AL37","v":0.1626373626373627},2.0576131687242358E-3,{"$f":"(K49-GrosBovins2021!K49)/GrosBovins2021!K49","v":0.49386503067484677},{"$f":"(K49-MoyQuinqHebdoGB!BD37)/MoyQuinqHebdoGB!BD37","v":0.32914847161572047}]
["A",34,5.3,5.15,5.04,5.13,5.58,5.29,5.95,5.08,4.8600000000000003,5.75,5.3,null,3.35,3.36,34,null,0,{"$f":"(H50-GrosBovins2021!H50)/GrosBovins2021!H50","v":0.26252983293556076},{"$f":"(H50-MoyQuinqHebdoGB!AL38)/MoyQuinqHebdoGB!AL38","v":0.15805604203152374},-2.0533880903490323E-3,{"$f":"(K50-GrosBovins2021!K50)/GrosBovins2021!K50","v":0.47720364741641347},{"$f":"(K50-MoyQuinqHebdoGB!BD38)/MoyQuinqHebdoGB!BD38","v":0.31921824104234531}]
[null,35,5.29,5.16,5.04,5.14,5.59,5.31,5.97,5.08,4.8600000000000003,5.76,5.31,null,3.38,3.36,35,null,3.7807183364838514E-3,{"$f":"(H51-GrosBovins2021!H51)/GrosBovins2021!H51","v":0.26128266033254149},{"$f":"(H51-MoyQuinqHebdoGB!AL39)/MoyQuinqHebdoGB!AL39","v":0.15535248041775468},0,{"$f":"(K51-GrosBovins2021!K51)/GrosBovins2021!K51","v":0.47272727272727288},{"$f":"(K51-MoyQuinqHebdoGB!BD39)/MoyQuinqHebdoGB!BD39","v":0.31280388978930335}]
[null,36,5.29,5.17,5.0599999999999996,5.13,5.6,5.32,5.97,5.0999999999999996,4.8600000000000003,5.73,5.32,null,3.4,3.4,36,null,1.8832391713748918E-3,{"$f":"(H52-GrosBovins2021!H52)/GrosBovins2021!H52","v":0.26365795724465568},{"$f":"(H52-MoyQuinqHebdoGB!AL40)/MoyQuinqHebdoGB!AL40","v":0.15652173913043493},0,{"$f":"(K52-GrosBovins2021!K52)/GrosBovins2021!K52","v":0.46827794561933545},{"$f":"(K52-MoyQuinqHebdoGB!BD40)/MoyQuinqHebdoGB!BD40","v":0.30785791173304644}]
[null,37,5.3,5.18,5.05,5.16,5.61,5.34,6.01,5.1100000000000003,4.87,5.76,5.34,null,3.4,3.4,37,null,3.7593984962405211E-3,{"$f":"(H53-GrosBovins2021!H53)/GrosBovins2021!H53","v":0.26241134751773032},{"$f":"(H53-MoyQuinqHebdoGB!AL41)/MoyQuinqHebdoGB!AL41","v":0.16187989556135765},2.0576131687242358E-3,{"$f":"(K53-GrosBovins2021!K53)/GrosBovins2021!K53","v":0.47129909365558914},{"$f":"(K53-MoyQuinqHebdoGB!BD41)/MoyQuinqHebdoGB!BD41","v":0.3098440021516945}]
[null,38,5.3,5.17,5.0599999999999996,5.15,5.69,5.35,6.01,5.1100000000000003,4.9000000000000004,5.75,5.34,null,3.45,3.42,38,null,1.8726591760299227E-3,{"$f":"(H54-GrosBovins2021!H54)/GrosBovins2021!H54","v":0.27078384798099753},{"$f":"(H54-MoyQuinqHebdoGB!AL42)/MoyQuinqHebdoGB!AL42","v":0.16456247279059627},6.1601642710472785E-3,{"$f":"(K54-GrosBovins2021!K54)/GrosBovins2021!K54","v":0.48036253776435056},{"$f":"(K54-MoyQuinqHebdoGB!BD42)/MoyQuinqHebdoGB!BD42","v":0.32075471698113217}]
["S",39,5.31,5.19,5.07,5.19,5.81,5.35,6.02,5.13,4.91,5.74,5.36,null,3.45,3.43,39,null,0,{"$f":"(H55-GrosBovins2021!H55)/GrosBovins2021!H55","v":0.27078384798099753},{"$f":"(H55-MoyQuinqHebdoGB!AL43)/MoyQuinqHebdoGB!AL43","v":0.16557734204793045},2.0408163265305686E-3,{"$f":"(K55-GrosBovins2021!K55)/GrosBovins2021!K55","v":0.48338368580060426},{"$f":"(K55-MoyQuinqHebdoGB!BD43)/MoyQuinqHebdoGB!BD43","v":0.32702702702702702}]
[null,40,5.32,5.2,5.07,5.19,null,5.39,6,5.13,4.91,5.76,5.37,null,3.45,3.44,40,null,7.4766355140186988E-3,{"$f":"(H56-GrosBovins2021!H56)/GrosBovins2021!H56","v":0.27423167848699742},{"$f":"(H56-MoyQuinqHebdoGB!AL44)/MoyQuinqHebdoGB!AL44","v":0.17173913043478262},0,{"$f":"(K56-GrosBovins2021!K56)/GrosBovins2021!K56","v":0.48787878787878802},{"$f":"(K56-MoyQuinqHebdoGB!BD44)/MoyQuinqHebdoGB!BD44","v":0.33423913043478276}]
[null,41,5.34,5.21,5.08,5.19,5.72,5.42,6.02,5.14,4.92,5.86,5.38,null,3.45,3.44,41,null,5.5658627087198983E-3,{"$f":"(H57-GrosBovins2021!H57)/GrosBovins2021!H57","v":0.28741092636579574},{"$f":"(H57-MoyQuinqHebdoGB!AL45)/MoyQuinqHebdoGB!AL45","v":0.17979973878972585},2.0366598778003638E-3,{"$f":"(K57-GrosBovins2021!K57)/GrosBovins2021!K57","v":0.48640483383685795},{"$f":"(K57-MoyQuinqHebdoGB!BD45)/MoyQuinqHebdoGB!BD45","v":0.34279475982532742}]
[null,42,5.35,5.23,5.0999999999999996,5.2,null,5.42,6.04,5.14,4.92,5.83,5.37,null,3.48,3.49,42,null,0,{"$f":"(H58-GrosBovins2021!H58)/GrosBovins2021!H58","v":0.28132387706855777},{"$f":"(H58-MoyQuinqHebdoGB!AL46)/MoyQuinqHebdoGB!AL46","v":0.1767260095527573},0,{"$f":"(K58-GrosBovins2021!K58)/GrosBovins2021!K58","v":0.47305389221556893},{"$f":"(K58-MoyQuinqHebdoGB!BD46)/MoyQuinqHebdoGB!BD46","v":0.34794520547945207}]
["O",43,5.36,5.25,5.09,5.19,5.66,5.41,6.06,5.13,4.8899999999999997,5.84,5.38,null,3.48,3.49,43,null,-1.8450184501844625E-3,{"$f":"(H59-GrosBovins2021!H59)/GrosBovins2021!H59","v":0.26995305164319261},{"$f":"(H59-MoyQuinqHebdoGB!AL47)/MoyQuinqHebdoGB!AL47","v":0.17608695652173925},-6.0975609756098066E-3,{"$f":"(K59-GrosBovins2021!K59)/GrosBovins2021!K59","v":0.45970149253731329},{"$f":"(K59-MoyQuinqHebdoGB!BD47)/MoyQuinqHebdoGB!BD47","v":0.34859349145063412}]
[null,44,5.38,5.25,null,5.16,null,5.43,6.04,5.09,4.8600000000000003,5.83,5.38,null,3.48,3.49,44,null,3.6968576709795883E-3,{"$f":"(H60-GrosBovins2021!H60)/GrosBovins2021!H60","v":0.27166276346604223},{"$f":"(H60-MoyQuinqHebdoGB!AL48)/MoyQuinqHebdoGB!AL48","v":0.17992177314211222},-6.1349693251532443E-3,{"$f":"(K60-GrosBovins2021!K60)/GrosBovins2021!K60","v":0.43786982248520723},{"$f":"(K60-MoyQuinqHebdoGB!BD48)/MoyQuinqHebdoGB!BD48","v":0.3507504168982768}]
[null,45,5.39,5.27,5.07,5.14,null,5.42,6.11,5.07,4.82,5.88,5.4,null,3.5,3.5,45,null,-1.8416206261509737E-3,{"$f":"(H61-GrosBovins2021!H61)/GrosBovins2021!H61","v":0.25754060324825995},{"$f":"(H61-MoyQuinqHebdoGB!AL49)/MoyQuinqHebdoGB!AL49","v":0.17979973878972563},-8.2304526748971252E-3,{"$f":"(K61-GrosBovins2021!K61)/GrosBovins2021!K61","v":0.41764705882352954},{"$f":"(K61-MoyQuinqHebdoGB!BD49)/MoyQuinqHebdoGB!BD49","v":0.35089686098654715}]
[null,46,5.42,5.3,5.07,5.09,null,5.4,6.06,5.05,4.76,5.84,5.39,null,3.5,3.5,46,null,-3.6900369003689251E-3,{"$f":"(H62-GrosBovins2021!H62)/GrosBovins2021!H62","v":0.25},{"$f":"(H62-MoyQuinqHebdoGB!AL50)/MoyQuinqHebdoGB!AL50","v":0.17493472584856379},-1.2448132780083091E-2,{"$f":"(K62-GrosBovins2021!K62)/GrosBovins2021!K62","v":0.3877551020408162},{"$f":"(K62-MoyQuinqHebdoGB!BD50)/MoyQuinqHebdoGB!BD50","v":0.34844192634560905}]
["N",47,5.46,5.32,5.0999999999999996,5.07,5.8,5.41,6.06,5,4.72,5.88,5.41,null,3.5,3.48,47,null,1.8518518518518122E-3,{"$f":"(H63-GrosBovins2021!H63)/GrosBovins2021!H63","v":0.25231481481481477},{"$f":"(H63-MoyQuinqHebdoGB!AL51)/MoyQuinqHebdoGB!AL51","v":0.18122270742358079},-8.4033613445378234E-3,{"$f":"(K63-GrosBovins2021!K63)/GrosBovins2021!K63","v":0.36811594202898534},{"$f":"(K63-MoyQuinqHebdoGB!BD51)/MoyQuinqHebdoGB!BD51","v":0.34934248141795315}]
[null,48,5.49,5.36,5.0999999999999996,5.07,null,5.42,6.02,4.99,4.67,5.82,5.4,null,3.47,3.47,48,null,1.8484288354897942E-3,{"$f":"(H64-GrosBovins2021!H64)/GrosBovins2021!H64","v":0.24597701149425297},{"$f":"(H64-MoyQuinqHebdoGB!AL52)/MoyQuinqHebdoGB!AL52","v":0.18288956787429073},-1.0593220338983014E-2,{"$f":"(K64-GrosBovins2021!K64)/GrosBovins2021!K64","v":0.35362318840579698},{"$f":"(K64-MoyQuinqHebdoGB!BD52)/MoyQuinqHebdoGB!BD52","v":0.34815242494226328}]
[null,49,5.51,5.37,5.1100000000000003,5.05,6.07,5.42,6.13,4.96,4.63,5.96,5.42,null,3.45,3.46,49,null,0,{"$f":"(H65-GrosBovins2021!H65)/GrosBovins2021!H65","v":0.24597701149425297},{"$f":"(H65-MoyQuinqHebdoGB!AL53)/MoyQuinqHebdoGB!AL53","v":0.18340611353711786},-8.5653104925053607E-3,{"$f":"(K65-GrosBovins2021!K65)/GrosBovins2021!K65","v":0.33815028901734101},{"$f":"(K65-MoyQuinqHebdoGB!BD53)/MoyQuinqHebdoGB!BD53","v":0.34436701509872242}]
[null,50,5.52,5.38,5.1100000000000003,5.01,5.92,5.41,6.15,4.92,4.5999999999999996,6.01,5.4,null,3.27,3.39,50,null,-1.8450184501844625E-3,{"$f":"(H66-GrosBovins2021!H66)/GrosBovins2021!H66","v":0.24367816091954037},{"$f":"(H66-MoyQuinqHebdoGB!AL54)/MoyQuinqHebdoGB!AL54","v":0.23586521987435768},-6.4794816414687362E-3,{"$f":"(K66-GrosBovins2021!K66)/GrosBovins2021!K66","v":0.3450292397660818},{"$f":"(K66-MoyQuinqHebdoGB!BD54)/MoyQuinqHebdoGB!BD54","v":0.38658628485305191}]
[null,51,5.52,5.39,5.0999999999999996,5.0199999999999996,null,5.42,6.18,4.91,4.57,5.92,5.43,null,3.27,3.39,51,null,1.8484288354897942E-3,{"$f":"(H67-GrosBovins2021!H67)/GrosBovins2021!H67","v":0.24311926605504577},{"$f":"(H67-MoyQuinqHebdoGB!AL55)/MoyQuinqHebdoGB!AL55","v":0.23673702224757548},-6.5217391304346443E-3,{"$f":"(K67-GrosBovins2021!K67)/GrosBovins2021!K67","v":0.34017595307917892},{"$f":"(K67-MoyQuinqHebdoGB!BD55)/MoyQuinqHebdoGB!BD55","v":0.38066465256797588}]
["D",52,5.53,5.4,5.07,4.99,null,5.42,6.08,4.91,4.59,5.86,5.43,null,3.27,3.39,52,null,0,{"$f":"(H68-GrosBovins2021!H68)/GrosBovins2021!H68","v":0.23744292237442924},{"$f":"(H68-MoyQuinqHebdoGB!AL56)/MoyQuinqHebdoGB!AL56","v":0.23462414578587681},4.3763676148795561E-3,{"$f":"(K68-GrosBovins2021!K68)/GrosBovins2021!K68","v":0.33819241982507281},{"$f":"(K68-MoyQuinqHebdoGB!BD56)/MoyQuinqHebdoGB!BD56","v":0.38045112781954876}]
[]
[]
["3 – COTATION DES GROS BOVINS VIFS SUR LE MARCHE DE CHOLET (en Euro/Kg Net)"]
[]
[null,null,"GENISSES",null,"VACHES",null,null,null,"JEUNES BOVINS","TAUREAUX"]
["semaines","année+mois","Viande, mixte, lait","Viande, mixte, lait","Blonde","Blonde","Mixte","Lait","Viande","Viande, mixte, lait"]
[2022,null,"U","R","U","R","O","P","U","URO"]
[1,202201,4.71,4.25,5.15,4.25,3.6,3.28,4.45,3.3]
[2,202201,4.74,4.25,5.15,4.25,3.65,3.33,4.5]
[3,202201,4.75,4.3,5.2,4.3,3.7,3.38,4.53,3.4]
[4,202201,4.8,4.3499999999999996,5.25,4.3499999999999996,3.75,3.43,4.58]
[5,202202,4.8499999999999996,4.4000000000000004,5.3,4.4000000000000004,3.8,3.5,4.63,3.5]
[6,202202,null,null,5.3,4.45,3.85,3.55,4.6500000000000004,3.55]
[7,202202,4.88,4.5,5.3,4.45,3.9,3.65,4.68,3.6]
[8,202202,4.92,4.55,5.3,4.5,4.05,3.85,4.71,3.8]
[9,202203,4.97,4.63,5.35,4.5999999999999996,4.2,4,4.75,3.85]
[10,202203,5.0599999999999996,4.7,5.4,4.7,4.3,4.05,4.8,4]
[11,202203,5.0999999999999996,4.75,5.4,4.75,4.3499999999999996,4.05,4.8499999999999996,4.0999999999999996]
[12,202203,5.14,4.8,5.4,4.75,4.4000000000000004,4.0999999999999996,4.88,4.2]
[13,202203,5.15,4.84,5.4,4.8,4.4000000000000004,4.1500000000000004,4.9000000000000004]
[14,202204,5.18,4.8499999999999996,5.4,4.8499999999999996,4.45,4.2,4.95,4.2]
[15,202204]
[16,202204]
[17,202204]
[18,202205]
[19,202205]
[20,202205]
[21,202205]
[22,202206]
[23,202206]
[24,202206]
[25,202206]
[26,202206]
[27,202207]
[28,202207]
[29,202207]
[30,202207]
[31,202208]
[32,202208]
[33,202208]
[34,202208]
[35,202209]
[36,202209]
[37,202209]
[38,202209]
[39,202209]
[40,202210]
[41,202210]
[42,202210]
[43,202210]
[44,202211]
[45,202211]
[46,202211]
[47,202211]
[48,202212]
[49,202212]
[50,202212]
[51,202212]
[52,202212]

{"sheet":"GrosBovins2021","index":10,"n_rows":127,"n_cols":24,"rows_kept":127,"cut":false,"hidden":false,"merged":[[72,2,72,3],[72,4,72,7],[13,2,13,4],[13,6,13,10],[13,11,13,12],[13,16,15,16],[13,18,13,20],[13,21,13,23],[14,2,14,3],[14,6,14,7],[14,11,14,12],[14,18,15,18],[14,19,15,19],[14,20,15,20],[14,21,15,21],[14,22,15,22],[14,23,15,23]]}
["COTATIONS DES GROS BOVINS"]
["Source : DRAAF Pays de la Loire - SRISE - FranceAgriMer",null,null,null,null,null,null,null,null,null,"mise à jour : 7/1/22"]
[]
[]
["1 – COTATION REGIONALE GRAND OUEST ENTREE ABATTOIR en €/Kg net"]
[]
["2 – MOYENNE NATIONALE DES BOVINS MAIGRES DESTINES A L'ENGRAISSEMENT CHAROLAIS MALE de 6-12 mois catégorie U (300kg) en €/kg vif"]
[]
["3 – COTATION DES GROS BOVINS VIFS SUR LE MARCHE DE CHOLET (en Euro/Kg Net) – à partir de la ligne 72"]
[]
[null,null,null,null,null,null,null,null,null,null,null,null,null,null,null,"2 – COT. HEBDO"]
[null,null,null,"1 – COTATION REGIONALE ENTREE ABATTOIR GRAND OUEST FRANCEAGRIMER-HEBDOMADAIRE (€/Kg net)",null,null,null,null,null,null,null,null,null,null,null,"MAIGRE   €/kg vif"]
[null,null,null,null,null,null,null,null,null,null,null,null,null,null,null,"Ref. nationale"]
["Année","Sem.","JEUNES BOVINS",null,null,"BOEUFS","VACHES",null,null,null,null,"GENISSES",null,null,null,"Charolais Mâles","Sem.",null,"Vache Viande R",null,null,"Vache lait P"]
[null,null,"VIANDE",null,"MIXTE","MIXTE","VIANDE",null,"Blonde","MIXTE","LAIT","VIANDES + 350kg",null,null,null,null,null,null,"Evolution/semaine -1","Evolution/ semaine id 2020","Evolution/semaine id moy. 5 ans","Evolution/semaine -1","Evolution/ semaine id 2019","Evolution/semaine id moy. 5 ans"]
[null,null,"U","R","O","O","U","R","U","O","P","U","R",null,null,"6/12 mois  ( U )"]
[2021,1,3.82,3.66,3.39,3.14,4.45,4.03,5.17,3.07,2.76,4.87,4.03,null,null,2.62,1,null,{"$f":"(H17-GrosBovins2020!H68)/GrosBovins2020!H68","v":-4.9382716049381666E-3},{"$f":"(H17-MoyQuinqHebdoGB!AH5)/MoyQuinqHebdoGB!AH5","v":8.3333333333333343E-2},{"$f":"(H17-MoyQuinqHebdoGB!AL5)/MoyQuinqHebdoGB!AL5","v":-5.4878048780487798E-2},{"$f":"(K17-GrosBovins2020!K69)/GrosBovins2020!K69","v":3.6363636363635587E-3},{"$f":"(K17-GrosBovins2020!K17)/GrosBovins2020!K17","v":8.6614173228346358E-2},{"$f":"(K17-MoyQuinqHebdoGB!BD5)/MoyQuinqHebdoGB!BD5","v":-0.13803872579637719}]
[null,2,3.82,3.66,3.37,3.15,4.5599999999999996,4.01,5.2,3.08,2.77,4.88,4.04,null,null,2.62,2,null,{"$f":"(H18-H17)/H17","v":-4.9627791563276579E-3},{"$f":"(H18-GrosBovins2020!H18)/GrosBovins2020!H18","v":6.9333333333333275E-2},{"$f":"(H18-MoyQuinqHebdoGB!AL6)/MoyQuinqHebdoGB!AL6","v":-6.1768834815161301E-2},{"$f":"(K18-K17)/K17","v":3.6231884057971852E-3},{"$f":"(K18-GrosBovins2020!K18)/GrosBovins2020!K18","v":7.7821011673151821E-2},{"$f":"(K18-MoyQuinqHebdoGB!BD6)/MoyQuinqHebdoGB!BD6","v":-0.14081885856079385}]
[null,3,3.83,3.65,3.45,3.15,4.4800000000000004,4.0199999999999996,5.16,3.1,2.77,4.8899999999999997,4.0199999999999996,null,null,2.62,3,null,2.4937655860348597E-3,{"$f":"(H19-GrosBovins2020!H19)/GrosBovins2020!H19","v":8.0645161290322412E-2},{"$f":"(H19-MoyQuinqHebdoGB!AL7)/MoyQuinqHebdoGB!AL7","v":-5.9869036482694163E-2},0,{"$f":"(K19-GrosBovins2020!K19)/GrosBovins2020!K19","v":8.2031249999999986E-2},{"$f":"(K19-MoyQuinqHebdoGB!BD7)/MoyQuinqHebdoGB!BD7","v":-0.14506172839506165}]
["J",4,3.84,3.67,3.41,3.17,4.59,4.03,5.17,3.09,2.78,4.7699999999999996,4.0199999999999996,null,null,2.59,4,null,2.4875621890548946E-3,{"$f":"(H20-GrosBovins2020!H20)/GrosBovins2020!H20","v":8.6253369272237271E-2},{"$f":"(H20-MoyQuinqHebdoGB!AL8)/MoyQuinqHebdoGB!AL8","v":-5.7971014492753666E-2},3.6101083032490204E-3,{"$f":"(K20-GrosBovins2020!K20)/GrosBovins2020!K20","v":9.0196078431372548E-2},{"$f":"(K20-MoyQuinqHebdoGB!BD8)/MoyQuinqHebdoGB!BD8","v":-0.14461538461538467}]
[null,5,3.85,3.67,3.43,3.17,4.5199999999999996,4.05,5.21,3.11,2.78,4.84,4,null,null,2.59,5,null,4.9627791563274376E-3,{"$f":"(H21-GrosBovins2020!H21)/GrosBovins2020!H21","v":8.8709677419354732E-2},{"$f":"(H21-MoyQuinqHebdoGB!AL9)/MoyQuinqHebdoGB!AL9","v":-5.726256983240214E-2},0,{"$f":"(K21-GrosBovins2020!K21)/GrosBovins2020!K21","v":9.4488188976377854E-2},{"$f":"(K21-MoyQuinqHebdoGB!BD9)/MoyQuinqHebdoGB!BD9","v":-0.14932680538555693}]
[null,6,3.86,3.69,3.41,3.19,4.58,4.03,5.21,3.11,2.79,4.92,3.99,null,null,2.59,6,null,-4.9382716049381666E-3,{"$f":"(H22-GrosBovins2020!H22)/GrosBovins2020!H22","v":8.0428954423592561E-2},{"$f":"(H22-MoyQuinqHebdoGB!AL10)/MoyQuinqHebdoGB!AL10","v":-6.5398886827458258E-2},3.5971223021583568E-3,{"$f":"(K22-GrosBovins2020!K22)/GrosBovins2020!K22","v":0.10276679841897243},{"$f":"(K22-MoyQuinqHebdoGB!BD10)/MoyQuinqHebdoGB!BD10","v":-0.15145985401459836}]
[null,7,3.88,3.71,3.43,3.18,4.5199999999999996,4.05,5.2,3.13,2.81,4.79,4,null,null,2.59,7,null,4.9627791563274376E-3,{"$f":"(H23-GrosBovins2020!H23)/GrosBovins2020!H23","v":9.4594594594594489E-2},{"$f":"(H23-MoyQuinqHebdoGB!AL11)/MoyQuinqHebdoGB!AL11","v":-6.2933826931975995E-2},7.1684587813620132E-3,{"$f":"(K23-GrosBovins2020!K23)/GrosBovins2020!K23","v":0.10196078431372559},{"$f":"(K23-MoyQuinqHebdoGB!BD11)/MoyQuinqHebdoGB!BD11","v":-0.15666266506602625}]
["F",8,3.9,3.73,3.45,3.2,4.53,4.07,5.27,3.15,2.83,4.8,3.99,null,null,2.59,8,null,4.938271604938386E-3,{"$f":"(H24-GrosBovins2020!H24)/GrosBovins2020!H24","v":9.4086021505376358E-2},{"$f":"(H24-MoyQuinqHebdoGB!AL12)/MoyQuinqHebdoGB!AL12","v":-6.6085360256998668E-2},7.1174377224199354E-3,{"$f":"(K24-GrosBovins2020!K24)/GrosBovins2020!K24","v":9.6899224806201542E-2},{"$f":"(K24-MoyQuinqHebdoGB!BD12)/MoyQuinqHebdoGB!BD12","v":-0.16519174041297924}]
[null,9,3.91,3.75,3.47,3.23,4.7,4.09,5.29,3.17,2.86,4.95,4.03,null,null,2.62,9,null,4.9140049140048089E-3,{"$f":"(H25-GrosBovins2020!H25)/GrosBovins2020!H25","v":9.0666666666666632E-2},{"$f":"(H25-MoyQuinqHebdoGB!AL13)/MoyQuinqHebdoGB!AL13","v":-6.6636239160200783E-2},1.060070671378085E-2,{"$f":"(K25-GrosBovins2020!K25)/GrosBovins2020!K25","v":9.1603053435114407E-2},{"$f":"(K25-MoyQuinqHebdoGB!BD13)/MoyQuinqHebdoGB!BD13","v":-0.16666666666666669}]
[null,10,3.96,3.78,3.46,3.24,4.7,4.0999999999999996,5.42,3.19,2.9,5.0599999999999996,4.0199999999999996,null,null,2.65,10,null,2.4449877750610726E-3,{"$f":"(H26-GrosBovins2020!H26)/GrosBovins2020!H26","v":8.7533156498673645E-2},{"$f":"(H26-MoyQuinqHebdoGB!AL14)/MoyQuinqHebdoGB!AL14","v":-6.8605179463880159E-2},1.3986013986014E-2,{"$f":"(K26-GrosBovins2020!K26)/GrosBovins2020!K26","v":9.0225563909774348E-2},{"$f":"(K26-MoyQuinqHebdoGB!BD14)/MoyQuinqHebdoGB!BD14","v":-0.1642651296829972}]
[null,11,3.99,3.81,3.48,3.25,4.7300000000000004,4.09,5.35,3.21,2.94,5.0199999999999996,4.01,null,null,2.65,11,null,-2.4390243902438508E-3,{"$f":"(H27-GrosBovins2020!H27)/GrosBovins2020!H27","v":8.2010582010582034E-2},{"$f":"(H27-MoyQuinqHebdoGB!AL15)/MoyQuinqHebdoGB!AL15","v":-7.5915047446904721E-2},1.3793103448275874E-2,{"$f":"(K27-GrosBovins2020!K27)/GrosBovins2020!K27","v":0.10526315789473677},{"$f":"(K27-MoyQuinqHebdoGB!BD15)/MoyQuinqHebdoGB!BD15","v":-0.15951972555746147}]
[null,12,4,3.83,3.46,3.28,4.97,4.12,5.4,3.23,2.95,5.15,4.07,null,null,2.68,12,null,7.3349633251834348E-3,{"$f":"(H28-GrosBovins2020!H28)/GrosBovins2020!H28","v":8.9947089947090025E-2},{"$f":"(H28-MoyQuinqHebdoGB!AL16)/MoyQuinqHebdoGB!AL16","v":-7.2489869428185513E-2},3.4013605442177659E-3,{"$f":"(K28-GrosBovins2020!K28)/GrosBovins2020!K28","v":0.10486891385767799},{"$f":"(K28-MoyQuinqHebdoGB!BD16)/MoyQuinqHebdoGB!BD16","v":-0.16145537237066504}]
["M",13,4.0199999999999996,3.85,3.48,3.31,4.62,4.0999999999999996,5.3,3.25,2.96,4.8899999999999997,4.0599999999999996,null,null,2.7,13,null,-4.8543689320389473E-3,{"$f":"(H29-GrosBovins2020!H29)/GrosBovins2020!H29","v":9.6256684491978453E-2},{"$f":"(H29-MoyQuinqHebdoGB!AL17)/MoyQuinqHebdoGB!AL17","v":-7.5743913435527568E-2},3.3898305084745037E-3,{"$f":"(K29-GrosBovins2020!K29)/GrosBovins2020!K29","v":0.10447761194029843},{"$f":"(K29-MoyQuinqHebdoGB!BD17)/MoyQuinqHebdoGB!BD17","v":-0.16147308781869685}]
[null,14,4.03,3.84,3.48,3.31,4.63,4.09,5.33,3.26,2.97,5.05,4.09,null,null,2.7,14,null,-2.4390243902438508E-3,{"$f":"(H30-GrosBovins2020!H30)/GrosBovins2020!H30","v":9.3582887700534662E-2},{"$f":"(H30-MoyQuinqHebdoGB!AL18)/MoyQuinqHebdoGB!AL18","v":-7.841369986480394E-2},3.3783783783784566E-3,{"$f":"(K30-GrosBovins2020!K30)/GrosBovins2020!K30","v":0.11654135338345865},{"$f":"(K30-MoyQuinqHebdoGB!BD18)/MoyQuinqHebdoGB!BD18","v":-0.15911664779161963}]
[null,15,4.0199999999999996,3.85,3.49,3.32,4.62,4.0999999999999996,5.39,3.26,2.97,5.07,4.04,null,null,2.72,15,null,2.4449877750610726E-3,{"$f":"(H31-GrosBovins2020!H31)/GrosBovins2020!H31","v":0.10215053763440844},{"$f":"(H31-MoyQuinqHebdoGB!AL19)/MoyQuinqHebdoGB!AL19","v":-7.3655671034794507E-2},0,{"$f":"(K31-GrosBovins2020!K31)/GrosBovins2020!K31","v":0.12500000000000003},{"$f":"(K31-MoyQuinqHebdoGB!BD19)/MoyQuinqHebdoGB!BD19","v":-0.15768576290414077}]
[null,16,4.0199999999999996,3.85,3.49,3.32,4.68,4.09,5.4,3.27,2.98,4.96,4.07,null,null,2.72,16,null,-2.4390243902438508E-3,{"$f":"(H32-GrosBovins2020!H32)/GrosBovins2020!H32","v":9.9462365591397747E-2},{"$f":"(H32-MoyQuinqHebdoGB!AL20)/MoyQuinqHebdoGB!AL20","v":-7.8413699864804121E-2},3.3670033670032949E-3,{"$f":"(K32-GrosBovins2020!K32)/GrosBovins2020!K32","v":0.12878787878787873},{"$f":"(K32-MoyQuinqHebdoGB!BD20)/MoyQuinqHebdoGB!BD20","v":-0.15771622385528533}]
["A",17,4.01,3.82,3.47,3.33,4.75,4.0999999999999996,5.36,3.28,2.98,5.04,4.07,null,null,2.75,17,null,2.4449877750610726E-3,{"$f":"(H33-GrosBovins2020!H33)/GrosBovins2020!H33","v":0.105121293800539},{"$f":"(H33-MoyQuinqHebdoGB!AL21)/MoyQuinqHebdoGB!AL21","v":-7.8237410071942612E-2},0,{"$f":"(K33-GrosBovins2020!K33)/GrosBovins2020!K33","v":0.1161048689138577},{"$f":"(K33-MoyQuinqHebdoGB!BD21)/MoyQuinqHebdoGB!BD21","v":-0.16292134831460667}]
[null,18,4.01,3.81,3.48,3.38,4.7,4.0999999999999996,5.44,3.29,2.99,4.9800000000000004,4.03,null,null,2.75,18,null,0,{"$f":"(H34-GrosBovins2020!H34)/GrosBovins2020!H34","v":9.333333333333324E-2},{"$f":"(H34-MoyQuinqHebdoGB!AL22)/MoyQuinqHebdoGB!AL22","v":-8.1129538323621728E-2},3.3557046979866547E-3,{"$f":"(K34-GrosBovins2020!K34)/GrosBovins2020!K34","v":0.1033210332103322},{"$f":"(K34-MoyQuinqHebdoGB!BD22)/MoyQuinqHebdoGB!BD22","v":-0.16666666666666663}]
[null,19,3.99,3.81,3.47,3.43,4.6900000000000004,4.08,5.48,3.3,2.99,5,4.04,null,null,2.75,19,null,-4.8780487804877017E-3,{"$f":"(H35-GrosBovins2020!H35)/GrosBovins2020!H35","v":8.5106382978723485E-2},{"$f":"(H35-MoyQuinqHebdoGB!AL23)/MoyQuinqHebdoGB!AL23","v":-8.6839749328558619E-2},0,{"$f":"(K35-GrosBovins2020!K35)/GrosBovins2020!K35","v":9.1240875912408759E-2},{"$f":"(K35-MoyQuinqHebdoGB!BD23)/MoyQuinqHebdoGB!BD23","v":-0.16990560799555784}]
[null,20,3.99,3.81,3.44,3.4,4.74,4.09,5.43,3.34,3.01,4.99,4.07,null,null,2.75,20,null,2.4509803921568107E-3,{"$f":"(H36-GrosBovins2020!H36)/GrosBovins2020!H36","v":7.6315789473684226E-2},{"$f":"(H36-MoyQuinqHebdoGB!AL24)/MoyQuinqHebdoGB!AL24","v":-8.908685968819606E-2},6.6889632107021979E-3,{"$f":"(K36-GrosBovins2020!K36)/GrosBovins2020!K36","v":7.885304659498199E-2},{"$f":"(K36-MoyQuinqHebdoGB!BD24)/MoyQuinqHebdoGB!BD24","v":-0.17079889807162538}]
["M",21,3.99,3.81,3.49,3.44,4.68,4.09,5.45,3.35,3.03,5.03,4.07,null,null,2.75,21,null,0,{"$f":"(H37-GrosBovins2020!H37)/GrosBovins2020!H37","v":7.0680628272251314E-2},{"$f":"(H37-MoyQuinqHebdoGB!AL25)/MoyQuinqHebdoGB!AL25","v":-9.0706980880391183E-2},6.6445182724252554E-3,{"$f":"(K37-GrosBovins2020!K37)/GrosBovins2020!K37","v":7.0671378091872697E-2},{"$f":"(K37-MoyQuinqHebdoGB!BD25)/MoyQuinqHebdoGB!BD25","v":-0.16986301369863016}]
[null,22,3.99,3.83,3.47,3.46,4.7,4.0999999999999996,5.42,3.38,3.06,5.04,4.09,null,null,2.75,22,null,2.4449877750610726E-3,{"$f":"(H38-GrosBovins2020!H38)/GrosBovins2020!H38","v":5.6701030927834989E-2},{"$f":"(H38-MoyQuinqHebdoGB!AL26)/MoyQuinqHebdoGB!AL26","v":-9.2116917626217973E-2},9.9009900990099844E-3,{"$f":"(K38-GrosBovins2020!K38)/GrosBovins2020!K38","v":6.9930069930069991E-2},{"$f":"(K38-MoyQuinqHebdoGB!BD26)/MoyQuinqHebdoGB!BD26","v":-0.1671203048448556}]
[null,23,3.99,3.81,3.49,3.47,4.72,4.1100000000000003,5.42,3.4,3.08,5.0999999999999996,4.05,null,null,2.73,23,null,2.4390243902440672E-3,{"$f":"(H39-GrosBovins2020!H39)/GrosBovins2020!H39","v":4.0506329113924086E-2},{"$f":"(H39-MoyQuinqHebdoGB!AL27)/MoyQuinqHebdoGB!AL27","v":-9.471365638766531E-2},6.5359477124183061E-3,{"$f":"(K39-GrosBovins2020!K39)/GrosBovins2020!K39","v":7.3170731707317055E-2},{"$f":"(K39-MoyQuinqHebdoGB!BD27)/MoyQuinqHebdoGB!BD27","v":-0.16531165311653123}]
[null,24,4,3.84,3.5,3.48,4.7300000000000004,4.1399999999999997,5.36,3.43,3.11,5.0199999999999996,4.1100000000000003,null,null,2.73,24,null,7.2992700729925444E-3,{"$f":"(H40-GrosBovins2020!H40)/GrosBovins2020!H40","v":3.2418952618453838E-2},{"$f":"(H40-MoyQuinqHebdoGB!AL28)/MoyQuinqHebdoGB!AL28","v":-9.13081650570675E-2},9.7402597402596758E-3,{"$f":"(K40-GrosBovins2020!K40)/GrosBovins2020!K40","v":7.9861111111111105E-2},{"$f":"(K40-MoyQuinqHebdoGB!BD28)/MoyQuinqHebdoGB!BD28","v":-0.15854978354978363}]
[null,25,4.01,3.84,3.47,3.52,4.78,4.0999999999999996,5.45,3.44,3.12,5.09,4.0599999999999996,null,null,2.73,25,null,-9.6618357487922805E-3,{"$f":"(H41-GrosBovins2020!H41)/GrosBovins2020!H41","v":1.736972704714625E-2},{"$f":"(H41-MoyQuinqHebdoGB!AL29)/MoyQuinqHebdoGB!AL29","v":-9.8108227012758606E-2},3.2154340836013607E-3,{"$f":"(K41-GrosBovins2020!K41)/GrosBovins2020!K41","v":8.3333333333333412E-2},{"$f":"(K41-MoyQuinqHebdoGB!BD29)/MoyQuinqHebdoGB!BD29","v":-0.15492957746478875}]
["J",26,4.01,3.82,3.53,3.53,4.68,4.12,5.45,3.46,3.14,5.0599999999999996,4.1100000000000003,null,null,2.73,26,null,4.8780487804879176E-3,{"$f":"(H42-GrosBovins2020!H42)/GrosBovins2020!H42","v":1.2285012285012241E-2},{"$f":"(H42-MoyQuinqHebdoGB!AL30)/MoyQuinqHebdoGB!AL30","v":-9.6887330118369169E-2},6.4102564102564161E-3,{"$f":"(K42-GrosBovins2020!K42)/GrosBovins2020!K42","v":9.4076655052264813E-2},{"$f":"(K42-MoyQuinqHebdoGB!BD30)/MoyQuinqHebdoGB!BD30","v":-0.14859002169197397}]
[null,27,4.01,3.85,3.5,3.55,4.76,4.1399999999999997,5.37,3.46,3.15,4.99,4.08,null,null,2.73,27,null,4.8543689320387313E-3,{"$f":"(H43-GrosBovins2020!H43)/GrosBovins2020!H43","v":2.2222222222222188E-2},{"$f":"(H43-MoyQuinqHebdoGB!AL31)/MoyQuinqHebdoGB!AL31","v":-9.1308165057067681E-2},3.1847133757961104E-3,{"$f":"(K43-GrosBovins2020!K43)/GrosBovins2020!K43","v":9.7560975609756032E-2},{"$f":"(K43-MoyQuinqHebdoGB!BD31)/MoyQuinqHebdoGB!BD31","v":-0.14402173913043495}]
[null,28,4.0199999999999996,3.85,3.51,3.53,4.7699999999999996,4.1399999999999997,5.39,3.48,3.16,5.13,4.13,null,null,2.73,28,null,0,{"$f":"(H44-GrosBovins2020!H44)/GrosBovins2020!H44","v":1.9704433497536967E-2},{"$f":"(H44-MoyQuinqHebdoGB!AL32)/MoyQuinqHebdoGB!AL32","v":-9.0109890109890151E-2},3.1746031746032479E-3,{"$f":"(K44-GrosBovins2020!K44)/GrosBovins2020!K44","v":9.7222222222222307E-2},{"$f":"(K44-MoyQuinqHebdoGB!BD32)/MoyQuinqHebdoGB!BD32","v":-0.1389645776566758}]
[null,29,4.03,3.87,3.5,3.57,4.75,4.13,5.38,3.48,3.18,4.9800000000000004,4.1100000000000003,null,null,2.73,29,null,-2.4154589371980163E-3,{"$f":"(H45-GrosBovins2020!H45)/GrosBovins2020!H45","v":9.7799511002445074E-3},{"$f":"(H45-MoyQuinqHebdoGB!AL33)/MoyQuinqHebdoGB!AL33","v":-9.3503072870939452E-2},6.329113924050638E-3,{"$f":"(K45-GrosBovins2020!K45)/GrosBovins2020!K45","v":0.10416666666666677},{"$f":"(K45-MoyQuinqHebdoGB!BD33)/MoyQuinqHebdoGB!BD33","v":-0.13351498637602185}]
["J",30,4.05,3.9,3.54,3.59,4.7300000000000004,4.13,5.49,3.5,3.2,4.95,4.0999999999999996,null,null,2.73,30,null,0,{"$f":"(H46-GrosBovins2020!H46)/GrosBovins2020!H46","v":1.225490196078427E-2},{"$f":"(H46-MoyQuinqHebdoGB!AL34)/MoyQuinqHebdoGB!AL34","v":-8.9506172839506112E-2},6.2893081761006345E-3,{"$f":"(K46-GrosBovins2020!K46)/GrosBovins2020!K46","v":0.11111111111111122},{"$f":"(K46-MoyQuinqHebdoGB!BD34)/MoyQuinqHebdoGB!BD34","v":-0.12520503007107703}]
[null,31,4.07,3.9,3.54,3.6,4.67,4.16,5.44,3.52,3.22,4.97,4.09,null,null,2.73,31,null,7.2639225181598665E-3,{"$f":"(H47-GrosBovins2020!H47)/GrosBovins2020!H47","v":2.2113022113022077E-2},{"$f":"(H47-MoyQuinqHebdoGB!AL35)/MoyQuinqHebdoGB!AL35","v":-8.16777041942605E-2},6.2500000000000056E-3,{"$f":"(K47-GrosBovins2020!K47)/GrosBovins2020!K47","v":0.11805555555555566},{"$f":"(K47-MoyQuinqHebdoGB!BD35)/MoyQuinqHebdoGB!BD35","v":-0.11732456140350886}]
[null,32,4.1100000000000003,3.91,3.56,3.61,4.78,4.1500000000000004,5.41,3.53,3.25,5.05,4.1399999999999997,null,null,2.73,32,null,-2.4038461538461024E-3,{"$f":"(H48-GrosBovins2020!H48)/GrosBovins2020!H48","v":1.715686274509811E-2},{"$f":"(H48-MoyQuinqHebdoGB!AL36)/MoyQuinqHebdoGB!AL36","v":-8.6707746478873082E-2},9.3167701863353432E-3,{"$f":"(K48-GrosBovins2020!K48)/GrosBovins2020!K48","v":0.13240418118466896},{"$f":"(K48-MoyQuinqHebdoGB!BD36)/MoyQuinqHebdoGB!BD36","v":-0.1091008771929826}]
[null,33,4.1100000000000003,3.92,3.56,3.63,4.79,4.16,5.48,3.56,3.26,5.07,4.0999999999999996,null,null,2.73,33,null,2.4096385542168161E-3,{"$f":"(H49-GrosBovins2020!H49)/GrosBovins2020!H49","v":1.7114914425427941E-2},{"$f":"(H49-MoyQuinqHebdoGB!AL37)/MoyQuinqHebdoGB!AL37","v":-8.5714285714285646E-2},3.0769230769230114E-3,{"$f":"(K49-GrosBovins2020!K49)/GrosBovins2020!K49","v":0.13194444444444442},{"$f":"(K49-MoyQuinqHebdoGB!BD37)/MoyQuinqHebdoGB!BD37","v":-0.11026200873362454}]
["A",34,4.1399999999999997,3.96,3.6,3.64,4.78,4.1900000000000004,5.43,3.58,3.29,5.13,4.1399999999999997,null,null,2.73,34,null,{"$f":"(H50-H49)/H49","v":7.2115384615385209E-3},{"$f":"(H50-GrosBovins2020!H50)/GrosBovins2020!H50","v":2.6960784313725568E-2},{"$f":"(H50-MoyQuinqHebdoGB!AL38)/MoyQuinqHebdoGB!AL38","v":-8.2749562171628557E-2},{"$f":"(K50-K49)/K49","v":9.2024539877301383E-3},{"$f":"(K50-GrosBovins2020!K50)/GrosBovins2020!K50","v":0.14236111111111116},{"$f":"(K50-MoyQuinqHebdoGB!BD38)/MoyQuinqHebdoGB!BD38","v":-0.10694896851248646}]
[null,35,4.1500000000000004,3.98,3.6,3.65,4.8899999999999997,4.21,5.49,3.58,3.3,5.1100000000000003,4.1900000000000004,null,null,2.76,35,null,4.773269689737368E-3,{"$f":"(H51-GrosBovins2020!H51)/GrosBovins2020!H51","v":2.6829268292683006E-2},{"$f":"(H51-MoyQuinqHebdoGB!AL39)/MoyQuinqHebdoGB!AL39","v":-8.3986074847693493E-2},3.0395136778114855E-3,{"$f":"(K51-GrosBovins2020!K51)/GrosBovins2020!K51","v":0.14583333333333331},{"$f":"(K51-MoyQuinqHebdoGB!BD39)/MoyQuinqHebdoGB!BD39","v":-0.10858995137763364}]
[null,36,4.17,4.0199999999999996,3.6,3.66,4.87,4.21,5.44,3.59,3.31,5.13,4.17,null,null,2.76,36,null,0,{"$f":"(H52-GrosBovins2020!H52)/GrosBovins2020!H52","v":3.1862745098039186E-2},{"$f":"(H52-MoyQuinqHebdoGB!AL40)/MoyQuinqHebdoGB!AL40","v":-8.4782608695652115E-2},3.0303030303031006E-3,{"$f":"(K52-GrosBovins2020!K52)/GrosBovins2020!K52","v":0.14532871972318337},{"$f":"(K52-MoyQuinqHebdoGB!BD40)/MoyQuinqHebdoGB!BD40","v":-0.10925726587728733}]
[null,37,4.1900000000000004,4.01,3.61,3.68,4.78,4.2300000000000004,5.43,3.6,3.31,5.04,4.1900000000000004,null,null,2.76,37,null,4.750593824228138E-3,{"$f":"(H53-GrosBovins2020!H53)/GrosBovins2020!H53","v":3.9312039312039346E-2},{"$f":"(H53-MoyQuinqHebdoGB!AL41)/MoyQuinqHebdoGB!AL41","v":-7.9634464751958151E-2},0,{"$f":"(K53-GrosBovins2020!K53)/GrosBovins2020!K53","v":0.14930555555555561},{"$f":"(K53-MoyQuinqHebdoGB!BD41)/MoyQuinqHebdoGB!BD41","v":-0.1097364174287251}]
[null,38,4.2,4.03,3.6,3.66,4.84,4.21,5.5,3.6,3.31,5.0999999999999996,4.16,null,null,2.8,38,null,-4.7281323877069641E-3,{"$f":"(H54-GrosBovins2020!H54)/GrosBovins2020!H54","v":3.1862745098039186E-2},{"$f":"(H54-MoyQuinqHebdoGB!AL42)/MoyQuinqHebdoGB!AL42","v":-8.3587287766652224E-2},0,{"$f":"(K54-GrosBovins2020!K54)/GrosBovins2020!K54","v":0.14930555555555561},{"$f":"(K54-MoyQuinqHebdoGB!BD42)/MoyQuinqHebdoGB!BD42","v":-0.10781671159029647}]
["S",39,4.22,4.05,3.66,3.68,4.8899999999999997,4.21,5.51,3.6,3.31,5.1100000000000003,4.17,null,null,2.8,39,null,0,{"$f":"(H55-GrosBovins2020!H55)/GrosBovins2020!H55","v":2.9339853300733524E-2},{"$f":"(H55-MoyQuinqHebdoGB!AL43)/MoyQuinqHebdoGB!AL43","v":-8.2788671023964949E-2},0,{"$f":"(K55-GrosBovins2020!K55)/GrosBovins2020!K55","v":0.14930555555555561},{"$f":"(K55-MoyQuinqHebdoGB!BD43)/MoyQuinqHebdoGB!BD43","v":-0.10540540540540544}]
[null,40,4.26,4.07,3.62,3.67,4.84,4.2300000000000004,5.43,3.6,3.3,5.1100000000000003,4.16,null,null,2.82,40,null,4.750593824228138E-3,{"$f":"(H56-GrosBovins2020!H56)/GrosBovins2020!H56","v":3.9312039312039346E-2},{"$f":"(H56-MoyQuinqHebdoGB!AL44)/MoyQuinqHebdoGB!AL44","v":-8.0434782608695493E-2},-3.0211480362538463E-3,{"$f":"(K56-GrosBovins2020!K56)/GrosBovins2020!K56","v":0.14583333333333331},{"$f":"(K56-MoyQuinqHebdoGB!BD44)/MoyQuinqHebdoGB!BD44","v":-0.10326086956521736}]
[null,41,4.28,4.0999999999999996,3.65,3.66,4.79,4.21,5.49,3.61,3.31,5.0599999999999996,4.1500000000000004,null,null,2.82,41,null,-4.7281323877069641E-3,{"$f":"(H57-GrosBovins2020!H57)/GrosBovins2020!H57","v":3.4398034398034315E-2},{"$f":"(H57-MoyQuinqHebdoGB!AL45)/MoyQuinqHebdoGB!AL45","v":-8.3587287766652044E-2},3.0303030303031006E-3,{"$f":"(K57-GrosBovins2020!K57)/GrosBovins2020!K57","v":0.15331010452961671},{"$f":"(K57-MoyQuinqHebdoGB!BD45)/MoyQuinqHebdoGB!BD45","v":-9.6615720524017484E-2}]
[null,42,4.32,4.1399999999999997,3.67,3.7,4.92,4.2300000000000004,5.5,3.63,3.34,5.0599999999999996,4.1900000000000004,null,null,2.82,42,null,4.750593824228138E-3,{"$f":"(H58-GrosBovins2020!H58)/GrosBovins2020!H58","v":3.1707317073170926E-2},{"$f":"(H58-MoyQuinqHebdoGB!AL46)/MoyQuinqHebdoGB!AL46","v":-8.1632653061224372E-2},9.0634441087612694E-3,{"$f":"(K58-GrosBovins2020!K58)/GrosBovins2020!K58","v":0.16783216783216784},{"$f":"(K58-MoyQuinqHebdoGB!BD46)/MoyQuinqHebdoGB!BD46","v":-8.493150684931508E-2}]
["O",43,4.3600000000000003,4.2,3.69,3.7,4.87,4.26,5.48,3.65,3.35,5.14,4.1900000000000004,null,null,2.82,43,null,7.0921985815601317E-3,{"$f":"(H59-GrosBovins2020!H59)/GrosBovins2020!H59","v":4.1564792176039103E-2},{"$f":"(H59-MoyQuinqHebdoGB!AL47)/MoyQuinqHebdoGB!AL47","v":-7.3913043478260845E-2},2.9940119760479733E-3,{"$f":"(K59-GrosBovins2020!K59)/GrosBovins2020!K59","v":0.16724738675958187},{"$f":"(K59-MoyQuinqHebdoGB!BD47)/MoyQuinqHebdoGB!BD47","v":-7.6116933259790465E-2}]
[null,44,4.41,4.25,3.7,3.73,4.95,4.2699999999999996,5.52,3.66,3.38,5.13,4.2300000000000004,null,null,2.82,44,null,2.347417840375537E-3,{"$f":"(H60-GrosBovins2020!H60)/GrosBovins2020!H60","v":4.9140049140048964E-2},{"$f":"(H60-MoyQuinqHebdoGB!AL48)/MoyQuinqHebdoGB!AL48","v":-7.2142546718817882E-2},8.9552238805969565E-3,{"$f":"(K60-GrosBovins2020!K60)/GrosBovins2020!K60","v":0.18596491228070167},{"$f":"(K60-MoyQuinqHebdoGB!BD48)/MoyQuinqHebdoGB!BD48","v":-6.0589216231239688E-2}]
[null,45,4.46,4.29,3.7,3.75,4.8499999999999996,4.3099999999999996,5.56,3.69,3.4,5.18,4.2300000000000004,null,null,2.82,45,null,9.3676814988290485E-3,{"$f":"(H61-GrosBovins2020!H61)/GrosBovins2020!H61","v":6.1576354679802964E-2},{"$f":"(H61-MoyQuinqHebdoGB!AL49)/MoyQuinqHebdoGB!AL49","v":-6.1819764910753305E-2},5.9171597633136145E-3,{"$f":"(K61-GrosBovins2020!K61)/GrosBovins2020!K61","v":0.20567375886524827},{"$f":"(K61-MoyQuinqHebdoGB!BD49)/MoyQuinqHebdoGB!BD49","v":-4.7085201793722012E-2}]
[null,46,4.49,4.34,3.74,3.74,4.8899999999999997,4.32,5.53,3.71,3.43,5.17,4.26,null,null,2.82,46,null,2.3201856148493448E-3,{"$f":"(H62-GrosBovins2020!H62)/GrosBovins2020!H62","v":6.142506142506142E-2},{"$f":"(H62-MoyQuinqHebdoGB!AL50)/MoyQuinqHebdoGB!AL50","v":-6.0052219321148965E-2},8.8235294117647786E-3,{"$f":"(K62-GrosBovins2020!K62)/GrosBovins2020!K62","v":0.23826714801444049},{"$f":"(K62-MoyQuinqHebdoGB!BD50)/MoyQuinqHebdoGB!BD50","v":-2.8328611898016897E-2}]
["N",47,4.53,4.3899999999999997,3.74,3.77,4.84,4.32,5.54,3.73,3.45,5.14,4.28,null,null,2.82,47,null,0,{"$f":"(H63-GrosBovins2020!H63)/GrosBovins2020!H63","v":6.9306930693069368E-2},{"$f":"(H63-MoyQuinqHebdoGB!AL51)/MoyQuinqHebdoGB!AL51","v":-5.6768558951965017E-2},5.8309037900874687E-3,{"$f":"(K63-GrosBovins2020!K63)/GrosBovins2020!K63","v":0.25912408759124084},{"$f":"(K63-MoyQuinqHebdoGB!BD51)/MoyQuinqHebdoGB!BD51","v":-1.3722126929673985E-2}]
[null,48,4.57,4.41,3.74,3.78,4.84,4.3499999999999996,5.47,3.74,3.45,5.22,4.28,null,null,2.82,48,null,6.9444444444442957E-3,{"$f":"(H64-GrosBovins2020!H64)/GrosBovins2020!H64","v":7.4074074074074028E-2},{"$f":"(H64-MoyQuinqHebdoGB!AL52)/MoyQuinqHebdoGB!AL52","v":-5.0632911392405111E-2},0,{"$f":"(K64-GrosBovins2020!K64)/GrosBovins2020!K64","v":0.2637362637362638},{"$f":"(K64-MoyQuinqHebdoGB!BD52)/MoyQuinqHebdoGB!BD52","v":-4.0415704387990158E-3}]
[null,49,4.59,4.4000000000000004,3.76,3.78,5.25,4.3499999999999996,5.62,3.73,3.46,5.24,4.32,null,null,2.79,49,null,0,{"$f":"(H65-GrosBovins2020!H65)/GrosBovins2020!H65","v":7.4074074074074028E-2},{"$f":"(H65-MoyQuinqHebdoGB!AL53)/MoyQuinqHebdoGB!AL53","v":-5.0218340611353801E-2},2.8985507246376192E-3,{"$f":"(K65-GrosBovins2020!K65)/GrosBovins2020!K65","v":0.26739926739926739},{"$f":"(K65-MoyQuinqHebdoGB!BD53)/MoyQuinqHebdoGB!BD53","v":4.6457607433217233E-3}]
[null,50,4.59,4.41,3.78,3.79,4.96,4.3499999999999996,5.58,3.73,3.42,5.28,4.3,null,null,2.79,50,null,0,{"$f":"(H66-GrosBovins2020!H66)/GrosBovins2020!H66","v":7.6732673267326634E-2},{"$f":"(H66-MoyQuinqHebdoGB!AL54)/MoyQuinqHebdoGB!AL54","v":-6.2821245002855196E-3},-1.1560693641618507E-2,{"$f":"(K66-GrosBovins2020!K66)/GrosBovins2020!K66","v":0.25274725274725274},{"$f":"(K66-MoyQuinqHebdoGB!BD54)/MoyQuinqHebdoGB!BD54","v":3.0896759608138671E-2}]
[null,51,4.59,4.41,3.78,3.79,4.87,4.3600000000000003,5.56,3.73,3.41,5.13,4.29,null,null,2.79,51,null,2.2988505747127989E-3,{"$f":"(H67-GrosBovins2020!H67)/GrosBovins2020!H67","v":7.9207920792079278E-2},{"$f":"(H67-MoyQuinqHebdoGB!AL55)/MoyQuinqHebdoGB!AL55","v":-5.134055904164281E-3},-2.9239766081870723E-3,{"$f":"(K67-GrosBovins2020!K67)/GrosBovins2020!K67","v":0.24908424908424914},{"$f":"(K67-MoyQuinqHebdoGB!BD55)/MoyQuinqHebdoGB!BD55","v":3.021148036253779E-2}]
["D",52,4.59,4.42,3.75,3.8,4.88,4.38,5.49,3.74,3.43,5.22,4.34,null,null,"NC",52,null,4.5871559633026545E-3,{"$f":"(H68-GrosBovins2020!H68)/GrosBovins2020!H68","v":8.1481481481481502E-2},{"$f":"(H68-MoyQuinqHebdoGB!AL56)/MoyQuinqHebdoGB!AL56","v":-2.2779043280183766E-3},5.8651026392961929E-3,{"$f":"(K68-GrosBovins2020!K68)/GrosBovins2020!K68","v":0.25182481751824815},{"$f":"(K68-MoyQuinqHebdoGB!BD56)/MoyQuinqHebdoGB!BD56","v":3.1578947368421047E-2}]
[]
[]
["3 – COTATION DES GROS BOVINS VIFS SUR LE MARCHE DE CHOLET (en Euro/Kg Net)"]
[]
[null,null,"GENISSES",null,"VACHES",null,null,null,"JEUNES BOVINS","TAUREAUX"]
["semaines","année+mois","Viande, mixte, lait","Viande, mixte, lait","Blonde","Blonde","Mixte","Lait","Viande","Viande, mixte, lait"]
[2021,null,"U","R","U","R","O","P","U","URO"]
[1,202101,4.45,4.03,4.8,4.0999999999999996,2.87,2.6,3.64]
[2,202101,4.45,4.03,4.8,4.0999999999999996,2.87,2.6,3.64]
[3,202101,4.45,4.03,4.83,4.0999999999999996,2.87,2.6,3.64,3.05]
[4,202101,4.46,4.03,4.8499999999999996,4.0999999999999996,2.87,2.6,3.66,3.05]
[5,202102,4.45,4.04,4.8499999999999996,4.0999999999999996,2.87,2.6,3.68]
[6,202102,4.45,4.05,4.88,4.1500000000000004,2.87,2.6,3.71]
[7,202102,4.45,4.05,4.9000000000000004,4.1500000000000004,2.9,2.63,3.75,3.05]
[8,202102,4.46,4.0599999999999996,4.95,4.1500000000000004,2.9,2.65,3.77]
[9,202103,4.46,4.0599999999999996,4.97,4.1500000000000004,2.9,2.67,3.8]
[10,202103,4.47,4.0599999999999996,5,4.1500000000000004,2.95,2.72,3.83]
[11,202103,4.49,4.0599999999999996,5,4.1500000000000004,2.98,2.77,3.86]
[12,202103,4.5,4.0599999999999996,5,4.1500000000000004,3,2.79,3.88,3.05]
[13,202103,4.5199999999999996,4.0599999999999996,5.05,4.1500000000000004,3.02,2.8,3.9]
[14,202104,4.5199999999999996,4.09,5.05,4.1500000000000004,3.02,2.8,3.9]
[15,202104,4.53,4.09,5.05,4.1500000000000004,3.02,2.8,3.9,3.08]
[16,202104,4.53,4.09,5.05,4.1500000000000004,3.02,2.8,3.9,3.08]
[17,202104,4.53,4.09,5.05,4.1500000000000004,3.02,2.8,3.88,3.08]
[18,202105,4.53,4.09,5.05,4.1500000000000004,3.02,2.8,3.86]
[19,202105,4.53,4.09,5.05,4.1500000000000004,3.05,2.8,3.86]
[20,202105,4.53,4.0999999999999996,5.0999999999999996,4.1500000000000004,3.05,2.82,3.86]
[21,202105,4.53,4.0999999999999996,5.0999999999999996,4.1500000000000004,3.07,2.85,3.86,3.08]
[22,202106,4.53,4.0999999999999996,5.0999999999999996,4.17,3.1,2.88,3.86,3.1]
[23,202106,4.53,4.0999999999999996,5.0999999999999996,4.17,3.1,2.9,3.86]
[24,202106,4.53,4.0999999999999996,5.0999999999999996,4.17,3.1,2.9,3.86]
[25,202106,4.53,4.0999999999999996,5.0999999999999996,4.17,3.1,2.9,3.86]
[26,202106,4.53,4.0999999999999996,5.0999999999999996,4.17,3.15,2.93,3.86]
[27,202107,4.53,4.0999999999999996,5.0999999999999996,4.17,3.2,2.98,3.88]
[28,202107,4.53,4.0999999999999996,5.0999999999999996,4.17,3.2,2.98,3.9]
[29,202107,4.53,4.0999999999999996,5.0999999999999996,4.17,3.2,2.98,3.9]
[30,202107,4.53,4.0999999999999996,5.0999999999999996,4.17,3.23,3.01,3.93]
[31,202108,null,null,5.0999999999999996,4.17,3.25,3.03,3.96,3.1]
[32,202108,null,null,5.0999999999999996,4.17,3.27,3.05,3.98,3.1]
[33,202108,null,null,5.0999999999999996,4.17,3.3,3.08,4]
[34,202108,4.57,4.1399999999999997,5.15,4.2,3.35,3.12,4.03]
[35,202109,4.57,4.1399999999999997,5.15,4.22,3.38,3.15,4.05,3.15]
[36,202109,4.57,4.1399999999999997,5.15,4.22,3.38,3.15,4.05]
[37,202109,4.58,4.1399999999999997,5.15,4.22,3.4,3.15,4.07]
[38,202109,4.58,4.1399999999999997,5.15,4.22,3.4,3.15,4.0999999999999996]
[39,202109,4.58,4.1399999999999997,5.15,4.22,3.4,3.15,4.0999999999999996]
[40,202110,4.58,4.1399999999999997,5.15,4.22,3.4,3.15,4.12]
[41,202110,4.58,4.1399999999999997,5.15,4.22,3.4,3.15,4.1500000000000004]
[42,202110,4.6100000000000003,4.1399999999999997,5.15,4.22,3.43,3.18,4.18]
[43,202110,4.63,4.16,5.15,4.22,3.45,3.2,4.2]
[44,202111,4.6399999999999997,4.18,5.15,4.25,3.45,3.2,4.25]
[45,202111,4.6500000000000004,4.1900000000000004,5.15,4.25,3.45,3.23,4.3]
[46,202111,4.67,4.21,5.15,4.25,3.48,3.26,4.3499999999999996]
[47,202111,4.68,4.22,5.15,4.25,3.53,3.28,4.4000000000000004]
[48,202112,4.71,4.25,5.15,4.25,3.55,3.28,4.4000000000000004]
[49,202112,4.71,4.25,5.15,4.25,3.58,3.28,4.4000000000000004]
[50,202112,4.71,4.25,5.15,4.25,3.61,3.28,4.4000000000000004,3.3]
[51,202112,4.71,4.25,5.15,4.25,3.6,3.28,4.4000000000000004,3.3]
[52,202112,4.71,4.25,5.15,4.25,3.6,3.28,4.4000000000000004]

{"sheet":"GrosBovins2020","index":11,"n_rows":129,"n_cols":17,"rows_kept":129,"cut":false,"hidden":false,"merged":[[13,16,15,16],[14,2,14,3],[14,6,14,7],[14,11,14,12],[73,2,73,3],[73,4,73,7],[13,2,13,4],[13,6,13,10],[13,11,13,12]]}
["COTATIONS DES GROS BOVINS"]
["Source : DRAAF Pays de la Loire - SRISE - FranceAgriMer",null,null,null,null,null,null,null,null,null,"mise à jour : 06/01/2021"]
[]
[]
["1 – COTATION REGIONALE GRAND OUEST ENTREE ABATTOIR en €/Kg net"]
[]
["2 – MOYENNE NATIONALE DES BOVINS MAIGRES DESTINES A L'ENGRAISSEMENT CHAROLAIS MALE de 6-12 mois catégorie U (300kg) en €/kg vif"]
[]
["3 – OTATION DES GROS BOVINS VIFS SUR LE MARCHE DE CHOLET (en Euro/Kg Net) – à partir de la ligne 72"]
[]
[null,null,null,null,null,null,null,null,null,null,null,null,null,null,null,"2 – COT. HEBDO"]
[null,null,null,"1 – COTATION REGIONALE ENTREE ABATTOIR GRAND OUEST FRANCEAGRIMER-HEBDOMADAIRE (€/Kg net)",null,null,null,null,null,null,null,null,null,null,null,"MAIGRE   €/kg vif"]
[null,null,null,null,null,null,null,null,null,null,null,null,null,null,null,"Ref. nationale"]
["Année","Sem.","JEUNES BOVINS",null,null,"BOEUFS","VACHES",null,null,null,null,"GENISSES",null,null,null,"Charolais Mâles","Sem."]
[null,null,"VIANDE",null,"MIXTE","MIXTE","VIANDE",null,"Blonde","MIXTE","LAIT","VIANDES + 350kg"]
[null,null,"U","R","O","O","U","R","U","O","P","U","R",null,null,"6/12 mois  ( U )"]
[2020,1,4.07,3.9,3.46,3.22,4.42,3.72,5.0999999999999996,3.14,2.54,4.63,3.8,null,null,2.69,1]
[null,2,4.07,3.91,3.51,3.25,4.37,3.75,5.07,3.15,2.57,4.63,3.84,null,null,2.69,2]
[null,3,4.07,3.9,3.49,3.24,4.38,3.72,5.04,3.16,2.56,4.7,3.85,null,null,2.69,3]
[null,4,4.07,3.89,3.52,3.23,4.3600000000000003,3.71,5.05,3.15,2.5499999999999998,4.7,3.81,null,null,2.69,4]
["J",5,4.0599999999999996,3.88,3.52,3.22,4.4400000000000004,3.72,5.0199999999999996,3.14,2.54,4.6399999999999997,3.82,null,null,2.69,5]
[null,6,4.05,3.88,3.51,3.25,4.46,3.73,5.0599999999999996,3.13,2.5299999999999998,4.62,3.81,null,null,2.69,6]
[null,7,4.04,3.85,3.49,3.22,4.46,3.7,5.0199999999999996,3.14,2.5499999999999998,4.6100000000000003,3.81,null,null,2.69,7]
[null,8,4.01,3.84,3.49,3.25,4.4000000000000004,3.72,5,3.16,2.58,4.5999999999999996,3.83,null,null,2.72,8]
["F",9,4,3.84,3.51,3.26,4.42,3.75,5.14,3.16,2.62,4.6900000000000004,3.82,null,null,2.75,9]
[null,10,4,3.82,3.53,3.27,4.4400000000000004,3.77,5.03,3.18,2.66,4.67,3.84,null,null,2.75,10]
[null,11,3.98,3.81,3.5,3.28,4.43,3.78,5.14,3.18,2.66,4.6399999999999997,3.84,null,null,2.78,11]
[null,12,3.96,3.78,3.55,3.27,4.49,3.78,5.12,3.18,2.67,4.6500000000000004,3.85,null,null,2.8,12]
["M",13,3.94,3.77,3.47,3.25,4.4400000000000004,3.74,5.17,3.17,2.68,4.7300000000000004,3.85,null,null,2.8,13]
[null,14,3.9,3.73,3.43,3.19,4.5,3.74,5.17,3.09,2.66,4.78,3.84,null,null,2.82,14]
[null,15,3.88,3.69,3.35,3.08,4.45,3.72,5.0999999999999996,3.04,2.64,4.7,3.82,null,null,2.82,15]
[null,16,3.86,3.71,3.36,3.07,4.51,3.72,5.05,3.01,2.64,4.7699999999999996,3.86,null,null,2.82,16]
[null,17,3.85,3.69,3.34,3.07,4.42,3.71,5.12,3.01,2.67,4.75,3.82,null,null,2.84,17]
["A",18,3.85,3.68,3.37,3.11,4.3899999999999997,3.75,5.0599999999999996,3.03,2.71,4.8099999999999996,3.82,null,null,2.84,18]
[null,19,3.85,3.7,3.34,3.11,4.47,3.76,5.1100000000000003,3.05,2.74,4.68,3.84,null,null,2.84,19]
[null,20,3.84,3.69,3.37,3.14,4.57,3.8,5.12,3.08,2.79,4.71,3.87,null,null,2.84,20]
[null,21,3.84,3.68,3.38,3.16,4.49,3.82,5.08,3.12,2.83,4.76,3.87,null,null,2.84,21]
["M",22,3.85,3.69,3.41,3.2,4.5999999999999996,3.88,5.0999999999999996,3.15,2.86,4.79,3.97,null,null,2.84,22]
[null,23,3.84,3.72,3.37,3.22,4.59,3.95,5.16,3.18,2.87,4.83,3.98,null,null,2.84,23]
[null,24,3.85,3.72,3.39,3.23,4.53,4.01,5.17,3.18,2.88,4.7300000000000004,4.05,null,null,2.84,24]
[null,25,3.85,3.71,3.4,3.23,4.62,4.03,5.16,3.18,2.88,4.8600000000000003,4.07,null,null,2.82,25]
["J",26,3.85,3.72,3.39,3.23,4.5999999999999996,4.07,5.13,3.19,2.87,4.97,4.05,null,null,2.82,26]
[null,27,3.85,3.71,3.4,3.23,4.59,4.05,5.13,3.19,2.87,4.79,4.08,null,null,2.8,27]
[null,28,3.85,3.7,3.37,3.22,4.5599999999999996,4.0599999999999996,5.16,3.19,2.88,4.84,4.09,null,null,2.8,28]
[null,29,3.86,3.69,3.37,3.24,4.53,4.09,5.2,3.2,2.88,4.79,4.0999999999999996,null,null,2.8,29]
[null,30,3.85,3.69,3.38,3.24,4.5199999999999996,4.08,5.19,3.21,2.88,4.87,4.0599999999999996,null,null,2.8,30]
["J",31,3.85,3.68,3.37,3.24,4.5199999999999996,4.07,5.24,3.21,2.88,4.8099999999999996,4.09,null,null,2.77,31]
[null,32,3.83,3.66,3.35,3.24,4.59,4.08,5.13,3.2,2.87,4.93,4.0599999999999996,null,null,2.77,32]
[null,33,3.82,3.66,3.35,3.24,4.46,4.09,5.16,3.21,2.88,4.83,4.03,null,null,2.77,33]
[null,34,3.81,3.66,3.34,3.25,4.57,4.08,5.24,3.21,2.88,4.83,4.03,null,null,2.72,34]
["A",35,3.81,3.65,3.34,3.23,4.5199999999999996,4.0999999999999996,5.23,3.21,2.88,4.88,4.04,null,null,2.69,35]
[null,36,3.8,3.65,3.35,3.24,4.5999999999999996,4.08,5.16,3.21,2.89,4.8499999999999996,4.03,null,null,2.69,36]
[null,37,3.82,3.63,3.36,3.26,4.75,4.07,5.22,3.22,2.88,4.87,4.04,null,null,2.69,37]
[null,38,3.79,3.63,3.33,3.25,4.71,4.08,5.26,3.22,2.88,4.84,4.0199999999999996,null,null,2.69,38]
[null,39,3.79,3.65,3.3,3.24,4.62,4.09,5.14,3.22,2.88,4.84,4.07,null,null,2.67,39]
["S",40,3.8,3.65,3.3,3.25,4.58,4.07,5.19,3.21,2.88,4.9000000000000004,4.04,null,null,2.67,40]
[null,41,3.79,3.62,3.32,3.25,4.57,4.07,5.17,3.21,2.87,4.8499999999999996,4.03,null,null,2.67,41]
[null,42,3.78,3.62,3.33,3.22,4.68,4.0999999999999996,5.14,3.21,2.86,4.8600000000000003,4.0199999999999996,null,null,2.64,42]
[null,43,3.79,3.6,3.35,3.25,4.53,4.09,5.19,3.21,2.87,4.83,4.0199999999999996,null,null,2.62,43]
["O",44,3.8,3.6,3.34,3.24,4.58,4.07,5.22,3.19,2.85,4.8099999999999996,4.01,null,null,2.62,44]
[null,45,3.78,3.61,3.35,3.23,4.53,4.0599999999999996,5.0999999999999996,3.18,2.82,4.91,3.95,null,null,2.62,45]
[null,46,3.77,3.61,3.37,3.19,4.59,4.07,5.2,3.13,2.77,4.8499999999999996,4,null,null,2.62,46]
[null,47,3.78,3.61,3.33,3.15,4.45,4.04,5.24,3.08,2.74,4.8600000000000003,4.01,null,null,2.62,47]
["N",48,3.79,3.62,3.36,3.14,4.5599999999999996,4.05,5.22,3.06,2.73,4.87,4.0199999999999996,null,null,2.62,48]
[null,49,3.8,3.61,3.38,3.13,4.57,4.05,5.22,3.04,2.73,4.84,4.0199999999999996,null,null,2.62,49]
[null,50,3.79,3.62,3.41,3.15,4.79,4.04,5.33,3.04,2.73,5,4.01,null,null,2.62,50]
[null,51,3.8,3.63,3.37,3.13,4.75,4.04,5.24,3.06,2.73,4.9000000000000004,4.03,null,null,2.62,51]
[null,52,3.82,3.65,3.35,3.13,4.5,4.05,5.21,3.07,2.74,4.9400000000000004,3.97,null,null,2.62,52]
["D",53,3.82,3.66,3.37,3.13,4.5599999999999996,4.04,5.19,3.07,2.75,4.8099999999999996,4.03,null,null,2.62,53]
[]
[]
["3 – COTATION DES GROS BOVINS VIFS SUR LE MARCHE DE CHOLET (en Euro/Kg Net)"]
[]
[null,null,"GENISSES",null,"VACHES",null,null,null,"JEUNES BOVINS","TAUREAUX"]
["semaines","année+mois","Viande, mixte, lait","Viande, mixte, lait","Blonde","Blonde","Mixte","Lait","Viande","Viande, mixte, lait"]
[2020,null,"U","R","U","R","O","P","U","URO"]
[1,202001,4.29,3.72,4.7,3.9,3.05,2.4,3.93]
[2,202001,4.29,3.72,4.7,3.9,3.05,2.4,3.93]
[3,202001,4.29,3.74,4.7,3.9,3.05,2.4,3.93]
[4,202001,4.29,3.74,4.7,3.9,3.05,2.38,3.91]
[5,202001,4.29,3.76,4.7,3.92,3.05,2.38,3.89]
[6,202002,4.29,3.77,4.7,3.92,3.05,2.4,3.87]
[7,202002,4.29,3.78,4.7,3.92,3.05,2.4300000000000002,3.87]
[8,202002,4.29,3.8,4.7,3.92,3.08,2.46,3.83]
[9,202002,4.29,3.81,4.7,3.92,3.08,2.4900000000000002,3.82]
[10,202003,4.3,3.82,4.7,3.92,3.08,2.52,3.81]
[11,202003,4.3,3.82,4.7,3.92,3.08,2.52,3.81]
[12,202003]
[13,202003]
[14,202004]
[15,202004]
[16,202004]
[17,202004,4.26,3.78,4.7,3.85,2.87,2.56,3.75,3]
[18,202004,4.26,3.78,4.7,3.85,2.87,2.58,3.75,3.02]
[19,202005]
[20,202005]
[21,202005]
[22,202005]
[23,202006,4.38,3.93,4.75,4.05,3,2.77,3.75]
[24,202006,4.43,4.01,4.8,4.0999999999999996,3,2.77,3.75,3.02]
[25,202006,4.46,4.04,4.8,4.0999999999999996,3,2.77,3.75]
[26,202006,4.46,4.04,4.8,4.0999999999999996,3,2.74,3.75]
[27,202007,4.46,4.04,4.8,4.0999999999999996,3,2.74,3.75]
[28,202007,4.46,4.04,4.8,4.0999999999999996,3,2.74,3.75]
[29,202007,4.46,4.04,4.8,4.0999999999999996,3,2.74,3.75]
[30,202007,4.46,4.04,4.8,4.0999999999999996,3,2.74,3.75]
[31,202007,null,null,4.8,4.0999999999999996,3,2.74,3.75,3.05]
[32,202008,4.46,4.04,4.8,4.0999999999999996,3,2.74,3.72]
[33,202008,4.46,4.04,4.8,4.0999999999999996,3,2.74,3.7]
[34,202008,4.46,4.04,4.8,4.0999999999999996,3,2.74,3.68,3.05]
[35,202008,4.46,4.04,4.8,4.0999999999999996,3,2.74,3.66]
[36,202009,4.46,4.04,4.8,4.0999999999999996,3,2.74,3.66]
[37,202009,4.46,4.04,4.8,4.0999999999999996,3,2.74,3.66]
[38,202009,4.46,4.04,4.8,4.0999999999999996,3,2.74,3.66]
[39,202009,4.46,4.04,4.8,4.0999999999999996,3,2.74,3.66,3.05]
[40,202009,4.46,4.04,4.8,4.0999999999999996,3,2.74,3.66]
[41,202010,4.46,4.04,4.8,4.0999999999999996,3,2.74,3.66]
[42,202010,4.46,4.04,4.8,4.0999999999999996,3,2.74,3.66]
[43,202010,4.46,4.04,4.8,4.0999999999999996,3,2.74,3.66]
[44,202010,4.46,4.04,4.8,4.0999999999999996,3,2.74,3.66]
[45,202011,4.46,4.04,4.8,4.0999999999999996,3,2.71,3.64]
[46,202011,4.46,4.04,4.8,4.0999999999999996,2.95,2.67,3.64,3.05]
[47,202011,4.46,4.04,4.8,4.0999999999999996,2.95,2.65,3.64,3.05]
[48,202011,4.46,4.04,4.8,4.0999999999999996,2.9,2.62,3.64]
[49,202012,4.46,4.04,4.8,4.0999999999999996,2.9,2.6,3.64]
[50,202012,4.46,4.04,4.8,4.0999999999999996,2.87,2.6,3.64]
[51,202012,4.46,4.04,4.8,4.0999999999999996,2.87,2.6,3.64]
[52,202012,4.46,4.03,4.8,4.0999999999999996,2.87,2.6,3.64]
[53,202012,4.46,4.03,4.8,4.0999999999999996,2.87,2.6,3.64]

{"sheet":"GrosBovins2019","index":12,"n_rows":128,"n_cols":16,"rows_kept":128,"cut":false,"hidden":false,"merged":[[73,2,73,3],[73,4,73,7],[13,2,13,4],[13,6,13,10],[13,11,13,12],[14,2,14,3],[14,6,14,7],[14,11,14,12]]}
["COTATIONS DES GROS BOVINS"]
["Source : DRAAF Pays de la Loire - SRISE - FranceAgriMer",null,null,null,null,null,null,null,null,null,"mise à jour : 06/01/2020"]
[]
[]
["1 – COTATION REGIONALE GRAND OUEST ENTREE ABATTOIR en €/Kg net"]
[]
["2 – MOYENNE NATIONALE DES BOVINS MAIGRES DESTINES A L'ENGRAISSEMENT CHAROLAIS MALE de 6-12 mois catégorie U (300kg) en €/kg vif"]
[]
["3 – OTATION DES GROS BOVINS VIFS SUR LE MARCHE DE CHOLET (en Euro/Kg Net) – à partir de la ligne 72"]
[]
[null,null,null,null,null,null,null,null,null,null,null,null,null,null,null,"2 – COT. HEBDO"]
[null,null,null,"1 – COTATION REGIONALE ENTREE ABATTOIR GRAND OUEST FRANCEAGRIMER-HEBDOMADAIRE (€/Kg net)",null,null,null,null,null,null,null,null,null,null,null,"MAIGRE   €/kg vif"]
[null,null,null,null,null,null,null,null,null,null,null,null,null,null,null,"Ref. nationale"]
["Année","Sem.","JEUNES BOVINS",null,null,"BOEUFS","VACHES",null,null,null,null,"GENISSES",null,null,null,"Charolais Mâles"]
[null,null,"VIANDE",null,"MIXTE","MIXTE","VIANDE",null,"Blonde","MIXTE","LAIT","VIANDES + 350kg"]
[null,null,"U","R","O","O","U","R","U","O","P","U","R",null,null,"6/12 mois  ( U )"]
[2019,1,3.99,3.81,3.5,3.3,4.34,3.78,4.95,3.27,2.64,4.5999999999999996,3.86,null,null,2.73]
[null,2,3.99,3.82,3.49,3.34,4.43,3.77,5.03,3.28,2.66,4.6399999999999997,3.89,null,null,2.73]
[null,3,4,3.82,3.49,3.33,4.38,3.77,5.0199999999999996,3.28,2.67,4.6900000000000004,3.86,null,null,2.73]
[null,4,4.01,3.82,3.48,3.34,4.43,3.77,5.1100000000000003,3.28,2.68,4.7300000000000004,3.86,null,null,2.73]
["J",5,4.0199999999999996,3.85,3.52,3.36,4.3600000000000003,3.77,5.03,3.31,2.71,4.6399999999999997,3.89,null,null,2.73]
[null,6,4.0199999999999996,3.84,3.5,3.36,4.4400000000000004,3.79,5.05,3.33,2.72,4.66,3.86,null,null,2.73]
[null,7,4.0199999999999996,3.84,3.49,3.36,4.42,3.79,4.99,3.34,2.74,4.71,3.84,null,null,2.78]
[null,8,4.03,3.86,3.54,3.4,4.5,3.8,5.1100000000000003,3.37,2.76,4.74,3.86,null,null,2.78]
["F",9,4.04,3.86,3.54,3.43,4.5199999999999996,3.81,5.04,3.38,2.78,4.7,3.86,null,null,2.82]
[null,10,4.05,3.86,3.55,3.43,4.46,3.81,5.0199999999999996,3.39,2.79,4.75,3.9,null,null,2.82]
[null,11,4.03,3.85,3.52,3.44,4.62,3.83,5.14,3.42,2.8,4.79,3.87,null,null,2.87]
[null,12,4.0199999999999996,3.84,3.54,3.43,4.5199999999999996,3.84,4.99,3.43,2.81,4.74,3.88,null,null,2.87]
["M",13,4.01,3.81,3.52,3.45,4.5199999999999996,3.85,5.09,3.41,2.81,4.8099999999999996,3.88,null,null,2.87]
[null,14,3.99,3.81,3.54,3.43,4.5599999999999996,3.84,5.04,3.4,2.81,4.87,3.89,null,null,2.87]
[null,15,3.98,3.8,3.5,3.43,5.0599999999999996,3.82,5.2,3.41,2.8,4.9400000000000004,3.89,null,null,2.87]
[null,16,3.97,3.78,3.45,3.43,4.5599999999999996,3.83,5.13,3.42,2.82,4.78,3.9,null,null,2.87]
["A",17,3.97,3.78,3.43,3.45,4.57,3.85,5.12,3.44,2.84,4.8,3.94,null,null,2.87]
[null,18,3.96,3.77,3.44,3.46,4.51,3.84,5.18,3.42,2.86,4.8,3.87,null,null,2.87]
[null,19,3.96,3.77,3.42,3.45,4.63,3.85,5.05,3.43,2.88,4.7699999999999996,3.9]
[null,20,3.96,3.79,3.38,3.47,4.5199999999999996,3.87,5.13,3.45,2.9,4.72,3.93,null,null,2.92]
[null,21,3.97,3.79,3.44,3.47,4.63,3.86,5.08,3.46,2.92,4.82,3.91]
["M",22,3.97,3.79,3.41,3.49,4.59,3.86,5.08,3.46,2.92,4.78,3.88]
[null,23,3.97,3.78,3.38,3.48,4.45,3.86,5.08,3.46,2.92,4.78,3.89]
[null,24,3.96,3.77,3.41,3.44,4.51,3.93,5.09,3.45,2.91,4.75,3.93]
[null,25,3.95,3.77,3.36,3.46,4.4000000000000004,3.83,5.03,3.44,2.89,4.7699999999999996,3.84]
["J",26,3.94,3.75,3.37,3.47,4.54,3.84,5.07,3.43,2.89,4.75,3.89]
[null,27,3.94,3.76,3.33,3.44,4.51,3.84,5.07,3.44,2.89,4.72,3.89]
[null,28,3.93,3.75,3.34,3.44,4.5999999999999996,3.83,5.09,3.43,2.87,4.7,3.9]
[null,29,3.94,3.73,3.35,3.45,4.47,3.82,5.0599999999999996,3.44,2.86,4.8099999999999996,3.87]
[null,30,3.95,3.76,3.35,3.43,4.42,3.77,5.08,3.4,2.84,4.63,3.84,null,null,2.8]
["J",31,3.96,3.78,3.34,3.41,4.5199999999999996,3.79,5.05,3.37,2.8,4.66,3.87,null,null,2.8]
[null,32,3.97,3.78,3.35,3.41,4.43,3.76,5.0199999999999996,3.35,2.77,4.6900000000000004,3.83,null,null,2.8]
[null,33,3.99,3.78,3.33,3.4,4.46,3.75,5.05,3.37,2.77,4.7699999999999996,3.88,null,null,2.8]
[null,34,4,3.82,3.36,3.4,4.45,3.76,5.07,3.39,2.79,4.76,3.83,null,null,2.8]
["A",35,4.01,3.82,3.35,3.43,4.5199999999999996,3.8,5.33,3.37,2.81,4.78,3.87,null,null,2.8]
[null,36,4.0199999999999996,3.82,3.41,3.41,4.5999999999999996,3.81,5.1100000000000003,3.37,2.82,4.8,3.86,null,null,2.8]
[null,37,4.0199999999999996,3.84,3.41,3.4,4.5599999999999996,3.78,5.0999999999999996,3.35,2.82,4.8,3.84,null,null,2.77]
[null,38,4.01,3.82,3.4,3.42,4.67,3.78,5.09,3.34,2.79,4.7699999999999996,3.83,null,null,2.77]
["S",39,3.99,3.8,3.36,3.35,4.5199999999999996,3.76,5.08,3.31,2.75,4.72,3.81,null,null,2.77]
[null,40,3.98,3.8,3.4,3.34,4.63,3.75,5.16,3.28,2.71,4.75,3.83,null,null,2.76]
[null,41,3.97,3.79,3.36,3.3,4.51,3.74,5.05,3.25,2.67,4.6399999999999997,3.86,null,null,2.74]
[null,42,3.97,3.77,3.38,3.28,4.5999999999999996,3.75,5.13,3.23,2.62,4.7300000000000004,3.81,null,null,2.74]
[null,43,3.97,3.78,3.35,3.26,4.43,3.73,5.01,3.2,2.58,4.79,3.83,null,null,2.74]
["O",44,3.98,3.81,3.39,3.24,4.66,3.73,5.09,3.18,2.5499999999999998,4.7300000000000004,3.83,null,null,2.72]
[null,45,4,3.81,3.42,3.23,4.5599999999999996,3.7,5.0199999999999996,3.17,2.54,4.72,3.85,null,null,2.72]
[null,46,4.01,3.84,3.4,3.22,4.6100000000000003,3.73,5.0999999999999996,3.15,2.5299999999999998,4.6900000000000004,3.78,null,null,2.72]
[null,47,4.03,3.85,3.42,3.22,4.4400000000000004,3.72,5.07,3.14,2.52,4.6900000000000004,3.81,null,null,2.69]
["N",48,4.05,3.87,3.44,3.18,4.4400000000000004,3.71,5.0199999999999996,3.12,2.52,4.7300000000000004,3.8,null,null,2.69]
[null,49,4.07,3.9,3.43,3.19,4.54,3.7,5.13,3.12,2.52,4.67,3.84,null,null,2.69]
[null,50,4.08,3.9,3.45,3.2,4.79,3.71,5.19,3.12,2.52,4.84,3.81,null,null,2.69]
[null,51,4.08,3.9,3.46,3.21,4.43,3.71,5.12,3.13,2.5299999999999998,4.75,3.82,null,null,2.69]
["D",52,4.07,3.89,3.45,3.2,4.59,3.71,5.0599999999999996,3.14,2.54,4.74,3.83,null,null,2.69]
[]
[]
[]
["3 – COTATION DES GROS BOVINS VIFS SUR LE MARCHE DE CHOLET (en Euro/Kg Net)"]
[]
[null,null,"GENISSES",null,"VACHES",null,null,null,"JEUNES BOVINS","TAUREAUX"]
["semaines","année+mois","Viande, mixte, lait","Viande, mixte, lait","Blonde","Blonde","Mixte","Lait","Viande","Viande, mixte, lait"]
[2019,null,"U","R","U","R","O","P","U","URO"]
[1,201901,4.3099999999999996,3.72,4.5,3.78,3,2.41,3.8,2.97]
[2,201901,4.3099999999999996,3.72,4.53,3.8,3,2.44,3.8,3]
[3,201901,4.33,3.74,4.55,3.8,3,2.44,3.8,3]
[4,201901,4.34,3.78,4.58,3.85,3.05,2.4700000000000002,3.83,3.05]
[5,201901,4.34,3.78,4.58,3.85,3.05,2.4700000000000002,3.83,3.05]
[6,201902,4.34,3.8,4.58,3.9,3.08,2.5,3.85,3.05]
[7,201902,4.34,3.8,4.58,3.9,3.08,2.5,3.85,3.05]
[8,201902,4.3499999999999996,3.82,4.5999999999999996,3.9,3.1,2.5499999999999998,3.85,3.05]
[9,201902,4.3499999999999996,3.82,4.5999999999999996,3.9,3.1,2.57,3.85,3.05]
[10,201903,4.3499999999999996,3.83,4.63,3.9,3.1,2.59,3.85,3.05]
[11,201903,4.3499999999999996,3.85,4.63,3.9,3.13,2.62,3.85,3.05]
[12,201903,4.3499999999999996,3.85,4.63,3.9,3.13,2.62,3.83,3.05]
[13,201903,4.3499999999999996,3.85,4.63,3.9,3.13,2.62,3.81,3.05]
[14,201904,4.3499999999999996,3.85,4.63,3.9,3.13,2.62,3.8,3.05]
[15,201904,4.3499999999999996,3.85,4.63,3.92,3.13,2.65,3.8,3.05]
[16,201904,4.3600000000000003,3.86,4.68,3.95,3.15,2.68,3.8,3.05]
[17,201904,4.37,3.86,4.68,3.95,3.15,2.7,3.8,3.05]
[18,201905,4.37,3.86,4.68,3.95,3.15,2.72,3.8,3.05]
[19,201905,4.37,3.86,4.68,3.95,3.18,2.75,3.8,3.05]
[20,201905,4.3899999999999997,3.86,4.7,3.95,3.2,2.77,3.8,3.05]
[21,201905,4.3899999999999997,3.86,4.7,3.95,3.2,2.77,3.8,3.05]
[22,201905,4.3899999999999997,3.86,4.7300000000000004,3.95,3.2,2.8,3.8,3.05]
[23,201906,4.3899999999999997,3.86,4.7300000000000004,3.95,3.2,2.8,3.8,3.05]
[24,201906,4.3899999999999997,3.86,4.7300000000000004,3.95,3.2,2.77,3.8,3.05]
[25,201906,4.3899999999999997,3.86,4.7300000000000004,3.95,3.2,2.77,3.8,3.05]
[26,201906,4.3899999999999997,3.86,4.7300000000000004,3.95,3.2,2.77,3.8,3.05]
[27,201907,4.3899999999999997,3.84,4.7300000000000004,3.95,3.2,2.75,3.8,3.05]
[28,201907,4.3899999999999997,3.84,4.7300000000000004,3.95,3.2,2.75,3.8,3.05]
[29,201907,4.3899999999999997,3.83,4.7300000000000004,3.95,3.2,2.72,3.8,3.05]
[30,201907,4.38,3.81,4.7300000000000004,3.95,3.18,2.7,3.82,3.05]
[31,201908,4.38,3.81,4.7300000000000004,3.95,3.18,2.68,3.85,3.05]
[32,201908,4.38,3.81,4.7300000000000004,3.95,3.18,2.68,3.87,3.05]
[33,201908,4.38,3.82,4.75,3.96,3.2,2.7,3.89,3.05]
[34,201908,4.3600000000000003,3.82,4.75,3.96,3.2,2.7,3.91,3.05]
[35,201908,null,null,4.75,3.96,3.2,2.7,3.91,3.05]
[36,201909,4.3600000000000003,3.81,4.75,3.96,3.2,2.7,3.9,3.05]
[37,201909,4.3499999999999996,3.78,4.75,3.95,3.2,2.67,3.88,3.05]
[38,201909,4.33,3.74,4.75,3.95,3.18,2.64,3.86,3.05]
[39,201909,4.33,3.74,4.75,3.95,3.16,2.61,3.84,3.05]
[40,201910,4.32,3.74,4.75,3.95,3.13,2.56,3.82,3]
[41,201910,4.29,3.72,4.72,3.92,3.1,2.65,3.82,3]
[42,201910,4.29,3.72,4.72,3.92,3.1,2.5,3.82,3]
[43,201910,4.29,3.72,4.72,3.92,3.1,2.4500000000000002,3.82]
[44,201910,4.29,3.72,4.72,3.92,3.08,2.4500000000000002,3.85]
[45,201911,4.29,3.72,4.7,3.9,3.05,2.4300000000000002,3.87]
[46,201911,4.29,3.72,4.7,3.9,3.05,2.4300000000000002,3.87]
[47,201911,4.29,3.72,4.7,3.9,3.05,2.4,3.9]
[48,201911,4.29,3.72,4.7,3.9,3.05,2.4,3.93]
[49,201912,4.29,3.72,4.7,3.9,3.05,2.4,3.93]
[50,201912,4.29,3.72,4.7,3.9,3.05,2.4,3.93]
[51,201912,4.29,3.72,4.7,3.9,3.05,2.4,3.93]
[52,201912]

{"sheet":"GrosBovins 2018","index":13,"n_rows":128,"n_cols":16,"rows_kept":128,"cut":false,"hidden":true,"merged":[[73,2,73,3],[73,4,73,7],[13,2,13,4],[13,6,13,10],[13,11,13,12],[14,2,14,3],[14,6,14,7],[14,11,14,12]]}
["COTATIONS DES GROS BOVINS"]
["Source : DRAAF Pays de la Loire - SRISE - FranceAgriMer",null,null,null,null,null,null,null,null,null,"mise à jour : 07/01/2019"]
[]
[]
["1 – COTATION REGIONALE GRAND OUEST ENTREE ABATTOIR en €/Kg net"]
[]
["2 – MOYENNE NATIONALE DES BOVINS MAIGRES DESTINES A L'ENGRAISSEMENT CHAROLAIS MALE de 6-12 mois catégorie U (300kg) en €/kg vif"]
[]
["3 – COTATION DES GROS BOVINS VIFS SUR LE MARCHE DE CHOLET (en Euro/Kg Net) – à partir de la ligne 72"]
[]
[null,null,null,null,null,null,null,null,null,null,null,null,null,null,null,"2- COT. HEBDO"]
["1 – COTATION REGIONALE ENTREE ABATTOIR GRAND OUEST FRANCEAGRIMER-HEBDOMADAIRE (€/Kg net)",null,null,null,null,null,null,null,null,null,null,null,null,null,null,"MAIGRE   €/kg vif"]
[null,null,null,null,null,null,null,null,null,null,null,null,null,null,null,"Ref. nationale"]
["Année","Sem.","JEUNES BOVINS",null,null,"BOEUFS","VACHES",null,null,null,null,"GENISSES",null,null,null,"Charolais Mâles"]
[null,null,"VIANDE",null,"MIXTE","MIXTE","VIANDE",null,"Blonde","MIXTE","LAIT","VIANDES + 350kg"]
[null,null,"U","R","O","O","U","R","U","O","P","U","R",null,null,"6/12 mois  ( U )"]
[2018,1,4.2,3.98,3.62,3.31,4.4000000000000004,3.71,5.05,3.26,2.67,4.8600000000000003,3.78,null,null,2.76]
[null,2,4.18,3.96,3.64,3.3,4.3499999999999996,3.68,5.0199999999999996,3.26,2.7,4.7699999999999996,3.8,null,null,2.78]
[null,3,4.16,3.95,3.63,3.32,4.4400000000000004,3.66,5.09,3.26,2.71,4.6500000000000004,3.8,null,null,2.8]
[null,4,4.13,3.93,3.63,3.3,4.3899999999999997,3.68,5.04,3.24,2.7,4.7300000000000004,3.81,null,null,2.81]
["J",5,4.1100000000000003,3.91,3.66,3.29,4.41,3.67,4.99,3.23,2.7,4.79,3.84,null,null,2.84]
[null,6,4.09,3.87,3.65,3.27,4.38,3.65,4.96,3.23,2.71,4.6900000000000004,3.77,null,null,2.85]
[null,7,4.07,3.86,3.64,3.27,4.3899999999999997,3.63,5.04,3.25,2.74,4.66,3.8,null,null,2.85]
[null,8,4.05,3.85,3.64,3.26,4.34,3.64,4.99,3.28,2.76,4.6399999999999997,3.78,null,null,2.85]
["F",9,4.04,3.84,3.65,3.31,4.41,3.63,5.05,3.29,2.79,4.75,3.74,null,null,2.85]
[null,10,4.0599999999999996,3.88,3.67,3.32,4.4000000000000004,3.68,5.0199999999999996,3.32,2.84,4.66,3.78,null,null,2.86]
[null,11,4.07,3.89,3.68,3.34,4.49,3.68,5.0199999999999996,3.34,2.87,4.8,3.82,null,null,2.9]
[null,12,4.08,3.89,3.68,3.37,4.84,3.69,5.1100000000000003,3.34,2.88,4.91,3.8,null,null,2.9]
["M",13,4.07,3.87,3.65,3.36,4.4400000000000004,3.7,5.03,3.34,2.88,4.7,3.8,null,null,2.9]
[null,14,4.0599999999999996,3.85,3.6,3.35,4.6399999999999997,3.71,5.05,3.31,2.86,4.8099999999999996,3.77,null,null,2.92]
[null,15,4.03,3.81,3.57,3.33,4.45,3.7,5.0199999999999996,3.29,2.83,4.68,3.81,null,null,2.91]
[null,16,3.99,3.79,3.51,3.32,4.45,3.7,5.09,3.29,2.84,4.76,3.8,null,null,2.92]
["A",17,3.96,3.75,3.48,3.31,4.46,3.71,5.04,3.31,2.87,4.76,3.82,null,null,2.92]
[null,18,3.93,3.71,3.47,3.35,4.41,3.71,5.04,3.34,2.9,4.72,3.81,null,null,2.92]
[null,19,3.91,3.71,3.47,3.37,4.4400000000000004,3.72,5.14,3.36,2.94,4.75,3.81,null,null,2.92]
[null,20,3.9,3.72,3.47,3.39,4.4000000000000004,3.71,5.08,3.37,2.96,4.7300000000000004,3.82,null,null,2.96]
[null,21,3.9,3.7,3.46,3.43,4.46,3.76,5.04,3.37,2.96,4.78,3.85,null,null,2.96]
["M",22,3.91,3.71,3.44,3.43,4.37,3.75,5.14,3.38,2.97,4.82,3.82,null,null,2.97]
[null,23,3.89,3.71,3.38,3.42,4.37,3.73,5.04,3.38,2.96,4.74,3.83,null,null,2.97]
[null,24,3.89,3.69,3.36,3.42,4.42,3.73,5.0599999999999996,3.37,2.94,4.7,3.85,null,null,2.97]
[null,25,3.88,3.68,3.32,3.43,4.53,3.73,5.05,3.38,2.94,4.74,3.98,null,null,2.97]
["J",26,3.9,3.69,3.35,3.45,4.54,3.76,5.09,3.4,2.96,4.74,3.85,null,null,2.97]
[null,27,3.89,3.7,3.37,3.44,4.46,3.76,5.09,3.42,2.99,4.8,3.83,null,null,2.98]
[null,28,3.9,3.72,3.38,3.48,4.58,3.78,5.08,3.42,3.01,4.8,3.83,null,null,2.94]
[null,29,3.92,3.73,3.41,3.47,4.53,3.78,5.04,3.44,3.04,4.74,3.87,null,null,2.94]
["J",30,3.93,3.75,3.41,3.49,4.57,3.8,5.07,3.43,3.03,4.76,3.88,null,null,2.94]
[null,31,3.92,3.76,3.39,3.47,4.51,3.77,5.09,3.42,3,4.84,3.86,null,null,2.94]
[null,32,3.91,3.73,3.34,3.44,4.53,3.8,5.09,3.41,2.99,4.6900000000000004,3.89,null,null,2.94]
[null,33,3.9,3.71,3.35,3.44,4.55,3.77,5.17,3.42,2.95,4.68,3.88,null,null,2.99]
[null,34,3.9,3.71,3.34,3.45,4.54,3.81,5.07,3.43,2.96,4.8600000000000003,3.92,null,null,2.92]
["A",35,3.9,3.71,3.4,3.46,4.5599999999999996,3.81,4.9800000000000004,3.41,2.98,4.72,3.88,null,null,2.92]
[null,36,3.91,3.71,3.33,3.47,4.62,3.82,5.12,3.42,2.98,4.8,3.89,null,null,2.89]
[null,37,3.9,3.72,3.35,3.5,4.53,3.82,5.05,3.42,2.98,4.79,3.89,null,null,2.85]
[null,38,3.91,3.71,3.34,3.5,4.62,3.84,5.13,3.43,2.98,4.7,3.87,null,null,2.85]
["S",39,3.91,3.73,3.34,3.49,4.5999999999999996,3.83,5,3.42,2.98,4.75,3.89,null,null,2.83]
[null,40,3.9,3.7,3.35,3.46,4.72,3.82,5.09,3.41,2.95,4.8499999999999996,3.87,null,null,2.83]
[null,41,3.89,3.72,3.36,3.44,4.58,3.8,5.12,3.38,2.9,4.79,3.91,null,null,2.8]
[null,42,3.89,3.7,3.35,3.42,4.47,3.78,5.07,3.34,2.85,4.8099999999999996,3.86,null,null,2.8]
[null,43,3.87,3.68,3.37,3.37,4.6100000000000003,3.76,5.13,3.31,2.78,4.78,3.87,null,null,2.77]
["O",44,3.88,3.68,3.38,3.33,4.49,3.75,5.04,3.27,2.71,4.75,3.84,null,null,2.75]
[null,45,3.87,3.69,3.38,3.29,4.5,3.73,5.0599999999999996,3.25,2.65,4.7,3.84,null,null,2.73]
[null,46,3.9,3.71,3.4,3.27,4.5199999999999996,3.74,4.99,3.23,2.61,4.7699999999999996,3.83,null,null,2.73]
[null,47,3.92,3.72,3.39,3.26,4.5,3.73,5.14,3.19,2.6,4.75,3.8,null,null,2.73]
["N",48,3.94,3.76,3.43,3.26,4.42,3.75,5.0999999999999996,3.2,2.6,4.74,3.81,null,null,2.73]
[null,49,3.97,3.78,3.43,3.26,4.6900000000000004,3.75,5.19,3.21,2.61,4.8099999999999996,3.82,null,null,2.73]
[null,50,3.98,3.78,3.48,3.26,4.8099999999999996,3.75,5.12,3.23,2.6,4.92,3.84,null,null,2.73]
[null,51,3.98,3.79,3.45,3.29,4.41,3.74,5.08,3.24,2.61,4.75,3.87,null,null,2.73]
["D",52,3.98,3.81,3.45,3.3,4.46,3.76,5.07,3.25,2.62,4.7300000000000004,3.85,null,null,2.73]
[]
[]
[]
["3- COTATION DES GROS BOVINS VIFS SUR LE MARCHE DE CHOLET (en Euro/Kg Net)"]
[]
[null,null,"GENISSES",null,"VACHES",null,null,null,"JEUNES BOVINS","TAUREAUX"]
["semaines","année+mois","Viande, mixte, lait","Viande, mixte, lait","Blonde","Blonde","Mixte","Lait","Viande","Viande, mixte, lait"]
[2018,null,"U","R","U","R","O","P","U","URO"]
[1,201801,4.2699999999999996,3.62,4.42,3.65,3.07,2.41,4.03]
[2,201801,4.2699999999999996,3.6,4.42,3.65,3.07,2.41,4.01]
[3,201801,4.2699999999999996,3.6,4.42,3.65,3.07,2.41,4]
[4,201801,4.2699999999999996,3.6,4.42,3.65,3.07,2.41,4]
[5,201801,4.2699999999999996,3.59,4.42,3.65,3.07,2.41,3.98]
[6,201802,4.2699999999999996,3.59,4.42,3.59,3.07,2.41,3.96]
[7,201802,4.2699999999999996,3.6,4.42,3.65,3.1,2.44,3.94]
[8,201802,4.2699999999999996,3.63,4.42,3.67,3.13,2.4700000000000002,3.94]
[9,201802,4.29,3.66,4.42,3.7,3.15,2.5299999999999998,3.94]
[10,201803,4.3,3.7,4.42,3.7,3.2,2.58,3.95]
[11,201803,4.3,3.7,4.42,3.74,3.22,2.58,3.95]
[12,201803,4.3,3.7,4.42,3.74,3.22,2.6,3.95]
[13,201803,4.3,3.7,4.42,3.74,3.22,2.6,3.95]
[14,201804,4.3,3.68,4.4000000000000004,3.74,3.2,2.58,3.93]
[15,201804,4.3,3.68,4.4000000000000004,3.74,3.2,2.58,3.9]
[16,201804,4.3,3.68,4.4000000000000004,3.74,3.2,2.6,3.87]
[17,201804,4.3,3.68,4.4000000000000004,3.74,3.2,2.6,3.84]
[18,201805,4.3,3.71,4.4000000000000004,3.74,3.25,2.65,3.82]
[19,201805,4.33,3.73,4.43,3.76,3.28,2.68,3.82]
[20,201805,4.33,3.73,4.43,3.76,3.3,2.7,3.82]
[21,201805,4.33,3.73,4.43,3.76,3.3,2.7,3.82]
[22,201805,4.33,3.73,4.43,3.76,3.3,2.7,3.82]
[23,201806,4.33,3.72,4.43,3.76,3.28,2.68,3.8]
[24,201806,4.33,3.72,4.43,3.76,3.28,2.68,3.78]
[25,201806,4.33,3.72,4.43,3.76,3.28,2.68,3.78]
[26,201806,4.33,3.74,4.43,3.78,3.3,2.72,3.78]
[27,201807,4.33,3.74,4.43,3.78,3.33,2.76,3.78]
[28,201807,4.33,3.75,4.43,3.78,3.35,2.79,3.8]
[29,201807,4.33,3.75,4.43,3.78,3.35,2.82,3.8]
[30,201807,4.33,3.75,4.43,3.78,3.35,2.82,3.8]
[31,201808,4.33,3.75,4.43,3.78,3.32,2.8,3.8]
[32,201808,4.33,3.75,4.43,3.78,3.32,2.77,3.8]
[33,201808,4.3099999999999996,3.75,4.43,3.78,3.3,2.75,3.8]
[34,201808,4.32,3.76,4.45,3.8,3.3,2.75,3.8]
[35,201808,4.32,3.76,4.45,3.8,3.3,2.75,3.8]
[36,201809,4.32,3.76,4.5,3.8,3.3,2.78,3.8]
[37,201809,4.32,3.76,4.5,3.8,3.3,2.78,3.8]
[38,201809,4.32,3.77,4.53,3.82,3.3,2.78,3.8,3.03]
[39,201809,4.32,3.77,4.53,3.82,3.3,2.78,3.8,3.03]
[40,201810,4.32,3.77,4.53,3.82,3.27,2.75,3.8]
[41,201810,4.32,3.76,4.53,3.8,3.25,2.72,3.78]
[42,201810,4.32,3.73,4.5,3.78,3.2,2.67,3.76,2.97]
[43,201810,4.3099999999999996,3.72,4.5,3.76,3.15,2.6,3.76,2.97]
[44,201810,4.3099999999999996,3.72,4.5,3.76,3.1,2.54,3.76,2.97]
[45,201811,4.3099999999999996,3.72,4.5,3.76,3.05,2.46,3.76,2.97]
[46,201811,4.3099999999999996,3.72,4.5,3.76,3,2.41,3.76,2.97]
[47,201811,4.3099999999999996,3.72,4.5,3.76,3,2.41,3.8,2.97]
[48,201811,4.3099999999999996,3.72,4.5,3.76,3,2.41,3.8,2.97]
[49,201812,4.3099999999999996,3.7,4.5,3.76,3,2.41,3.8,2.97]
[50,201812,4.3099999999999996,3.69,4.5,3.76,3,2.41,3.8,2.97]
[51,201812]
[52,201812]

{"sheet":"GrosBovins2017","index":14,"n_rows":128,"n_cols":16,"rows_kept":128,"cut":false,"hidden":true,"merged":[[73,2,73,3],[73,4,73,7],[13,2,13,4],[13,6,13,10],[13,11,13,12],[14,2,14,3],[14,6,14,7],[14,11,14,12]]}
["COTATIONS DES GROS BOVINS"]
["Source : DRAAF Pays de la Loire - SRISE - FranceAgriMer"]
[]
[]
["1- COTATION REGIONALE GRAND OUEST ENTREE ABATTOIR en €/Kg net"]
[]
["2- MOYENNE NATIONALE DES BOVINS MAIGRES DESTINES A L'ENGRAISSEMENT CHAROLAIS MALE de 6-12 mois catégorie U (300kg)  en €/kg vif"]
[]
["3- COTATION DES GROS BOVINS VIFS SUR LE MARCHE DE CHOLET (en Euro/Kg Net) – à partir de la ligne 72"]
[]
[null,null,null,null,null,null,null,null,null,null,null,null,null,null,null," 2- COT. HEBDO"]
["1- COTATION REGIONALE ENTREE ABATTOIR GRAND OUEST FRANCEAGRIMER-HEBDOMADAIRE (€/Kg net)",null,null,null,null,null,null,null,null,null,null,null,null,null,null,"MAIGRE   €/kg vif"]
[null,null,null,null,null,null,null,null,null,null,null,null,null,null,null,"Ref. nationale"]
["Année","Sem.","JEUNES BOVINS",null,null,"BOEUFS","VACHES",null,null,null,null,"GENISSES",null,null,null,"Charolais Mâles"]
[null,null,"VIANDE",null,"MIXTE","MIXTE","VIANDE",null,"Blonde","MIXTE","LAIT","VIANDES + 350kg"]
[null,null,"U","R","O","O","U","R","U","O","P","U","R",null,null,"6/12 mois  ( U )"]
[2017,1,3.95,3.77,3.18,3.2,4.41,3.74,5.12,3.17,2.6,4.78,3.85,null,null,2.59]
[null,2,3.95,3.75,3.19,3.21,4.42,3.75,5.15,3.18,2.63,4.79,3.84,null,null,2.6]
[null,3,3.93,3.72,3.21,3.22,4.46,3.78,5.0599999999999996,3.19,2.64,4.82,3.83,null,null,2.6]
["J",4,3.92,3.72,3.2,3.22,4.3899999999999997,3.74,5.16,3.2,2.65,4.74,3.86,null,null,2.62]
[null,5,3.92,3.72,3.25,3.23,4.3899999999999997,3.77,5.05,3.23,2.67,4.6900000000000004,3.84,null,null,2.64]
[null,6,3.92,3.72,3.28,3.25,4.5599999999999996,3.77,5.2,3.24,2.69,4.78,3.84,null,null,2.67]
[null,7,3.94,3.74,3.3,3.28,4.58,3.79,5.17,3.26,2.72,4.6900000000000004,3.83,null,null,2.67]
["F",8,3.95,3.74,3.33,3.32,4.53,3.8,5.18,3.28,2.75,4.88,3.82,null,null,2.7]
[null,9,3.96,3.75,3.33,3.32,4.7300000000000004,3.81,5.16,3.3,2.78,4.8099999999999996,3.89,null,null,2.73]
[null,10,3.96,3.76,3.36,3.34,4.47,3.84,5.17,3.33,2.8,4.7699999999999996,3.9,null,null,2.75]
[null,11,3.96,3.77,3.37,3.35,4.55,3.9,5.2,3.34,2.82,4.8499999999999996,3.9,null,null,2.78]
[null,12,3.96,3.76,3.38,3.37,4.5,3.88,5.2,3.35,2.85,4.84,3.92,null,null,2.78]
["M",13,3.96,3.76,3.38,3.37,4.54,3.87,5.23,3.37,2.87,4.92,3.9,null,null,2.79]
[null,14,3.95,3.77,3.41,3.39,4.88,3.84,5.24,3.38,2.88,4.99,3.88,null,null,2.79]
[null,15,3.94,3.76,3.47,3.42,4.62,3.88,5.08,3.4,2.9,5,3.95,null,null,2.78]
[null,16,3.95,3.77,3.42,3.46,4.68,3.89,5.13,3.43,2.91,4.84,3.93,null,null,2.78]
["A",17,3.95,3.77,3.42,3.46,4.43,3.89,5.13,3.43,2.94,4.87,3.94,null,null,2.77]
[null,18,3.94,3.75,3.43,3.46,4.53,3.92,5.2,3.45,2.94,4.83,3.93,null,null,2.8]
[null,19,3.94,3.76,3.43,3.47,4.62,3.92,5.16,3.43,2.94,4.8600000000000003,3.93,null,null,2.8]
[null,20,3.95,3.74,3.43,3.47,4.6100000000000003,3.89,5.18,3.42,2.93,4.76,3.93,null,null,2.82]
["M",21,3.94,3.75,3.4,3.46,4.47,3.94,5.25,3.45,2.94,4.8899999999999997,3.95,null,null,2.83]
[null,22,3.95,3.77,3.4,3.5,4.54,3.96,5.22,3.48,2.95,4.83,3.96,null,null,2.84]
[null,23,3.95,3.77,3.4,3.51,4.54,3.93,5.15,3.47,2.96,4.87,3.96,null,null,2.84]
[null,24,3.96,3.78,3.43,3.49,4.62,3.92,5.16,3.47,2.98,4.8600000000000003,3.95,null,null,2.88]
[null,25,3.97,3.78,3.42,3.49,4.66,3.91,5.12,3.46,2.98,4.88,3.96,null,null,2.88]
["J",26,3.97,3.79,3.42,3.51,4.5599999999999996,3.9,5.16,3.47,2.96,4.8600000000000003,3.93,null,null,2.9]
[null,27,3.96,3.79,3.39,3.5,4.59,3.87,5.16,3.43,2.92,4.93,3.91,null,null,2.89]
[null,28,3.97,3.78,3.36,3.46,4.5599999999999996,3.87,5.16,3.41,2.88,4.93,3.93,null,null,2.88]
[null,29,3.97,3.81,3.38,3.46,4.53,3.85,5.19,3.39,2.86,4.8499999999999996,3.88,null,null,2.88]
["J",30,3.99,3.82,3.4,3.44,4.47,3.83,5.0999999999999996,3.43,2.86,4.74,3.88,null,null,2.88]
[null,31,4.01,3.83,3.43,3.48,4.46,3.84,5.1100000000000003,3.42,2.91,4.8,3.93,null,null,2.75]
[null,32,4.04,3.86,3.45,3.48,4.45,3.86,5.13,3.46,2.93,4.78,3.92,null,null,2.75]
[null,33,4.05,3.88,3.46,3.52,4.49,3.87,5.07,3.46,2.95,4.79,3.95,null,null,2.75]
["A",34,4.05,3.87,3.45,3.52,4.6100000000000003,3.88,5.17,3.47,2.97,4.87,3.88,null,null,2.85]
[null,35,4.07,3.86,3.47,3.5,4.59,3.86,5.14,3.47,2.98,4.8,3.88,null,null,2.85]
[null,36,4.0599999999999996,3.86,3.47,3.52,4.6500000000000004,3.85,5.0999999999999996,3.45,2.97,4.9400000000000004,3.9,null,null,2.83]
[null,37,4.07,3.85,3.48,3.5,4.6100000000000003,3.86,5.12,3.45,2.95,4.8600000000000003,3.93,null,null,2.79]
[null,38,4.07,3.88,3.47,3.48,4.63,3.84,5.09,3.44,2.93,4.8600000000000003,3.91,null,null,2.81]
["S",39,4.08,3.92,3.47,3.48,4.57,3.86,5.16,3.44,2.89,4.8099999999999996,3.94,null,null,2.8]
[null,40,4.09,3.92,3.55,3.46,4.57,3.88,5.15,3.43,2.88,4.8600000000000003,3.9,null,null,2.8]
[null,41,4.1100000000000003,3.94,3.56,3.47,4.41,3.83,5.0999999999999996,3.42,2.89,4.8499999999999996,3.89,null,null,2.79]
[null,42,4.1399999999999997,3.96,3.53,3.46,4.51,3.8,5.1100000000000003,3.44,2.91,4.8899999999999997,3.85,null,null,2.78]
["O",43,4.17,3.99,3.6,3.52,4.57,3.82,5.18,3.46,2.92,4.74,3.9,null,null,2.78]
[null,44,4.18,4.0199999999999996,3.63,3.51,4.63,3.85,5.0999999999999996,3.46,2.92,4.87,3.9,null,null,2.76]
[null,45,4.2,3.99,3.64,3.48,4.51,3.78,5.12,3.43,2.89,4.75,3.86,null,null,2.75]
[null,46,4.2,4.01,3.66,3.46,4.5,3.77,5.08,3.39,2.85,4.79,3.82,null,null,2.75]
["N",47,4.2,4.0199999999999996,3.63,3.43,4.4800000000000004,3.76,5.07,3.36,2.79,4.71,3.87,null,null,2.73]
[null,48,4.22,4.0199999999999996,3.63,3.37,4.45,3.74,5.05,3.31,2.73,4.8499999999999996,3.82,null,null,2.71]
[null,49,4.2300000000000004,4.03,3.65,3.3,4.75,3.76,5.13,3.28,2.7,4.8499999999999996,3.84,null,null,2.71]
[null,50,4.2300000000000004,4.04,3.67,3.29,4.78,3.71,5.14,3.24,2.66,4.84,3.82,null,null,2.72]
[null,51,4.2300000000000004,4.04,3.67,3.29,4.78,3.71,5.14,3.24,2.66,4.84,3.82,null,null,2.74]
["D",52,4.1900000000000004,3.99,3.62,3.28,4.51,3.69,5.05,3.28,2.66,4.8600000000000003,3.84,null,null,2.76]
[]
[]
[]
["3- COTATION DES GROS BOVINS VIFS SUR LE MARCHE DE CHOLET (en Euro/Kg Net)"]
[]
[null,null,"GENISSES",null,"VACHES",null,null,null,"JEUNES BOVINS","TAUREAUX"]
["semaines","année+mois","Viande, mixte, lait","Viande, mixte, lait","Blonde","Blonde","Mixte","Lait","Viande","Viande, mixte, lait"]
[2017,null,"U","R","U","R","O","P","U","URO"]
[1,201701,4.32,3.67,4.47,3.7,3.04,2.38,3.78]
[2,201701,4.32,3.67,4.47,3.7,3.04,2.38,3.78]
[3,201701,4.32,3.67,4.47,3.7,3.04,2.38,3.78]
[4,201701,4.32,3.68,4.47,3.7,3.06,2.38,3.8,2.75]
[5,201702,4.32,3.68,4.47,3.7,3.08,2.4,3.8,2.75]
[6,201702,4.32,3.71,4.47,3.7,3.11,2.4300000000000002,3.82,2.78]
[7,201702,4.34,3.72,4.47,3.7,3.14,2.48,3.84,2.8]
[8,201702,4.34,3.72,4.47,3.7,3.16,2.5,3.84,2.8]
[9,201703,4.34,3.72,4.47,3.7,3.18,2.5299999999999998,3.84,2.8]
[10,201703,4.3499999999999996,3.75,4.47,3.74,3.21,2.58,3.84,2.8]
[11,201703,4.3499999999999996,3.76,4.47,3.74,3.21,2.6,3.84,2.85]
[12,201703,4.3499999999999996,3.79,4.47,3.74,3.23,2.63,3.84,2.9]
[13,201703,4.37,3.79,4.47,3.76,3.23,2.63,3.82,2.9]
[14,201704,4.37,3.79,4.47,3.76,3.23,2.65,3.8,2.9]
[15,201704,4.37,3.79,4.47,3.76,3.25,2.67,3.8,2.9]
[16,201704,4.37,3.81,4.47,3.76,3.3,2.72,3.8,2.9]
[17,201704,4.37,3.81,4.47,3.76,3.3,2.72,3.8,2.9]
[18,201705,4.37,3.81,4.47,3.76,3.3,2.72,3.8,2.9]
[19,201705,4.37,3.8,4.47,3.76,3.3,2.72,3.8,2.9]
[20,201705,4.37,3.8,4.47,3.76,3.3,2.72,3.8,2.9]
[21,201705,4.37,3.82,4.49,3.78,3.3,2.72,3.8,2.9]
[22,201705,4.37,3.82,4.49,3.78,3.3,2.72,3.8,2.9]
[23,201706,4.37,3.82,4.49,3.78,3.3,2.72,3.8,2.9]
[24,201706,4.3499999999999996,3.79,4.49,3.75,3.3,2.72,3.8,2.9]
[25,201706,4.3499999999999996,3.75,4.49,3.75,3.28,2.72,3.8,2.9]
[26,201706,4.34,3.71,4.47,3.73,3.25,2.7,3.8,2.9]
[27,201707,4.33,3.7,4.4400000000000004,3.7,3.22,2.67,3.8,2.85]
[28,201707,4.33,3.7,4.4400000000000004,3.7,3.22,2.65,3.8,2.85]
[29,201707,4.32,3.7,4.4400000000000004,3.7,3.22,2.65,3.8,2.85]
[30,201707,4.3099999999999996,3.7,4.42,3.7,3.25,2.67,3.82,2.85]
[31,201708,4.3099999999999996,3.7,4.42,3.7,3.28,2.67,3.85,2.85]
[32,201708,4.3099999999999996,3.7,4.42,3.7,3.28,2.67,3.85,2.85]
[33,201708,4.3099999999999996,3.71,4.42,3.7,3.3,2.7,3.9,2.85]
[34,201708,4.3099999999999996,3.71,4.42,3.7,3.3,2.7,3.95,2.85]
[35,201708,4.3099999999999996,3.71,4.42,3.7,3.3,2.7,3.95,2.85]
[36,201709,4.3099999999999996,3.7,4.42,3.7,3.3,2.68,3.95,2.85]
[37,201709,4.3099999999999996,3.69,4.42,3.7,3.3,2.66,3.95,2.85]
[38,201709,4.3099999999999996,3.69,4.42,3.7,3.28,2.64,3.95,2.85]
[39,201709,4.3099999999999996,3.69,4.42,3.7,3.26,2.62,3.95,2.85]
[40,201710,4.3099999999999996,3.69,4.42,3.7,3.26,2.62,3.95,2.85]
[41,201710,4.3099999999999996,3.69,4.42,3.7,3.26,2.62,3.95,2.85]
[42,201710,4.3099999999999996,3.69,4.42,3.7,3.3,2.67,3.98,2.85]
[43,201710,4.3099999999999996,3.7,4.42,3.7,3.3,2.67,4.03,2.85]
[44,201711,4.3099999999999996,3.7,4.42,3.7,3.3,2.67,4.05,2.85]
[45,201711,4.3099999999999996,3.7,4.42,3.7,3.25,2.62,4.08,2.85]
[46,201711,4.3099999999999996,3.7,4.42,3.7,3.23,2.6,4.0999999999999996,2.85]
[47,201711,4.3099999999999996,3.67,4.42,3.7,3.2,2.5499999999999998,4.0999999999999996]
[48,201711,4.3099999999999996,3.66,4.42,3.7,3.15,2.5,4.0999999999999996]
[49,201712,4.3,3.64,4.42,3.68,3.1,2.4500000000000002,4.0999999999999996]
[50,201712,4.2699999999999996,3.64,4.42,3.68,3.07,2.41,4.07]
[51,201712]
[52,201712,4.2699999999999996,3.63,4.42,3.68,3.07,2.41,4.05]

{"sheet":"GrosBovins2016","index":15,"n_rows":68,"n_cols":51,"rows_kept":68,"cut":false,"hidden":true,"merged":[[13,43,13,44],[13,45,13,48],[14,2,14,3],[14,6,14,7],[14,11,14,12],[14,19,14,20],[14,23,14,24],[14,28,14,29],[13,2,13,4],[13,6,13,10],[13,19,13,21],[13,23,13,27],[13,33,13,34],[13,35,13,38]]}
["COTATIONS DES GROS BOVINS"]
["Source : DRAAF Pays de la Loire - SRISE - FranceAgriMer",null,null,null,null,null,null,null,null,null,"mise à jour : 13/01/2017"]
[]
[]
["COTATION REGIONALE GRAND OUEST ENTREE ABATTOIR en €/Kg net",null,null,null,null,null,null,null,null,null,null,null,null,null,null,null,null,null,null,null,null,null,null,null,null,null,null,null,null,null,null,"COTATION NATIONALE DES GROS BOVINS VIFS SUR LE MARCHE DE CHOLET (en Euro/Kg Net)"]
[]
["MOYENNE NATIONALE DES BOVINS MAIGRES DESTINES A L'ENGRAISSEMENT CHAROLAIS MALE de 6-12 mois catégorie U (300kg)  en €/kg vif"]
[]
[]
[]
[null,null,null,null,null,null,null,null,null,null,null,null,null,null,null," COT. HEBDO",null,null,null,null,null,null,null,null,null,null,null,null,null,null," COT. HEBDO"]
[null,null,null,"COTATION REGIONALE ENTREE ABATTOIR GRAND OUEST FRANCEAGRIMER-HEBDOMADAIRE (€/Kg net)",null,null,null,null,null,null,null,null,null,null,null,"MAIGRE   €/kg vif",null,null,null,null,"COTATION REGIONALE ENTREE ABATTOIR GRAND OUEST FRANCEAGRIMER-HEBDOMADAIRE (€/Kg net)",null,null,null,null,null,null,null,null,null,"MAIGRE   €/kg vif"]
[null,null,null,null,null,null,null,null,null,null,null,null,null,null,null,"Ref. nationale",null,null,null,null,null,null,null,null,null,null,null,null,null,null,"Ref. nationale"]
["Année","Sem.","JEUNES BOVINS",null,null,"BOEUFS","VACHES",null,null,null,null,"GENISSES",null,null,null,"Charolais Mâles",null,null,null,"JEUNES BOVINS",null,null,"BOEUFS","VACHES",null,null,null,null,"GENISSES",null,"Charolais Mâles",null,null,"GENISSES",null,"VACHES",null,null,null,"JEUNES BOVINS","TAUREAUX",null,null,"GENISSES",null,"VACHES",null,null,null,"JEUNES BOVINS","TAUREAUX"]
[null,null,"VIANDE",null,"MIXTE","MIXTE","VIANDE",null,"Blonde","MIXTE","LAIT","VIANDES + 350kg",null,null,null,null,null,"Année","Mois","VIANDE",null,"MIXTE","MIXTE","VIANDE",null,"Blonde","MIXTE","LAIT","VIANDES + 350kg",null,null,"semaines","année+mois","Viande, mixte, lait","Viande, mixte, lait","Blonde","Blonde","Mixte","Lait","Viande","Viande, mixte, lait",null,"année+mois","Viande, mixte, lait","Viande, mixte, lait","Blonde","Blonde","Mixte","Lait","Viande","Viande, mixte, lait"]
[null,null,"U","R","O","O","U","R","U","O","P","U","R",null,null,"6/12 mois  ( U )",null,null,null,"U","R","O","O","U","R","U","O","P","U","R","6/12 mois  ( U )",2016,null,"U","R","U","R","O","P","U","URO",null,2016,"U","R","U","R","O","P","U","URO"]
[2016,1,3.94,3.76,3.41,3.21,4.55,3.82,5.26,3.18,2.59,4.76,3.89,null,null,2.69,null,2016,"J",{"$f":"IF((C20)>0,AVERAGE(C17:C20),\"\")","v":3.9350000000000001},3.7475000000000001,3.4050000000000002,3.21,4.5225,3.7899999999999996,5.2099999999999991,3.1774999999999998,2.585,4.8049999999999997,3.8774999999999999,{"$f":"IF((P20)>0,AVERAGE(P17:P20),\"\")","v":2.72},1,201601,4.4800000000000004,3.84,4.7300000000000004,3.95,3,2.4,3.82,null,null,"J",{"$f":"IF((AH20)>0,AVERAGE(AH17:AH20),\"\")","v":4.4725000000000001},3.8174999999999999,4.7074999999999996,3.9450000000000003,3,2.4,3.8049999999999997,""]
[null,2,3.95,3.76,3.42,3.21,4.59,3.8,5.21,3.19,2.6,4.87,3.89,null,null,2.72,null,null,"F",{"$f":"IF((C24)>0,AVERAGE(C21:C24),\"\")","v":3.9075000000000002},3.7300000000000004,3.41,3.2250000000000001,4.4375,3.7699999999999996,5.1850000000000005,3.1975000000000002,2.605,4.8224999999999998,3.8474999999999997,{"$f":"IF((P24)>0,AVERAGE(P21:P24),\"\")","v":2.7524999999999999},2,201601,4.4800000000000004,3.82,4.7,3.95,3,2.4,3.8,null,null,"F",{"$f":"IF((AH24)>0,AVERAGE(AH21:AH24),\"\")","v":4.4525000000000006},3.8000000000000003,4.6500000000000004,3.9,3.0199999999999996,2.4250000000000003,3.8,""]
[null,3,3.93,3.74,3.4,3.22,4.5199999999999996,3.77,5.22,3.17,2.57,4.8099999999999996,3.87,null,null,2.73,null,null,"M",{"$f":"IF((C29)>0,AVERAGE(C25:C29),\"\")","v":3.91},3.7320000000000002,3.4299999999999997,3.3220000000000001,4.6340000000000003,3.7939999999999996,5.2859999999999996,3.2880000000000003,2.734,4.8540000000000001,3.8599999999999994,{"$f":"IF((P29)>0,AVERAGE(P25:P29),\"\")","v":2.774},3,201601,4.4800000000000004,3.82,4.7,3.95,3,2.4,3.8,null,null,"M",{"$f":"IF((AH29)>0,AVERAGE(AH25:AH29),\"\")","v":4.4640000000000004},3.8319999999999999,4.6459999999999999,3.9239999999999995,3.1119999999999997,2.5420000000000003,3.786,""]
["J",4,3.92,3.73,3.39,3.2,4.43,3.77,5.15,3.17,2.58,4.78,3.86,null,null,2.74,null,null,"A",{"$f":"IF((C33)>0,AVERAGE(C30:C33),\"\")","v":3.82},3.6425000000000001,3.3474999999999997,3.3024999999999998,4.5225,3.7324999999999999,5.2524999999999995,3.2749999999999999,2.7224999999999997,4.8000000000000007,3.8075000000000001,{"$f":"IF((P33)>0,AVERAGE(P30:P33),\"\")","v":2.7649999999999997},4,201601,4.45,3.79,4.7,3.93,3,2.4,3.8,null,null,"A",{"$f":"IF((AH33)>0,AVERAGE(AH30:AH33),\"\")","v":4.4050000000000002},3.7625000000000002,4.585,3.8874999999999997,3.1,2.5225,3.6524999999999999,""]
[null,5,3.91,3.73,3.4,3.22,4.45,3.76,5.17,3.18,2.58,4.87,3.84,null,null,2.75,null,null,"M",{"$f":"IF((C37)>0,AVERAGE(C34:C37),\"\")","v":3.72},3.5625,3.1975000000000002,3.2749999999999999,4.4325000000000001,3.6950000000000003,5.2149999999999999,3.2624999999999997,2.7250000000000001,4.7874999999999996,3.8024999999999993,{"$f":"IF((P37)>0,AVERAGE(P34:P37),\"\")","v":2.7799999999999994},5,201602,4.45,3.79,4.6500000000000004,3.9,3,2.4,3.8,null,null,"M",{"$f":"IF((AH37)>0,AVERAGE(AH34:AH37),\"\")","v":4.3849999999999998},3.73,4.5599999999999996,3.85,3.165,2.5199999999999996,3.58,""]
[null,6,3.9,3.72,3.41,3.21,4.37,3.78,5.14,3.19,2.59,4.8,3.84,null,null,2.74,null,null,"J",{"$f":"IF((C42)>0,AVERAGE(C38:C42),\"\")","v":3.7359999999999998},3.5760000000000005,3.1320000000000001,3.28,4.3499999999999996,3.6719999999999997,5.2080000000000002,3.25,2.7060000000000004,4.774,3.7659999999999996,{"$f":"IF((P42)>0,AVERAGE(P38:P42),\"\")","v":2.8340000000000001},6,201602,4.45,3.79,4.6500000000000004,3.9,3,2.4,3.8,null,null,"J",{"$f":"IF((AH42)>0,AVERAGE(AH38:AH42),\"\")","v":4.3760000000000003},3.6740000000000004,4.5599999999999996,3.8039999999999998,3.0660000000000003,2.504,3.5880000000000001,""]
[null,7,3.91,3.74,3.41,3.23,4.3899999999999997,3.77,5.19,3.2,2.61,4.78,3.86,null,null,2.76,null,null,"J",{"$f":"IF((C46)>0,AVERAGE(C43:C46),\"\")","v":3.7749999999999999},3.6524999999999999,3.05,3.2825000000000002,4.38,3.6749999999999998,5.1924999999999999,3.2649999999999997,2.7025000000000001,4.7874999999999996,3.75,{"$f":"IF((P46)>0,AVERAGE(P43:P46),\"\")","v":2.8024999999999998},7,201602,4.45,3.81,4.6500000000000004,3.9,3.03,2.4300000000000002,3.8,null,null,"J",{"$f":"IF((AH46)>0,AVERAGE(AH43:AH46),\"\")","v":4.3600000000000003},3.6349999999999998,4.5350000000000001,3.7725,3.0649999999999999,2.5299999999999998,3.6175000000000002,""]
["F",8,3.91,3.73,3.42,3.24,4.54,3.77,5.24,3.22,2.64,4.84,3.85,null,null,2.76,null,null,"A",{"$f":"IF((C50)>0,AVERAGE(C47:C50),\"\")","v":3.82},3.6549999999999994,3.0324999999999998,3.2925,4.4649999999999999,3.665,5.1675000000000004,3.26,2.6924999999999999,4.8075000000000001,3.7550000000000003,{"$f":"IF((P50)>0,AVERAGE(P47:P50),\"\")","v":2.79},8,201602,4.46,3.81,4.6500000000000004,3.9,3.05,2.4700000000000002,3.8,null,null,"A",{"$f":"IF((AH51)>0,AVERAGE(AH47:AH51),\"\")","v":4.3199999999999994},3.6119999999999997,4.5,3.726,3.0439999999999996,2.476,3.65,""]
[null,9,3.92,3.73,3.43,3.28,4.5,3.78,5.27,3.26,2.68,4.8099999999999996,3.85,null,null,2.69,null,null,"S",{"$f":"IF((C55)>0,AVERAGE(C51:C55),\"\")","v":3.7979999999999996},3.6,2.9,3.1339999999999995,4.492,3.6479999999999997,5.1740000000000004,3.1160000000000001,2.528,4.83,3.7300000000000004,{"$f":"IF((P55)>0,AVERAGE(P51:P55),\"\")","v":2.6240000000000001},9,201603,4.4800000000000004,3.83,4.6500000000000004,3.92,3.07,2.5,3.8,null,null,"S",{"$f":"IF((AH55)>0,AVERAGE(AH52:AH55),\"\")","v":4.3099999999999996},3.6,4.5,3.7,2.99,2.3699999999999997,3.65,""]
[null,10,3.92,3.73,3.42,3.29,4.5999999999999996,3.79,5.26,3.27,2.71,4.91,3.89,null,null,2.78,null,null,"O",{"$f":"IF((C59)>0,AVERAGE(C56:C59),\"\")","v":3.79},3.6025,2.9250000000000003,3.1175000000000002,4.4924999999999997,3.6950000000000003,5.1425000000000001,3.0949999999999998,2.52,4.7824999999999998,3.7350000000000003,{"$f":"IF((P59)>0,AVERAGE(P56:P59),\"\")","v":2.54},10,201603,4.4800000000000004,3.84,4.6500000000000004,3.92,3.1,2.5299999999999998,3.8,null,null,"O",{"$f":"IF((AH59)>0,AVERAGE(AH56:AH59),\"\")","v":4.3149999999999995},3.645,4.5,3.7,3.0049999999999999,2.35,3.65,""]
[null,11,3.91,3.75,3.43,3.34,4.88,3.81,5.4,3.29,2.75,4.88,3.87,null,null,2.79,null,null,"N",{"$f":"IF((C63)>0,AVERAGE(C60:C63),\"\")","v":3.8249999999999997},3.6375000000000002,3.0325000000000002,3.1575000000000002,4.5274999999999999,3.7350000000000003,5.15,3.1325000000000003,2.5700000000000003,4.7925000000000004,3.7749999999999999,{"$f":"IF((P63)>0,AVERAGE(P60:P63),\"\")","v":2.5300000000000002},11,201603,4.46,3.84,4.6500000000000004,3.92,3.13,2.56,3.8,null,null,"N",{"$f":"IF((AH64)>0,AVERAGE(AH60:AH64),\"\")","v":4.3239999999999998},3.6620000000000004,4.4819999999999993,3.7,3.0379999999999994,2.3579999999999997,3.7339999999999995,""]
[null,12,3.91,3.72,3.44,3.36,4.6399999999999997,3.8,5.28,3.31,2.76,4.87,3.85,null,null,2.8,null,null,"D",{"$f":"IF((C68)>0,AVERAGE(C64:C68),\"\")","v":3.9200000000000004},3.7340000000000004,3.1139999999999999,3.1559999999999997,4.6040000000000001,3.742,5.1660000000000004,3.1260000000000003,2.54,4.8400000000000007,3.7759999999999998,{"$f":"IF((P68)>0,AVERAGE(P64:P68),\"\")","v":2.5459999999999998},12,201603,4.46,3.84,4.6500000000000004,3.94,3.13,2.56,3.78,null,null,"D",{"$f":"IF((AH68)>0,AVERAGE(AH65:AH68),\"\")","v":4.32},3.66,4.47,3.7,3.01,2.35,3.8,""]
["M",13,3.89,3.73,3.43,3.34,4.55,3.79,5.22,3.31,2.77,4.8,3.84,null,null,2.81,null,null,null,null,null,null,null,null,null,null,null,null,null,null,null,13,201603,4.4400000000000004,3.81,4.63,3.92,3.13,2.56,3.75]
[null,14,3.87,3.7,3.41,3.34,4.58,3.77,5.29,3.31,2.76,4.7699999999999996,3.81,null,null,2.76,null,null,null,null,null,null,null,null,null,null,null,null,null,null,null,14,201604,4.42,3.79,4.5999999999999996,3.92,3.1,2.5499999999999998,3.71]
[null,15,3.84,3.66,3.38,3.32,4.55,3.75,5.27,3.3,2.74,4.78,3.81,null,null,2.77,null,null,null,null,null,null,null,null,null,null,null,null,null,null,null,15,201604,4.41,3.77,4.5999999999999996,3.9,3.1,2.52,3.67]
[null,16,3.8,3.62,3.32,3.29,4.51,3.72,5.22,3.25,2.7,4.83,3.81,null,null,2.76,null,null,null,null,null,null,null,null,null,null,null,null,null,null,null,16,201604,4.41,3.76,4.58,3.88,3.1,2.5099999999999998,3.63]
["A",17,3.77,3.59,3.28,3.26,4.45,3.69,5.23,3.24,2.69,4.82,3.8,null,null,2.77,null,null,null,null,null,null,null,null,null,null,null,null,null,null,null,17,201604,4.38,3.73,4.5599999999999996,3.85,3.1,2.5099999999999998,3.6]
[null,18,3.74,3.57,3.24,3.25,4.4000000000000004,3.68,5.24,3.24,2.69,4.78,3.82,null,null,2.76,null,null,null,null,null,null,null,null,null,null,null,null,null,null,null,18,201605,4.38,3.73,4.5599999999999996,3.85,3.2,2.5099999999999998,3.58]
[null,19,3.71,3.58,3.2,3.27,4.4000000000000004,3.7,5.25,3.27,2.72,4.84,3.8,null,null,2.78,null,null,null,null,null,null,null,null,null,null,null,null,null,null,null,19,201605,4.38,3.73,4.5599999999999996,3.85,3.2,2.5099999999999998,3.58]
[null,20,3.71,3.55,3.18,3.27,4.47,3.7,5.16,3.26,2.74,4.79,3.8,null,null,2.78,null,null,null,null,null,null,null,null,null,null,null,null,null,null,null,20,201605,4.3899999999999997,3.73,4.5599999999999996,3.85,3.13,2.5299999999999998,3.58]
["M",21,3.72,3.55,3.17,3.31,4.46,3.7,5.21,3.28,2.75,4.74,3.79,null,null,2.8,null,null,null,null,null,null,null,null,null,null,null,null,null,null,null,21,201605,4.3899999999999997,3.73,4.5599999999999996,3.85,3.13,2.5299999999999998,3.58]
[null,22,3.72,3.57,3.18,3.3,4.45,3.7,5.19,3.29,2.76,4.76,3.77,null,null,2.82,null,null,null,null,null,null,null,null,null,null,null,null,null,null,null,22,201606,4.3899999999999997,3.7,4.5599999999999996,3.82,3.1,2.5099999999999998,3.58]
[null,23,3.73,3.57,3.17,3.32,4.46,3.68,5.21,3.28,2.74,4.76,3.76,null,null,2.83,null,null,null,null,null,null,null,null,null,null,null,null,null,null,null,23,201606,4.38,3.68,4.5599999999999996,3.8,3.08,2.5099999999999998,3.58]
[null,24,3.75,3.59,3.15,3.29,4.3099999999999996,3.66,5.25,3.24,2.71,4.8,3.74,null,null,2.84,null,null,null,null,null,null,null,null,null,null,null,null,null,null,null,24,201606,4.37,3.67,4.5599999999999996,3.8,3.05,2.5,3.58]
[null,25,3.74,3.56,3.09,3.25,4.25,3.66,5.23,3.22,2.67,4.8499999999999996,3.8,null,null,2.84,null,null,null,null,null,null,null,null,null,null,null,null,null,null,null,25,201606,4.37,3.67,4.5599999999999996,3.8,3.05,2.5,3.6]
["J",26,3.74,3.59,3.07,3.24,4.28,3.66,5.16,3.22,2.65,4.7,3.76,null,null,2.84,null,null,null,null,null,null,null,null,null,null,null,null,null,null,null,26,201606,4.37,3.65,4.5599999999999996,3.8,3.05,2.5,3.6]
[null,27,3.75,3.61,3.04,3.25,4.4400000000000004,3.67,5.28,3.22,2.66,4.84,3.73,null,null,2.84,null,null,null,null,null,null,null,null,null,null,null,null,null,null,null,27,201607,4.3600000000000003,3.64,4.54,3.78,3.05,2.5,3.6]
[null,28,3.76,3.64,3.04,3.26,4.29,3.66,5.19,3.26,2.67,4.79,3.77,null,null,2.84,null,null,null,null,null,null,null,null,null,null,null,null,null,null,null,28,201607,4.3600000000000003,3.64,4.54,3.78,3.07,2.52,3.6]
[null,29,3.78,3.67,3.07,3.29,4.3600000000000003,3.68,5.14,3.28,2.72,4.72,3.74,null,null,2.78,null,null,null,null,null,null,null,null,null,null,null,null,null,null,null,29,201607,4.3600000000000003,3.64,4.54,3.78,3.07,2.5499999999999998,3.62]
["J",30,3.81,3.69,3.05,3.33,4.43,3.69,5.16,3.3,2.76,4.8,3.76,null,null,2.75,null,null,null,null,null,null,null,null,null,null,null,null,null,null,null,30,201607,4.3600000000000003,3.62,4.5199999999999996,3.75,3.07,2.5499999999999998,3.65]
[null,31,3.82,3.69,3.07,3.32,4.51,3.67,5.0999999999999996,3.31,2.75,4.71,3.79,null,null,2.75,null,null,null,null,null,null,null,null,null,null,null,null,null,null,null,31,201608,4.33,3.62,4.5,3.75,3.05,2.52,3.65]
[null,32,3.82,3.67,3.05,3.31,4.5,3.66,5.17,3.27,2.71,4.78,3.74,null,null,2.75,null,null,null,null,null,null,null,null,null,null,null,null,null,null,null,32,201608,4.33,3.62,4.5,3.75,3.05,2.5,3.65]
[null,33,3.82,3.63,3.02,3.28,4.42,3.66,5.19,3.25,2.69,4.8600000000000003,3.75,null,null,2.93,null,null,null,null,null,null,null,null,null,null,null,null,null,null,null,33,201608,4.32,3.61,4.5,3.73,3.05,2.48,3.65]
["A",34,3.82,3.63,2.99,3.26,4.43,3.67,5.21,3.21,2.62,4.88,3.74,null,null,2.73,null,null,null,null,null,null,null,null,null,null,null,null,null,null,null,34,201608,4.3099999999999996,3.61,4.5,3.7,3.05,2.46,3.65]
[null,35,3.81,3.61,2.94,3.19,4.41,3.67,5.13,3.18,2.58,4.79,3.79,null,null,2.69,null,null,null,null,null,null,null,null,null,null,null,null,null,null,null,35,201608,4.3099999999999996,3.6,4.5,3.7,3.02,2.42,3.65]
[null,36,3.8,3.61,2.91,3.15,4.59,3.65,5.17,3.13,2.54,4.91,3.72,null,null,2.66,null,null,null,null,null,null,null,null,null,null,null,null,null,null,null,36,201609,4.3099999999999996,3.6,4.5,3.7,3,2.4,3.65]
[null,37,3.79,3.6,2.87,3.13,4.4400000000000004,3.63,5.23,3.1,2.5299999999999998,4.79,3.73,null,null,2.65,null,null,null,null,null,null,null,null,null,null,null,null,null,null,null,37,201609,4.3099999999999996,3.6,4.5,3.7,3,2.38,3.65]
[null,38,3.8,3.59,2.89,3.11,4.49,3.64,5.22,3.09,2.5,4.8099999999999996,3.72,null,null,2.57,null,null,null,null,null,null,null,null,null,null,null,null,null,null,null,38,201609,4.3099999999999996,3.6,4.5,3.7,2.98,2.35,3.65]
["S",39,3.79,3.59,2.89,3.09,4.53,3.65,5.12,3.08,2.4900000000000002,4.8499999999999996,3.69,null,null,2.5499999999999998,null,null,null,null,null,null,null,null,null,null,null,null,null,null,null,39,201609,4.3099999999999996,3.6,4.5,3.7,2.98,2.35,3.65]
[null,40,3.78,3.6,2.89,3.11,4.54,3.69,5.17,3.09,2.5,4.75,3.76,null,null,2.54,null,null,null,null,null,null,null,null,null,null,null,null,null,null,null,40,201610,4.3099999999999996,3.62,4.5,3.7,2.95,2.35,3.65]
[null,41,3.78,3.59,2.91,3.11,4.43,3.68,5.12,3.08,2.5,4.79,3.73,null,null,2.54,null,null,null,null,null,null,null,null,null,null,null,null,null,null,null,41,201610,4.3099999999999996,3.64,4.5,3.7,3,2.35,3.65]
[null,42,3.8,3.59,2.93,3.11,4.54,3.7,5.18,3.09,2.52,4.79,3.74,null,null,2.5499999999999998,null,null,null,null,null,null,null,null,null,null,null,null,null,null,null,42,201610,4.3099999999999996,3.66,4.5,3.7,3.02,2.35,3.65]
["O",43,3.8,3.63,2.97,3.14,4.46,3.71,5.0999999999999996,3.12,2.56,4.8,3.71,null,null,2.5299999999999998,null,null,null,null,null,null,null,null,null,null,null,null,null,null,null,43,201610,4.33,3.66,4.5,3.7,3.05,2.35,3.65]
[null,44,3.8,3.61,3.02,3.15,4.55,3.73,5.13,3.15,2.57,4.7699999999999996,3.79,null,null,2.52,null,null,null,null,null,null,null,null,null,null,null,null,null,null,null,44,201611,4.33,3.66,4.5,3.7,3.05,2.37,3.67]
[null,45,3.81,3.62,3.02,3.16,4.55,3.74,5.13,3.13,2.59,4.78,3.75,null,null,2.54,null,null,null,null,null,null,null,null,null,null,null,null,null,null,null,45,201611,4.33,3.67,4.5,3.7,3.05,2.37,3.7]
[null,46,3.83,3.65,3.03,3.16,4.4400000000000004,3.73,5.17,3.13,2.57,4.88,3.78,null,null,2.54,null,null,null,null,null,null,null,null,null,null,null,null,null,null,null,46,201611,4.32,3.66,4.47,3.7,3.05,2.35,3.73]
["N",47,3.86,3.67,3.06,3.16,4.57,3.74,5.17,3.12,2.5499999999999998,4.74,3.78,null,null,2.52,null,null,null,null,null,null,null,null,null,null,null,null,null,null,null,47,201611,4.32,3.66,4.47,3.7,3.03,2.35,3.77]
[null,48,3.88,3.7,3.06,3.14,4.49,3.71,5.13,3.11,2.5299999999999998,4.79,3.75,null,null,2.5099999999999998,null,null,null,null,null,null,null,null,null,null,null,null,null,null,null,48,201611,4.32,3.66,4.47,3.7,3.01,2.35,3.8]
[null,49,3.91,3.72,3.09,3.14,4.71,3.76,5.19,3.11,2.52,4.88,3.77,null,null,2.5299999999999998,null,null,null,null,null,null,null,null,null,null,null,null,null,null,null,49,201612,4.32,3.66,4.47,3.7,3.01,2.35,3.8]
[null,50,3.93,3.74,3.12,3.15,4.8,3.74,5.19,3.11,2.5299999999999998,4.99,3.8,null,null,2.5499999999999998,null,null,null,null,null,null,null,null,null,null,null,null,null,null,null,50,201612,4.32,3.66,4.47,3.7,3.01,2.35,3.8]
[null,51,3.94,3.75,3.14,3.17,4.63,3.74,5.18,3.13,2.54,4.6399999999999997,3.74,null,null,2.57,null,null,null,null,null,null,null,null,null,null,null,null,null,null,null,51,201612,4.32,3.66,4.47,3.7,3.01,2.35,3.8]
["D",52,3.94,3.76,3.16,3.18,4.3899999999999997,3.76,5.14,3.17,2.58,4.9000000000000004,3.82,null,null,2.57,null,null,null,null,null,null,null,null,null,null,null,null,null,null,null,52,201612,4.32,3.66,4.47,3.7,3.01,2.35,3.8]

{"sheet":"GraphGrosBovins","index":16,"n_rows":167,"n_cols":16,"rows_kept":167,"cut":false,"hidden":false,"merged":[[152,1,152,2],[152,3,152,6],[134,2,134,4],[134,6,134,10],[134,11,134,12],[135,2,135,3],[135,6,135,7],[135,11,135,12],[52,2,52,12],[53,2,53,4],[53,6,53,10],[53,11,53,12],[54,2,54,3],[54,6,54,7],[54,11,54,12]]}
[]
[]
[]
[]
[]
[]
[]
[]
[]
[]
[]
[]
[]
[]
[]
[]
[]
[]
[]
[]
[]
[]
[]
[]
[]
[]
[]
[]
[]
[]
[]
[]
[]
[]
[]
[]
[]
[]
[]
[]
[]
[]
[]
[]
[]
[]
[]
[]
[]
[]
[null,null,null,null,null,null,null,null,null,null,null,null,null,null,null,{"$f":"GrosBovinsAnneeEnCours!P11","v":"Mis à jour : 04/06/2024"}]
[null,null,{"$f":"GrosBovinsAnneeEnCours!C11","v":0},null,null,null,null,null,null,null,null,null,null,null,null," COT. HEBDO"]
[null,null,"COTATION REGIONALE ENTREE ABATTOIR GRAND OUEST FRANCEAGRIMER-HEBDOMADAIRE (€/Kg net)",null,null,null,null,null,null,null,null,null,null,null,null,"MAIGRE   €/kg vif"]
[null,null,"JEUNES BOVINS",null,null,"BOEUFS","VACHES",null,null,null,null,"GENISSES",null,null,null,"Ref. nationale"]
["Année","Mois","VIANDE",null,"MIXTE","MIXTE","VIANDE",null,"Blonde","MIXTE","LAIT","VIANDES + 350kg",null,null,null,"Charolais Mâles"]
[null,null,"U","R","O","O","U","R","U","O","P","U","R",null,null,"6/12 mois  ( U ) 350 kg"]
[2024,"J",{"$f":"IF(GrosBovinsAnneeEnCours!C20>0,AVERAGE(GrosBovinsAnneeEnCours!C17:C20),NA())","v":5.4775},{"$f":"IF(GrosBovinsAnneeEnCours!D20>0,AVERAGE(GrosBovinsAnneeEnCours!D17:D20),NA())","v":5.3149999999999995},{"$f":"IF(GrosBovinsAnneeEnCours!E20>0,AVERAGE(GrosBovinsAnneeEnCours!E17:E20),NA())","v":4.8933333333333335},{"$f":"IF(GrosBovinsAnneeEnCours!F20>0,AVERAGE(GrosBovinsAnneeEnCours!F17:F20),NA())","v":4.6375000000000002},{"$f":"IF(GrosBovinsAnneeEnCours!G20>0,AVERAGE(GrosBovinsAnneeEnCours!G17:G20),NA())","v":5.8849999999999998},{"$f":"IF(GrosBovinsAnneeEnCours!H20>0,AVERAGE(GrosBovinsAnneeEnCours!H17:H20),NA())","v":5.4574999999999996},{"$f":"IF(GrosBovinsAnneeEnCours!I20>0,AVERAGE(GrosBovinsAnneeEnCours!I17:I20),NA())","v":6.4},{"$f":"IF(GrosBovinsAnneeEnCours!J20>0,AVERAGE(GrosBovinsAnneeEnCours!J17:J20),NA())","v":4.49},{"$f":"IF(GrosBovinsAnneeEnCours!K20>0,AVERAGE(GrosBovinsAnneeEnCours!K17:K20),NA())","v":3.9874999999999998},{"$f":"IF(GrosBovinsAnneeEnCours!L20>0,AVERAGE(GrosBovinsAnneeEnCours!L17:L20),NA())","v":6.1675000000000004},{"$f":"IF(GrosBovinsAnneeEnCours!M20>0,AVERAGE(GrosBovinsAnneeEnCours!M17:M20),NA())","v":5.4424999999999999},null,null,{"$f":"IF(GrosBovinsAnneeEnCours!P20>0,AVERAGE(GrosBovinsAnneeEnCours!P17:P20),NA())","v":3.3574999999999999}]
[null,"F",{"$f":"IF(GrosBovinsAnneeEnCours!C25>0,AVERAGE(GrosBovinsAnneeEnCours!C21:C25),NA())","v":5.5640000000000001},{"$f":"IF(GrosBovinsAnneeEnCours!D25>0,AVERAGE(GrosBovinsAnneeEnCours!D21:D25),NA())","v":5.4140000000000006},{"$f":"IF(GrosBovinsAnneeEnCours!E25>0,AVERAGE(GrosBovinsAnneeEnCours!E21:E25),NA())","v":{"$error":"#N/A"}},{"$f":"IF(GrosBovinsAnneeEnCours!F25>0,AVERAGE(GrosBovinsAnneeEnCours!F21:F25),NA())","v":4.7100000000000009},{"$f":"IF(GrosBovinsAnneeEnCours!G25>0,AVERAGE(GrosBovinsAnneeEnCours!G21:G25),NA())","v":{"$error":"#N/A"}},{"$f":"IF(GrosBovinsAnneeEnCours!H25>0,AVERAGE(GrosBovinsAnneeEnCours!H21:H25),NA())","v":5.49},{"$f":"IF(GrosBovinsAnneeEnCours!I25>0,AVERAGE(GrosBovinsAnneeEnCours!I21:I25),NA())","v":6.4799999999999995},{"$f":"IF(GrosBovinsAnneeEnCours!J25>0,AVERAGE(GrosBovinsAnneeEnCours!J21:J25),NA())","v":4.6180000000000003},{"$f":"IF(GrosBovinsAnneeEnCours!K25>0,AVERAGE(GrosBovinsAnneeEnCours!K21:K25),NA())","v":4.1399999999999997},{"$f":"IF(GrosBovinsAnneeEnCours!L25>0,AVERAGE(GrosBovinsAnneeEnCours!L21:L25),NA())","v":6.19},{"$f":"IF(GrosBovinsAnneeEnCours!M25>0,AVERAGE(GrosBovinsAnneeEnCours!M21:M25),NA())","v":5.4760000000000009},null,null,{"$f":"IF(GrosBovinsAnneeEnCours!P25>0,AVERAGE(GrosBovinsAnneeEnCours!P21:P25),NA())","v":3.4919999999999995}]
[null,"M",{"$f":"IF(GrosBovinsAnneeEnCours!C29>0,AVERAGE(GrosBovinsAnneeEnCours!C26:C29),NA())","v":5.56},{"$f":"IF(GrosBovinsAnneeEnCours!D29>0,AVERAGE(GrosBovinsAnneeEnCours!D26:D29),NA())","v":5.3949999999999996},{"$f":"IF(GrosBovinsAnneeEnCours!E29>0,AVERAGE(GrosBovinsAnneeEnCours!E26:E29),NA())","v":{"$error":"#N/A"}},{"$f":"IF(GrosBovinsAnneeEnCours!F29>0,AVERAGE(GrosBovinsAnneeEnCours!F26:F29),NA())","v":4.7549999999999999},{"$f":"IF(GrosBovinsAnneeEnCours!G29>0,AVERAGE(GrosBovinsAnneeEnCours!G26:G29),NA())","v":{"$error":"#N/A"}},{"$f":"IF(GrosBovinsAnneeEnCours!H29>0,AVERAGE(GrosBovinsAnneeEnCours!H26:H29),NA())","v":5.4825000000000008},{"$f":"IF(GrosBovinsAnneeEnCours!I29>0,AVERAGE(GrosBovinsAnneeEnCours!I26:I29),NA())","v":6.4974999999999996},{"$f":"IF(GrosBovinsAnneeEnCours!J29>0,AVERAGE(GrosBovinsAnneeEnCours!J26:J29),NA())","v":4.6425000000000001},{"$f":"IF(GrosBovinsAnneeEnCours!K29>0,AVERAGE(GrosBovinsAnneeEnCours!K26:K29),NA())","v":4.1724999999999994},{"$f":"IF(GrosBovinsAnneeEnCours!L29>0,AVERAGE(GrosBovinsAnneeEnCours!L26:L29),NA())","v":6.3},{"$f":"IF(GrosBovinsAnneeEnCours!M29>0,AVERAGE(GrosBovinsAnneeEnCours!M26:M29),NA())","v":5.4700000000000006},null,null,{"$f":"IF(GrosBovinsAnneeEnCours!P29>0,AVERAGE(GrosBovinsAnneeEnCours!P26:P29),NA())","v":3.625}]
[null,"A",{"$f":"IF(GrosBovinsAnneeEnCours!C33>0,AVERAGE(GrosBovinsAnneeEnCours!C30:C33),NA())","v":5.4499999999999993},{"$f":"IF(GrosBovinsAnneeEnCours!D33>0,AVERAGE(GrosBovinsAnneeEnCours!D30:D33),NA())","v":5.27},{"$f":"IF(GrosBovinsAnneeEnCours!E33>0,AVERAGE(GrosBovinsAnneeEnCours!E30:E33),NA())","v":{"$error":"#N/A"}},{"$f":"IF(GrosBovinsAnneeEnCours!F33>0,AVERAGE(GrosBovinsAnneeEnCours!F30:F33),NA())","v":4.7774999999999999},{"$f":"IF(GrosBovinsAnneeEnCours!G33>0,AVERAGE(GrosBovinsAnneeEnCours!G30:G33),NA())","v":{"$error":"#N/A"}},{"$f":"IF(GrosBovinsAnneeEnCours!H33>0,AVERAGE(GrosBovinsAnneeEnCours!H30:H33),NA())","v":5.49},{"$f":"IF(GrosBovinsAnneeEnCours!I33>0,AVERAGE(GrosBovinsAnneeEnCours!I30:I33),NA())","v":6.5149999999999988},{"$f":"IF(GrosBovinsAnneeEnCours!J33>0,AVERAGE(GrosBovinsAnneeEnCours!J30:J33),NA())","v":4.67},{"$f":"IF(GrosBovinsAnneeEnCours!K33>0,AVERAGE(GrosBovinsAnneeEnCours!K30:K33),NA())","v":4.1974999999999998},{"$f":"IF(GrosBovinsAnneeEnCours!L33>0,AVERAGE(GrosBovinsAnneeEnCours!L30:L33),NA())","v":6.2074999999999996},{"$f":"IF(GrosBovinsAnneeEnCours!M33>0,AVERAGE(GrosBovinsAnneeEnCours!M30:M33),NA())","v":5.45},null,null,{"$f":"IF(GrosBovinsAnneeEnCours!P33>0,AVERAGE(GrosBovinsAnneeEnCours!P30:P33),NA())","v":3.7149999999999999}]
[null,"M",{"$f":"IF(GrosBovinsAnneeEnCours!C38>0,AVERAGE(GrosBovinsAnneeEnCours!C34:C38),NA())","v":{"$error":"#N/A"}},{"$f":"IF(GrosBovinsAnneeEnCours!D38>0,AVERAGE(GrosBovinsAnneeEnCours!D34:D38),NA())","v":{"$error":"#N/A"}},{"$f":"IF(GrosBovinsAnneeEnCours!E38>0,AVERAGE(GrosBovinsAnneeEnCours!E34:E38),NA())","v":{"$error":"#N/A"}},{"$f":"IF(GrosBovinsAnneeEnCours!F38>0,AVERAGE(GrosBovinsAnneeEnCours!F34:F38),NA())","v":{"$error":"#N/A"}},{"$f":"IF(GrosBovinsAnneeEnCours!G38>0,AVERAGE(GrosBovinsAnneeEnCours!G34:G38),NA())","v":{"$error":"#N/A"}},{"$f":"IF(GrosBovinsAnneeEnCours!H38>0,AVERAGE(GrosBovinsAnneeEnCours!H34:H38),NA())","v":{"$error":"#N/A"}},{"$f":"IF(GrosBovinsAnneeEnCours!I38>0,AVERAGE(GrosBovinsAnneeEnCours!I34:I38),NA())","v":{"$error":"#N/A"}},{"$f":"IF(GrosBovinsAnneeEnCours!J38>0,AVERAGE(GrosBovinsAnneeEnCours!J34:J38),NA())","v":{"$error":"#N/A"}},{"$f":"IF(GrosBovinsAnneeEnCours!K38>0,AVERAGE(GrosBovinsAnneeEnCours!K34:K38),NA())","v":{"$error":"#N/A"}},{"$f":"IF(GrosBovinsAnneeEnCours!L38>0,AVERAGE(GrosBovinsAnneeEnCours!L34:L38),NA())","v":{"$error":"#N/A"}},{"$f":"IF(GrosBovinsAnneeEnCours!M38>0,AVERAGE(GrosBovinsAnneeEnCours!M34:M38),NA())","v":{"$error":"#N/A"}},null,null,{"$f":"IF(GrosBovinsAnneeEnCours!P38>0,AVERAGE(GrosBovinsAnneeEnCours!P34:P38),NA())","v":{"$error":"#N/A"}}]
[null,"J",{"$f":"IF(GrosBovinsAnneeEnCours!C42>0,AVERAGE(GrosBovinsAnneeEnCours!C39:C42),NA())","v":{"$error":"#N/A"}},{"$f":"IF(GrosBovinsAnneeEnCours!D42>0,AVERAGE(GrosBovinsAnneeEnCours!D39:D42),NA())","v":{"$error":"#N/A"}},{"$f":"IF(GrosBovinsAnneeEnCours!E42>0,AVERAGE(GrosBovinsAnneeEnCours!E39:E42),NA())","v":{"$error":"#N/A"}},{"$f":"IF(GrosBovinsAnneeEnCours!F42>0,AVERAGE(GrosBovinsAnneeEnCours!F39:F42),NA())","v":{"$error":"#N/A"}},{"$f":"IF(GrosBovinsAnneeEnCours!G42>0,AVERAGE(GrosBovinsAnneeEnCours!G39:G42),NA())","v":{"$error":"#N/A"}},{"$f":"IF(GrosBovinsAnneeEnCours!H42>0,AVERAGE(GrosBovinsAnneeEnCours!H39:H42),NA())","v":{"$error":"#N/A"}},{"$f":"IF(GrosBovinsAnneeEnCours!I42>0,AVERAGE(GrosBovinsAnneeEnCours!I39:I42),NA())","v":{"$error":"#N/A"}},{"$f":"IF(GrosBovinsAnneeEnCours!J42>0,AVERAGE(GrosBovinsAnneeEnCours!J39:J42),NA())","v":{"$error":"#N/A"}},{"$f":"IF(GrosBovinsAnneeEnCours!K42>0,AVERAGE(GrosBovinsAnneeEnCours!K39:K42),NA())","v":{"$error":"#N/A"}},{"$f":"IF(GrosBovinsAnneeEnCours!L42>0,AVERAGE(GrosBovinsAnneeEnCours!L39:L42),NA())","v":{"$error":"#N/A"}},{"$f":"IF(GrosBovinsAnneeEnCours!M42>0,AVERAGE(GrosBovinsAnneeEnCours!M39:M42),NA())","v":{"$error":"#N/A"}},null,null,{"$f":"IF(GrosBovinsAnneeEnCours!P42>0,AVERAGE(GrosBovinsAnneeEnCours!P39:P42),NA())","v":{"$error":"#N/A"}}]
[null,"J",{"$f":"IF(GrosBovinsAnneeEnCours!C46>0,AVERAGE(GrosBovinsAnneeEnCours!C43:C46),NA())","v":{"$error":"#N/A"}},{"$f":"IF(GrosBovinsAnneeEnCours!D46>0,AVERAGE(GrosBovinsAnneeEnCours!D43:D46),NA())","v":{"$error":"#N/A"}},{"$f":"IF(GrosBovinsAnneeEnCours!E46>0,AVERAGE(GrosBovinsAnneeEnCours!E43:E46),NA())","v":{"$error":"#N/A"}},{"$f":"IF(GrosBovinsAnneeEnCours!F46>0,AVERAGE(GrosBovinsAnneeEnCours!F43:F46),NA())","v":{"$error":"#N/A"}},{"$f":"IF(GrosBovinsAnneeEnCours!G46>0,AVERAGE(GrosBovinsAnneeEnCours!G43:G46),NA())","v":{"$error":"#N/A"}},{"$f":"IF(GrosBovinsAnneeEnCours!H46>0,AVERAGE(GrosBovinsAnneeEnCours!H43:H46),NA())","v":{"$error":"#N/A"}},{"$f":"IF(GrosBovinsAnneeEnCours!I46>0,AVERAGE(GrosBovinsAnneeEnCours!I43:I46),NA())","v":{"$error":"#N/A"}},{"$f":"IF(GrosBovinsAnneeEnCours!J46>0,AVERAGE(GrosBovinsAnneeEnCours!J43:J46),NA())","v":{"$error":"#N/A"}},{"$f":"IF(GrosBovinsAnneeEnCours!K46>0,AVERAGE(GrosBovinsAnneeEnCours!K43:K46),NA())","v":{"$error":"#N/A"}},{"$f":"IF(GrosBovinsAnneeEnCours!L46>0,AVERAGE(GrosBovinsAnneeEnCours!L43:L46),NA())","v":{"$error":"#N/A"}},{"$f":"IF(GrosBovinsAnneeEnCours!M46>0,AVERAGE(GrosBovinsAnneeEnCours!M43:M46),NA())","v":{"$error":"#N/A"}},null,null,{"$f":"IF(GrosBovinsAnneeEnCours!P46>0,AVERAGE(GrosBovinsAnneeEnCours!P43:P46),NA())","v":{"$error":"#N/A"}}]
[null,"A",{"$f":"IF(GrosBovinsAnneeEnCours!C51>0,AVERAGE(GrosBovinsAnneeEnCours!C47:C51),NA())","v":{"$error":"#N/A"}},{"$f":"IF(GrosBovinsAnneeEnCours!D51>0,AVERAGE(GrosBovinsAnneeEnCours!D47:D51),NA())","v":{"$error":"#N/A"}},{"$f":"IF(GrosBovinsAnneeEnCours!E51>0,AVERAGE(GrosBovinsAnneeEnCours!E47:E51),NA())","v":{"$error":"#N/A"}},{"$f":"IF(GrosBovinsAnneeEnCours!F51>0,AVERAGE(GrosBovinsAnneeEnCours!F47:F51),NA())","v":{"$error":"#N/A"}},{"$f":"IF(GrosBovinsAnneeEnCours!G51>0,AVERAGE(GrosBovinsAnneeEnCours!G47:G51),NA())","v":{"$error":"#N/A"}},{"$f":"IF(GrosBovinsAnneeEnCours!H51>0,AVERAGE(GrosBovinsAnneeEnCours!H47:H51),NA())","v":{"$error":"#N/A"}},{"$f":"IF(GrosBovinsAnneeEnCours!I51>0,AVERAGE(GrosBovinsAnneeEnCours!I47:I51),NA())","v":{"$error":"#N/A"}},{"$f":"IF(GrosBovinsAnneeEnCours!J51>0,AVERAGE(GrosBovinsAnneeEnCours!J47:J51),NA())","v":{"$error":"#N/A"}},{"$f":"IF(GrosBovinsAnneeEnCours!K51>0,AVERAGE(GrosBovinsAnneeEnCours!K47:K51),NA())","v":{"$error":"#N/A"}},{"$f":"IF(GrosBovinsAnneeEnCours!L51>0,AVERAGE(GrosBovinsAnneeEnCours!L47:L51),NA())","v":{"$error":"#N/A"}},{"$f":"IF(GrosBovinsAnneeEnCours!M51>0,AVERAGE(GrosBovinsAnneeEnCours!M47:M51),NA())","v":{"$error":"#N/A"}},null,null,{"$f":"IF(GrosBovinsAnneeEnCours!P51>0,AVERAGE(GrosBovinsAnneeEnCours!P47:P51),NA())","v":{"$error":"#N/A"}}]
[null,"S",{"$f":"IF(GrosBovinsAnneeEnCours!C55>0,AVERAGE(GrosBovinsAnneeEnCours!C52:C55),NA())","v":{"$error":"#N/A"}},{"$f":"IF(GrosBovinsAnneeEnCours!D55>0,AVERAGE(GrosBovinsAnneeEnCours!D52:D55),NA())","v":{"$error":"#N/A"}},{"$f":"IF(GrosBovinsAnneeEnCours!E55>0,AVERAGE(GrosBovinsAnneeEnCours!E52:E55),NA())","v":{"$error":"#N/A"}},{"$f":"IF(GrosBovinsAnneeEnCours!F55>0,AVERAGE(GrosBovinsAnneeEnCours!F52:F55),NA())","v":{"$error":"#N/A"}},{"$f":"IF(GrosBovinsAnneeEnCours!G55>0,AVERAGE(GrosBovinsAnneeEnCours!G52:G55),NA())","v":{"$error":"#N/A"}},{"$f":"IF(GrosBovinsAnneeEnCours!H55>0,AVERAGE(GrosBovinsAnneeEnCours!H52:H55),NA())","v":{"$error":"#N/A"}},{"$f":"IF(GrosBovinsAnneeEnCours!I55>0,AVERAGE(GrosBovinsAnneeEnCours!I52:I55),NA())","v":{"$error":"#N/A"}},{"$f":"IF(GrosBovinsAnneeEnCours!J55>0,AVERAGE(GrosBovinsAnneeEnCours!J52:J55),NA())","v":{"$error":"#N/A"}},{"$f":"IF(GrosBovinsAnneeEnCours!K55>0,AVERAGE(GrosBovinsAnneeEnCours!K52:K55),NA())","v":{"$error":"#N/A"}},{"$f":"IF(GrosBovinsAnneeEnCours!L55>0,AVERAGE(GrosBovinsAnneeEnCours!L52:L55),NA())","v":{"$error":"#N/A"}},{"$f":"IF(GrosBovinsAnneeEnCours!M55>0,AVERAGE(GrosBovinsAnneeEnCours!M52:M55),NA())","v":{"$error":"#N/A"}},null,null,{"$f":"IF(GrosBovinsAnneeEnCours!P55>0,AVERAGE(GrosBovinsAnneeEnCours!P52:P55),NA())","v":{"$error":"#N/A"}}]
[null,"O",{"$f":"IF(GrosBovinsAnneeEnCours!C60>0,AVERAGE(GrosBovinsAnneeEnCours!C56:C60),NA())","v":{"$error":"#N/A"}},{"$f":"IF(GrosBovinsAnneeEnCours!D60>0,AVERAGE(GrosBovinsAnneeEnCours!D56:D60),NA())","v":{"$error":"#N/A"}},{"$f":"IF(GrosBovinsAnneeEnCours!E60>0,AVERAGE(GrosBovinsAnneeEnCours!E56:E60),NA())","v":{"$error":"#N/A"}},{"$f":"IF(GrosBovinsAnneeEnCours!F60>0,AVERAGE(GrosBovinsAnneeEnCours!F56:F60),NA())","v":{"$error":"#N/A"}},{"$f":"IF(GrosBovinsAnneeEnCours!G60>0,AVERAGE(GrosBovinsAnneeEnCours!G56:G60),NA())","v":{"$error":"#N/A"}},{"$f":"IF(GrosBovinsAnneeEnCours!H60>0,AVERAGE(GrosBovinsAnneeEnCours!H56:H60),NA())","v":{"$error":"#N/A"}},{"$f":"IF(GrosBovinsAnneeEnCours!I60>0,AVERAGE(GrosBovinsAnneeEnCours!I56:I60),NA())","v":{"$error":"#N/A"}},{"$f":"IF(GrosBovinsAnneeEnCours!J60>0,AVERAGE(GrosBovinsAnneeEnCours!J56:J60),NA())","v":{"$error":"#N/A"}},{"$f":"IF(GrosBovinsAnneeEnCours!K60>0,AVERAGE(GrosBovinsAnneeEnCours!K56:K60),NA())","v":{"$error":"#N/A"}},{"$f":"IF(GrosBovinsAnneeEnCours!L60>0,AVERAGE(GrosBovinsAnneeEnCours!L56:L60),NA())","v":{"$error":"#N/A"}},{"$f":"IF(GrosBovinsAnneeEnCours!M60>0,AVERAGE(GrosBovinsAnneeEnCours!M56:M60),NA())","v":{"$error":"#N/A"}},null,null,{"$f":"IF(GrosBovinsAnneeEnCours!P60>0,AVERAGE(GrosBovinsAnneeEnCours!P56:P60),NA())","v":{"$error":"#N/A"}}]
[null,"N",{"$f":"IF(GrosBovinsAnneeEnCours!C64>0,AVERAGE(GrosBovinsAnneeEnCours!C61:C64),NA())","v":{"$error":"#N/A"}},{"$f":"IF(GrosBovinsAnneeEnCours!D64>0,AVERAGE(GrosBovinsAnneeEnCours!D61:D64),NA())","v":{"$error":"#N/A"}},{"$f":"IF(GrosBovinsAnneeEnCours!E64>0,AVERAGE(GrosBovinsAnneeEnCours!E61:E64),NA())","v":{"$error":"#N/A"}},{"$f":"IF(GrosBovinsAnneeEnCours!F64>0,AVERAGE(GrosBovinsAnneeEnCours!F61:F64),NA())","v":{"$error":"#N/A"}},{"$f":"IF(GrosBovinsAnneeEnCours!G64>0,AVERAGE(GrosBovinsAnneeEnCours!G61:G64),NA())","v":{"$error":"#N/A"}},{"$f":"IF(GrosBovinsAnneeEnCours!H64>0,AVERAGE(GrosBovinsAnneeEnCours!H61:H64),NA())","v":{"$error":"#N/A"}},{"$f":"IF(GrosBovinsAnneeEnCours!I64>0,AVERAGE(GrosBovinsAnneeEnCours!I61:I64),NA())","v":{"$error":"#N/A"}},{"$f":"IF(GrosBovinsAnneeEnCours!J64>0,AVERAGE(GrosBovinsAnneeEnCours!J61:J64),NA())","v":{"$error":"#N/A"}},{"$f":"IF(GrosBovinsAnneeEnCours!K64>0,AVERAGE(GrosBovinsAnneeEnCours!K61:K64),NA())","v":{"$error":"#N/A"}},{"$f":"IF(GrosBovinsAnneeEnCours!L64>0,AVERAGE(GrosBovinsAnneeEnCours!L61:L64),NA())","v":{"$error":"#N/A"}},{"$f":"IF(GrosBovinsAnneeEnCours!M64>0,AVERAGE(GrosBovinsAnneeEnCours!M61:M64),NA())","v":{"$error":"#N/A"}},null,null,{"$f":"IF(GrosBovinsAnneeEnCours!P64>0,AVERAGE(GrosBovinsAnneeEnCours!P61:P64),NA())","v":{"$error":"#N/A"}}]
[null,"D",{"$f":"IF(GrosBovinsAnneeEnCours!C68>0,AVERAGE(GrosBovinsAnneeEnCours!C65:C68),NA())","v":{"$error":"#N/A"}},{"$f":"IF(GrosBovinsAnneeEnCours!D68>0,AVERAGE(GrosBovinsAnneeEnCours!D65:D68),NA())","v":{"$error":"#N/A"}},{"$f":"IF(GrosBovinsAnneeEnCours!E68>0,AVERAGE(GrosBovinsAnneeEnCours!E65:E68),NA())","v":{"$error":"#N/A"}},{"$f":"IF(GrosBovinsAnneeEnCours!F68>0,AVERAGE(GrosBovinsAnneeEnCours!F65:F68),NA())","v":{"$error":"#N/A"}},{"$f":"IF(GrosBovinsAnneeEnCours!G68>0,AVERAGE(GrosBovinsAnneeEnCours!G65:G68),NA())","v":{"$error":"#N/A"}},{"$f":"IF(GrosBovinsAnneeEnCours!H68>0,AVERAGE(GrosBovinsAnneeEnCours!H65:H68),NA())","v":{"$error":"#N/A"}},{"$f":"IF(GrosBovinsAnneeEnCours!I68>0,AVERAGE(GrosBovinsAnneeEnCours!I65:I68),NA())","v":{"$error":"#N/A"}},{"$f":"IF(GrosBovinsAnneeEnCours!J68>0,AVERAGE(GrosBovinsAnneeEnCours!J65:J68),NA())","v":{"$error":"#N/A"}},{"$f":"IF(GrosBovinsAnneeEnCours!K68>0,AVERAGE(GrosBovinsAnneeEnCours!K65:K68),NA())","v":{"$error":"#N/A"}},{"$f":"IF(GrosBovinsAnneeEnCours!L68>0,AVERAGE(GrosBovinsAnneeEnCours!L65:L68),NA())","v":{"$error":"#N/A"}},{"$f":"IF(GrosBovinsAnneeEnCours!M68>0,AVERAGE(GrosBovinsAnneeEnCours!M65:M68),NA())","v":{"$error":"#N/A"}},null,null,{"$f":"IF(GrosBovinsAnneeEnCours!P68>0,AVERAGE(GrosBovinsAnneeEnCours!P65:P68),NA())","v":{"$error":"#N/A"}}]
[null,"Moyenne an",{"$f":"SUMIF(C57:C68,\"<>#N/A\",C57:C68)/COUNTIF(C57:C68,\"<>#N/A\")","v":5.5128749999999993},{"$f":"SUMIF(D57:D68,\"<>#N/A\",D57:D68)/COUNTIF(D57:D68,\"<>#N/A\")","v":5.3484999999999996},{"$f":"SUMIF(E57:E68,\"<>#N/A\",E57:E68)/COUNTIF(E57:E68,\"<>#N/A\")","v":4.8933333333333335},{"$f":"SUMIF(F57:F68,\"<>#N/A\",F57:F68)/COUNTIF(F57:F68,\"<>#N/A\")","v":4.72},5.8849999999999998,5.48,6.4731249999999996,4.6051250000000001,4.1243749999999997,6.2162500000000005,5.459625,null,null,{"$f":"SUMIF(P57:P68,\"<>#N/A\",P57:P68)/COUNTIF(P57:P68,\"<>#N/A\")","v":3.5473749999999997}]
[2023,"J",5.54,5.4,5.0999999999999996,5.0299999999999994,5.72,5.4224999999999994,6.1049999999999995,4.9350000000000005,4.5975000000000001,5.86,5.4150000000000009,null,null,3.39]
[null,"F",5.5274999999999999,5.41,null,4.99,5.75,5.4249999999999998,6.1750000000000007,4.93,4.59,5.8975,5.41,null,null,3.4400000000000004]
[null,"M",5.5939999999999994,5.4619999999999997,5.1425000000000001,5.1240000000000006,5.91,5.4980000000000002,6.242,5.0559999999999992,4.774,6.0020000000000007,5.4800000000000013,null,null,3.5219999999999998]
[null,"A",5.5750000000000002,5.4425000000000008,5.1124999999999998,5.1050000000000004,5.8599999999999994,5.4575000000000005,6.2449999999999992,5.0250000000000004,4.7200000000000006,6.0200000000000005,5.4649999999999999,null,null,3.57]
[null,"M",5.4975000000000005,5.37,null,5.0525000000000002,5.8533333333333326,5.4450000000000003,6.2949999999999999,4.9674999999999994,4.625,6.0674999999999999,5.4399999999999995,null,null,3.5825]
[null,"J",5.4380000000000006,5.2959999999999994,5.0299999999999994,5.08,null,5.484,6.2879999999999994,5.008,4.6899999999999995,6.0779999999999994,5.4659999999999993,null,null,3.6180000000000008]
[null,"J",5.3249999999999993,5.1624999999999996,4.9125000000000005,5,null,5.4399999999999995,6.29,4.915,4.5550000000000006,6.0625,5.4349999999999996,null,null,3.5199999999999996]
[null,"A",5.26,5.0980000000000008,4.8780000000000001,5.01,null,5.4859999999999998,6.3559999999999999,4.9219999999999997,4.5540000000000003,6.1025,5.452,null,null,3.4560000000000004]
[null,"S",5.3849999999999998,5.2275,null,5.08,null,5.5575000000000001,6.3624999999999998,5.0274999999999999,4.6825000000000001,6.1650000000000009,5.5250000000000004,null,null,3.5649999999999999]
[null,"O",5.4175000000000004,5.2649999999999997,4.9524999999999997,4.9824999999999999,null,5.5325000000000006,6.4050000000000002,4.9000000000000004,4.5249999999999995,6.1674999999999995,5.5050000000000008,null,null,3.4975000000000005]
[null,"N",5.4119999999999999,5.25,4.8059999999999992,4.7520000000000007,null,5.4479999999999995,6.403999999999999,4.6259999999999994,4.1559999999999997,6.1775000000000002,5.4399999999999995,null,null,3.3719999999999999]
[null,"D"]
[null,"Moyenne an",5.4519545454545453,5.3075909090909086,4.9917499999999997,5.0187272727272729,5.8186666666666662,5.4723636363636352,6.2879545454545456,4.9374545454545453,4.5880909090909086,6.0545454545454538,5.4575454545454543,null,null,3.5030000000000001]
[2022,"J",4.6399999999999997,4.4775,3.8250000000000002,3.8374999999999999,4.91,4.4225000000000003,5.5399999999999991,3.8074999999999997,3.56,5.16,4.3849999999999998,null,null,2.83]
[null,"F",4.8325000000000005,4.6675000000000004,4.085,4.1000000000000005,5.0475000000000003,4.63,5.6099999999999994,4.0724999999999998,3.9225000000000003,5.2799999999999994,4.57,null,null,2.8774999999999999]
[null,"M",5.0519999999999996,4.8800000000000008,4.46,4.4799999999999995,5.2279999999999998,4.8980000000000006,5.7099999999999991,4.444,4.2960000000000003,5.4560000000000004,4.8360000000000003,null,null,3.1259999999999999]
[null,"A",5.1875,5.0150000000000006,4.7,4.7149999999999999,5.4524999999999997,5.0774999999999997,5.8049999999999997,4.6774999999999993,4.53,5.6024999999999991,5.0575000000000001,null,null,3.35]
[null,"M",5.3025000000000002,5.1549999999999994,4.96,4.9800000000000004,5.5,5.2249999999999996,5.8725000000000005,4.95,4.8000000000000007,5.7074999999999996,5.21,null,null,3.4]
[null,"J",5.33,5.194,5.0220000000000002,5.09,5.5579999999999998,5.2879999999999994,5.9479999999999995,5.0419999999999998,4.87,5.734,5.2939999999999996,null,null,3.4460000000000002]
[null,"J",5.3125,5.17,5.0474999999999994,5.1324999999999994,5.585,5.2875000000000005,5.93,5.0674999999999999,4.8775000000000004,5.7550000000000008,5.3,null,null,3.43]
[null,"A",5.29,5.15,5.0324999999999998,5.1374999999999993,5.5549999999999997,5.2625000000000002,5.93,5.0775000000000006,4.8624999999999998,5.7350000000000003,5.2774999999999999,null,null,3.3624999999999998]
[null,"S",5.298,5.1740000000000004,5.0559999999999992,5.1539999999999999,5.66,5.3340000000000005,5.9960000000000004,5.1059999999999999,4.8800000000000008,5.7480000000000002,5.3339999999999996,null,null,3.4159999999999995]
[null,"O",5.3424999999999994,5.2225000000000001,5.085,5.1925000000000008,5.6899999999999995,5.4099999999999993,6.0299999999999994,5.1349999999999998,4.91,5.8225000000000007,5.375,null,null,3.4650000000000003]
[null,"N",5.4124999999999996,5.2850000000000001,5.08,5.1150000000000002,5.8,5.415,6.0674999999999999,5.0525000000000002,4.79,5.8574999999999999,5.3950000000000005,null,null,3.4950000000000001]
[null,"D",5.5140000000000002,5.3125,5.0980000000000008,5.0280000000000005,null,5.418000000000001,6.1119999999999992,4.9380000000000006,4.6120000000000001,5.9139999999999997,5.4159999999999995,null,null,3.3460000000000001]
[null,"Moyenne an",5.2095000000000002,5.0585833333333321,4.7875833333333331,4.8301666666666661,5.4532727272727266,5.1390000000000002,5.8792499999999999,4.7808333333333337,4.5758750000000008,5.6476666666666659,5.1208333333333345,null,null,3.2953333333333332]
[2021,"J",3.8275000000000001,3.66,3.4049999999999998,3.1524999999999999,4.5199999999999996,4.0225,5.1749999999999998,3.085,2.77,4.8525,4.0274999999999999,null,null,2.6124999999999998]
[null,"F",3.8725000000000001,3.7,3.43,3.1850000000000001,4.5374999999999996,4.05,5.2225000000000001,3.125,2.8025000000000002,4.8375000000000004,3.9950000000000001,null,null,2.59]
[null,"M",3.976,3.8039999999999998,3.47,3.262,4.7439999999999998,4.0999999999999996,5.3520000000000003,3.21,2.9220000000000002,5.0140000000000002,4.0380000000000003,null,null,2.66]
[null,"A",4.0199999999999996,3.84,3.4824999999999999,3.32,4.67,4.0949999999999998,5.37,3.2675000000000001,2.9750000000000001,5.03,4.0674999999999999,null,null,2.7225000000000001]
[null,"M",3.9950000000000001,3.81,3.47,3.4125000000000001,4.7024999999999997,4.09,5.45,3.32,3.0049999999999999,5,4.0525000000000002,null,null,2.75]
[null,"J",4,3.8279999999999998,3.492,3.492,4.7220000000000004,4.1139999999999999,5.42,3.4220000000000002,3.1019999999999999,5.0620000000000003,4.0839999999999996,null,null,2.734]
[null,"J",4.0274999999999999,3.8675000000000002,3.5125000000000002,3.56,4.7525000000000004,4.1349999999999998,5.4074999999999998,3.48,3.1724999999999999,5.0125000000000002,4.1050000000000004,null,null,2.73]
[null,"A",4.1074999999999999,3.9224999999999999,3.5649999999999999,3.62,4.7549999999999999,4.165,5.44,3.5474999999999999,3.2549999999999999,5.0549999999999997,4.1174999999999997,null,null,2.73]
[null,"S",4.1859999999999999,4.0179999999999998,3.6139999999999999,3.6659999999999999,4.8540000000000001,4.2140000000000004,5.4740000000000002,3.5939999999999999,3.3079999999999998,5.0979999999999999,4.1760000000000002,null,null,2.7759999999999998]
[null,"O",4.3049999999999997,4.1275000000000004,3.6575000000000002,3.6825000000000001,4.8550000000000004,4.2324999999999999,5.4749999999999996,3.6225000000000001,3.3250000000000002,5.0925000000000002,4.1725000000000003,null,null,2.82]
[null,"N",4.4725000000000001,4.3174999999999999,3.72,3.7475000000000001,4.8825000000000003,4.3049999999999997,5.5374999999999996,3.6974999999999998,3.415,5.1550000000000002,4.25,null,null,2.82]
[null,"D",4.5860000000000003,4.41,3.762,3.7879999999999998,4.96,4.3579999999999997,5.5439999999999996,3.734,3.4340000000000002,5.218,4.306,null,null,2.7974999999999999]
[null,"Moyenne an",4.1146250000000002,3.9420833333333301,3.5483750000000001,3.4906666666666699,4.7462499999999999,4.1567499999999997,5.4056249999999997,3.4254166666666701,3.1238333333333301,5.0355833333333297,4.1159583333333298,null,null,2.7285416666666702]
[2020,"J",4.0679999999999996,3.8959999999999999,3.5,3.2320000000000002,4.3940000000000001,3.7240000000000002,5.056,3.1480000000000001,2.552,4.66,3.8239999999999998,null,null,2.69]
[null,"F",4.0250000000000004,3.8525,3.5,3.2450000000000001,4.4349999999999996,3.7250000000000001,5.0549999999999997,3.1475,2.57,4.63,3.8174999999999999,null,null,2.7124999999999999]
[null,"M",3.97,3.7949999999999999,3.5125000000000002,3.2675000000000001,4.45,3.7675000000000001,5.1150000000000002,3.1775000000000002,2.6675,4.6725000000000003,3.8450000000000002,null,null,2.7825000000000002]
[null,"A",3.8679999999999999,3.7,3.37,3.1040000000000001,4.4539999999999997,3.7280000000000002,5.0999999999999996,3.036,2.6640000000000001,4.7619999999999996,3.8319999999999999,null,null,2.8279999999999998]
[null,"M",3.8450000000000002,3.69,3.375,3.1524999999999999,4.5324999999999998,3.8149999999999999,5.1025,3.1,2.8050000000000002,4.7350000000000003,3.8875000000000002,null,null,2.84]
[null,"J",3.8475000000000001,3.7174999999999998,3.3875000000000002,3.2275,4.585,4.0149999999999997,5.1550000000000002,3.1825000000000001,2.875,4.8475000000000001,4.0374999999999996,null,null,2.83]
[null,"J",3.8519999999999999,3.694,3.3780000000000001,3.234,4.5439999999999996,4.07,5.1840000000000002,3.2,2.8780000000000001,4.82,4.0839999999999996,null,null,2.794]
[null,"A",3.8174999999999999,3.6575000000000002,3.3450000000000002,3.24,4.5350000000000001,4.0875000000000004,5.19,3.2075,2.8774999999999999,4.8674999999999997,4.04,null,null,2.7374999999999998]
[null,"S",3.8,3.6419999999999999,3.3279999999999998,3.2480000000000002,4.6520000000000001,4.0780000000000003,5.194,3.2160000000000002,2.8820000000000001,4.8600000000000003,4.04,null,null,2.6819999999999999]
[null,"O",3.79,3.61,3.335,3.24,4.59,4.0824999999999996,5.18,3.2050000000000001,2.8624999999999998,4.8375000000000004,4.0199999999999996,null,null,2.6375000000000002]
[null,"N",4.1462500000000002,3.9849999999999999,3.5412499999999998,3.46875,4.6937499999999996,4.1900000000000004,5.3574999999999999,3.415,3.0987499999999999,5.0250000000000004,4.1287500000000001,null,null,2.72]
[null,"D",4.1544444444444402,3.97888888888889,3.55,3.4255555555555501,4.7922222222222199,4.1844444444444502,5.3822222222222198,3.35666666666667,3.0444444444444398,5.04,4.1455555555555597,null,null,2.6837499999999999]
[null,"Moyenne an",3.93197453703704,3.7681990740740701,3.4268541666666699,3.2570671296296299,4.5547893518518503,3.9555787037036998,5.1726018518518497,3.1993055555555601,2.8147245370370402,4.8130833333333296,3.9751504629629602,null,null,2.7448125000000001]
[2019,"J",4.0019999999999998,3.8239999999999998,3.496,3.3340000000000001,4.3879999999999999,3.7719999999999998,5.0279999999999996,3.2839999999999998,2.6720000000000002,4.66,3.8719999999999999,null,null,2.73]
[null,"F",4.0274999999999999,3.85,3.5175000000000001,3.3875000000000002,4.47,3.7974999999999999,5.0475000000000003,3.355,2.75,4.7024999999999997,3.855,null,null,2.7774999999999999]
[null,"M",4.0274999999999999,3.84,3.5325000000000002,3.4375,4.53,3.8325,5.0599999999999996,3.4125000000000001,2.8025000000000002,4.7725,3.8824999999999998,null,null,2.8574999999999999]
[null,"A",3.9775,3.7925,3.48,3.4350000000000001,4.6875,3.835,5.1224999999999996,3.4175,2.8174999999999999,4.8475000000000001,3.9049999999999998,null,null,2.87]
[null,"M",3.964,3.782,3.4180000000000001,3.468,4.5759999999999996,3.8559999999999999,5.1040000000000001,3.444,2.8959999999999999,4.7779999999999996,3.8980000000000001,null,null,2.895]
[null,"J",3.9550000000000001,3.7675000000000001,3.38,3.4624999999999999,4.4749999999999996,3.8424999999999998,5.0674999999999999,3.4449999999999998,2.9024999999999999,4.7625000000000002,3.9]
[null,"J",3.944,3.7559999999999998,3.3420000000000001,3.4340000000000002,4.5039999999999996,3.81,5.07,3.4159999999999999,2.8519999999999999,4.7039999999999997,3.8740000000000001,null,null,2.8]
[null,"A",3.9925000000000002,3.8,3.3475000000000001,3.41,4.4649999999999999,3.7675000000000001,5.1174999999999997,3.37,2.7850000000000001,4.75,3.8525,null,null,2.8]
[null,"S",4.01,3.82,3.395,3.395,4.5875000000000004,3.7825000000000002,5.0949999999999998,3.3424999999999998,2.7949999999999999,4.7725,3.835,null,null,2.7774999999999999]
[null,"O",3.9740000000000002,3.79,3.3759999999999999,3.2839999999999998,4.5659999999999998,3.74,5.0880000000000001,3.2280000000000002,2.6259999999999999,4.7279999999999998,3.8319999999999999,null,null,2.74]
[null,"N",4.0225,3.8424999999999998,3.42,3.2124999999999999,4.5125000000000002,3.7149999999999999,5.0525000000000002,3.145,2.5274999999999999,4.7074999999999996,3.81,null,null,2.7050000000000001]
[null,"D",4.0750000000000002,3.8975,3.4474999999999998,3.2,4.5875000000000004,3.7075,5.125,3.1274999999999999,2.5274999999999999,4.75,3.8250000000000002,null,null,2.69]
[null,"Moyenne an",3.9976250000000002,3.8134999999999999,3.42933333333333,3.3716666666666701,4.5290833333333298,3.7881666666666698,5.0814583333333303,3.3322500000000002,2.7461250000000001,4.7445833333333303,3.8617499999999998,null,null,2.7856818181818199]
[null,null,"JEUNES BOVINS",null,null,"BOEUFS","VACHES",null,null,null,null,"GENISSES",null,null,null,"Charolais Mâles"]
["Année","Mois","VIANDE",null,"MIXTE","MIXTE","VIANDE",null,"Blonde","MIXTE","LAIT","VIANDES + 350kg"]
[null,null,"U","R","O","O","U","R","U","O","P","U","R",null,null,"6/12 mois  ( U )"]
["Moyenne 5 ans","J",{"$f":"IFERROR(AVERAGE(C70,C83,C96,C109,C122),NA())","v":4.4154999999999998},{"$f":"IFERROR(AVERAGE(D70,D83,D96,D109,D122),NA())","v":4.2515000000000001},3.8652000000000002,3.7171999999999996,4.7863999999999987,4.2726999999999995,5.3807999999999998,3.6518999999999999,3.2302999999999997,5.0385,4.3046999999999995,null,null,{"$f":"IFERROR(AVERAGE(P70,P83,P96,P109,P122),NA())","v":2.8504999999999998}]
[null,"F",{"$f":"IFERROR(AVERAGE(C71,C84,C97,C110,C123),NA())","v":4.4569999999999999},4.2960000000000003,3.6331250000000002,3.7814999999999999,4.8479999999999999,4.3254999999999999,5.4219999999999997,3.726,3.3269999999999995,5.0694999999999997,4.3295000000000003,null,null,2.8795000000000002]
[null,"M",{"$f":"IFERROR(AVERAGE(C72,C85,C98,C111,C124),NA())","v":4.5238999999999994},4.3562000000000003,4.0235000000000003,3.9141999999999997,4.9724000000000004,4.4192,5.4957999999999991,3.8600000000000003,3.4924000000000008,5.1834000000000007,4.4163000000000006,null,null,2.9896000000000003]
[null,"A",{"$f":"IFERROR(AVERAGE(C73,C86,C99,C112,C125),NA())","v":4.525599999999999},4.3580000000000005,4.0289999999999999,3.9357999999999995,5.0247999999999999,4.4386000000000001,5.5284999999999993,3.8847,3.5412999999999997,5.2523999999999997,4.4654000000000007,null,null,3.0680999999999998]
[null,"M",{"$f":"IFERROR(AVERAGE(C74,C87,C100,C113,C126),NA())","v":4.5207999999999995},4.3613999999999997,3.8057499999999997,4.0130999999999997,5.0328666666666662,4.4861999999999993,5.5648,3.9563000000000001,3.6261999999999999,5.2575999999999992,4.4976000000000003,null,null,3.0934999999999997]
[null,"J",{"$f":"IFERROR(AVERAGE(C75,C88,C101,C114,C127),NA())","v":4.5141000000000009},4.3605999999999998,4.0622999999999996,4.0703999999999994,4.8350000000000009,4.5487000000000002,5.5756999999999994,4.0199000000000007,3.6879,5.2967999999999993,4.5562999999999985,null,null,3.1570000000000005]
[null,"J",{"$f":"IFERROR(AVERAGE(C76,C89,C102,C115,C128),NA())","v":4.4921999999999995},4.33,4.0385,4.0721000000000007,4.8463750000000001,4.5484999999999989,5.5762999999999998,4.0157000000000007,3.6670000000000003,5.2708000000000004,4.5595999999999997,null,null,3.0548000000000002]
[null,"A",{"$f":"IFERROR(AVERAGE(C77,C90,C103,C116,C129),NA())","v":4.4935},4.3255999999999997,4.0335999999999999,4.0834999999999999,4.8274999999999997,4.5536999999999992,5.6067,4.0249000000000006,3.6667999999999994,5.3019999999999996,4.5479000000000003,null,null,3.0172000000000003]
[null,"S",{"$f":"IFERROR(AVERAGE(C78,C91,C104,C117,C130),NA())","v":4.5358000000000001},4.3762999999999996,3.8482499999999993,4.1086,4.9383750000000006,4.5932000000000004,5.6242999999999999,4.0571999999999999,3.7094999999999998,5.3286999999999995,4.5819999999999999,null,null,3.0432999999999999]
[null,"O",{"$f":"IFERROR(AVERAGE(C79,C92,C105,C118,C131),NA())","v":4.5658000000000003},4.4030000000000005,4.0812000000000008,4.0763000000000007,4.9252500000000001,4.5995000000000008,5.6355999999999993,4.0181000000000004,3.6497000000000002,5.329600000000001,4.5809000000000006,null,null,3.0320000000000005]
[null,"N",{"$f":"IFERROR(AVERAGE(C80,C93,C106,C119,C132),NA())","v":4.6931500000000002},4.5359999999999996,4.1134500000000003,4.0591499999999998,4.9721875000000004,4.6146000000000003,5.6838000000000006,3.9872000000000001,3.5974499999999998,5.384500000000001,4.6047500000000001,null,null,3.0224000000000002]
[null,"D",{"$f":"IFERROR(AVERAGE(C81,C94,C107,C120,C133),NA())","v":4.5823611111111102},4.3997222222222225,3.964375,3.8603888888888873,4.7799074074074062,4.4169861111111128,5.5408055555555542,3.7890416666666673,3.40448611111111,5.2305000000000001,4.4231388888888894,null,null,2.8793124999999997]
[null,"Moyenne an",{"$f":"SUMIF(C138:C149,\"<>#N/A\",C138:C149)/COUNTIF(C138:C149,\"<>#N/A\")","v":4.5266425925925935},4.3628601851851849,3.9581874999999997,3.9743532407407405,4.8990884645061721,4.4847821759259263,5.5529254629629614,{"$f":"SUMIF(J138:J149,\"<>#N/A\",J138:J149)/COUNTIF(J138:J149,\"<>#N/A\")","v":3.9159118055555564},3.5500030092592598,5.2453583333333329,4.4890074074074073,null,null,{"$f":"SUMIF(P138:P149,\"<>#N/A\",P138:P149)/COUNTIF(P138:P149,\"<>#N/A\")","v":3.0072677083333326}]
[]
["COTATION DES GROS BOVINS VIFS SUR LE MARCHE DE CHOLET (en Euro/Kg Net)"]
[null,"GENISSES",null,"VACHES",null,null,null,"JEUNES BOVINS","TAUREAUX"]
["année+mois","Viande, mixte, lait","Viande, mixte, lait","Blonde","Blonde","Mixte","Lait","Viande","Viande, mixte, lait"]
[2024,"U","R","U","R","O","P","U","URO"]
["J",{"$f":"IF((GrosBovinsAnneeEnCours!C79)>0,AVERAGE(GrosBovinsAnneeEnCours!C76:C79),\"\")","v":""},{"$f":"IF((GrosBovinsAnneeEnCours!D79)>0,AVERAGE(GrosBovinsAnneeEnCours!D76:D79),\"\")","v":""},{"$f":"IF((GrosBovinsAnneeEnCours!E79)>0,AVERAGE(GrosBovinsAnneeEnCours!E76:E79),\"\")","v":6.1},{"$f":"IF((GrosBovinsAnneeEnCours!F79)>0,AVERAGE(GrosBovinsAnneeEnCours!F76:F79),\"\")","v":5.55},{"$f":"IF((GrosBovinsAnneeEnCours!G79)>0,AVERAGE(GrosBovinsAnneeEnCours!G76:G79),\"\")","v":4.2},{"$f":"IF((GrosBovinsAnneeEnCours!H79)>0,AVERAGE(GrosBovinsAnneeEnCours!H76:H79),\"\")","v":3.7666666666666671},{"$f":"IF((GrosBovinsAnneeEnCours!I79)>0,AVERAGE(GrosBovinsAnneeEnCours!I76:I79),\"\")","v":5.33},{"$f":"IF((GrosBovinsAnneeEnCours!J79)>0,AVERAGE(GrosBovinsAnneeEnCours!J76:J79),\"\")","v":""}]
["F",{"$f":"IF((GrosBovinsAnneeEnCours!C84)>0,AVERAGE(GrosBovinsAnneeEnCours!C80:C84),\"\")","v":""},{"$f":"IF((GrosBovinsAnneeEnCours!D84)>0,AVERAGE(GrosBovinsAnneeEnCours!D80:D84),\"\")","v":""},{"$f":"IF((GrosBovinsAnneeEnCours!E84)>0,AVERAGE(GrosBovinsAnneeEnCours!E80:E84),\"\")","v":6.1},{"$f":"IF((GrosBovinsAnneeEnCours!F84)>0,AVERAGE(GrosBovinsAnneeEnCours!F80:F84),\"\")","v":5.55},{"$f":"IF((GrosBovinsAnneeEnCours!G84)>0,AVERAGE(GrosBovinsAnneeEnCours!G80:G84),\"\")","v":4.331999999999999},{"$f":"IF((GrosBovinsAnneeEnCours!H84)>0,AVERAGE(GrosBovinsAnneeEnCours!H80:H84),\"\")","v":3.8600000000000003},{"$f":"IF((GrosBovinsAnneeEnCours!I84)>0,AVERAGE(GrosBovinsAnneeEnCours!I80:I84),\"\")","v":5.3739999999999997},{"$f":"IF((GrosBovinsAnneeEnCours!J84)>0,AVERAGE(GrosBovinsAnneeEnCours!J80:J84),\"\")","v":""}]
["M",{"$f":"IF((GrosBovinsAnneeEnCours!C88)>0,AVERAGE(GrosBovinsAnneeEnCours!C85:C88),\"\")","v":""},{"$f":"IF((GrosBovinsAnneeEnCours!D88)>0,AVERAGE(GrosBovinsAnneeEnCours!D85:D88),\"\")","v":""},{"$f":"IF((GrosBovinsAnneeEnCours!E88)>0,AVERAGE(GrosBovinsAnneeEnCours!E85:E88),\"\")","v":6.1},{"$f":"IF((GrosBovinsAnneeEnCours!F88)>0,AVERAGE(GrosBovinsAnneeEnCours!F85:F88),\"\")","v":5.55},{"$f":"IF((GrosBovinsAnneeEnCours!G88)>0,AVERAGE(GrosBovinsAnneeEnCours!G85:G88),\"\")","v":4.3499999999999996},{"$f":"IF((GrosBovinsAnneeEnCours!H88)>0,AVERAGE(GrosBovinsAnneeEnCours!H85:H88),\"\")","v":3.9},{"$f":"IF((GrosBovinsAnneeEnCours!I88)>0,AVERAGE(GrosBovinsAnneeEnCours!I85:I88),\"\")","v":5.3574999999999999},{"$f":"IF((GrosBovinsAnneeEnCours!J88)>0,AVERAGE(GrosBovinsAnneeEnCours!J85:J88),\"\")","v":""}]
["A",{"$f":"IF((GrosBovinsAnneeEnCours!C92)>0,AVERAGE(GrosBovinsAnneeEnCours!C89:C92),\"\")","v":""},{"$f":"IF((GrosBovinsAnneeEnCours!D92)>0,AVERAGE(GrosBovinsAnneeEnCours!D89:D92),\"\")","v":""},{"$f":"IF((GrosBovinsAnneeEnCours!E92)>0,AVERAGE(GrosBovinsAnneeEnCours!E89:E92),\"\")","v":6.1},{"$f":"IF((GrosBovinsAnneeEnCours!F92)>0,AVERAGE(GrosBovinsAnneeEnCours!F89:F92),\"\")","v":5.55},{"$f":"IF((GrosBovinsAnneeEnCours!G92)>0,AVERAGE(GrosBovinsAnneeEnCours!G89:G92),\"\")","v":4.3499999999999996},{"$f":"IF((GrosBovinsAnneeEnCours!H92)>0,AVERAGE(GrosBovinsAnneeEnCours!H89:H92),\"\")","v":3.9074999999999998},{"$f":"IF((GrosBovinsAnneeEnCours!I92)>0,AVERAGE(GrosBovinsAnneeEnCours!I89:I92),\"\")","v":5.2549999999999999},{"$f":"IF((GrosBovinsAnneeEnCours!J92)>0,AVERAGE(GrosBovinsAnneeEnCours!J89:J92),\"\")","v":""}]
["M",{"$f":"IF((GrosBovinsAnneeEnCours!C97)>0,AVERAGE(GrosBovinsAnneeEnCours!C93:C97),\"\")","v":""},{"$f":"IF((GrosBovinsAnneeEnCours!D97)>0,AVERAGE(GrosBovinsAnneeEnCours!D93:D97),\"\")","v":""},{"$f":"IF((GrosBovinsAnneeEnCours!E97)>0,AVERAGE(GrosBovinsAnneeEnCours!E93:E97),\"\")","v":6.13},{"$f":"IF((GrosBovinsAnneeEnCours!F97)>0,AVERAGE(GrosBovinsAnneeEnCours!F93:F97),\"\")","v":5.5900000000000007},{"$f":"IF((GrosBovinsAnneeEnCours!G97)>0,AVERAGE(GrosBovinsAnneeEnCours!G93:G97),\"\")","v":4.4375},{"$f":"IF((GrosBovinsAnneeEnCours!H97)>0,AVERAGE(GrosBovinsAnneeEnCours!H93:H97),\"\")","v":4.0200000000000005},{"$f":"IF((GrosBovinsAnneeEnCours!I97)>0,AVERAGE(GrosBovinsAnneeEnCours!I93:I97),\"\")","v":5.2},{"$f":"IF((GrosBovinsAnneeEnCours!J97)>0,AVERAGE(GrosBovinsAnneeEnCours!J93:J97),\"\")","v":""}]
["J",{"$f":"IF((GrosBovinsAnneeEnCours!C101)>0,AVERAGE(GrosBovinsAnneeEnCours!C98:C101),\"\")","v":""},{"$f":"IF((GrosBovinsAnneeEnCours!D101)>0,AVERAGE(GrosBovinsAnneeEnCours!D98:D101),\"\")","v":""},{"$f":"IF((GrosBovinsAnneeEnCours!E101)>0,AVERAGE(GrosBovinsAnneeEnCours!E98:E101),\"\")","v":""},{"$f":"IF((GrosBovinsAnneeEnCours!F101)>0,AVERAGE(GrosBovinsAnneeEnCours!F98:F101),\"\")","v":""},{"$f":"IF((GrosBovinsAnneeEnCours!G101)>0,AVERAGE(GrosBovinsAnneeEnCours!G98:G101),\"\")","v":""},{"$f":"IF((GrosBovinsAnneeEnCours!H101)>0,AVERAGE(GrosBovinsAnneeEnCours!H98:H101),\"\")","v":""},{"$f":"IF((GrosBovinsAnneeEnCours!I101)>0,AVERAGE(GrosBovinsAnneeEnCours!I98:I101),\"\")","v":""},{"$f":"IF((GrosBovinsAnneeEnCours!J101)>0,AVERAGE(GrosBovinsAnneeEnCours!J98:J101),\"\")","v":""}]
["J",{"$f":"IF((GrosBovinsAnneeEnCours!C105)>0,AVERAGE(GrosBovinsAnneeEnCours!C102:C105),\"\")","v":""},{"$f":"IF((GrosBovinsAnneeEnCours!D105)>0,AVERAGE(GrosBovinsAnneeEnCours!D102:D105),\"\")","v":""},{"$f":"IF((GrosBovinsAnneeEnCours!E105)>0,AVERAGE(GrosBovinsAnneeEnCours!E102:E105),\"\")","v":""},{"$f":"IF((GrosBovinsAnneeEnCours!F105)>0,AVERAGE(GrosBovinsAnneeEnCours!F102:F105),\"\")","v":""},{"$f":"IF((GrosBovinsAnneeEnCours!G105)>0,AVERAGE(GrosBovinsAnneeEnCours!G102:G105),\"\")","v":""},{"$f":"IF((GrosBovinsAnneeEnCours!H105)>0,AVERAGE(GrosBovinsAnneeEnCours!H102:H105),\"\")","v":""},{"$f":"IF((GrosBovinsAnneeEnCours!I105)>0,AVERAGE(GrosBovinsAnneeEnCours!I102:I105),\"\")","v":""},{"$f":"IF((GrosBovinsAnneeEnCours!J105)>0,AVERAGE(GrosBovinsAnneeEnCours!J102:J105),\"\")","v":""}]
["A",{"$f":"IF((GrosBovinsAnneeEnCours!C110)>0,AVERAGE(GrosBovinsAnneeEnCours!C106:C110),\"\")","v":""},{"$f":"IF((GrosBovinsAnneeEnCours!D110)>0,AVERAGE(GrosBovinsAnneeEnCours!D106:D110),\"\")","v":""},{"$f":"IF((GrosBovinsAnneeEnCours!E110)>0,AVERAGE(GrosBovinsAnneeEnCours!E106:E110),\"\")","v":""},{"$f":"IF((GrosBovinsAnneeEnCours!F110)>0,AVERAGE(GrosBovinsAnneeEnCours!F106:F110),\"\")","v":""},{"$f":"IF((GrosBovinsAnneeEnCours!G110)>0,AVERAGE(GrosBovinsAnneeEnCours!G106:G110),\"\")","v":""},{"$f":"IF((GrosBovinsAnneeEnCours!H110)>0,AVERAGE(GrosBovinsAnneeEnCours!H106:H110),\"\")","v":""},{"$f":"IF((GrosBovinsAnneeEnCours!I110)>0,AVERAGE(GrosBovinsAnneeEnCours!I106:I110),\"\")","v":""},{"$f":"IF((GrosBovinsAnneeEnCours!J110)>0,AVERAGE(GrosBovinsAnneeEnCours!J106:J110),\"\")","v":""}]
["S",{"$f":"IF((GrosBovinsAnneeEnCours!C114)>0,AVERAGE(GrosBovinsAnneeEnCours!C111:C114),\"\")","v":""},{"$f":"IF((GrosBovinsAnneeEnCours!D114)>0,AVERAGE(GrosBovinsAnneeEnCours!D111:D114),\"\")","v":""},{"$f":"IF((GrosBovinsAnneeEnCours!E114)>0,AVERAGE(GrosBovinsAnneeEnCours!E111:E114),\"\")","v":""},{"$f":"IF((GrosBovinsAnneeEnCours!F114)>0,AVERAGE(GrosBovinsAnneeEnCours!F111:F114),\"\")","v":""},{"$f":"IF((GrosBovinsAnneeEnCours!G114)>0,AVERAGE(GrosBovinsAnneeEnCours!G111:G114),\"\")","v":""},{"$f":"IF((GrosBovinsAnneeEnCours!H114)>0,AVERAGE(GrosBovinsAnneeEnCours!H111:H114),\"\")","v":""},{"$f":"IF((GrosBovinsAnneeEnCours!I114)>0,AVERAGE(GrosBovinsAnneeEnCours!I111:I114),\"\")","v":""},{"$f":"IF((GrosBovinsAnneeEnCours!J114)>0,AVERAGE(GrosBovinsAnneeEnCours!J111:J114),\"\")","v":""}]
["O",{"$f":"IF((GrosBovinsAnneeEnCours!C119)>0,AVERAGE(GrosBovinsAnneeEnCours!C115:C119),\"\")","v":""},{"$f":"IF((GrosBovinsAnneeEnCours!D119)>0,AVERAGE(GrosBovinsAnneeEnCours!D115:D119),\"\")","v":""},{"$f":"IF((GrosBovinsAnneeEnCours!E119)>0,AVERAGE(GrosBovinsAnneeEnCours!E115:E119),\"\")","v":""},{"$f":"IF((GrosBovinsAnneeEnCours!F119)>0,AVERAGE(GrosBovinsAnneeEnCours!F115:F119),\"\")","v":""},{"$f":"IF((GrosBovinsAnneeEnCours!G119)>0,AVERAGE(GrosBovinsAnneeEnCours!G115:G119),\"\")","v":""},{"$f":"IF((GrosBovinsAnneeEnCours!H119)>0,AVERAGE(GrosBovinsAnneeEnCours!H115:H119),\"\")","v":""},{"$f":"IF((GrosBovinsAnneeEnCours!I119)>0,AVERAGE(GrosBovinsAnneeEnCours!I115:I119),\"\")","v":""},{"$f":"IF((GrosBovinsAnneeEnCours!J119)>0,AVERAGE(GrosBovinsAnneeEnCours!J115:J119),\"\")","v":""}]
["N",{"$f":"IF((GrosBovinsAnneeEnCours!C123)>0,AVERAGE(GrosBovinsAnneeEnCours!C120:C123),\"\")","v":""},{"$f":"IF((GrosBovinsAnneeEnCours!D123)>0,AVERAGE(GrosBovinsAnneeEnCours!D120:D123),\"\")","v":""},{"$f":"IF((GrosBovinsAnneeEnCours!E123)>0,AVERAGE(GrosBovinsAnneeEnCours!E120:E123),\"\")","v":""},{"$f":"IF((GrosBovinsAnneeEnCours!F123)>0,AVERAGE(GrosBovinsAnneeEnCours!F120:F123),\"\")","v":""},{"$f":"IF((GrosBovinsAnneeEnCours!G123)>0,AVERAGE(GrosBovinsAnneeEnCours!G120:G123),\"\")","v":""},{"$f":"IF((GrosBovinsAnneeEnCours!H123)>0,AVERAGE(GrosBovinsAnneeEnCours!H120:H123),\"\")","v":""},{"$f":"IF((GrosBovinsAnneeEnCours!I123)>0,AVERAGE(GrosBovinsAnneeEnCours!I120:I123),\"\")","v":""},{"$f":"IF((GrosBovinsAnneeEnCours!J123)>0,AVERAGE(GrosBovinsAnneeEnCours!J120:J123),\"\")","v":""}]
["D",{"$f":"IF((GrosBovinsAnneeEnCours!C127)>0,AVERAGE(GrosBovinsAnneeEnCours!C124:C127),\"\")","v":""},{"$f":"IF((GrosBovinsAnneeEnCours!D127)>0,AVERAGE(GrosBovinsAnneeEnCours!D124:D127),\"\")","v":""},{"$f":"IF((GrosBovinsAnneeEnCours!E127)>0,AVERAGE(GrosBovinsAnneeEnCours!E124:E127),\"\")","v":""},{"$f":"IF((GrosBovinsAnneeEnCours!F127)>0,AVERAGE(GrosBovinsAnneeEnCours!F124:F127),\"\")","v":""},{"$f":"IF((GrosBovinsAnneeEnCours!G127)>0,AVERAGE(GrosBovinsAnneeEnCours!G124:G127),\"\")","v":""},{"$f":"IF((GrosBovinsAnneeEnCours!H127)>0,AVERAGE(GrosBovinsAnneeEnCours!H124:H127),\"\")","v":""},{"$f":"IF((GrosBovinsAnneeEnCours!I127)>0,AVERAGE(GrosBovinsAnneeEnCours!I124:I127),\"\")","v":""},{"$f":"IF((GrosBovinsAnneeEnCours!J127)>0,AVERAGE(GrosBovinsAnneeEnCours!J124:J127),\"\")","v":""}]

{"sheet":"VeauxAnneeEnCours","index":17,"n_rows":68,"n_cols":11,"rows_kept":68,"cut":false,"hidden":false,"merged":[[11,5,11,6],[11,8,12,10],[12,2,12,4],[13,2,13,4],[13,8,14,8],[13,9,14,9],[13,10,14,10]]}
["COTATIONS REGIONALES DES VEAUX"]
["Source : DRAAF Pays de la Loire - SRISE - FranceAgriMer"]
[]
["Veaux de boucherie entrée abattoir région Grand Nord"]
["Prix \"entrée abattoir\" HT exprimé en Euro/Kg de carcasse (cinquième quartier compris)"]
[]
["Marché de Château Gontier (marché de référence pour les petits veaux) : cotation des veaux destinés à l'engraissement"]
[]
[null,null,null,null,null,null,"Mis à jour : 04/06/2024"]
["COTATION DES VEAUX - HEBDOMADAIRE (Euros/Kg net)",null,null,null,null,{"$f":"\"A PARTIR DE JANVIER \"&A16","v":"A PARTIR DE JANVIER 2024"}]
[null,null,null,null,null,"COTATION DES VEAUX DE 14 JOURS A 4 SEMAINES SUR LES MARCHES DE REFERENCE"]
[null,null,null,null,null,"CHÂTEAU GONTIER VIF",null,null,"Veau Rosé R. clair"]
["Année","Sem.","VEAUX GRAND NORD R",null,null,"NORMAND","LAITIERS"]
[null,null,"(Euros/Kg net",null,null,"45 à 50 Kg","45-50KG",null,"Evolution/semaine -1",{"$f":"\"Evolution/ semaine id \" & A16-1","v":"Evolution/ semaine id 2023"},"Evolution/semaine id moy. 5 ans"]
[null,null,"Rose très clair","R.clair","Rosé","(Euros/tête)","(Euros/tête)"]
[2024,1,null,7.48,5.6,40,55,null,null,{"$f":"(D16-Veaux2023!D16)/Veaux2023!D16","v":-3.4838709677419297E-2},{"$f":"(D16-MoyQuinqHebdoVeaux!N8)/MoyQuinqHebdoVeaux!N8","v":0.10946307361653175}]
[null,2,7.59,7.49,5.6,40,55,null,{"$f":"(D17-D16)/D16","v":1.3368983957218966E-3},{"$f":"(D17-Veaux2023!D17)/Veaux2023!D17","v":-3.4793842901824364E-2},{"$f":"(D17-MoyQuinqHebdoVeaux!N9)/MoyQuinqHebdoVeaux!N9","v":0.10635154223256336}]
[null,3,null,7.51,5.6,40,55,null,{"$f":"(D18-D17)/D17","v":2.670226969292333E-3},{"$f":"(D18-Veaux2023!D18)/Veaux2023!D18","v":-3.0967741935483899E-2},{"$f":"(D18-MoyQuinqHebdoVeaux!N10)/MoyQuinqHebdoVeaux!N10","v":0.11094675183125066}]
["J",4,7.53,7.51,5.6,40,55,null,0,{"$f":"(D19-Veaux2023!D19)/Veaux2023!D19","v":-3.3462031089414604E-2},{"$f":"(D19-MoyQuinqHebdoVeaux!N11)/MoyQuinqHebdoVeaux!N11","v":0.10963357661969218}]
[null,5,7.53,7.52,5.54,45,60,null,1.3315579227696122E-3,{"$f":"(D20-Veaux2023!D20)/Veaux2023!D20","v":-3.2175032175032175E-2},{"$f":"(D20-MoyQuinqHebdoVeaux!N12)/MoyQuinqHebdoVeaux!N12","v":0.10979928911833024}]
[null,6,7.69,7.51,5.68,45,60,null,-1.329787234042525E-3,{"$f":"(D21-Veaux2023!D21)/Veaux2023!D21","v":-3.3462033462033434E-2},{"$f":"(D21-MoyQuinqHebdoVeaux!N13)/MoyQuinqHebdoVeaux!N13","v":0.11358244050416667}]
[null,7,7.66,7.55,5.68,45,60,null,5.3262316910785666E-3,{"$f":"(D22-Veaux2023!D22)/Veaux2023!D22","v":-2.706185567010309E-2},{"$f":"(D22-MoyQuinqHebdoVeaux!N14)/MoyQuinqHebdoVeaux!N14","v":0.1191817417559112}]
[null,8,7.66,7.55,5.59,55,70,null,0,{"$f":"(D23-Veaux2023!D23)/Veaux2023!D23","v":-2.706185567010309E-2},{"$f":"(D23-MoyQuinqHebdoVeaux!N15)/MoyQuinqHebdoVeaux!N15","v":0.12184249310587703}]
["F",9,null,7.48,5.67,55,70,null,-9.2715231788078681E-3,{"$f":"(D24-Veaux2023!D24)/Veaux2023!D24","v":-3.3591731266149845E-2},{"$f":"(D24-MoyQuinqHebdoVeaux!N16)/MoyQuinqHebdoVeaux!N16","v":0.11442193530367638}]
[null,10,7.6,7.45,5.88,65,80,null,-4.0106951871658088E-3,{"$f":"(D25-Veaux2023!D25)/Veaux2023!D25","v":-3.7467700258397935E-2},{"$f":"(D25-MoyQuinqHebdoVeaux!N17)/MoyQuinqHebdoVeaux!N17","v":0.11560346963314971}]
[null,11,7.6,7.5,5.88,65,80,null,6.7114093959731299E-3,{"$f":"(D26-Veaux2023!D26)/Veaux2023!D26","v":-3.1007751937984523E-2},{"$f":"(D26-MoyQuinqHebdoVeaux!N18)/MoyQuinqHebdoVeaux!N18","v":0.12410072456607174}]
[null,12,7.58,7.5,5.82,75,90,null,0,{"$f":"(D27-Veaux2023!D27)/Veaux2023!D27","v":-2.975420439844766E-2},{"$f":"(D27-MoyQuinqHebdoVeaux!N19)/MoyQuinqHebdoVeaux!N19","v":0.12578805099151302}]
["M",13,7.6,7.5,5.82,85,100,null,0,{"$f":"(D28-Veaux2023!D28)/Veaux2023!D28","v":-3.1007751937984523E-2},{"$f":"(D28-MoyQuinqHebdoVeaux!N20)/MoyQuinqHebdoVeaux!N20","v":0.12849834422135434}]
[null,14,7.6,7.45,5.82,85,100,null,-6.6666666666666428E-3,{"$f":"(D29-Veaux2023!D29)/Veaux2023!D29","v":-3.6222509702457988E-2},{"$f":"(D29-MoyQuinqHebdoVeaux!N21)/MoyQuinqHebdoVeaux!N21","v":0.12605804890369493}]
[null,15,null,7.43,5.84,95,110,null,-2.6845637583893236E-3,{"$f":"(D30-Veaux2023!D30)/Veaux2023!D30","v":-3.1290743155149965E-2},{"$f":"(D30-MoyQuinqHebdoVeaux!N22)/MoyQuinqHebdoVeaux!N22","v":0.13539119142546796}]
[null,16,7.37,7.43,5.98,105,120,null,0,{"$f":"(D31-Veaux2023!D31)/Veaux2023!D31","v":-2.7486910994764396E-2},{"$f":"(D31-MoyQuinqHebdoVeaux!N23)/MoyQuinqHebdoVeaux!N23","v":0.1434287412655415}]
["A",17,7.37,7.43,5.98,105,120,null,0,{"$f":"(D32-Veaux2023!D32)/Veaux2023!D32","v":-2.1080368906455881E-2},{"$f":"(D32-MoyQuinqHebdoVeaux!N24)/MoyQuinqHebdoVeaux!N24","v":0.15985014256531871}]
[null,18,7.49,7.4,6.13,105,120,null,-4.0376850605651901E-3,{"$f":"(D33-Veaux2023!D33)/Veaux2023!D33","v":-2.2457067371202104E-2},{"$f":"(D33-MoyQuinqHebdoVeaux!N25)/MoyQuinqHebdoVeaux!N25","v":0.16206030429202778}]
[null,19,null,7.36,5.88,105,120,null,-5.40540540540541E-3,{"$f":"(D34-Veaux2023!D34)/Veaux2023!D34","v":-2.6455026455026363E-2},{"$f":"(D34-MoyQuinqHebdoVeaux!N26)/MoyQuinqHebdoVeaux!N26","v":0.16382036053817206}]
[null,20,7.42,7.36,5.88,105,120,null,0,{"$f":"(D35-Veaux2023!D35)/Veaux2023!D35","v":-2.1276595744680753E-2},{"$f":"(D35-MoyQuinqHebdoVeaux!N27)/MoyQuinqHebdoVeaux!N27","v":0.16899619088905116}]
[null,21,7.43,7.36,5.88,105,120,null,0,{"$f":"(D36-Veaux2023!D36)/Veaux2023!D36","v":-1.9973368841544537E-2},{"$f":"(D36-MoyQuinqHebdoVeaux!N28)/MoyQuinqHebdoVeaux!N28","v":0.16825397037612799}]
["M",22,null,null,null,null,null,null,-1,{"$f":"(D37-Veaux2023!D37)/Veaux2023!D37","v":-1},{"$f":"(D37-MoyQuinqHebdoVeaux!N29)/MoyQuinqHebdoVeaux!N29","v":-1}]
[null,23,null,null,null,null,null,null,{"$error":"#DIV/0!"},{"$f":"(D38-Veaux2023!D38)/Veaux2023!D38","v":-1},{"$f":"(D38-MoyQuinqHebdoVeaux!N30)/MoyQuinqHebdoVeaux!N30","v":-1}]
[null,24,null,null,null,null,null,null,{"$error":"#DIV/0!"},{"$f":"(D39-Veaux2023!D39)/Veaux2023!D39","v":-1},{"$f":"(D39-MoyQuinqHebdoVeaux!N31)/MoyQuinqHebdoVeaux!N31","v":-1}]
[null,25,null,null,null,null,null,null,{"$error":"#DIV/0!"},{"$f":"(D40-Veaux2023!D40)/Veaux2023!D40","v":-1},{"$f":"(D40-MoyQuinqHebdoVeaux!N32)/MoyQuinqHebdoVeaux!N32","v":-1}]
["J",26,null,null,null,null,null,null,{"$error":"#DIV/0!"},{"$f":"(D41-Veaux2023!D41)/Veaux2023!D41","v":-1},{"$f":"(D41-MoyQuinqHebdoVeaux!N33)/MoyQuinqHebdoVeaux!N33","v":-1}]
[null,27,null,null,null,null,null,null,{"$error":"#DIV/0!"},{"$f":"(D42-Veaux2023!D42)/Veaux2023!D42","v":-1},{"$f":"(D42-MoyQuinqHebdoVeaux!N34)/MoyQuinqHebdoVeaux!N34","v":-1}]
[null,28,null,null,null,null,null,null,{"$error":"#DIV/0!"},{"$f":"(D43-Veaux2023!D43)/Veaux2023!D43","v":-1},{"$f":"(D43-MoyQuinqHebdoVeaux!N35)/MoyQuinqHebdoVeaux!N35","v":-1}]
[null,29,null,null,null,null,null,null,{"$error":"#DIV/0!"},{"$f":"(D44-Veaux2023!D44)/Veaux2023!D44","v":-1},{"$f":"(D44-MoyQuinqHebdoVeaux!N36)/MoyQuinqHebdoVeaux!N36","v":-1}]
["J",30,null,null,null,null,null,null,{"$error":"#DIV/0!"},{"$f":"(D45-Veaux2023!D45)/Veaux2023!D45","v":-1},{"$f":"(D45-MoyQuinqHebdoVeaux!N37)/MoyQuinqHebdoVeaux!N37","v":-1}]
[null,31,null,null,null,null,null,null,{"$error":"#DIV/0!"},{"$f":"(D46-Veaux2023!D46)/Veaux2023!D46","v":-1},{"$f":"(D46-MoyQuinqHebdoVeaux!N38)/MoyQuinqHebdoVeaux!N38","v":-1}]
[null,32,null,null,null,null,null,null,{"$error":"#DIV/0!"},{"$f":"(D47-Veaux2023!D47)/Veaux2023!D47","v":-1},{"$f":"(D47-MoyQuinqHebdoVeaux!N39)/MoyQuinqHebdoVeaux!N39","v":-1}]
[null,33,null,null,null,null,null,null,{"$error":"#DIV/0!"},{"$f":"(D48-Veaux2023!D48)/Veaux2023!D48","v":-1},{"$f":"(D48-MoyQuinqHebdoVeaux!N40)/MoyQuinqHebdoVeaux!N40","v":-1}]
[null,34,null,null,null,null,null,null,{"$error":"#DIV/0!"},{"$f":"(D49-Veaux2023!D49)/Veaux2023!D49","v":-1},{"$f":"(D49-MoyQuinqHebdoVeaux!N41)/MoyQuinqHebdoVeaux!N41","v":-1}]
["A",35,null,null,null,null,null,null,{"$error":"#DIV/0!"},{"$f":"(D50-Veaux2023!D50)/Veaux2023!D50","v":-1},{"$f":"(D50-MoyQuinqHebdoVeaux!N42)/MoyQuinqHebdoVeaux!N42","v":-1}]
[null,36,null,null,null,null,null,null,{"$error":"#DIV/0!"},{"$f":"(D51-Veaux2023!D51)/Veaux2023!D51","v":-1},{"$f":"(D51-MoyQuinqHebdoVeaux!N43)/MoyQuinqHebdoVeaux!N43","v":-1}]
[null,37,null,null,null,null,null,null,{"$error":"#DIV/0!"},{"$f":"(D52-Veaux2023!D52)/Veaux2023!D52","v":-1},{"$f":"(D52-MoyQuinqHebdoVeaux!N44)/MoyQuinqHebdoVeaux!N44","v":-1}]
[null,38,null,null,null,null,null,null,{"$error":"#DIV/0!"},{"$f":"(D53-Veaux2023!D53)/Veaux2023!D53","v":-1},{"$f":"(D53-MoyQuinqHebdoVeaux!N45)/MoyQuinqHebdoVeaux!N45","v":-1}]
["S",39,null,null,null,null,null,null,{"$error":"#DIV/0!"},{"$f":"(D54-Veaux2023!D54)/Veaux2023!D54","v":-1},{"$f":"(D54-MoyQuinqHebdoVeaux!N46)/MoyQuinqHebdoVeaux!N46","v":-1}]
[null,40,null,null,null,null,null,null,{"$error":"#DIV/0!"},{"$f":"(D55-Veaux2023!D55)/Veaux2023!D55","v":-1},{"$f":"(D55-MoyQuinqHebdoVeaux!N47)/MoyQuinqHebdoVeaux!N47","v":-1}]
[null,41,null,null,null,null,null,null,{"$error":"#DIV/0!"},{"$f":"(D56-Veaux2023!D56)/Veaux2023!D56","v":-1},{"$f":"(D56-MoyQuinqHebdoVeaux!N48)/MoyQuinqHebdoVeaux!N48","v":-1}]
[null,42,null,null,null,null,null,null,{"$error":"#DIV/0!"},{"$f":"(D57-Veaux2023!D57)/Veaux2023!D57","v":-1},{"$f":"(D57-MoyQuinqHebdoVeaux!N49)/MoyQuinqHebdoVeaux!N49","v":-1}]
[null,43,null,null,null,null,null,null,{"$error":"#DIV/0!"},{"$f":"(D58-Veaux2023!D58)/Veaux2023!D58","v":-1},{"$f":"(D58-MoyQuinqHebdoVeaux!N50)/MoyQuinqHebdoVeaux!N50","v":-1}]
["O",44,null,null,null,null,null,null,{"$error":"#DIV/0!"},{"$f":"(D59-Veaux2023!D59)/Veaux2023!D59","v":-1},{"$f":"(D59-MoyQuinqHebdoVeaux!N51)/MoyQuinqHebdoVeaux!N51","v":-1}]
[null,45,null,null,null,null,null,null,{"$error":"#DIV/0!"},{"$f":"(D60-Veaux2023!D60)/Veaux2023!D60","v":-1},{"$f":"(D60-MoyQuinqHebdoVeaux!N52)/MoyQuinqHebdoVeaux!N52","v":-1}]
[null,46,null,null,null,null,null,null,{"$error":"#DIV/0!"},{"$f":"(D61-Veaux2023!D61)/Veaux2023!D61","v":-1},{"$f":"(D61-MoyQuinqHebdoVeaux!N53)/MoyQuinqHebdoVeaux!N53","v":-1}]
[null,47,null,null,null,null,null,null,{"$error":"#DIV/0!"},{"$f":"(D62-Veaux2023!D62)/Veaux2023!D62","v":-1},{"$f":"(D62-MoyQuinqHebdoVeaux!N54)/MoyQuinqHebdoVeaux!N54","v":-1}]
["N",48,null,null,null,null,null,null,{"$error":"#DIV/0!"},{"$f":"(D63-Veaux2023!D63)/Veaux2023!D63","v":-1},{"$f":"(D63-MoyQuinqHebdoVeaux!N55)/MoyQuinqHebdoVeaux!N55","v":-1}]
[null,49,null,null,null,null,null,null,{"$error":"#DIV/0!"},{"$f":"(D64-Veaux2023!D64)/Veaux2023!D64","v":-1},{"$f":"(D64-MoyQuinqHebdoVeaux!N56)/MoyQuinqHebdoVeaux!N56","v":-1}]
[null,50,null,null,null,null,null,null,{"$error":"#DIV/0!"},{"$f":"(D65-Veaux2023!D65)/Veaux2023!D65","v":-1},{"$f":"(D65-MoyQuinqHebdoVeaux!N57)/MoyQuinqHebdoVeaux!N57","v":-1}]
[null,51,null,null,null,null,null,null,{"$error":"#DIV/0!"},{"$f":"(D66-Veaux2023!D66)/Veaux2023!D66","v":-1},{"$f":"(D66-MoyQuinqHebdoVeaux!N58)/MoyQuinqHebdoVeaux!N58","v":-1}]
["D",52,null,null,null,null,null,null,{"$error":"#DIV/0!"},{"$f":"(D67-Veaux2023!D67)/Veaux2023!D67","v":-1},{"$f":"(D67-MoyQuinqHebdoVeaux!N59)/MoyQuinqHebdoVeaux!N59","v":-1}]
[null,53,null,null,null,null,null,null,{"$error":"#DIV/0!"},{"$f":"(D68-Veaux2023!D68)/Veaux2023!D68","v":{"$error":"#DIV/0!"}},{"$f":"(D68-MoyQuinqHebdoVeaux!N60)/MoyQuinqHebdoVeaux!N60","v":-1}]

{"sheet":"Veaux2023","index":18,"n_rows":68,"n_cols":11,"rows_kept":68,"cut":false,"hidden":false,"merged":[[11,5,11,6],[11,8,12,10],[12,2,12,4],[13,2,13,4],[13,8,14,8],[13,9,14,9],[13,10,14,10]]}
["COTATIONS REGIONALES DES VEAUX"]
["Source : DRAAF Pays de la Loire - SRISE - FranceAgriMer"]
[]
["Veaux de boucherie entrée abattoir région Grand Nord"]
["Prix \"entrée abattoir\" HT exprimé en Euro/Kg de carcasse (cinquième quartier compris)"]
[]
["Marché de Château Gontier (marché de référence pour les petits veaux) : cotation des veaux destinés à l'engraissement"]
[]
[null,null,null,null,null,null,"Mis à jour : 18/12/2023"]
["COTATION DES VEAUX - HEBDOMADAIRE (Euros/Kg net)",null,null,null,null,{"$f":"\"A PARTIR DE JANVIER \"&A16","v":"A PARTIR DE JANVIER 2023"}]
[null,null,null,null,null,"COTATION DES VEAUX DE 14 JOURS A 4 SEMAINES SUR LES MARCHES DE REFERENCE"]
[null,null,"Mis à jour 18/12/2023",null,null,"CHÂTEAU GONTIER VIF",null,null,"Veau Rosé R. clair"]
["Année","Sem.","VEAUX GRAND NORD R",null,null,"NORMAND","LAITIERS"]
[null,null,"(Euros/Kg net",null,null,"45 à 50 Kg","45-50KG",null,"Evolution/semaine -1",{"$f":"\"Evolution/ semaine id \" & A16-1","v":"Evolution/ semaine id 2022"},"Evolution/semaine id moy. 5 ans"]
[null,null,"Rose très clair","R.clair","Rosé","(Euros/tête)","(Euros/tête)"]
[2023,1,7.9499998092651367,7.75,5.5100002288818359,40,60,null,null,{"$f":"(D16-Veaux2022!D16)/Veaux2022!D16","v":0.11510794427193688},{"$f":"(D16-MoyQuinqHebdoVeaux!K12)/MoyQuinqHebdoVeaux!K10","v":0.2135007849293564}]
[null,2,7.9899997711181641,7.7600002288818359,5.3899998664855957,60,70,null,{"$f":"(D17-D16)/D16","v":1.2903521137852822E-3},{"$f":"(D17-Veaux2022!D17)/Veaux2022!D17","v":0.11494255551007942},{"$f":"(D17-MoyQuinqHebdoVeaux!K13)/MoyQuinqHebdoVeaux!K11","v":0.21821039699871833}]
[null,3,7.9899997711181641,7.75,5.380000114440918,60,70,null,-1.2886892508863887E-3,{"$f":"(D18-Veaux2022!D18)/Veaux2022!D18","v":0.11510794427193688},{"$f":"(D18-MoyQuinqHebdoVeaux!K14)/MoyQuinqHebdoVeaux!K12","v":0.21283255086071995}]
["J",4,7.880000114440918,7.7699999809265137,5.2100000381469727,60,70,null,2.5806427001953125E-3,{"$f":"(D19-Veaux2022!D19)/Veaux2022!D19","v":0.11798563944825205},{"$f":"(D19-MoyQuinqHebdoVeaux!K15)/MoyQuinqHebdoVeaux!K13","v":0.21978021678595189}]
[null,5,"nc",7.77,5.81,70,80,null,2.4547600963475149E-9,{"$f":"(D20-Veaux2022!D20)/Veaux2022!D20","v":0.12283235756281634},{"$f":"(D20-MoyQuinqHebdoVeaux!K16)/MoyQuinqHebdoVeaux!K14","v":0.21596244131455397}]
[null,6,7.84,7.77,5.81,70,80,null,0,{"$f":"(D21-Veaux2022!D21)/Veaux2022!D21","v":0.12608694095767828},{"$f":"(D21-MoyQuinqHebdoVeaux!K17)/MoyQuinqHebdoVeaux!K15","v":0.22291993720565148}]
[null,7,7.84,7.76,5.81,70,80,null,-1.2870012870012596E-3,{"$f":"(D22-Veaux2022!D22)/Veaux2022!D22","v":0.12626997828349273},{"$f":"(D22-MoyQuinqHebdoVeaux!K18)/MoyQuinqHebdoVeaux!K16","v":0.217527386541471}]
["F",8,7.84,7.76,5.81,70,80,null,0,{"$f":"(D23-Veaux2022!D23)/Veaux2022!D23","v":0.12463766561539044},{"$f":"(D23-MoyQuinqHebdoVeaux!K19)/MoyQuinqHebdoVeaux!K17","v":0.23149606299212597}]
[null,9,7.74,7.74,5.43,70,80,null,-2.5773195876288113E-3,{"$f":"(D24-Veaux2022!D24)/Veaux2022!D24","v":0.12336722060750442},{"$f":"(D24-MoyQuinqHebdoVeaux!K20)/MoyQuinqHebdoVeaux!K18","v":0.22291993720565148}]
[null,10,7.74,7.74,5.93,70,80,null,0,{"$f":"(D25-Veaux2022!D25)/Veaux2022!D25","v":0.12827986142250533},{"$f":"(D25-MoyQuinqHebdoVeaux!K21)/MoyQuinqHebdoVeaux!K19","v":0.23052464228934819}]
[null,11,7.84,7.74,5.77,70,80,null,0,{"$f":"(D26-Veaux2022!D26)/Veaux2022!D26","v":0.12011579897483463},{"$f":"(D26-MoyQuinqHebdoVeaux!K22)/MoyQuinqHebdoVeaux!K20","v":0.23892405063291136}]
[null,12,7.75,7.73,5.7,70,80,null,-1.2919896640826599E-3,{"$f":"(D27-Veaux2022!D27)/Veaux2022!D27","v":0.10744985370731673},{"$f":"(D27-MoyQuinqHebdoVeaux!K23)/MoyQuinqHebdoVeaux!K21","v":0.24642289348171711}]
["M",13,"nc",7.74,5.92,70,80,null,1.2936610608020422E-3,{"$f":"(D28-Veaux2022!D28)/Veaux2022!D28","v":0.10888251845984881},{"$f":"(D28-MoyQuinqHebdoVeaux!K24)/MoyQuinqHebdoVeaux!K22","v":0.26003210272873195}]
[null,14,7.8,7.73,6.06,80,90,null,-1.2919896640826599E-3,{"$f":"(D29-Veaux2022!D29)/Veaux2022!D29","v":0.10586555838519882},{"$f":"(D29-MoyQuinqHebdoVeaux!K25)/MoyQuinqHebdoVeaux!K23","v":0.26213592233009714}]
[null,15,7.72,7.67,5.7,80,90,null,-7.7619663648124827E-3,{"$f":"(D30-Veaux2022!D30)/Veaux2022!D30","v":8.7943232977488808E-2},{"$f":"(D30-MoyQuinqHebdoVeaux!K26)/MoyQuinqHebdoVeaux!K24","v":0.25163398692810457}]
[null,16,7.72,7.64,5.84,80,90,null,-3.9113428943937743E-3,{"$f":"(D31-Veaux2022!D31)/Veaux2022!D31","v":8.0622321711299003E-2},{"$f":"(D31-MoyQuinqHebdoVeaux!K27)/MoyQuinqHebdoVeaux!K25","v":0.25531914893617014}]
["A",17,"nc",7.59,5.5,95,110,null,-6.5445026178010245E-3,{"$f":"(D32-Veaux2022!D32)/Veaux2022!D32","v":7.5070830243066031E-2},{"$f":"(D32-MoyQuinqHebdoVeaux!K28)/MoyQuinqHebdoVeaux!K26","v":0.24306688417618275}]
[null,18,7.64,7.57,5.27,95,110,null,-2.6350461133069266E-3,{"$f":"(D33-Veaux2022!D33)/Veaux2022!D33","v":6.9209051069799035E-2},{"$f":"(D33-MoyQuinqHebdoVeaux!K29)/MoyQuinqHebdoVeaux!K27","v":0.25328947368421051}]
[null,19,7.64,7.56,5.67,95,110,null,-1.3210039630119782E-3,{"$f":"(D34-Veaux2022!D34)/Veaux2022!D34","v":6.9306904730028845E-2},{"$f":"(D34-MoyQuinqHebdoVeaux!K30)/MoyQuinqHebdoVeaux!K28","v":0.24918032786885241}]
[null,20,7.68,7.52,5.48,95,110,null,-5.2910052910052959E-3,{"$f":"(D35-Veaux2022!D35)/Veaux2022!D35","v":6.2146904101042004E-2},{"$f":"(D35-MoyQuinqHebdoVeaux!K31)/MoyQuinqHebdoVeaux!K29","v":0.25373134328358199}]
["M",21,7.56,7.51,5.48,95,110,null,-1.329787234042525E-3,{"$f":"(D36-Veaux2022!D36)/Veaux2022!D36","v":6.3739385392019218E-2},{"$f":"(D36-MoyQuinqHebdoVeaux!K32)/MoyQuinqHebdoVeaux!K30","v":0.24999999999999997}]
[null,22,7.45,7.44,5.48,95,110,null,-9.320905459387404E-3,{"$f":"(D37-Veaux2022!D37)/Veaux2022!D37","v":5.8321447788808545E-2},{"$f":"(D37-MoyQuinqHebdoVeaux!K33)/MoyQuinqHebdoVeaux!K31","v":0.24207011686143576}]
[null,23,"nc",7.33,5.22,115,130,null,-1.4784946236559182E-2,{"$f":"(D38-Veaux2022!D38)/Veaux2022!D38","v":5.164995992036478E-2},{"$f":"(D38-MoyQuinqHebdoVeaux!K34)/MoyQuinqHebdoVeaux!K32","v":0.22833333333333336}]
[null,24,7.41,7.24,4.95,115,130,null,-1.2278308321964511E-2,{"$f":"(D39-Veaux2022!D39)/Veaux2022!D39","v":3.7249280833243588E-2},{"$f":"(D39-MoyQuinqHebdoVeaux!K35)/MoyQuinqHebdoVeaux!K33","v":0.2103505843071786}]
[null,25,7.26,7.16,5.03,115,130,null,-1.1049723756906087E-2,{"$f":"(D40-Veaux2022!D40)/Veaux2022!D40","v":3.3189058781912931E-2},{"$f":"(D40-MoyQuinqHebdoVeaux!K36)/MoyQuinqHebdoVeaux!K34","v":0.1946308724832215}]
["J",26,7.1,7.06,5.05,115,130,null,-1.3966480446927448E-2,{"$f":"(D41-Veaux2022!D41)/Veaux2022!D41","v":3.2163719664373515E-2},{"$f":"(D41-MoyQuinqHebdoVeaux!K37)/MoyQuinqHebdoVeaux!K35","v":0.18394648829431431}]
[null,27,"nc",7.04,5.05,115,130,null,-2.8328611898016396E-3,{"$f":"(D42-Veaux2022!D42)/Veaux2022!D42","v":2.6239047081968659E-2},{"$f":"(D42-MoyQuinqHebdoVeaux!K38)/MoyQuinqHebdoVeaux!K36","v":0.17833333333333337}]
[null,28,"nc",7.04,4.71,110,125,null,0,{"$f":"(D43-Veaux2022!D43)/Veaux2022!D43","v":3.0746717223972726E-2},{"$f":"(D43-MoyQuinqHebdoVeaux!K39)/MoyQuinqHebdoVeaux!K37","v":0.17785234899328853}]
[null,29,7.35,7.03,4.6100000000000003,100,115,null,-1.4204545454545151E-3,{"$f":"(D44-Veaux2022!D44)/Veaux2022!D44","v":2.9282588364279612E-2},{"$f":"(D44-MoyQuinqHebdoVeaux!K40)/MoyQuinqHebdoVeaux!K38","v":0.16917922948073713}]
["J",30,7.26,7.05,4.79,90,105,null,2.8449502133712054E-3,{"$f":"(D45-Veaux2022!D45)/Veaux2022!D45","v":3.2210846083665839E-2},{"$f":"(D45-MoyQuinqHebdoVeaux!K41)/MoyQuinqHebdoVeaux!K39","v":0.16053511705685616}]
[null,31,7.26,6.95,4.43,80,95,null,-1.4184397163120517E-2,{"$f":"(D46-Veaux2022!D46)/Veaux2022!D46","v":1.7569557486734458E-2},{"$f":"(D46-MoyQuinqHebdoVeaux!K42)/MoyQuinqHebdoVeaux!K40","v":0.1295681063122924}]
[null,32,"nc",6.96,4.43,80,95,null,1.4388489208632786E-3,{"$f":"(D47-Veaux2022!D47)/Veaux2022!D47","v":1.7543836949580741E-2},{"$f":"(D47-MoyQuinqHebdoVeaux!K43)/MoyQuinqHebdoVeaux!K41","v":0.11986863711001634}]
[null,33,"nc",6.96,4.6900000000000004,null,null,null,0,{"$f":"(D48-Veaux2022!D48)/Veaux2022!D48","v":2.5036824610022341E-2},{"$f":"(D48-MoyQuinqHebdoVeaux!K44)/MoyQuinqHebdoVeaux!K42","v":0.10372771474878439}]
[null,34,6.97,6.94,4.6900000000000004,80,95,null,-2.8735632183907434E-3,{"$f":"(D49-Veaux2022!D49)/Veaux2022!D49","v":1.1661787890463474E-2},{"$f":"(D49-MoyQuinqHebdoVeaux!K45)/MoyQuinqHebdoVeaux!K43","v":9.3097913322632425E-2}]
["A",35,"nc",6.96,4.6900000000000004,60,75,null,2.8818443804033964E-3,{"$f":"(D50-Veaux2022!D50)/Veaux2022!D50","v":1.1627890149473194E-2},{"$f":"(D50-MoyQuinqHebdoVeaux!K46)/MoyQuinqHebdoVeaux!K44","v":7.4367088607594889E-2}]
[null,36,7.1,6.96,4.6900000000000004,60,75,null,0,{"$f":"(D51-Veaux2022!D51)/Veaux2022!D51","v":1.4388764042168546E-3},{"$f":"(D51-MoyQuinqHebdoVeaux!K47)/MoyQuinqHebdoVeaux!K45","v":6.1320754716981077E-2}]
[null,37,"nc",7,4.7300000000000004,60,75,null,5.7471264367816143E-3,{"$f":"(D52-Veaux2022!D52)/Veaux2022!D52","v":-5.6818127940016054E-3},{"$f":"(D52-MoyQuinqHebdoVeaux!K48)/MoyQuinqHebdoVeaux!K46","v":5.2388289676425247E-2}]
[null,38,"nc",7,4.7300000000000004,60,75,null,0,{"$f":"(D53-Veaux2022!D53)/Veaux2022!D53","v":-1.5471185857774702E-2},{"$f":"(D53-MoyQuinqHebdoVeaux!K49)/MoyQuinqHebdoVeaux!K47","v":5.1750380517503781E-2}]
["S",39,"nc",7.03,4.7300000000000004,55,70,null,4.2857142857143215E-3,{"$f":"(D54-Veaux2022!D54)/Veaux2022!D54","v":-2.3611085245637996E-2},{"$f":"(D54-MoyQuinqHebdoVeaux!K50)/MoyQuinqHebdoVeaux!K48","v":5.1051051051051032E-2}]
[null,40,7.18,7.05,4.7300000000000004,45,60,null,2.8449502133712054E-3,{"$f":"(D55-Veaux2022!D55)/Veaux2022!D55","v":-3.4246600575731888E-2},{"$f":"(D55-MoyQuinqHebdoVeaux!K51)/MoyQuinqHebdoVeaux!K49","v":4.654654654654649E-2}]
[null,41,"nc",7.05,4.7699999999999996,40,55,null,0,{"$f":"(D56-Veaux2022!D56)/Veaux2022!D56","v":-4.4715461967972853E-2},{"$f":"(D56-MoyQuinqHebdoVeaux!K52)/MoyQuinqHebdoVeaux!K50","v":4.035874439461877E-2}]
[null,42,7.13,7.07,5.13,40,55,null,2.8368794326241792E-3,{"$f":"(D57-Veaux2022!D57)/Veaux2022!D57","v":-4.9731190104142092E-2},{"$f":"(D57-MoyQuinqHebdoVeaux!K53)/MoyQuinqHebdoVeaux!K51","v":3.4124629080118755E-2}]
["O",43,7.18,7.14,5.28,40,55,null,9.9009900990098144E-3,{"$f":"(D58-Veaux2022!D58)/Veaux2022!D58","v":-4.5454547888570847E-2},{"$f":"(D58-MoyQuinqHebdoVeaux!K54)/MoyQuinqHebdoVeaux!K52","v":3.687315634218289E-2}]
[null,44,7.25,7.21,5.28,40,55,null,9.8039215686274907E-3,{"$f":"(D59-Veaux2022!D59)/Veaux2022!D59","v":-4.2496706625788284E-2},{"$f":"(D59-MoyQuinqHebdoVeaux!K55)/MoyQuinqHebdoVeaux!K53","v":4.2397660818713455E-2}]
[null,45,"nc",7.24,5.38,40,55,null,4.1608876560333217E-3,{"$f":"(D60-Veaux2022!D60)/Veaux2022!D60","v":-4.2328035079572807E-2},{"$f":"(D60-MoyQuinqHebdoVeaux!K56)/MoyQuinqHebdoVeaux!K54","v":4.2089985486211907E-2}]
[null,46,7.4,7.29,5.38,40,55,null,6.9060773480662738E-3,{"$f":"(D61-Veaux2022!D61)/Veaux2022!D61","v":-4.2049951103827872E-2},{"$f":"(D61-MoyQuinqHebdoVeaux!K57)/MoyQuinqHebdoVeaux!K55","v":4.4797687861271619E-2}]
[null,47,7.48,7.37,5.65,40,55,null,1.0973936899862835E-2,{"$f":"(D62-Veaux2022!D62)/Veaux2022!D62","v":-3.2808384424370549E-2},{"$f":"(D62-MoyQuinqHebdoVeaux!K58)/MoyQuinqHebdoVeaux!K56","v":6.1870503597122262E-2}]
["N",48,7.51,7.43,5.68,40,55,null,8.1411126187245064E-3,{"$f":"(D63-Veaux2022!D63)/Veaux2022!D63","v":-2.8758182042462478E-2},{"$f":"(D63-MoyQuinqHebdoVeaux!K59)/MoyQuinqHebdoVeaux!K57","v":6.4469914040114512E-2}]
[null,49,7.65,7.46,5.68,40,55,null,4.0376850605653098E-3,{"$f":"(D64-Veaux2022!D64)/Veaux2022!D64","v":-3.4928851022932909E-2},{"$f":"(D64-MoyQuinqHebdoVeaux!K60)/MoyQuinqHebdoVeaux!K58","v":1.0749279538904899}]
[null,50,7.65,7.46,5.68,40,55,null,0,{"$f":"(D65-Veaux2022!D65)/Veaux2022!D65","v":-3.741935483870968E-2},{"$f":"(D65-MoyQuinqHebdoVeaux!K61)/MoyQuinqHebdoVeaux!K59","v":1.0687679083094554}]
[null,51,7.64,7.48,5.56,40,55,null,2.6809651474531452E-3,{"$f":"(D66-Veaux2022!D66)/Veaux2022!D66","v":-3.4838709677419297E-2},{"$f":"(D66-MoyQuinqHebdoVeaux!K62)/MoyQuinqHebdoVeaux!K60","v":{"$error":"#DIV/0!"}}]
["D",52,null,7.48,5.6,40,55,null,0,{"$f":"(D67-Veaux2022!D67)/Veaux2022!D67","v":-3.8560437238823582E-2},{"$f":"(D67-MoyQuinqHebdoVeaux!K63)/MoyQuinqHebdoVeaux!K61","v":{"$error":"#DIV/0!"}}]
[null,53,null,null,null,null,null,null,-1,{"$f":"(D68-Veaux2022!D68)/Veaux2022!D68","v":{"$error":"#DIV/0!"}},{"$f":"(D68-MoyQuinqHebdoVeaux!K64)/MoyQuinqHebdoVeaux!K62","v":{"$error":"#DIV/0!"}}]

{"sheet":"Veaux2022","index":19,"n_rows":68,"n_cols":11,"rows_kept":68,"cut":false,"hidden":false,"merged":[[11,5,11,6],[11,8,12,10],[12,2,12,4],[13,2,13,4],[13,8,14,8],[13,9,14,9],[13,10,14,10]]}
["COTATIONS REGIONALES DES VEAUX"]
["Source : DRAAF Pays de la Loire - SRISE - FranceAgriMer"]
[]
["Veaux de boucherie entrée abattoir région Grand Nord"]
["Prix \"entrée abattoir\" HT exprimé en Euro/Kg de carcasse (cinquième quartier compris)"]
[]
["Marché de Château Gontier (marché de référence pour les petits veaux) : cotation des veaux destinés à l'engraissement"]
[]
[]
["COTATION DES VEAUX - HEBDOMADAIRE (Euros/Kg net)",null,null,null,null,{"$f":"\"A PARTIR DE JANVIER \"&A16","v":"A PARTIR DE JANVIER 2022"},"Mis à jour : 29/01/2023"]
[null,null,null,null,null,"COTATION DES VEAUX DE 14 JOURS A 4 SEMAINES SUR LES MARCHES DE REFERENCE"]
[null,null,"Mis à jour : 29/01/2023",null,null,"CHÂTEAU GONTIER VIF",null,null,"Veau Rosé R. clair"]
["Année","Sem.","VEAUX GRAND NORD R",null,null,"NORMAND","LAITIERS"]
[null,null,"(Euros/Kg net",null,null,"45 à 50 Kg","45-50KG",null,"Evolution/semaine -1",{"$f":"\"Evolution/ semaine id \" & A16-1","v":"Evolution/ semaine id 2021"},"Evolution/semaine id moy. 5 ans"]
[null,null,"Rose très clair","R.clair","Rosé","(Euros/tête)","(Euros/tête)"]
[2022,1,6.9600000381469727,6.9499998092651367,4.9600000381469727,35,55,null,{"$f":"(D16-Veaux2021!D68)/Veaux2021!D68","v":{"$error":"#DIV/0!"}},{"$f":"(D16-Veaux2021!D16)/Veaux2021!D16","v":8.76369028583939E-2},{"$f":"(D16-MoyQuinqHebdoVeaux!N8)/MoyQuinqHebdoVeaux!N8","v":3.0851356954760364E-2}]
[null,2,7.1500000953674316,6.9600000381469727,4.929999828338623,35,55,null,{"$f":"(D17-D16)/D16","v":1.4388818929900544E-3},{"$f":"(D17-Veaux2021!D17)/Veaux2021!D17","v":9.4339628639461048E-2},{"$f":"(D17-MoyQuinqHebdoVeaux!N9)/MoyQuinqHebdoVeaux!N9","v":2.806499013919931E-2}]
[null,3,7.1500000953674316,6.9499998092651367,4.5999999046325684,35,55,null,-1.43681448664164E-3,{"$f":"(D18-Veaux2021!D18)/Veaux2021!D18","v":9.1051775394840911E-2},{"$f":"(D18-MoyQuinqHebdoVeaux!N10)/MoyQuinqHebdoVeaux!N10","v":2.8106486462172498E-2}]
["J",4,7.1500000953674316,6.9499998092651367,4.8499999046325684,35,55,null,0,{"$f":"(D19-Veaux2021!D19)/Veaux2021!D19","v":9.1051775394840911E-2},{"$f":"(D19-MoyQuinqHebdoVeaux!N11)/MoyQuinqHebdoVeaux!N11","v":2.6891231139953703E-2}]
[null,5,7.1100001335144043,6.9200000762939453,4.940000057220459,35,55,null,-4.3165084596402956E-3,{"$f":"(D20-Veaux2021!D20)/Veaux2021!D20","v":8.2942108966188685E-2},{"$f":"(D20-MoyQuinqHebdoVeaux!N12)/MoyQuinqHebdoVeaux!N12","v":2.1251484756623935E-2}]
[null,6,7.0999999046325684,6.9000000953674316,5.0900001525878906,45,65,null,-2.8901706222559469E-3,{"$f":"(D21-Veaux2021!D21)/Veaux2021!D21","v":8.320252674527967E-2},{"$f":"(D21-MoyQuinqHebdoVeaux!N13)/MoyQuinqHebdoVeaux!N13","v":2.3131683845305933E-2}]
[null,7,7.0999999046325684,6.8899998664855957,5.0799999237060547,45,65,null,-1.4493085135679866E-3,{"$f":"(D22-Veaux2021!D22)/Veaux2021!D22","v":7.8247240451579977E-2},{"$f":"(D22-MoyQuinqHebdoVeaux!N14)/MoyQuinqHebdoVeaux!N14","v":2.1345967055807259E-2}]
["F",8,7.1599998474121094,6.9000000953674316,5.1599998474121094,45,65,null,1.4514120574194997E-3,{"$f":"(D23-Veaux2021!D23)/Veaux2021!D23","v":8.320252674527967E-2},{"$f":"(D23-MoyQuinqHebdoVeaux!N15)/MoyQuinqHebdoVeaux!N15","v":2.5260040982488598E-2}]
[null,9,7.1599998474121094,6.8899998664855957,5.2300000190734863,55,75,null,-1.4493085135679866E-3,{"$f":"(D24-Veaux2021!D24)/Veaux2021!D24","v":7.8247240451579977E-2},{"$f":"(D24-MoyQuinqHebdoVeaux!N16)/MoyQuinqHebdoVeaux!N16","v":2.6519650461356809E-2}]
[null,10,null,6.8600001335144043,5.2300000190734863,65,85,null,-4.3540977579863823E-3,{"$f":"(D25-Veaux2021!D25)/Veaux2021!D25","v":8.031498165581176E-2},{"$f":"(D25-MoyQuinqHebdoVeaux!N17)/MoyQuinqHebdoVeaux!N17","v":2.7253684648663023E-2}]
[null,11,null,6.9099998474121094,5.2300000190734863,65,85,null,7.2885878898795347E-3,{"$f":"(D26-Veaux2021!D26)/Veaux2021!D26","v":8.4772346532513226E-2},{"$f":"(D26-MoyQuinqHebdoVeaux!N18)/MoyQuinqHebdoVeaux!N18","v":3.5671444696986306E-2}]
[null,12,6.9899997711181641,6.9800000190734863,4.9000000953674316,65,85,null,1.0130271086415869E-2,{"$f":"(D27-Veaux2021!D27)/Veaux2021!D27","v":0.10969793625969575},{"$f":"(D27-MoyQuinqHebdoVeaux!N19)/MoyQuinqHebdoVeaux!N19","v":4.7733415652461857E-2}]
["M",13,6.9899997711181641,6.9800000190734863,4.9000000953674316,65,85,null,0,{"$f":"(D28-Veaux2021!D28)/Veaux2021!D28","v":0.10443038276479209},{"$f":"(D28-MoyQuinqHebdoVeaux!N20)/MoyQuinqHebdoVeaux!N20","v":5.0255795225260122E-2}]
[null,14,6.9899997711181641,6.9899997711181641,4.9000000953674316,65,85,null,1.4326292288470632E-3,{"$f":"(D29-Veaux2021!D29)/Veaux2021!D29","v":0.11128772195837267},{"$f":"(D29-MoyQuinqHebdoVeaux!N21)/MoyQuinqHebdoVeaux!N21","v":5.6529597866119982E-2}]
[null,15,7.179999828338623,7.0500001907348633,4.5100002288818359,65,85,null,8.5837512991937016E-3,{"$f":"(D30-Veaux2021!D30)/Veaux2021!D30","v":0.13162121841651089},{"$f":"(D30-MoyQuinqHebdoVeaux!N22)/MoyQuinqHebdoVeaux!N22","v":7.7322761252790459E-2}]
[null,16,7.179999828338623,7.070000171661377,4.75,65,85,null,2.8368766504145238E-3,{"$f":"(D31-Veaux2021!D31)/Veaux2021!D31","v":0.14401297276074065},{"$f":"(D31-MoyQuinqHebdoVeaux!N23)/MoyQuinqHebdoVeaux!N23","v":8.8027105925966478E-2}]
["A",17,7.0999999046325684,7.059999942779541,4.75,65,85,null,-1.4144594963264318E-3,{"$f":"(D32-Veaux2021!D32)/Veaux2021!D32","v":0.15359476189208185},{"$f":"(D32-MoyQuinqHebdoVeaux!N24)/MoyQuinqHebdoVeaux!N24","v":0.10209178198438666}]
[null,18,7.1599998474121094,7.0799999237060547,4.75,65,85,null,2.832858511134722E-3,{"$f":"(D33-Veaux2021!D33)/Veaux2021!D33","v":0.15875612499280758},{"$f":"(D33-MoyQuinqHebdoVeaux!N25)/MoyQuinqHebdoVeaux!N25","v":0.11180903590937716}]
[null,19,7.1599998474121094,7.070000171661377,4.5300002098083496,65,85,null,-1.4123943718128353E-3,{"$f":"(D34-Veaux2021!D34)/Veaux2021!D34","v":0.15334423681262269},{"$f":"(D34-MoyQuinqHebdoVeaux!N26)/MoyQuinqHebdoVeaux!N26","v":0.1179633354331361}]
[null,20,null,7.0799999237060547,4.6999998092651367,65,85,null,1.4143920511854664E-3,{"$f":"(D35-Veaux2021!D35)/Veaux2021!D35","v":0.16447367166218002},{"$f":"(D35-MoyQuinqHebdoVeaux!N27)/MoyQuinqHebdoVeaux!N27","v":0.12452349759608022}]
["M",21,7.119999885559082,7.059999942779541,4.6999998092651367,65,85,null,-2.8248560935074983E-3,{"$f":"(D36-Veaux2021!D36)/Veaux2021!D36","v":0.15737703979992482},{"$f":"(D36-MoyQuinqHebdoVeaux!N28)/MoyQuinqHebdoVeaux!N28","v":0.12063491358796669}]
[null,22,7.119999885559082,7.0300002098083496,4.6999998092651367,65,85,null,-4.2492539963648254E-3,{"$f":"(D37-Veaux2021!D37)/Veaux2021!D37","v":0.16583751406440286},{"$f":"(D37-MoyQuinqHebdoVeaux!N29)/MoyQuinqHebdoVeaux!N29","v":0.12516007723987738}]
[null,23,6.9499998092651367,6.9699997901916504,4.3400001525878906,65,85,null,-8.5349100748227345E-3,{"$f":"(D38-Veaux2021!D38)/Veaux2021!D38","v":0.1539734751972931},{"$f":"(D38-MoyQuinqHebdoVeaux!N30)/MoyQuinqHebdoVeaux!N30","v":0.12274481915333399}]
[null,24,7.0100002288818359,6.9800000190734863,4.4800000190734863,65,85,null,1.4347531108836614E-3,{"$f":"(D39-Veaux2021!D39)/Veaux2021!D39","v":0.16527546228271889},{"$f":"(D39-MoyQuinqHebdoVeaux!N31)/MoyQuinqHebdoVeaux!N31","v":0.12981547665321813}]
[null,25,7.059999942779541,6.929999828338623,4.7199997901916504,65,85,null,-7.1633510885720916E-3,{"$f":"(D40-Veaux2021!D40)/Veaux2021!D40","v":0.15499997138977051},{"$f":"(D40-MoyQuinqHebdoVeaux!N32)/MoyQuinqHebdoVeaux!N32","v":0.12573097254508261}]
["J",26,6.8499999046325684,6.8400001525878906,4.7199997901916504,65,85,null,-1.2986966519493937E-2,{"$f":"(D41-Veaux2021!D41)/Veaux2021!D41","v":0.14190319742702678},{"$f":"(D41-MoyQuinqHebdoVeaux!N33)/MoyQuinqHebdoVeaux!N33","v":0.11910996702149297}]
[null,27,6.9000000953674316,6.8600001335144043,4.7199997901916504,65,85,null,2.9239737544372348E-3,{"$f":"(D42-Veaux2021!D42)/Veaux2021!D42","v":0.15100673381114166},{"$f":"(D42-MoyQuinqHebdoVeaux!N34)/MoyQuinqHebdoVeaux!N34","v":0.12311724026259642}]
[null,28,6.929999828338623,6.8299999237060547,4.7199997901916504,65,85,null,-4.3732083417584991E-3,{"$f":"(D43-Veaux2021!D43)/Veaux2021!D43","v":0.14214045546923984},{"$f":"(D43-MoyQuinqHebdoVeaux!N35)/MoyQuinqHebdoVeaux!N35","v":0.11967212144113026}]
[null,29,6.880000114440918,6.8299999237060547,4.7199997901916504,65,85,null,0,{"$f":"(D44-Veaux2021!D44)/Veaux2021!D44","v":0.13833332061767578},{"$f":"(D44-MoyQuinqHebdoVeaux!N36)/MoyQuinqHebdoVeaux!N36","v":0.12114247222805817}]
["J",30,7.0500001907348633,6.8299999237060547,4.7199997901916504,65,85,null,0,{"$f":"(D45-Veaux2021!D45)/Veaux2021!D45","v":0.14597314156141858},{"$f":"(D45-MoyQuinqHebdoVeaux!N37)/MoyQuinqHebdoVeaux!N37","v":0.12483529987972315}]
[null,31,7.0500001907348633,6.8299999237060547,4.7199997901916504,65,85,null,0,{"$f":"(D46-Veaux2021!D46)/Veaux2021!D46","v":0.14405358856047823},{"$f":"(D46-MoyQuinqHebdoVeaux!N38)/MoyQuinqHebdoVeaux!N38","v":0.12817970613160082}]
[null,32,7.0500001907348633,6.8400001525878906,4.7199997901916504,65,85,null,1.4641623709432886E-3,{"$f":"(D47-Veaux2021!D47)/Veaux2021!D47","v":0.14381273454646992},{"$f":"(D47-MoyQuinqHebdoVeaux!N39)/MoyQuinqHebdoVeaux!N39","v":0.12722480523858262}]
[null,33,null,6.7899999618530273,4.7199997901916504,65,85,null,-7.3099692426097217E-3,{"$f":"(D48-Veaux2021!D48)/Veaux2021!D48","v":0.1279069704074797},{"$f":"(D48-MoyQuinqHebdoVeaux!N40)/MoyQuinqHebdoVeaux!N40","v":0.11567531553811281}]
["A",34,6.880000114440918,6.8600001335144043,4.7199997901916504,60,80,null,1.030930368993309E-2,{"$f":"(D49-Veaux2021!D49)/Veaux2021!D49","v":0.12643680353274292},{"$f":"(D49-MoyQuinqHebdoVeaux!N41)/MoyQuinqHebdoVeaux!N41","v":0.12238221589390799}]
[null,35,7.0300002098083496,6.880000114440918,4.7199997901916504,60,80,null,2.9154490579095084E-3,{"$f":"(D50-Veaux2021!D50)/Veaux2021!D50","v":0.11507295209739353},{"$f":"(D50-MoyQuinqHebdoVeaux!N42)/MoyQuinqHebdoVeaux!N42","v":0.11688313131128107}]
[null,36,7.0300002098083496,6.9499998092651367,4.820000171661377,60,80,null,1.0174374078467156E-2,{"$f":"(D51-Veaux2021!D51)/Veaux2021!D51","v":0.11556979281944402},{"$f":"(D51-MoyQuinqHebdoVeaux!N43)/MoyQuinqHebdoVeaux!N43","v":0.11736332023941544}]
[null,37,7.119999885559082,7.0399999618530273,4.8600001335144043,50,70,null,1.2949662598250755E-2,{"$f":"(D52-Veaux2021!D52)/Veaux2021!D52","v":0.11392404459699795},{"$f":"(D52-MoyQuinqHebdoVeaux!N44)/MoyQuinqHebdoVeaux!N44","v":0.12030553316363476}]
[null,38,null,7.1100001335144043,4.8600001335144043,45,65,null,9.9432062557784327E-3,{"$f":"(D53-Veaux2021!D53)/Veaux2021!D53","v":0.1179245492947176},{"$f":"(D53-MoyQuinqHebdoVeaux!N45)/MoyQuinqHebdoVeaux!N45","v":8.5827749621208954E-2}]
["S",39,7.2300000190734863,7.1999998092651367,4.8600001335144043,45,65,null,1.2658182005721911E-2,{"$f":"(D54-Veaux2021!D54)/Veaux2021!D54","v":0.10939904611173136},{"$f":"(D54-MoyQuinqHebdoVeaux!N46)/MoyQuinqHebdoVeaux!N46","v":0.12079698817250131}]
[null,40,7.320000171661377,7.3000001907348633,4.8600001335144043,40,60,null,1.3888942238726675E-2,{"$f":"(D55-Veaux2021!D55)/Veaux2021!D55","v":0.11111114014229269},{"$f":"(D55-MoyQuinqHebdoVeaux!N47)/MoyQuinqHebdoVeaux!N47","v":0.12238624660504709}]
[null,41,7.320000171661377,7.380000114440918,4.9200000762939453,40,60,null,1.0958893372028993E-2,{"$f":"(D56-Veaux2021!D56)/Veaux2021!D56","v":0.1081081252914291},{"$f":"(D56-MoyQuinqHebdoVeaux!N48)/MoyQuinqHebdoVeaux!N48","v":0.12021859271420003}]
[null,42,7.5500001907348633,7.440000057220459,5.3499999046325684,40,60,null,8.1300734212910505E-3,{"$f":"(D57-Veaux2021!D57)/Veaux2021!D57","v":0.11711712570877759},{"$f":"(D57-MoyQuinqHebdoVeaux!N49)/MoyQuinqHebdoVeaux!N49","v":0.12081953064081009}]
["O",43,null,7.4800000190734863,5.4899997711181641,40,60,null,5.376338917391232E-3,{"$f":"(D58-Veaux2021!D58)/Veaux2021!D58","v":0.11808669941307712},{"$f":"(D58-MoyQuinqHebdoVeaux!N50)/MoyQuinqHebdoVeaux!N50","v":0.11775254255971307}]
[null,44,7.559999942779541,7.5300002098083496,5.4899997711181641,40,60,null,6.6845174608778377E-3,{"$f":"(D59-Veaux2021!D59)/Veaux2021!D59","v":0.11721071362141681},{"$f":"(D59-MoyQuinqHebdoVeaux!N51)/MoyQuinqHebdoVeaux!N51","v":0.11324662375734214}]
[null,45,7.6599998474121094,7.559999942779541,5.4899997711181641,40,60,null,3.9840281720197913E-3,{"$f":"(D60-Veaux2021!D60)/Veaux2021!D60","v":0.11504423934801486},{"$f":"(D60-MoyQuinqHebdoVeaux!N52)/MoyQuinqHebdoVeaux!N52","v":0.1117646993386292}]
[null,46,7.690000057220459,7.6100001335144043,5.4899997711181641,40,60,null,6.6137818932945659E-3,{"$f":"(D61-Veaux2021!D61)/Veaux2021!D61","v":0.11257311893485446},{"$f":"(D61-MoyQuinqHebdoVeaux!N53)/MoyQuinqHebdoVeaux!N53","v":0.10868299882129581}]
["N",47,null,7.619999885559082,5.2699999809265137,null,null,null,1.3140278408983036E-3,{"$f":"(D62-Veaux2021!D62)/Veaux2021!D62","v":0.10595063651075216},{"$f":"(D62-MoyQuinqHebdoVeaux!N54)/MoyQuinqHebdoVeaux!N54","v":0.10338834503527912}]
[null,48,7.7899999618530273,7.6500000953674316,5.4899997711181641,40,60,null,3.9370354670482362E-3,{"$f":"(D63-Veaux2021!D63)/Veaux2021!D63","v":0.10549134326118956},{"$f":"(D63-MoyQuinqHebdoVeaux!N55)/MoyQuinqHebdoVeaux!N55","v":0.10357762180010949}]
[null,49,null,7.7300000190734863,5.5500001907348633,40,60,null,1.04575062364378E-2,{"$f":"(D64-Veaux2021!D64)/Veaux2021!D64","v":0.11223021857172462},{"$f":"(D64-MoyQuinqHebdoVeaux!N56)/MoyQuinqHebdoVeaux!N56","v":0.10935706297956735}]
[null,50,7.8400001525878906,7.75,5.5500001907348633,40,60,null,2.5873196477573693E-3,{"$f":"(D65-Veaux2021!D65)/Veaux2021!D65","v":0.11031518624641827},{"$f":"(D65-MoyQuinqHebdoVeaux!N57)/MoyQuinqHebdoVeaux!N57","v":0.12932604735883427}]
[null,51,7.880000114440918,7.75,5.5500001907348633,40,60,null,0,{"$f":"(D66-Veaux2021!D66)/Veaux2021!D66","v":0.11671469740634},{"$f":"(D66-MoyQuinqHebdoVeaux!N58)/MoyQuinqHebdoVeaux!N58","v":0.13014947138169888}]
["D",52,7.929999828338623,7.7800002098083496,5.5500001907348633,null,null,null,3.8709948139805947E-3,{"$f":"(D67-Veaux2021!D67)/Veaux2021!D67","v":0.11461321057426205},{"$f":"(D67-MoyQuinqHebdoVeaux!N59)/MoyQuinqHebdoVeaux!N59","v":0.13040321838232347}]
[null,53,null,null,null,null,null,null,-1,{"$f":"(D68-Veaux2021!D68)/Veaux2021!D68","v":{"$error":"#DIV/0!"}},{"$f":"(D68-MoyQuinqHebdoVeaux!N60)/MoyQuinqHebdoVeaux!N60","v":-1}]

{"sheet":"Veaux2021","index":20,"n_rows":68,"n_cols":13,"rows_kept":68,"cut":false,"hidden":false,"merged":[[11,5,11,8],[11,10,12,12],[12,2,12,4],[13,2,13,4],[13,10,14,10],[13,11,14,11],[13,12,14,12]]}
["COTATIONS REGIONALES DES VEAUX"]
["Source : DRAAF Pays de la Loire - SRISE - FranceAgriMer",null,null,null,null,null,null,null,"2022-01-07"]
[]
["Veaux de boucherie entrée abattoir région Grand Nord"]
["Prix \"entrée abattoir\" HT exprimé en Euro/Kg de carcasse (cinquième quartier compris)"]
[]
["Marché de Château Gontier (marché de référence pour les petits veaux) : cotation des veaux destinés à l'engraissement"]
[]
[]
["COTATION DES VEAUX - HEBDOMADAIRE (Euros/Kg net)"]
[]
[null,null,null,null,null,"CHÂTEAU GONTIER VIF",null,null,null,null,"Veau Rosé R. clair"]
["Année","Sem.","VEAUX GRAND NORD R",null,null,"NORMAND","CHAROLAIS","LIMOUSIN","LAITIERS"]
[null,null,"(Euros/Kg net",null,null,"45 à 50 Kg","60-70KG","60-70KG","45-50KG",null,"Evolution/semaine -1","Evolution/ semaine id 2020","Evolution/semaine id moy. 5 ans"]
[null,null,"Rose très clair","R.clair","Rosé","(Euros/tête)","(Euros/tête)","(Euros/tête)","(Euros/tête)"]
[2021,1,6.91,6.39,4.96,40,null,null,55,null,{"$f":"(D16-Veaux2020!D68)/Veaux2020!D68","v":-1.5625000000001055E-3},{"$f":"(D16-Veaux2020!D16)/Veaux2020!D16","v":3.1397174254316441E-3},{"$f":"(D16-MoyQuinqHebdoVeaux!N8)/MoyQuinqHebdoVeaux!N8","v":-5.2210021335610014E-2}]
[null,2,6.86,6.36,5.03,40,null,null,55,null,{"$f":"(D17-D16)/D16","v":-4.6948356807510741E-3},{"$f":"(D17-Veaux2020!D17)/Veaux2020!D17","v":-7.8003120124804717E-3},{"$f":"(D17-MoyQuinqHebdoVeaux!N9)/MoyQuinqHebdoVeaux!N9","v":-6.0561307263137097E-2}]
[null,3,6.86,6.37,4.95,40,null,null,55,null,1.5723270440251237E-3,{"$f":"(D18-Veaux2020!D18)/Veaux2020!D18","v":-6.2402496099844048E-3},{"$f":"(D18-MoyQuinqHebdoVeaux!N10)/MoyQuinqHebdoVeaux!N10","v":-5.7692302374824631E-2}]
["J",4,6.85,6.37,4.95,45,null,null,60,null,0,{"$f":"(D19-Veaux2020!D19)/Veaux2020!D19","v":-6.2402496099844048E-3},{"$f":"(D19-MoyQuinqHebdoVeaux!N11)/MoyQuinqHebdoVeaux!N11","v":-5.8806140736692478E-2}]
[null,5,6.85,6.39,5.0199999999999996,45,null,null,60,null,3.1397174254316441E-3,{"$f":"(D20-Veaux2020!D20)/Veaux2020!D20","v":3.1397174254316441E-3},{"$f":"(D20-MoyQuinqHebdoVeaux!N12)/MoyQuinqHebdoVeaux!N12","v":-5.6965763634823099E-2}]
[null,6,6.85,6.37,4.6399999999999997,45,null,null,60,null,-3.1298904538340491E-3,{"$f":"(D21-Veaux2020!D21)/Veaux2020!D21","v":4.7318611987382094E-3},{"$f":"(D21-MoyQuinqHebdoVeaux!N13)/MoyQuinqHebdoVeaux!N13","v":-5.5456704925227425E-2}]
[null,7,6.85,6.39,4.8499999999999996,45,null,null,60,null,3.1397174254316441E-3,{"$f":"(D22-Veaux2020!D22)/Veaux2020!D22","v":1.2678288431061819E-2},{"$f":"(D22-MoyQuinqHebdoVeaux!N14)/MoyQuinqHebdoVeaux!N14","v":-5.2772009295328159E-2}]
["F",8,6.85,6.37,4.83,45,null,null,60,null,-3.1298904538340491E-3,{"$f":"(D23-Veaux2020!D23)/Veaux2020!D23","v":1.1111111111111157E-2},{"$f":"(D23-MoyQuinqHebdoVeaux!N15)/MoyQuinqHebdoVeaux!N15","v":-5.3491830319942126E-2}]
[null,9,6.72,6.39,4.87,45,null,null,60,null,3.1397174254316441E-3,{"$f":"(D24-Veaux2020!D24)/Veaux2020!D24","v":1.4285714285714263E-2},{"$f":"(D24-MoyQuinqHebdoVeaux!N16)/MoyQuinqHebdoVeaux!N16","v":-4.79737745199878E-2}]
[null,10,6.72,6.35,4.51,45,null,null,60,null,-6.2597809076682378E-3,{"$f":"(D25-Veaux2020!D25)/Veaux2020!D25","v":1.2759170653907508E-2},{"$f":"(D25-MoyQuinqHebdoVeaux!N17)/MoyQuinqHebdoVeaux!N17","v":-4.9116505748926162E-2}]
[null,11,6.66,6.37,4.1100000000000003,45,null,null,60,null,3.1496062992126712E-3,{"$f":"(D26-Veaux2020!D26)/Veaux2020!D26","v":1.9200000000000016E-2},{"$f":"(D26-MoyQuinqHebdoVeaux!N18)/MoyQuinqHebdoVeaux!N18","v":-4.5263784601883052E-2}]
[null,12,6.53,6.29,4.2300000000000004,45,null,null,60,null,-1.2558869701726856E-2,{"$f":"(D27-Veaux2020!D27)/Veaux2020!D27","v":9.6308186195826016E-3},{"$f":"(D27-MoyQuinqHebdoVeaux!N19)/MoyQuinqHebdoVeaux!N19","v":-5.58390879017844E-2}]
["M",13,6.48,6.32,4.0999999999999996,55,null,null,70,null,4.7694753577106914E-3,{"$f":"(D28-Veaux2020!D28)/Veaux2020!D28","v":1.7713365539452547E-2},{"$f":"(D28-MoyQuinqHebdoVeaux!N20)/MoyQuinqHebdoVeaux!N20","v":-4.9052061936138709E-2}]
[null,14,6.52,6.29,4.22,55,null,null,70,null,-4.7468354430380139E-3,{"$f":"(D29-Veaux2020!D29)/Veaux2020!D29","v":2.6101141924959239E-2},{"$f":"(D29-MoyQuinqHebdoVeaux!N21)/MoyQuinqHebdoVeaux!N21","v":-4.9274479516209252E-2}]
[null,15,6.42,6.23,3.94,50,null,null,65,null,-9.5389507154212422E-3,{"$f":"(D30-Veaux2020!D30)/Veaux2020!D30","v":4.0066777963272154E-2},{"$f":"(D30-MoyQuinqHebdoVeaux!N22)/MoyQuinqHebdoVeaux!N22","v":-4.7982890635172783E-2}]
[null,16,6.42,6.18,4.22,45,null,null,60,null,-8.0256821829856675E-3,{"$f":"(D31-Veaux2020!D31)/Veaux2020!D31","v":5.2810902896081702E-2},{"$f":"(D31-MoyQuinqHebdoVeaux!N23)/MoyQuinqHebdoVeaux!N23","v":-4.893813983565997E-2}]
["A",17,6.41,6.12,3.7,45,null,null,60,null,-9.7087378640776066E-3,{"$f":"(D32-Veaux2020!D32)/Veaux2020!D32","v":8.7033747779751369E-2},{"$f":"(D32-MoyQuinqHebdoVeaux!N24)/MoyQuinqHebdoVeaux!N24","v":-4.4645643001379416E-2}]
[null,18,6.41,6.11,3.97,45,null,null,60,null,-1.6339869281045403E-3,{"$f":"(D33-Veaux2020!D33)/Veaux2020!D33","v":0.11700182815356501},{"$f":"(D33-MoyQuinqHebdoVeaux!N25)/MoyQuinqHebdoVeaux!N25","v":-4.051507307779869E-2}]
[null,19,6.22,6.13,3.92,45,null,null,60,null,3.2733224222585224E-3,{"$f":"(D34-Veaux2020!D34)/Veaux2020!D34","v":0.16539923954372626},{"$f":"(D34-MoyQuinqHebdoVeaux!N26)/MoyQuinqHebdoVeaux!N26","v":-3.067679210611491E-2}]
[null,20,6.35,6.08,3.61,75,null,null,75,null,-8.1566068515497268E-3,{"$f":"(D35-Veaux2020!D35)/Veaux2020!D35","v":0.15809523809523812},{"$f":"(D35-MoyQuinqHebdoVeaux!N27)/MoyQuinqHebdoVeaux!N27","v":-3.4307494482957765E-2}]
["M",21,6.49,6.1,3.83,75,null,null,75,null,3.2894736842104563E-3,{"$f":"(D36-Veaux2020!D36)/Veaux2020!D36","v":0.16634799235181627},{"$f":"(D36-MoyQuinqHebdoVeaux!N28)/MoyQuinqHebdoVeaux!N28","v":-3.1746029987176627E-2}]
[null,22,null,6.03,3.52,90,null,null,90,null,-1.1475409836065476E-2,{"$f":"(D37-Veaux2020!D37)/Veaux2020!D37","v":0.17087378640776696},{"$f":"(D37-MoyQuinqHebdoVeaux!N29)/MoyQuinqHebdoVeaux!N29","v":-3.4891171654541905E-2}]
[null,23,6.38,6.04,4.09,100,null,null,100,null,1.6583747927031154E-3,{"$f":"(D38-Veaux2020!D38)/Veaux2020!D38","v":0.16602316602316611},{"$f":"(D38-MoyQuinqHebdoVeaux!N30)/MoyQuinqHebdoVeaux!N30","v":-2.7061849093732413E-2}]
[null,24,6.25,5.99,3.66,100,null,null,100,null,-8.2781456953642096E-3,{"$f":"(D39-Veaux2020!D39)/Veaux2020!D39","v":0.15192307692307694},{"$f":"(D39-MoyQuinqHebdoVeaux!N31)/MoyQuinqHebdoVeaux!N31","v":-3.043056065047171E-2}]
[null,25,6.08,6,3.69,100,null,null,100,null,1.6694490818029693E-3,{"$f":"(D40-Veaux2020!D40)/Veaux2020!D40","v":0.15163147792706336},{"$f":"(D40-MoyQuinqHebdoVeaux!N32)/MoyQuinqHebdoVeaux!N32","v":-2.5341125168574296E-2}]
["J",26,6.07,5.99,3.32,100,null,null,100,null,-1.6666666666666312E-3,{"$f":"(D41-Veaux2020!D41)/Veaux2020!D41","v":0.14971209213051828},{"$f":"(D41-MoyQuinqHebdoVeaux!N33)/MoyQuinqHebdoVeaux!N33","v":-1.9960737877687224E-2}]
[null,27,6.24,5.96,3.59,100,null,null,100,null,-5.0083472454090566E-3,{"$f":"(D42-Veaux2020!D42)/Veaux2020!D42","v":0.14395393474088292},{"$f":"(D42-MoyQuinqHebdoVeaux!N34)/MoyQuinqHebdoVeaux!N34","v":-2.4230521620146654E-2}]
[null,28,6.06,5.98,3.72,null,null,null,null,null,3.3557046979866547E-3,{"$f":"(D43-Veaux2020!D43)/Veaux2020!D43","v":0.14340344168260036},{"$f":"(D43-MoyQuinqHebdoVeaux!N35)/MoyQuinqHebdoVeaux!N35","v":-1.9672128695308863E-2}]
[null,29,6,6,3.29,100,null,null,100,null,3.344481605351099E-3,{"$f":"(D44-Veaux2020!D44)/Veaux2020!D44","v":0.1538461538461538},{"$f":"(D44-MoyQuinqHebdoVeaux!N36)/MoyQuinqHebdoVeaux!N36","v":-1.5101770349909118E-2}]
["J",30,6.17,5.96,3.82,90,null,null,90,null,-6.6666666666666723E-3,{"$f":"(D45-Veaux2020!D45)/Veaux2020!D45","v":0.14836223506743729},{"$f":"(D45-MoyQuinqHebdoVeaux!N37)/MoyQuinqHebdoVeaux!N37","v":-1.8445320326525766E-2}]
[null,31,6.02,5.97,3.79,85,null,null,85,null,1.6778523489932528E-3,{"$f":"(D46-Veaux2020!D46)/Veaux2020!D46","v":0.15473887814313342},{"$f":"(D46-MoyQuinqHebdoVeaux!N38)/MoyQuinqHebdoVeaux!N38","v":-1.3875121399558687E-2}]
[null,32,6.02,5.98,3.78,75,null,null,75,null,1.6750418760470144E-3,{"$f":"(D47-Veaux2020!D47)/Veaux2020!D47","v":0.15000000000000005},{"$f":"(D47-MoyQuinqHebdoVeaux!N39)/MoyQuinqHebdoVeaux!N39","v":-1.4502312141562694E-2}]
[null,33,6.22,6.02,3.78,75,null,null,75,null,6.6889632107021979E-3,{"$f":"(D48-Veaux2020!D48)/Veaux2020!D48","v":0.14666666666666658},{"$f":"(D48-MoyQuinqHebdoVeaux!N40)/MoyQuinqHebdoVeaux!N40","v":-1.0844560048199682E-2}]
["A",34,6.27,6.09,3.78,75,null,null,75,null,{"$f":"(D49-D48)/D48","v":1.1627906976744234E-2},{"$f":"(D49-Veaux2020!D49)/Veaux2020!D49","v":0.15999999999999998},{"$f":"(D49-MoyQuinqHebdoVeaux!N41)/MoyQuinqHebdoVeaux!N41","v":-3.599480792991579E-3}]
[null,35,6.31,6.17,3.93,70,null,null,70,null,1.3136288998357976E-2,{"$f":"(D50-Veaux2020!D50)/Veaux2020!D50","v":0.15327102803738324},{"$f":"(D50-MoyQuinqHebdoVeaux!N42)/MoyQuinqHebdoVeaux!N42","v":1.6233729017305092E-3}]
[null,36,6.38,6.23,4.28,65,null,null,65,null,9.724473257698622E-3,{"$f":"(D51-Veaux2020!D51)/Veaux2020!D51","v":0.14311926605504591},{"$f":"(D51-MoyQuinqHebdoVeaux!N43)/MoyQuinqHebdoVeaux!N43","v":1.6077231846145096E-3}]
[null,37,6.42,6.32,4.5199999999999996,65,null,null,65,null,1.4446227929373973E-2,{"$f":"(D52-Veaux2020!D52)/Veaux2020!D52","v":0.14909090909090914},{"$f":"(D52-MoyQuinqHebdoVeaux!N44)/MoyQuinqHebdoVeaux!N44","v":5.728836357909441E-3}]
[null,38,6.47,6.36,4.5599999999999996,65,null,null,65,null,6.329113924050638E-3,{"$f":"(D53-Veaux2020!D53)/Veaux2020!D53","v":-4.2168674698795088E-2},{"$f":"(D53-MoyQuinqHebdoVeaux!N45)/MoyQuinqHebdoVeaux!N45","v":-2.8711060772176486E-2}]
["S",39,6.55,6.49,4.5599999999999996,55,null,null,55,null,2.0440251572327026E-2,{"$f":"(D54-Veaux2020!D54)/Veaux2020!D54","v":0.13859649122807019},{"$f":"(D54-MoyQuinqHebdoVeaux!N46)/MoyQuinqHebdoVeaux!N46","v":1.0273978601944848E-2}]
[null,40,6.64,6.57,4.62,55,null,null,55,null,1.2326656394453015E-2,{"$f":"(D55-Veaux2020!D55)/Veaux2020!D55","v":0.12692967409948547},{"$f":"(D55-MoyQuinqHebdoVeaux!N47)/MoyQuinqHebdoVeaux!N47","v":1.0147595551341941E-2}]
[null,41,null,6.66,4.62,55,null,null,55,null,1.369863013698628E-2,{"$f":"(D56-Veaux2020!D56)/Veaux2020!D56","v":0.11000000000000003},{"$f":"(D56-MoyQuinqHebdoVeaux!N48)/MoyQuinqHebdoVeaux!N48","v":1.0928958236440979E-2}]
[null,42,null,6.66,4.62,55,null,null,55,null,0,{"$f":"(D57-Veaux2020!D57)/Veaux2020!D57","v":8.8235294117647065E-2},{"$f":"(D57-MoyQuinqHebdoVeaux!N49)/MoyQuinqHebdoVeaux!N49","v":3.3142495507652559E-3}]
["O",43,6.78,6.69,4.6100000000000003,55,null,null,55,null,4.5045045045045418E-3,{"$f":"(D58-Veaux2020!D58)/Veaux2020!D58","v":8.252427184466031E-2},{"$f":"(D58-MoyQuinqHebdoVeaux!N50)/MoyQuinqHebdoVeaux!N50","v":-2.9886488546859165E-4}]
[null,44,null,6.74,4.6100000000000003,55,null,null,55,null,7.4738415545590161E-3,{"$f":"(D59-Veaux2020!D59)/Veaux2020!D59","v":7.4960127591706643E-2},{"$f":"(D59-MoyQuinqHebdoVeaux!N51)/MoyQuinqHebdoVeaux!N51","v":-3.5482025151953303E-3}]
[null,45,6.92,6.78,4.7,null,null,null,null,null,5.9347181008902131E-3,{"$f":"(D60-Veaux2020!D60)/Veaux2020!D60","v":7.6190476190476267E-2},{"$f":"(D60-MoyQuinqHebdoVeaux!N52)/MoyQuinqHebdoVeaux!N52","v":-2.9411747925833461E-3}]
[null,46,6.92,6.84,4.7,55,null,null,55,null,8.8495575221238364E-3,{"$f":"(D61-Veaux2020!D61)/Veaux2020!D61","v":7.3783359497645168E-2},{"$f":"(D61-MoyQuinqHebdoVeaux!N53)/MoyQuinqHebdoVeaux!N53","v":-3.4965073731809439E-3}]
["N",47,6.93,6.89,4.3600000000000003,55,null,null,55,null,7.3099415204678107E-3,{"$f":"(D62-Veaux2020!D62)/Veaux2020!D62","v":7.9937304075235083E-2},{"$f":"(D62-MoyQuinqHebdoVeaux!N54)/MoyQuinqHebdoVeaux!N54","v":-2.3168226418830125E-3}]
[null,48,6.97,6.92,4.42,55,null,null,55,null,4.3541364296081639E-3,{"$f":"(D63-Veaux2020!D63)/Veaux2020!D63","v":8.6342229199372025E-2},{"$f":"(D63-MoyQuinqHebdoVeaux!N55)/MoyQuinqHebdoVeaux!N55","v":-1.7311048817755556E-3}]
[null,49,6.97,6.95,4.8099999999999996,55,null,null,55,null,4.3352601156069724E-3,{"$f":"(D64-Veaux2020!D64)/Veaux2020!D64","v":8.7636932707355328E-2},{"$f":"(D64-MoyQuinqHebdoVeaux!N56)/MoyQuinqHebdoVeaux!N56","v":-2.583238203909662E-3}]
[null,50,7.03,6.98,5.04,55,null,null,55,null,4.3165467625899635E-3,{"$f":"(D65-Veaux2020!D65)/Veaux2020!D65","v":9.2331768388106542E-2},{"$f":"(D65-MoyQuinqHebdoVeaux!N57)/MoyQuinqHebdoVeaux!N57","v":1.7122040072859834E-2}]
[null,51,7.03,6.94,4.68,55,null,null,55,null,-5.7306590257879706E-3,{"$f":"(D66-Veaux2020!D66)/Veaux2020!D66","v":8.4375000000000006E-2},{"$f":"(D66-MoyQuinqHebdoVeaux!N58)/MoyQuinqHebdoVeaux!N58","v":1.2030623405031056E-2}]
["D",52,7.07,6.98,4.8899999999999997,55,null,null,55,null,5.7636887608069213E-3,{"$f":"(D67-Veaux2020!D67)/Veaux2020!D67","v":9.4043887147335511E-2},{"$f":"(D67-MoyQuinqHebdoVeaux!N59)/MoyQuinqHebdoVeaux!N59","v":1.4166356237538404E-2}]
["D",53]

{"sheet":"Veaux2020","index":21,"n_rows":68,"n_cols":9,"rows_kept":68,"cut":false,"hidden":false,"merged":[[11,5,11,8],[12,2,12,4],[13,2,13,4]]}
["COTATIONS REGIONALES DES VEAUX"]
["Source : DRAAF Pays de la Loire - SRISE - FranceAgriMer",null,null,null,null,null,null,null,"MAJ : 06/01/2021"]
[]
["Veaux de boucherie entrée abattoir région Grand Nord"]
["Prix \"entrée abattoir\" HT exprimé en Euro/Kg de carcasse (cinquième quartier compris)"]
[]
["Marché de Château Gontier (marché de référence pour les petits veaux) : cotation des veaux destinés à l'engraissement"]
[]
[]
["COTATION DES VEAUX - HEBDOMADAIRE (Euros/Kg net)"]
[]
[null,null,null,null,null,"CHÂTEAU GONTIER VIF"]
["Année","Sem.","      VEAUX GRAND NORD R",null,null,"NORMAND","CHAROLAIS","LIMOUSIN","LAITIERS"]
[null,null,"(Euros/Kg net",null,null,"45 à 50 Kg","60-70KG","60-70KG","45-50KG"]
[null,null,"Rose très clair","R.clair","Rosé","(Euros/tête)","(Euros/tête)","(Euros/tête)","(Euros/tête)"]
[2020,1,6.77,6.37,4.93,55,300,300,55]
[null,2,6.95,6.41,5.26,55,300,300,55]
[null,3,6.91,6.41,5.17,55,300,300,55]
[null,4,6.86,6.41,5.04,55,300,300,55]
["J",5,6.77,6.37,5.18,55,300,300,55]
[null,6,6.78,6.34,5.32,55,300,300,55]
[null,7,6.8,6.31,4.9400000000000004,55,300,300,55]
[null,8,6.65,6.3,4.5599999999999996,55,300,300,55]
["F",9,6.74,6.3,4.75,55,300,300,55]
[null,10,6.74,6.27,4.9800000000000004,55,300,300,55]
[null,11,6.69,6.25,4.58]
[null,12,6.59,6.23,4.96]
["M",13,6.67,6.21,4.72,75,300,300,75]
[null,14,6.59,6.13,4.3499999999999996,75,300,300,75]
[null,15,6.58,5.99,4.5]
[null,16,6.63,5.87,4.45]
[null,17,6.1,5.63,4.0199999999999996,70,290,290,70]
["A",18,6.41,5.47,3.76,70,290,290,70]
[null,19,6.26,5.26,3.64,70,290,290,70]
[null,20,5.93,5.25,3.65,70,290,290,70]
[null,21,6.1,5.23,3.9,70,290,290,70]
["M",22,6.1,5.15,3.94,70,290,290,70]
[null,23,6.23,5.18,3.87,75,290,290,75]
[null,24,6.34,5.2,4.09,85,290,290,85]
[null,25,6.34,5.21,3.6,85,290,290,85]
["J",26,6.34,5.21,3.77,85,290,290,85]
[null,27,5.91,5.21,3.84,85,290,290,85]
[null,28,6.13,5.23,4.1100000000000003,80,290,290,80]
[null,29,6.26,5.2,4.08,80,290,290,80]
[null,30,6.11,5.19,4.3,70,290,290,70]
["J",31,6.11,5.17,4.3499999999999996,70,290,290,70]
[null,32,6.11,5.2,4.03,65,290,290,65]
[null,33,6.02,5.25,4.33,60,290,290,60]
[null,34,6.02,5.25,3.78,60,290,290,60]
["A",35,6.07,5.35,4.0599999999999996,55,290,290,55]
[null,36,6.07,5.45,4.16,45,290,290,45]
[null,37,6.24,5.5,4.04,45,290,290,45]
[null,38,6.34,6.64,4.3,45,290,290,45]
[null,39,6.28,5.7,4.38,45,290,290,45]
["S",40,6.31,5.83,4.6100000000000003,45,290,290,45]
[null,41,6.55,6,4.71,45,290,290,45]
[null,42,6.63,6.12,4.76,45,290,290,45]
[null,43,6.63,6.18,4.8499999999999996,45,290,290,45]
["O",44,6.71,6.27,4.8600000000000003,45,290,290,45]
[null,45,6.71,6.3,5.1100000000000003,45,290,290,45]
[null,46,6.88,6.37,5.09]
[null,47,6.88,6.38,4.9000000000000004]
["N",48,6.87,6.37,5.0199999999999996]
[null,49,6.87,6.39,5.2,45,290,290,45]
[null,50,6.77,6.39,5.07,40,290,290,55]
[null,51,6.85,6.4,5.18,40,290,290,55]
[null,52,6.91,6.38,4.96,40,290,290,55]
["D",53,6.91,6.4,4.8099999999999996]

{"sheet":"Veaux2019","index":22,"n_rows":67,"n_cols":9,"rows_kept":67,"cut":false,"hidden":false,"merged":[[11,5,11,8],[12,2,12,4],[13,2,13,4]]}
["COTATIONS REGIONALES DES VEAUX"]
["Source : DRAAF Pays de la Loire - SRISE - FranceAgriMer",null,null,null,null,null,null,null,"MAJ : 18/12/2019"]
[]
["Veaux de boucherie entrée abattoir région Grand Nord"]
["Prix \"entrée abattoir\" HT exprimé en Euro/Kg de carcasse (cinquième quartier compris)"]
[]
["Marché de Château Gontier (marché de référence pour les petits veaux) : cotation des veaux destinés à l'engraissement"]
[]
[]
["COTATION DES VEAUX - HEBDOMADAIRE (Euros/Kg net)"]
[]
[null,null,null,null,null,"CHÂTEAU GONTIER VIF"]
["Année","Sem.","      VEAUX GRAND NORD R",null,null,"NORMAND","CHAROLAIS","LIMOUSIN","LAITIERS"]
[null,null,"(Euros/Kg net",null,null,"45 à 50 Kg","60-70KG","60-70KG","45-50KG"]
[null,null,"Rose très clair","R.clair","Rosé","(Euros/tête)","(Euros/tête)","(Euros/tête)","(Euros/tête)"]
[2019,1,6.7,6.25,4.4000000000000004,75,325,325,75]
[null,2,6.82,6.36,4.4400000000000004,75,325,325,75]
[null,3,6.63,6.32,4.55,75,325,325,75]
[null,4,6.73,6.34,4.47,75,325,325,75]
["J",5,6.72,6.43,4.4800000000000004,75,325,325,75]
[null,6,6.56,6.34,4.3899999999999997,75,325,325,75]
[null,7,6.7,6.38,4.32,75,325,325,75]
[null,8,6.68,6.32,4.4800000000000004,75,325,325,75]
["F",9,6.58,6.24,4.49,75,325,325,75]
[null,10,6.6,6.17,4.32,75,325,325,75]
[null,11,6.49,6.09,4.45,75,325,325,75]
[null,12,6.63,6.08,4.33,75,325,325,75]
["M",13,6.48,5.98,4.21,75,325,325,75]
[null,14,6.36,5.94,4.29,75,325,325,75]
[null,15,6.24,5.78,4.08,75,325,325,75]
[null,16,6.01,5.73,4.3499999999999996,75,320,320,75]
["A",17,5.93,5.63,3.97,75,320,320,75]
[null,18,5.94,5.61,4.22,95,320,320,95]
[null,19,5.94,5.6,4.05,95,320,320,95]
[null,20,5.98,5.55,3.93,80,320,320,80]
[null,21,6.08,5.6,3.92,80,320,320,80]
["M",22,6.25,5.59,3.95]
[null,23,6.12,5.52,3.86,100,360,360,100]
[null,24,6.27,5.48,4.04,110,360,360,110]
[null,25,6.13,5.48,3.49,120,360,360,120]
["J",26,5.75,5.46,3.88,120,360,360,120]
[null,27,5.92,5.47,3.89,110,350,350,110]
[null,28,5.89,5.42,4.1100000000000003,90,330,330,90]
[null,29,5.91,5.4,3.87,70,330,330,70]
[null,30,5.96,5.33,3.53,70,330,330,70]
["J",31,5.79,5.35,3.83,65,320,320,65]
[null,32,5.66,5.36,3.93,55,300,300,55]
[null,33,5.89,5.41,4.08,55,300,300,55]
[null,34,5.89,5.42,3.89,50,280,280,50]
["A",35,5.98,5.44,3.74,50,280,280,50]
[null,36,6.06,5.51,3.8,45,270,270,45]
[null,37,6.12,5.56,3.94]
[null,38,6.04,5.63,4.09,65,300,300,65]
["S",39,6.25,5.7,4,65,300,300,65]
[null,40,6.32,5.77,4.2699999999999996,60,300,300,60]
[null,41,6.31,5.85,4.33,60,300,300,60]
[null,42,6.15,5.9,4.51,55,300,300,55]
[null,43,6.35,5.97,4.37,55,300,300,55]
["O",44,6.38,6.07,4.62,55,300,300,55]
[null,45,6.51,6.12,4.6399999999999997,55,300,300,55]
[null,46,6.67,6.21,4.46,55,300,300,55]
[null,47,6.77,6.27,4.51,55,300,300,55]
["N",48,6.68,6.29,4.49,55,300,300,55]
[null,49,6.8,6.31,4.43,55,300,300,55]
[null,50,6.85,6.33,4.45,55,300,300,55]
[null,51,6.84,6.34,4.8,55,300,300,55]
["D",52,6.75,6.39,5.12]

{"sheet":"Veaux2018","index":23,"n_rows":67,"n_cols":10,"rows_kept":67,"cut":false,"hidden":true,"merged":[[11,5,11,8],[12,2,12,4],[13,2,13,4]]}
["COTATIONS REGIONALES DES VEAUX"]
["Source : DRAAF Pays de la Loire - SRISE - FranceAgriMer",null,null,null,null,null,null,null,"MAJ","2019-01-07"]
[]
["Veaux de boucherie entrée abattoir région Nord"]
["Prix \"entrée abattoir\" HT exprimé en Euro/Kg de carcasse (cinquième quartier compris)"]
[]
["Marché de Château Gontier (marché de référence pour les petits veaux) : cotation des veaux destinés à l'engraissement"]
[]
[]
["COTATION DES VEAUX - HEBDOMADAIRE (Euros/Kg net)"]
[]
[null,null,null,null,null,"CHÂTEAU GONTIER VIF"]
["Année","Sem.","      VEAUX GRAND NORD R",null,null,"NORMAND","CHAROLAIS","LIMOUSIN","LAITIERS"]
[null,null,"(Euros/Kg net",null,null,"45 à 50 Kg","60-70KG","60-70KG","45-50KG"]
[null,null,"Rose très clair","R.clair","Rosé","(Euros/tête)","(Euros/tête)","(Euros/tête)","(Euros/tête)"]
[2018,1,6.9,6.49,5.12,75,375,375,60]
[null,2,6.9,6.46,5.07,75,375,375,60]
[null,3,6.9,6.46,4.88,75,375,375,60]
[null,4,6.95,6.5,4.9000000000000004,75,375,375,60]
["J",5,6.97,6.57,5.04,85,375,375,70]
[null,6,6.93,6.58,5.07,95,375,375,80]
[null,7,6.81,6.53,5.19,105,375,375,90]
[null,8,6.86,6.5,5.12,105,375,375,90]
["F",9,6.82,6.5,5.09,105,375,375,90]
[null,10,6.79,6.49,5.2,105,375,375,90]
[null,11,6.81,6.52,5.07,115,375,375,100]
[null,12,6.7,6.51,5.16,120,375,375,105]
["M",13,6.73,6.48,5.05,120,365,365,105]
[null,14,6.61,6.43,5.04,130,365,365,115]
[null,15,6.75,6.38,4.92,140,365,365,125]
[null,16,6.82,6.34,4.8899999999999997,150,375,375,125]
["A",17,6.73,6.3,4.84,155,375,375,130]
[null,18,6.6,6.29,4.71,155,375,375,130]
[null,19,6.45,6.21,4.47,155,375,375,130]
[null,20,6.49,6.18,4.32,155,365,365,130]
[null,21,6.62,6.18,4.46,155,365,365,130]
[null,22,6.63,6.16,4.37,155,365,365,130]
["M",23,6.65,6.07,4.3,155,365,365,130]
[null,24,6.66,6.03,4.18,155,365,365,140]
[null,25,6.63,6.11,4.09,155,365,365,140]
[null,26,6.27,6,3.76,155,365,365,140]
["J",27,6.27,6.14,3.93,155,365,365,140]
[null,28,6.66,6.09,3.82,145,365,365,130]
[null,29,6.68,6.12,3.84,135,365,365,130]
["J",30,6.18,6.19,4.2,115,365,365,110]
[null,31,6.32,6.2,4.26,95,365,365,90]
[null,32,6.25,6.11,4.29,90,365,365,85]
[null,33,6.48,6.11,4.41]
[null,34,6.6,6.05,4.33,70,365,365,65]
["A",35,6.48,6.06,4.38,70,365,365,65]
[null,36,6.44,6.08,4.3,70,365,365,65]
[null,37,6.47,6.09,4.32,60,355,355,55]
[null,38,6.42,6.12,4.2699999999999996,50,345,345,45]
["S",39,6.65,6.2,4.4800000000000004,40,335,335,35]
[null,40,6.34,6.19,4.51,40,325,325,35]
[null,41,6.36,6.2,4.68,40,325,325,35]
[null,42,6.34,6.17,4.5999999999999996,40,325,325,35]
[null,43,6.4,6.18,4.4400000000000004,40,325,325,35]
["O",44,6.52,6.19,4.28,40,325,325,35]
[null,45,6.44,6.22,4.4800000000000004]
[null,46,6.43,6.24,4.33,40,325,325,35]
[null,47,6.31,6.26,4.6100000000000003,40,325,325,35]
["N",48,6.52,6.26,4.3499999999999996,40,325,325,35]
[null,49,6.71,6.26,4.4800000000000004,40,325,325,35]
[null,50,6.69,6.27,4.57,40,325,325,35]
[null,51,6.9,6.28,4.53,40,325,325,35]
["D",52,6.73,6.29,4.43,40,325,325,35]

{"sheet":"Veaux2017","index":24,"n_rows":67,"n_cols":12,"rows_kept":67,"cut":false,"hidden":true,"merged":[[11,7,11,11],[13,2,13,6]]}
["COTATIONS REGIONALES DES VEAUX"]
["Source : DRAAF Pays de la Loire - SRISE - FranceAgriMer"]
[]
["Veaux de boucherie entrée abattoir région Nord"]
["Prix \"entrée abattoir\" HT exprimé en Euro/Kg de carcasse (cinquième quartier compris)"]
[]
["Marché de Château Gontier (marché de référence pour les petits veaux) : cotation des veaux destinés à l'engraissement"]
[]
[]
["COTATION DES VEAUX - HEBDOMADAIRE (Euros/Kg net)"]
[]
[null,null,null,null,null,null,null,"CHÂTEAU GONTIER VIF"]
["Année","Sem.","      VEAUX GRAND NORD R",null,null,null,null,"NORMAND","FRISON","CHAROLAIS","LIMOUSIN","LAITIERS"]
[null,null,"(Euros/Kg net",null,null,null,null,"45 à 50 Kg","40 à 45 Kg","60-70KG","60-70KG","45-50KG"]
[null,null,"Blanc","Rose très clair","R.clair","Rosé","Rouge","(Euros/tête)","(Euros/tête)","(Euros/tête)","(Euros/tête)","(Euros/tête)"]
[2017,1,null,7.04,6.72,4.95,null,55,null,375,375,55]
[null,2,null,7.22,6.72,4.92,null,55,null,375,375,55]
[null,3,null,7.15,6.78,5.04,null,55,null,375,375,55]
["J",4,null,7.27,6.79,5.05,null,55,null,375,375,55]
[null,5,null,7.07,6.75,5.03,null,65,null,375,375,65]
[null,6,null,7.03,6.77,5.3,null,65,null,375,375,65]
[null,7,null,7.09,6.71,5.16,null,65,null,375,375,65]
["F",8,null,7.07,6.71,5.17,null,70,null,365,365,70]
[null,9,null,6.96,6.66,5.03,null,80,null,365,365,80]
[null,10,null,6.92,6.61,5.17,null,85,null,365,365,85]
[null,11,null,6.96,6.62,4.74,null,95,null,365,365,95]
[null,12,null,6.84,6.56,4.95,null,105,null,365,365,105]
["M",13,null,6.79,6.53,4.9400000000000004,null,115,null,350,350,115]
[null,14,null,6.83,6.49,4.8600000000000003,null,115,null,330,330,115]
[null,15,null,6.77,6.48,4.7300000000000004,null,115,null,330,330,115]
[null,16,null,6.7,6.44,4.78,null,115,null,330,330,115]
["A",17,null,6.8,6.42,4.66,null,115,null,320,320,115]
[null,18,null,6.65,6.35,4.43,null,115,null,320,320,115]
[null,19,null,6.6,6.37,4.5999999999999996,null,115,null,320,320,115]
[null,20,null,6.55,6.3,4.5199999999999996,null,115,null,320,320,115]
["M",21,null,6.57,6.16,4.6500000000000004,null,115,null,320,320,115]
[null,22,null,6.55,6.08,4.57,null,115,null,320,320,115]
[null,23,null,6.23,6.02,4.4000000000000004,null,115,null,320,320,115]
[null,24,null,6.62,6.05,4.3899999999999997,null,120,null,320,320,120]
[null,25,null,6.47,6.03,4.33,null,120,null,320,320,120]
["J",26,null,6.32,5.95,4.1900000000000004,null,120,null,320,320,120]
[null,27,null,6.04,5.83,4.07,null,120,null,320,320,120]
[null,28,null,6.3,5.85,3.59,null,110,null,310,310,110]
[null,29,null,6.01,5.74,3.63,null,90,null,310,310,90]
["J",30,null,6.05,5.77,3.8,null,75,null,290,290,75]
[null,31,null,6.16,5.86,3.63,null,60,null,280,280,60]
[null,32,null,5.91,5.85,3.8,null,55,null,280,280,55]
[null,33,null,6.12,5.78,3.81]
["A",34,null,6.1,5.88,3.79,null,45,null,270,270,45]
[null,35,null,6.5,5.9,3.67,null,45,null,270,270,45]
[null,36,null,6.59,5.91,3.72,null,85,null,270,270,85]
[null,37,null,6.3,5.87,3.9,null,85,null,270,270,85]
[null,38,null,6.32,5.9,4.01,null,75,null,260,260,75]
["S",39,null,6.53,6.03,4.13,null,75,null,250,250,75]
[null,40,null,6.55,6,4.28,null,75,null,250,250,75]
[null,41,null,6.62,6.08,4.3,null,75,null,250,250,75]
[null,42,null,6.42,6.1,4.4400000000000004,null,75,null,250,250,75]
["O",43,null,6.37,6.12,4.34,null,75,null,250,250,75]
[null,44,null,6.58,6.15,4.4800000000000004,null,75,null,250,250,75]
[null,45,null,6.59,6.22,4.49,null,65,null,250,250,65]
[null,46,null,6.55,6.27,4.5,null,65,null,250,250,65]
["N",47,null,6.6,6.35,4.7300000000000004,null,75,null,375,375,65]
[null,48,null,6.7,6.36,4.71,null,75,null,375,375,60]
[null,49,null,6.57,6.39,4.76,null,75,null,375,375,60]
[null,50,null,6.82,6.47,4.83,null,75,null,375,375,60]
[null,51,null,6.82,6.47,4.83,null,75,null,375,375,60]
["D",52,null,6.86,6.47,4.8600000000000003]

{"sheet":"Veaux2016","index":25,"n_rows":67,"n_cols":59,"rows_kept":67,"cut":false,"hidden":true,"merged":[[13,49,13,52],[13,53,13,56],[13,57,13,58],[13,2,13,6],[13,28,13,31],[13,32,13,35],[13,36,13,39],[13,40,13,41],[13,45,13,48],[11,7,11,11],[11,15,11,19],[11,45,11,58],[12,15,12,19],[12,20,12,24],[12,45,12,58]]}
["COTATIONS REGIONALES DES VEAUX"]
["Source : DRAAF Pays de la Loire - SRISE - FranceAgriMer",null,null,null,null,null,null,null,null,null,null,null,"mise à jour : 13/01/2017",null,null,null,null,null,null,null,null,null,null,null,null,null,"COTATION DES VEAUX DE BOUCHERIE ENTREE-ABATTOIR"]
[]
["Veaux de boucherie entrée abattoir région Grand Nord",null,null,null,null,null,null,null,null,null,null,null,null,null,null,null,null,null,null,null,null,null,null,null,null,null,"Prix \"entrée-abattoir\" HT exprimé en Euro/kg de carcasse (cinquième quartier inclus), frais de transport inclus"]
["Prix \"entrée abattoir\" HT exprimé en Euro/Kg de carcasse (cinquième quartier compris)",null,null,null,null,null,null,null,null,null,null,null,null,null,null,null,null,null,null,null,null,null,null,null,null,null,"Région NORD"]
[]
["Marché de Château Gontier (marché de référence pour les petits veaux) : cotation des veaux destinés à l'engraissement"]
[]
[]
["COTATION DES VEAUX - HEBDOMADAIRE (Euros/Kg net)",null,null,null,null,null,null,null,null,null,null,null,null,null,"COTATION DES VEAUX - MOYENNES MENSUELLES"]
[]
[null,null,null,null,null,null,null,"CHÂTEAU GONTIER VIF",null,null,null,null,null,null,null,"Euros/Kg net",null,null,null,null,null,null,null,null,null,null,null,null,null,null,null,null,null,null,null,null,null,null,null,null,null,null,null,null,null,"Euros/Kg net"]
["Année","Sem.","      VEAUX GRAND NORD R",null,null,null,null,"NORMAND","FRISON","CHAROLAIS","LIMOUSIN","LAITIERS",null,"Année","Mois","      VEAUX grand Nord R",null,null,null,null,"VEAUX CHÂTEAU GONTIER",null,null,null,null,null,null,null,null,null,null,null,null,null,null,null,null,null,null,null,null,null,null,"Année","Mois","      VEAUX grand Nord"]
[null,null,"(Euros/Kg net",null,null,null,null,"45 à 50 Kg","40 à 45 Kg","60-70KG","60-70KG","45-50KG",null,null,null,null,null,null,null,null,null,null,null,null,null,null,"date","AnnéeMois","Rosé très clair",null,null,null,"Rosé clair",null,null,null,"Rosé",null,null,null,"Rouge",null,null,null,null,"Rosé très clair",null,null,null,"Rosé clair",null,null,null,"Rosé",null,null,null,"Rouge"]
[null,null,"Blanc","Rose très clair","R.clair","Rosé","Rouge","(Euros/tête)","(Euros/tête)","(Euros/tête)","(Euros/tête)","(Euros/tête)",null,null,null,"Blanc","Rose très clair","R.clair","Rosé","Rouge","N.45-50","F.40-45","CH 60-70","LIM 60-70","LAIT 45-50",null,null,null,"U","R","O","P","U","R","O","P","U","R","O","P","R","O",null,null,null,"U","R","O","P","U","R","O","P","U","R","O","P","R","O"]
[2016,1,null,7,6.81,5.51,null,70,null,375,375,70,null,2016,"J",{"$f":"IF((C19)>0,AVERAGE(C16:C19),\"\")","v":""},7.0350000000000001,6.8925000000000001,5.3725000000000005,"",70,"",375,375,70,null,null,201601,null,7,6.27,4.3899999999999997,7.55,6.81,5.92,4.37,6.03,5.51,4.3099999999999996,4.18,4.67,3.47,null,2016,"J",{"$f":"IF((AC19)>0,AVERAGE(AC16:AC19),\"\")","v":7.87},7.0350000000000001,6.1425000000000001,4.3299999999999992,7.5149999999999997,6.8925000000000001,5.9749999999999996,4.2249999999999996,5.7100000000000009,5.3725000000000005,4.26,3.9725000000000001,"",3.5700000000000003]
[null,2,null,6.99,6.87,5.31,null,70,null,375,375,70,null,null,"F",{"$f":"IF((C23)>0,AVERAGE(C20:C23),\"\")","v":""},6.9849999999999994,6.8925000000000001,5.2774999999999999,"",83.75,"",385,385,85,null,null,201601,null,6.99,6.01,null,7.39,6.87,5.94,4.24,5.25,5.31,3.98,3.74,null,2.99,null,null,"F",{"$f":"IF((AC23)>0,AVERAGE(AC20:AC23),\"\")","v":7.5574999999999992},6.9849999999999994,6.1824999999999992,"",7.5475000000000003,6.8925000000000001,6.0449999999999999,4.3774999999999995,5.6366666666666667,5.2774999999999999,4.1775000000000002,3.8650000000000002,"",3.6166666666666667]
[null,3,null,7.1,6.99,5.44,null,70,null,375,375,70,null,null,"M",{"$f":"IF((C28)>0,AVERAGE(C24:C28),\"\")","v":""},7.0140000000000002,6.85,5.1420000000000003,"","","","","","",null,null,201601,7.84,7.1,6.25,4.21,7.55,6.99,6.03,4.38,6.03,5.44,4.3899999999999997,4.22,4.55,3.84,null,null,"M",{"$f":"IF((AC28)>0,AVERAGE(AC24:AC28),\"\")","v":7.8100000000000005},7.0140000000000002,6.2,4.3839999999999995,7.5860000000000003,6.85,6.0520000000000005,4.4020000000000001,5.5860000000000003,5.1420000000000003,4.2939999999999987,3.7960000000000003,"",3.3840000000000003]
["J",4,null,7.05,6.9,5.23,null,70,null,375,375,70,null,null,"A",{"$f":"IF((C32)>0,AVERAGE(C29:C32),\"\")","v":""},6.7725,6.625,4.7549999999999999,"","","","","","",null,null,201601,7.9,7.05,6.04,4.3899999999999997,7.57,6.9,6.01,3.91,5.53,5.23,4.3600000000000003,3.75,null,3.98,null,null,"A",{"$f":"IF((AC32)>0,AVERAGE(AC29:AC32),\"\")","v":7.3525000000000009},6.7725,6.1725000000000003,4.0350000000000001,7.3,6.625,5.835,4.6425000000000001,4.9450000000000003,4.7549999999999999,3.9899999999999998,2.9775,3.53,3.2875000000000005]
[null,5,null,6.97,6.9,5.35,null,80,null,385,385,80,null,null,"M",{"$f":"IF((C36)>0,AVERAGE(C33:C36),\"\")","v":""},6.4549999999999992,6.4050000000000002,4.6875,"","","","","","",null,null,201602,7.37,6.97,6.22,4.25,7.55,6.9,6.03,4.5199999999999996,null,5.35,4.17,4.21,null,3.76,null,null,"M",{"$f":"IF((AC36)>0,AVERAGE(AC33:AC36),\"\")","v":6.87},6.4549999999999992,5.9149999999999991,3.8625000000000003,7.0025000000000004,6.4050000000000002,5.5674999999999999,4.2350000000000003,4.8975,4.6875,3.9175,2.8775000000000004,"",3.0225]
[null,6,null,7.06,6.9,5.29,null,85,null,385,385,85,null,null,"J",{"$f":"IF((C41)>0,AVERAGE(C37:C41),\"\")","v":""},6.3520000000000003,6.2099999999999991,4.4420000000000002,"",145,"",382.5,382.5,145,null,null,201602,7.72,7.06,6.09,null,7.46,6.9,6.02,4.49,5.65,5.29,4.18,3.76,null,null,null,null,"J",{"$f":"IF((AC41)>0,AVERAGE(AC37:AC41),\"\")","v":7.1350000000000007},6.3520000000000003,5.7460000000000004,3.8224999999999998,6.88,6.2099999999999991,5.42,4.0640000000000009,4.76,4.4420000000000002,3.55,2.4340000000000002,"",2.9380000000000002]
[null,7,null,6.91,6.88,5.29,null,85,null,385,385,85,null,null,"J",{"$f":"IF((C45)>0,AVERAGE(C42:C45),\"\")","v":""},6.3850000000000007,6.2724999999999991,4.5,"",125,"",355,355,125,null,null,201602,7.6,6.91,6.29,3.94,7.54,6.88,6.07,4.17,5.54,5.29,4.21,3.77,null,3.77,null,null,"J",{"$f":"IF((AC45)>0,AVERAGE(AC42:AC45),\"\")","v":""},6.3850000000000007,5.62,"",7.1349999999999998,6.2724999999999991,5.3925000000000001,3.9725000000000006,4.5974999999999993,4.5,3.5475000000000003,2.44,"",2.7574999999999998]
["F",8,null,7,6.89,5.18,null,85,null,385,385,90,null,null,"A",{"$f":"IF((C49)>0,AVERAGE(C46:C49),\"\")","v":""},6.2750000000000004,6.2050000000000001,4.3624999999999998,"",95,"",345,345,95,null,null,201602,7.54,7,6.13,null,7.64,6.89,6.06,4.33,5.72,5.18,4.1500000000000004,3.72,null,3.32,null,null,"A",{"$f":"IF((AC50)>0,AVERAGE(AC46:AC50),\"\")","v":7.2825000000000006},6.5200000000000005,5.65,"",7.0540000000000003,6.2140000000000004,5.3980000000000006,4.0140000000000002,4.8660000000000014,4.4019999999999992,3.54,2.73,3.3650000000000002,2.9180000000000001]
[null,9,null,7.15,6.92,5.27,null,null,null,null,null,null,null,null,"S",{"$f":"IF((C54)>0,AVERAGE(C50:C54),\"\")","v":""},6.5780000000000003,6.258,4.3340000000000005,"",81,"",339,339,81,null,null,201603,8.1300000000000008,7.15,6.19,4.4800000000000004,7.6,6.92,6.11,4.53,5.39,5.27,4.22,3.77,null,3.39,null,null,"S",{"$f":"IF((AC54)>0,AVERAGE(AC51:AC54),\"\")","v":7.4049999999999994},6.5975000000000001,5.8625000000000007,"",7.0949999999999998,6.26,5.3674999999999997,4.0575000000000001,4.7650000000000006,4.2775000000000007,3.5725000000000002,2.7324999999999999,3.1566666666666663,3.1875]
[null,10,null,7.05,6.84,5.12,null,95,null,385,385,95,null,null,"O",{"$f":"IF((C58)>0,AVERAGE(C55:C58),\"\")","v":""},6.5975000000000001,6.2724999999999991,4.3825000000000003,"",61.25,"",307.5,307.5,61.25,null,null,201603,7.6,7.05,6.12,4.92,7.54,6.84,6.05,4.54,5.65,5.12,4.25,3.95,null,3.49,null,null,"O",{"$f":"IF((AC58)>0,AVERAGE(AC55:AC58),\"\")","v":7.3999999999999995},6.5975000000000001,5.8574999999999999,3.99,7.0550000000000006,6.2724999999999991,5.41,4.2450000000000001,4.7699999999999996,4.3825000000000003,3.6425000000000001,2.6774999999999998,"",3.1349999999999998]
[null,11,null,7.03,6.85,5.13,null,95,null,385,385,95,null,null,"N",{"$f":"IF((C62)>0,AVERAGE(C59:C62),\"\")","v":""},6.6974999999999998,6.35,4.6875,"",56.25,"",297.5,297.5,56.25,null,null,201603,7.64,7.03,6.16,4.3,7.5,6.85,6.07,4.25,5.68,5.13,4.3600000000000003,3.82,null,3.44,null,null,"N",{"$f":"IF((AC63)>0,AVERAGE(AC59:AC63),\"\")","v":7.5739999999999998},6.74,5.6919999999999993,4.242,7.2140000000000004,6.3559999999999999,5.5239999999999991,4.3819999999999997,5.5200000000000005,4.71,3.8380000000000001,2.8779999999999997,3.7249999999999996,3.3759999999999999]
[null,12,null,6.98,6.83,5.03,null,null,null,null,null,null,null,null,"D",{"$f":"IF((C67)>0,AVERAGE(C63:C67),\"\")","v":""},6.8579999999999997,6.5199999999999987,4.8420000000000005,"",55,"",295,295,55,null,null,201603,7.82,6.98,6.36,4.22,7.42,6.83,6.03,4.46,5.12,5.03,4.33,3.84,null,3.34,null,null,"D",{"$f":"IF((AC67)>0,AVERAGE(AC64:AC67),\"\")","v":7.5975000000000001},6.8450000000000006,5.9125000000000005,"",7.3550000000000004,6.5549999999999997,5.6775000000000002,4.5600000000000005,5.4674999999999994,4.8525,4.0825000000000005,2.9575,"",3.51]
["M",13,null,6.86,6.81,5.16,null,null,null,null,null,null,null,null,null,null,null,null,null,null,null,null,null,null,null,null,null,201603,7.86,6.86,6.17,4,7.87,6.81,6,4.2300000000000004,6.09,5.16,4.3099999999999996,3.6,null,3.26]
[null,14,null,6.82,6.7,4.88,null,null,null,null,null,null,null,null,null,null,null,null,null,null,null,null,null,null,null,null,null,201604,7.4,6.82,6.12,4.2699999999999996,7.4,6.7,5.96,4.7300000000000004,5.19,4.88,4.28,3.06,null,3.72]
[null,15,null,6.78,6.66,5.01,null,null,null,null,null,null,null,null,null,null,null,null,null,null,null,null,null,null,null,null,null,201604,7.27,6.78,6.18,4.2,7.32,6.66,5.88,4.6900000000000004,5.14,5.01,4.17,2.91,null,3.16]
[null,16,null,6.81,6.59,4.45,null,null,null,null,null,null,null,null,null,null,null,null,null,null,null,null,null,null,null,null,null,201604,7.5,6.81,6.26,3.67,7.25,6.59,5.78,4.5599999999999996,4.82,4.45,3.82,3,null,3.31]
["A",17,null,6.68,6.55,4.68,null,null,null,null,null,null,null,null,null,null,null,null,null,null,null,null,null,null,null,null,null,201604,7.24,6.68,6.13,4,7.23,6.55,5.72,4.59,4.63,4.68,3.69,2.94,3.53,2.96]
[null,18,null,6.73,6.54,4.67,null,null,null,null,null,null,null,null,null,null,null,null,null,null,null,null,null,null,null,null,null,201605,7.11,6.73,6.14,4.4000000000000004,7.2,6.54,5.65,4.38,4.99,4.67,3.89,2.76,null,2.93]
[null,19,null,6.54,6.38,4.68,null,null,null,null,null,null,null,null,null,null,null,null,null,null,null,null,null,null,null,null,null,201605,7.47,6.54,5.86,3.97,6.99,6.38,5.58,4.37,4.99,4.68,4,2.97,null,2.86]
[null,20,null,6.42,6.42,4.68,null,null,null,null,null,null,null,null,null,null,null,null,null,null,null,null,null,null,null,null,20,201605,6.69,6.42,5.83,3.55,7.01,6.42,5.54,4.24,4.55,4.68,3.94,2.97,null,3.17]
["M",21,null,6.13,6.28,4.72,null,null,null,null,null,null,null,null,null,null,null,null,null,null,null,null,null,null,null,null,21,201605,6.21,6.13,5.83,3.53,6.81,6.28,5.5,3.95,5.0599999999999996,4.72,3.84,2.81,null,3.13]
[null,22,null,6.21,6.18,4.6100000000000003,null,null,null,null,null,null,null,null,null,null,null,null,null,null,null,null,null,null,null,null,22,201606,null,6.21,5.71,null,6.84,6.18,5.44,4.1900000000000004,5.18,4.6100000000000003,3.88,2.97,null,2.84]
[null,23,null,6.46,6.17,3.99,null,145,null,385,385,145,null,null,null,null,null,null,null,null,null,null,null,null,null,null,23,201606,7.39,6.46,5.55,4.08,6.59,6.17,5.42,4.12,3.77,3.99,3.36,2.42,null,2.83]
[null,24,null,6.33,6.24,4.5199999999999996,null,145,null,385,385,145,null,null,null,null,null,null,null,null,null,null,null,null,null,null,24,201606,6.84,6.33,5.59,3.82,6.8,6.24,5.44,4.04,4.67,4.5199999999999996,3.56,2.13,null,3.01]
[null,25,null,6.39,6.2,4.53,null,145,null,385,385,145,null,null,null,null,null,null,null,null,null,null,null,null,null,null,25,201606,7.19,6.39,5.85,3.69,7.13,6.2,5.44,3.99,4.93,4.53,3.54,2.48,null,3.37]
["J",26,null,6.37,6.26,4.5599999999999996,null,145,null,375,375,145,null,null,null,null,null,null,null,null,null,null,null,null,null,null,26,201606,7.12,6.37,6.03,3.7,7.04,6.26,5.36,3.98,5.25,4.5599999999999996,3.41,2.17,null,2.64]
[null,27,null,6.5,6.32,4.5999999999999996,null,145,null,365,365,145,null,null,null,null,null,null,null,null,null,null,null,null,null,null,27,201607,7.14,6.5,5.77,3.5,7.1,6.32,5.36,4.09,4.8899999999999997,4.5999999999999996,3.78,2.46,null,2.76]
[null,28,null,6.37,6.25,4.75,null,135,null,365,365,135,null,null,null,null,null,null,null,null,null,null,null,null,null,null,28,201607,null,6.37,5.39,3.86,7.06,6.25,5.4,4.12,4.5999999999999996,4.75,3.54,2.42,null,2.76]
[null,29,null,6.15,6.26,4.2300000000000004,null,120,null,345,345,120,null,null,null,null,null,null,null,null,null,null,null,null,null,null,29,201607,null,6.15,5.59,null,7.22,6.26,5.38,3.87,4.1100000000000003,4.2300000000000004,3.41,2.48,null,2.92]
["J",30,null,6.52,6.26,4.42,null,100,null,345,345,100,null,null,null,null,null,null,null,null,null,null,null,null,null,null,30,201607,null,6.52,5.73,null,7.16,6.26,5.43,3.81,4.79,4.42,3.46,2.4,null,2.59]
[null,31,null,6.69,6.17,4.42,null,100,null,345,345,100,null,null,null,null,null,null,null,null,null,null,null,null,null,null,31,201608,null,6.69,5.59,3.92,7.09,6.17,5.39,4.05,4.6900000000000004,4.42,3.69,2.9,2.87,2.94]
[null,32,null,5.56,6.24,4.5,null,100,null,345,345,100,null,null,null,null,null,null,null,null,null,null,null,null,null,null,32,201608,7.28,6.56,5.51,4.1100000000000003,7.08,6.24,5.43,3.99,5.23,4.5,3.59,2.48,null,2.87]
[null,33,null,6.49,6.16,4.21,null,95,null,345,345,95,null,null,null,null,null,null,null,null,null,null,null,null,null,null,33,201608,7.24,6.49,5.67,null,6.95,6.16,5.38,3.95,4.12,4.21,3.49,2.52,null,2.73]
["A",34,null,6.36,6.25,4.32,null,85,null,345,345,85,null,null,null,null,null,null,null,null,null,null,null,null,null,null,34,201608,7.44,6.36,5.77,3.78,7.09,6.25,5.37,4.03,5.14,4.32,3.37,2.74,null,2.85]
[null,35,null,6.5,6.25,4.5599999999999996,null,85,null,345,345,85,null,null,null,null,null,null,null,null,null,null,null,null,null,null,35,201608,7.17,6.5,5.71,null,7.06,6.25,5.42,4.05,5.15,4.5599999999999996,3.56,3.01,3.86,3.2]
[null,36,null,6.61,6.25,4.4000000000000004,null,85,null,345,345,85,null,null,null,null,null,null,null,null,null,null,null,null,null,null,36,201609,null,6.61,5.84,3.66,7.07,6.25,5.4,4.07,4.9000000000000004,4.4000000000000004,3.46,2.78,null,3.11]
[null,37,null,6.5,6.25,4.13,null,85,null,345,345,85,null,null,null,null,null,null,null,null,null,null,null,null,null,null,37,201609,null,6.5,5.85,3.75,7.17,6.25,5.37,4.05,4.17,4.13,3.67,2.72,3.11,3.25]
[null,38,null,6.66,6.31,4.28,null,80,null,335,335,80,null,null,null,null,null,null,null,null,null,null,null,null,null,null,38,201609,7.34,6.66,6.02,3.79,7.12,6.31,5.36,4.07,4.67,4.28,3.67,2.68,3.26,3.27]
["S",39,null,6.62,6.23,4.3,null,70,null,325,325,70,null,null,null,null,null,null,null,null,null,null,null,null,null,null,39,201609,7.47,6.62,5.74,null,7.02,6.23,5.34,4.04,5.32,4.3,3.49,2.75,3.1,3.12]
[null,40,null,6.69,6.27,4.16,null,65,null,315,315,65,null,null,null,null,null,null,null,null,null,null,null,null,null,null,40,201610,7.29,6.69,5.58,3.98,6.98,6.27,5.36,4.22,4.82,4.16,3.6,2.5299999999999998,3.11,3]
[null,41,null,6.52,6.27,4.45,null,60,null,305,305,60,null,null,null,null,null,null,null,null,null,null,null,null,null,null,41,201610,7.38,6.52,5.65,3.87,7.03,6.27,5.4,4.24,4.8,4.45,3.71,2.66,null,3.1]
[null,42,null,6.52,6.26,4.5,null,60,null,305,305,60,null,null,null,null,null,null,null,null,null,null,null,null,null,null,42,201610,7.39,6.52,5.64,3.99,7.08,6.26,5.43,4.26,4.22,4.5,3.53,2.76,null,3.25]
["O",43,null,6.66,6.29,4.42,null,60,null,305,305,60,null,null,null,null,null,null,null,null,null,null,null,null,null,null,43,201610,7.54,6.66,6.56,4.12,7.13,6.29,5.45,4.26,5.24,4.42,3.73,2.76,null,3.19]
[null,44,null,6.71,6.31,4.6500000000000004,null,60,null,305,305,60,null,null,null,null,null,null,null,null,null,null,null,null,null,null,44,201611,7.44,6.71,5.72,3.98,7.22,6.31,5.47,4.33,5.27,4.6500000000000004,3.77,2.85,null,3.35]
[null,45,null,6.76,6.39,4.82,null,55,null,295,295,55,null,null,null,"pas de cotation",null,null,null,null,null,null,null,null,null,null,45,201611,7.26,6.76,5.63,4.26,7.1,6.39,5.49,4.2699999999999996,5.17,4.82,3.89,2.91,3.54,3.37]
[null,46,null,6.65,6.35,4.57,null,55,null,295,295,55,null,null,null,null,null,null,null,null,null,null,null,null,null,null,46,201611,7.69,6.65,5.71,4.16,7.19,6.35,5.52,4.4000000000000004,5.7,4.57,3.76,2.83,3.74,3.34]
["N",47,null,6.67,6.35,4.71,null,55,null,295,295,55,null,null,null,null,null,null,null,null,null,null,null,null,null,null,47,201611,7.68,6.67,5.72,4.3899999999999997,7.22,6.35,5.54,4.4400000000000004,5.79,4.71,3.88,2.95,3.82,3.43]
[null,48,null,6.91,6.38,4.8,null,55,null,295,295,55,null,null,null,null,null,null,null,null,null,null,null,null,null,null,48,201611,7.8,6.91,5.68,4.42,7.34,6.38,5.6,4.47,5.67,4.8,3.89,2.85,3.8,3.39]
[null,49,null,6.67,6.43,4.7,null,55,null,295,295,55,null,null,null,null,null,null,null,null,null,null,null,null,null,null,49,201612,7.54,6.67,5.95,4.37,7.41,6.43,5.63,4.5199999999999996,5.33,4.7,3.95,2.89,3.66,3.52]
[null,50,null,6.75,6.47,4.78,null,55,null,295,295,55,null,null,null,null,null,null,null,null,null,null,null,null,null,null,50,201612,7.53,6.75,5.88,4.46,7.33,6.47,5.69,4.55,5.55,4.78,4.03,2.81,3.71,3.39]
[null,51,null,6.93,6.63,5.0199999999999996,null,55,null,295,295,55,null,null,null,null,null,null,null,null,null,null,null,null,null,null,51,201612,7.63,6.93,5.86,4.55,7.36,6.63,5.7,4.43,5.56,5.0199999999999996,4.1900000000000004,3.11,3.84,3.42]
[null,52,null,7.03,6.69,4.91,null,55,null,295,295,55,null,null,null,null,null,null,null,null,null,null,null,null,null,null,52,201612,7.69,7.03,5.96,null,7.32,6.69,5.69,4.74,5.43,4.91,4.16,3.02,null,3.71]

{"sheet":"GraphVeaux","index":26,"n_rows":134,"n_cols":7,"rows_kept":134,"cut":false,"hidden":false,"merged":[[40,2,40,4],[41,2,41,4],[40,5,41,6]]}
[]
[]
[]
[]
[]
[]
[]
[]
[]
[]
[]
[]
[]
[]
[]
[]
[]
[]
[]
[]
[]
[]
[]
[]
[]
[]
[]
[]
[]
[]
[]
[]
[]
[]
[]
[]
[null,"COTATION DES VEAUX - MOYENNES MENSUELLES"]
[]
["Source : DRAAF Pays de la Loire - SRISE - FranceAgriMer"]
[null,null,null,null,{"$f":"VeauxAnneeEnCours!C12","v":"00:00:00"},null,{"$f":"VeauxAnneeEnCours!G9","v":"Mis à jour : 04/06/2024"}]
["Année","Mois","      VEAUX GRAND NORD R3",null,null,"VEAUX CHÂTEAU GONTIER"]
[null,null,"(Euros/Kg net"]
[null,null,"Rose très clair","R.clair","Rosé","N.45-50","LAIT 45-50"]
[2024,"J",{"$f":"IF((VeauxAnneeEnCours!C19)>0,AVERAGE(VeauxAnneeEnCours!C16:C19),NA())","v":7.5600000000000005},{"$f":"IF((VeauxAnneeEnCours!D19)>0,AVERAGE(VeauxAnneeEnCours!D16:D19),NA())","v":7.4975000000000005},{"$f":"IF((VeauxAnneeEnCours!E19)>0,AVERAGE(VeauxAnneeEnCours!E16:E19),NA())","v":5.6},{"$f":"IF((VeauxAnneeEnCours!F19)>0,AVERAGE(VeauxAnneeEnCours!F16:F19),NA())","v":40},{"$f":"IF((VeauxAnneeEnCours!G19)>0,AVERAGE(VeauxAnneeEnCours!G16:G19),NA())","v":55}]
[null,"F",{"$f":"IF((VeauxAnneeEnCours!C24)>0,AVERAGE(VeauxAnneeEnCours!C20:C24),NA())","v":{"$error":"#N/A"}},{"$f":"IF((VeauxAnneeEnCours!D24)>0,AVERAGE(VeauxAnneeEnCours!D20:D24),NA())","v":7.5220000000000002},{"$f":"IF((VeauxAnneeEnCours!E24)>0,AVERAGE(VeauxAnneeEnCours!E20:E24),NA())","v":5.6319999999999997},{"$f":"IF((VeauxAnneeEnCours!F24)>0,AVERAGE(VeauxAnneeEnCours!F20:F24),NA())","v":49},{"$f":"IF((VeauxAnneeEnCours!G24)>0,AVERAGE(VeauxAnneeEnCours!G20:G24),NA())","v":64}]
[null,"M",{"$f":"IF((VeauxAnneeEnCours!C28)>0,AVERAGE(VeauxAnneeEnCours!C25:C28),NA())","v":7.5950000000000006},{"$f":"IF((VeauxAnneeEnCours!D28)>0,AVERAGE(VeauxAnneeEnCours!D25:D28),NA())","v":7.4874999999999998},{"$f":"IF((VeauxAnneeEnCours!E28)>0,AVERAGE(VeauxAnneeEnCours!E25:E28),NA())","v":5.85},{"$f":"IF((VeauxAnneeEnCours!F28)>0,AVERAGE(VeauxAnneeEnCours!F25:F28),NA())","v":72.5},{"$f":"IF((VeauxAnneeEnCours!G28)>0,AVERAGE(VeauxAnneeEnCours!G25:G28),NA())","v":87.5}]
[null,"A",{"$f":"IF((VeauxAnneeEnCours!C32)>0,AVERAGE(VeauxAnneeEnCours!C29:C32),NA())","v":7.4466666666666663},{"$f":"IF((VeauxAnneeEnCours!D32)>0,AVERAGE(VeauxAnneeEnCours!D29:D32),NA())","v":7.4349999999999996},{"$f":"IF((VeauxAnneeEnCours!E32)>0,AVERAGE(VeauxAnneeEnCours!E29:E32),NA())","v":5.9050000000000002},{"$f":"IF((VeauxAnneeEnCours!F32)>0,AVERAGE(VeauxAnneeEnCours!F29:F32),NA())","v":97.5},{"$f":"IF((VeauxAnneeEnCours!G32)>0,AVERAGE(VeauxAnneeEnCours!G29:G32),NA())","v":112.5}]
[null,"M",{"$f":"IF((VeauxAnneeEnCours!C37)>0,AVERAGE(VeauxAnneeEnCours!C33:C37),NA())","v":{"$error":"#N/A"}},{"$f":"IF((VeauxAnneeEnCours!D37)>0,AVERAGE(VeauxAnneeEnCours!D33:D37),NA())","v":{"$error":"#N/A"}},{"$f":"IF((VeauxAnneeEnCours!E37)>0,AVERAGE(VeauxAnneeEnCours!E33:E37),NA())","v":{"$error":"#N/A"}},{"$f":"IF((VeauxAnneeEnCours!F37)>0,AVERAGE(VeauxAnneeEnCours!F33:F37),NA())","v":{"$error":"#N/A"}},{"$f":"IF((VeauxAnneeEnCours!G37)>0,AVERAGE(VeauxAnneeEnCours!G33:G37),NA())","v":{"$error":"#N/A"}}]
[null,"J",{"$f":"IF((VeauxAnneeEnCours!C41)>0,AVERAGE(VeauxAnneeEnCours!C38:C41),NA())","v":{"$error":"#N/A"}},{"$f":"IF((VeauxAnneeEnCours!D41)>0,AVERAGE(VeauxAnneeEnCours!D38:D41),NA())","v":{"$error":"#N/A"}},{"$f":"IF((VeauxAnneeEnCours!E41)>0,AVERAGE(VeauxAnneeEnCours!E38:E41),NA())","v":{"$error":"#N/A"}},{"$f":"IF((VeauxAnneeEnCours!F41)>0,AVERAGE(VeauxAnneeEnCours!F38:F41),NA())","v":{"$error":"#N/A"}},{"$f":"IF((VeauxAnneeEnCours!G41)>0,AVERAGE(VeauxAnneeEnCours!G38:G41),NA())","v":{"$error":"#N/A"}}]
[null,"J",{"$f":"IF((VeauxAnneeEnCours!C45)>0,AVERAGE(VeauxAnneeEnCours!C42:C45),NA())","v":{"$error":"#N/A"}},{"$f":"IF((VeauxAnneeEnCours!D45)>0,AVERAGE(VeauxAnneeEnCours!D42:D45),NA())","v":{"$error":"#N/A"}},{"$f":"IF((VeauxAnneeEnCours!E45)>0,AVERAGE(VeauxAnneeEnCours!E42:E45),NA())","v":{"$error":"#N/A"}},{"$f":"IF((VeauxAnneeEnCours!F45)>0,AVERAGE(VeauxAnneeEnCours!F42:F45),NA())","v":{"$error":"#N/A"}},{"$f":"IF((VeauxAnneeEnCours!G45)>0,AVERAGE(VeauxAnneeEnCours!G42:G45),NA())","v":{"$error":"#N/A"}}]
[null,"A",{"$f":"IF((VeauxAnneeEnCours!C50)>0,AVERAGE(VeauxAnneeEnCours!C46:C50),NA())","v":{"$error":"#N/A"}},{"$f":"IF((VeauxAnneeEnCours!D50)>0,AVERAGE(VeauxAnneeEnCours!D46:D50),NA())","v":{"$error":"#N/A"}},{"$f":"IF((VeauxAnneeEnCours!E50)>0,AVERAGE(VeauxAnneeEnCours!E46:E50),NA())","v":{"$error":"#N/A"}},{"$f":"IF((VeauxAnneeEnCours!F50)>0,AVERAGE(VeauxAnneeEnCours!F46:F50),NA())","v":{"$error":"#N/A"}},{"$f":"IF((VeauxAnneeEnCours!G50)>0,AVERAGE(VeauxAnneeEnCours!G46:G50),NA())","v":{"$error":"#N/A"}}]
[null,"S",{"$f":"IF((VeauxAnneeEnCours!C54)>0,AVERAGE(VeauxAnneeEnCours!C51:C54),NA())","v":{"$error":"#N/A"}},{"$f":"IF((VeauxAnneeEnCours!D54)>0,AVERAGE(VeauxAnneeEnCours!D51:D54),NA())","v":{"$error":"#N/A"}},{"$f":"IF((VeauxAnneeEnCours!E54)>0,AVERAGE(VeauxAnneeEnCours!E51:E54),NA())","v":{"$error":"#N/A"}},{"$f":"IF((VeauxAnneeEnCours!F54)>0,AVERAGE(VeauxAnneeEnCours!F51:F54),NA())","v":{"$error":"#N/A"}},{"$f":"IF((VeauxAnneeEnCours!G54)>0,AVERAGE(VeauxAnneeEnCours!G51:G54),NA())","v":{"$error":"#N/A"}}]
[null,"O",{"$f":"IF((VeauxAnneeEnCours!C59)>0,AVERAGE(VeauxAnneeEnCours!C55:C59),NA())","v":{"$error":"#N/A"}},{"$f":"IF((VeauxAnneeEnCours!D59)>0,AVERAGE(VeauxAnneeEnCours!D55:D59),NA())","v":{"$error":"#N/A"}},{"$f":"IF((VeauxAnneeEnCours!E59)>0,AVERAGE(VeauxAnneeEnCours!E55:E59),NA())","v":{"$error":"#N/A"}},{"$f":"IF((VeauxAnneeEnCours!F59)>0,AVERAGE(VeauxAnneeEnCours!F55:F59),NA())","v":{"$error":"#N/A"}},{"$f":"IF((VeauxAnneeEnCours!G59)>0,AVERAGE(VeauxAnneeEnCours!G55:G59),NA())","v":{"$error":"#N/A"}}]
[null,"N",{"$f":"IF((VeauxAnneeEnCours!C63)>0,AVERAGE(VeauxAnneeEnCours!C60:C63),NA())","v":{"$error":"#N/A"}},{"$f":"IF((VeauxAnneeEnCours!D63)>0,AVERAGE(VeauxAnneeEnCours!D60:D63),NA())","v":{"$error":"#N/A"}},{"$f":"IF((VeauxAnneeEnCours!E63)>0,AVERAGE(VeauxAnneeEnCours!E60:E63),NA())","v":{"$error":"#N/A"}},{"$f":"IF((VeauxAnneeEnCours!F63)>0,AVERAGE(VeauxAnneeEnCours!F60:F63),NA())","v":{"$error":"#N/A"}},{"$f":"IF((VeauxAnneeEnCours!G63)>0,AVERAGE(VeauxAnneeEnCours!G60:G63),NA())","v":{"$error":"#N/A"}}]
[null,"D",{"$f":"IF((VeauxAnneeEnCours!C67)>0,AVERAGE(VeauxAnneeEnCours!C64:C67),NA())","v":{"$error":"#N/A"}},{"$f":"IF((VeauxAnneeEnCours!D67)>0,AVERAGE(VeauxAnneeEnCours!D64:D67),NA())","v":{"$error":"#N/A"}},{"$f":"IF((VeauxAnneeEnCours!E67)>0,AVERAGE(VeauxAnneeEnCours!E64:E67),NA())","v":{"$error":"#N/A"}},{"$f":"IF((VeauxAnneeEnCours!F67)>0,AVERAGE(VeauxAnneeEnCours!F64:F67),NA())","v":{"$error":"#N/A"}},{"$f":"IF((VeauxAnneeEnCours!G67)>0,AVERAGE(VeauxAnneeEnCours!G64:G67),NA())","v":{"$error":"#N/A"}}]
[null,"Moyenne an",{"$f":"SUMIF(C44:C55,\"<>#N/A\",C44:C55)/COUNTIF(C44:C55,\"<>#N/A\")","v":7.5338888888888889},{"$f":"SUMIF(D44:D55,\"<>#N/A\",D44:D55)/COUNTIF(D44:D55,\"<>#N/A\")","v":7.4855},{"$f":"SUMIF(E44:E55,\"<>#N/A\",E44:E55)/COUNTIF(E44:E55,\"<>#N/A\")","v":5.7467500000000005},{"$f":"SUMIF(F44:F55,\"<>#N/A\",F44:F55)/COUNTIF(F44:F55,\"<>#N/A\")","v":64.75},{"$f":"SUMIF(G44:G55,\"<>#N/A\",G44:G55)/COUNTIF(G44:G55,\"<>#N/A\")","v":79.75}]
[2023,"J",7.9524998664855957,7.7575000524520874,5.3725000619888306,55,67.5]
[null,"F",7.84,7.7649999999999988,5.81,70,80]
[null,"M",7.7675000000000001,7.7379999999999995,5.75,70,80]
[null,"A",7.7466666666666661,7.6574999999999998,5.7750000000000004,83.75,95]
[null,"M",7.63,7.5399999999999991,5.4750000000000005,95,110]
[null,"J",7.3049999999999997,7.2459999999999996,5.1459999999999999,111,126]
[null,"J",7.3049999999999997,7.04,4.79,103.75,118.75]
[null,"A",7.1150000000000002,6.9525000000000006,4.5600000000000005,80,95]
[null,"S",7.1,6.99,4.7140000000000004,59,74]
[null,"O",7.1633333333333331,7.0775000000000006,4.9775,41.25,56.25]
[null,"N",7.3766666666666678,7.2774999999999999,5.4224999999999994,40,55]
[null,"D"]
[null,"moyenne an",7.4819696848320234,7.3674090956774627,5.2538636419989846,73.522727272727266,87.045454545454547]
[2022,"J",7.1025000810623169,6.9524998664855957,4.8349999189376831,35,55]
[null,"F",7.1174999475479126,6.9025000333786011,5.0674999952316284,42.5,62.5]
[null,"M",7.0466664632161455,6.9239999771118166,5.0980000495910645,63,83]
[null,"A",7.1124998331069946,7.0425000190734863,4.7275000810623169,65,85]
[null,"M",7.1466665267944336,7.0724999904632568,4.6699999570846558,65,85]
[null,"J",6.9979999542236326,6.95,4.5919999122619632,65,85]
[null,"J",6.940000057220459,6.8374999761581421,4.7199997901916504,65,85]
[null,"A",6.9933334986368818,6.8300000429153442,4.7199997901916504,63.75,83.75]
[null,"S",7.1025000810623169,7.0359999656677248,4.8240000724792482,52,72]
[null,"O",null,7.4000000953674316,5.1549999713897705,40,60]
[null,"N",null,7.5800000429153442,5.4349998235702515]
[null,"D",7.8600000143051147,7.7320000648498537,5.5380001068115234]
[null,"moyenne an",7.141966645717619,7.1049583395322173,4.9484999557336176,55.625,75.625]
[2021,"J",6.87,6.3724999999999996,4.9725000000000001,41.25,56.25]
[null,"F",6.85,6.38,4.835,45,60]
[null,"M",6.6219999999999999,6.3440000000000003,4.3639999999999999,47,62]
[null,"A",6.4424999999999999,6.2050000000000001,4.0199999999999996,48.75,63.75]
[null,"M",6.3674999999999997,6.1050000000000004,3.8325,60,67.5]
[null,"J",6.1950000000000003,6.01,3.6560000000000001,98,98]
[null,"J",6.1174999999999997,5.9749999999999996,3.605,96.6666666666667,96.6666666666667]
[null,"A",6.1325000000000003,6.0149999999999997,3.7825000000000002,77.5,77.5]
[null,"S",6.4260000000000002,6.3140000000000001,4.37,64,64]
[null,"O",6.71,6.6449999999999996,4.6174999999999997,55,55]
[null,"N",6.9233333333333302,6.8125,4.5925000000000002,55,55]
[null,"D",7.0140000000000002,6.9539999999999997,4.7679999999999998,55,55]
[null,"moyenne an",6.5558611111111098,6.3443333333333296,4.2846250000000001,61.9305555555556,67.5555555555556]
[2020,"J",6.8520000000000003,6.3940000000000001,5.1159999999999997,55,55]
[null,"F",6.7424999999999997,6.3125,4.8925000000000001,55,55]
[null,"M",6.6725000000000003,6.24,4.8099999999999996,65,65]
[null,"A",6.4619999999999997,5.8179999999999996,4.2160000000000002,71.6666666666667,71.6666666666667]
[null,"M",6.0975000000000001,5.2225000000000001,3.7825000000000002,70,70]
[null,"J",6.3125,5.2,3.8325,82.5,82.5]
[null,"J",6.1040000000000001,5.2,4.1360000000000001,77,77]
[null,"A",6.0549999999999997,5.2625000000000002,4.05,60,60]
[null,"S",6.2480000000000002,5.8239999999999998,4.298,45,45]
[null,"O",6.63,6.1425000000000001,4.7949999999999999,45,45]
[null,"N",6.835,6.3550000000000004,5.03]
[null,"D",6.8620000000000001,6.3920000000000003,5.0439999999999996,41.25,52.5]
[null,"moyenne an",6.4894166666666697,5.86358333333333,4.5002083333333296,60.674242424242401,61.696969696969703]
[2019,"J",6.72,6.34,4.468,75,75]
[null,"F",6.63,6.32,4.42,75,75]
[null,"M",6.55,6.08,4.3274999999999997,75,75]
[null,"A",6.1349999999999998,5.77,4.1725000000000003,75,75]
[null,"M",6.0380000000000003,5.59,4.0140000000000002,87.5,87.5]
[null,"J",6.0674999999999999,5.4850000000000003,3.91,112.5,112.5]
[null,"J",5.8940000000000001,5.3940000000000001,3.8460000000000001,81,81]
[null,"A",5.8550000000000004,5.4074999999999998,3.91,52.5,52.5]
[null,"S",6.1174999999999997,5.6,3.9575,58.3333333333333,58.3333333333333]
[null,"O",6.3019999999999996,5.9119999999999999,4.42,57,57]
[null,"N",6.6574999999999998,6.2225000000000001,4.5250000000000004,55,55]
[null,"D",6.81,6.3425000000000002,4.7,55,55]
[null,"moyenne an",6.3147083333333303,5.8719583333333301,4.22254166666667,71.5694444444444,71.5694444444444]
["Moyenne 5 ans","J",{"$f":"IFERROR(AVERAGE(C70,C83,C96,C109,C57),NA())","v":7.0993999895095827},6.7632999837875358,4.9527999961853029,52.25,61.75]
[null,"F",7.0359999895095822,6.7360000066757193,5.0049999990463254,57.5,66.5]
[null,"M",6.9317332926432282,6.6651999954223626,4.8699000099182133,64,73]
[null,"A",6.7797332999547306,6.4986000038146967,4.5822000162124636,68.833333333333343,78.083333333333343]
[null,"M",6.6559333053588876,6.3059999980926511,4.3547999914169315,75.5,84]
[null,"J",6.5755999908447267,6.1781999999999995,4.2272999824523927,93.8,100.8]
[null,"J",6.4721000114440912,6.0892999952316291,4.2193999580383297,84.683333333333337,91.683333333333337]
[null,"A",6.4301666997273772,6.0935000085830691,4.2044999580383307,66.75,73.75]
[null,"S",6.5988000162124631,6.3527999931335462,4.4327000144958504,55.666666666666664,62.666666666666664]
[null,"O",6.7013333333333334,6.6354000190734865,4.7929999942779542,47.65,54.65]
[null,"N",6.9481249999999992,6.8495000085830693,5.0009999647140502,50,55]
[null,"D",7.1365000035762778,6.8551250162124635,5.012500026702881,50.416666666666664,54.166666666666664]
[null,"moyenne an",{"$f":"SUMIF(C122:C133,\"<>#N/A\",C122:C133)/COUNTIF(C122:C133,\"<>#N/A\")","v":6.7804520776761912},6.5019104190508523,4.6379249926249191,63.920833333333327,71.337499999999991]

{"sheet":"Porcs2015-2024","index":27,"n_rows":537,"n_cols":20,"rows_kept":537,"cut":false,"hidden":false,"merged":[[5,14,6,14],[5,15,6,15],[5,16,6,16],[0,4,0,14],[3,3,3,5],[3,6,3,8],[3,9,3,11],[3,14,4,16]]}
[null,null,null,null,"Prix du porc entrée abattoir des carcasses de porcs charcutiers  "]
[null,null,null,null,"Prix du porc cadran de Plérin : moyenne pondérée des cotations du lundi et du jeudi prix HT en €/Kg de carcasse base 56 TMP (Taux de muscle des pièces) départ élevage"]
[]
[null,"Mis à jour :04/06/2024",null,"classe E+S",null,null,"classe E (55%<=TMP<60%)",null,null,"classe S (TMP>=60%)",null,null,"Cadran Breton (Plérin)",null,"classe S (TMP>=60%) - NANTES"]
[null,null,null,"Nantes","Rennes","National","Nantes","Rennes","National","Nantes","Rennes","National","moyenne pondérée"]
[2017,null,null,null,null,null,null,null,null,null,null,null,"56% TMP",null,"Evolution/semaine -1","Evolution/ semaine id 2021","Evolution/semaine id moy. 5 ans"]
[null,"semaine 01","26/12/2014 au 01/01/2015",1.3,1.27,1.28,1.24,1.21,1.23,1.34,1.3,1.31,1.1185721536834701]
[null,"semaine 02","02/01/2015 au 08/01/2015",1.3,1.27,1.28,1.24,1.21,1.22,1.33,1.3,1.31,1.1097518012347001]
[null,"semaine 03","09/01/2015 au 15/01/2015",1.28,1.26,1.27,1.22,1.2,1.21,1.32,1.29,1.3,1.08466318402814]
["J","semaine 04","16/01/2015 au 22/01/2015",1.27,1.24,1.25,1.2,1.18,1.19,1.31,1.27,1.28,1.0810219315865399]
[null,"semaine 05","23/01/2015 au 29/01/2015",1.27,1.24,1.25,1.21,1.18,1.19,1.31,1.26,1.28,1.0876493270988801]
[null,"semaine 06","30/01/2015 au 05/02/2015",1.28,1.25,1.26,1.22,1.18,1.2,1.31,1.27,1.28,1.0867347596593699]
[null,"semaine 07","06/02/2015 au 12/02/2015",1.29,1.24,1.26,1.23,1.18,1.2,1.33,1.27,1.29,1.12607961504812]
["F","semaine 08","13/02/2015 au 19/02/2015",1.34,1.29,1.31,1.28,1.23,1.25,1.38,1.31,1.33,1.1806984558639699]
[null,"semaine 09","20/02/2015 au 26/02/2015",1.4,1.34,1.36,1.33,1.28,1.3,1.44,1.36,1.39,1.20667155939883]
[null,"semaine 10","27/02/2015 au 05/03/2015",1.42,1.36,1.38,1.35,1.3,1.32,1.45,1.39,1.41,1.21715251594393]
[null,"semaine 11","06/03/2015 au 12/03/2015",1.43,1.37,1.39,1.36,1.31,1.33,1.46,1.4,1.42,1.2249499584429999]
[null,"semaine 12","13/03/2015 au 19/03/2015",1.42,1.38,1.4,1.36,1.32,1.34,1.45,1.41,1.42,1.22964097619364]
["M","semaine 13","20/03/2015 au 26/03/2015",1.42,1.39,1.4,1.36,1.32,1.34,1.46,1.41,1.42,1.23190771855452]
[null,"semaine 14","26/03/2015 au 02/04/2015",1.42,1.39,1.4,1.36,1.33,1.34,1.45,1.41,1.42,1.2294899518323099]
[null,"semaine 15","03/04/2015 au 09/04/2015",1.43,1.39,1.4,1.37,1.33,1.34,1.47,1.41,1.43,1.24400040673704]
[null,"semaine 16","10/04/2015 au 16/04/2015",1.44,1.4,1.41,1.38,1.34,1.35,1.47,1.43,1.44,1.2539972478035399]
["A","semaine 17","17/04/2015 au 23/04/2015",1.44,1.41,1.42,1.38,1.35,1.36,1.48,1.43,1.45,1.254]
[null,"semaine 18","24/04/2015 au 30/04/2015",1.44,1.41,1.42,1.38,1.35,1.36,1.48,1.43,1.45,1.2548874165764401]
[null,"semaine 19","01/05/2015 au 07/05/2015",1.42,1.4,1.41,1.37,1.34,1.35,1.46,1.43,1.44,1.2251076670877701]
[null,"semaine 20","08/05/2015 au 14/05/2015",1.41,1.38,1.39,1.36,1.32,1.34,1.45,1.41,1.42,1.2233231820074999]
["M","semaine 21","15/05/2015 au 21/05/2015",1.41,1.38,1.39,1.35,1.32,1.33,1.45,1.4,1.42,1.22725525000387]
[null,"semaine 22","22/05/2015 au 28/05/2015",1.42,1.39,1.4,1.37,1.32,1.34,1.46,1.41,1.43,1.23999192579864]
[null,"semaine 23","29/05/2015 au 04/06/2015",1.44,1.37,1.4,1.38,1.31,1.34,1.48,1.4,1.43,1.2613361742424201]
[null,"semaine 24","05/06/2015 au 11/06/2015",1.47,1.42,1.44,1.41,1.36,1.38,1.51,1.45,1.47,1.2983490833381499]
[null,"semaine 25","12/06/2015 au 18/06/2015",1.51,1.46,1.47,1.46,1.4,1.41,1.55,1.48,1.5,1.3368252468350601]
["J","semaine 26","19/06/2015 au 25/06/2015",1.53,1.5,1.51,1.47,1.44,1.45,1.57,1.52,1.53,1.34632769955551]
[null,"semaine 27","26/06/2015 au 02/07/2015",1.53,1.5,1.51,1.47,1.44,1.45,1.57,1.53,1.54,1.33494019778379]
[null,"semaine 28","03/07/2015 au 09/07/2015",1.52,1.49,1.5,1.47,1.43,1.45,1.56,1.51,1.53,1.3439221556886201]
[null,"semaine 29","10/07/2015 au 16/07/2015",1.54,1.5,1.52,1.49,1.45,1.46,1.59,1.53,1.55,1.3759722187539001]
["J","semaine 30","17/07/2015 au 23/07/2015",1.58,1.53,1.55,1.52,1.47,1.49,1.62,1.56,1.58,1.4035892875020901]
[null,"semaine 31","24/07/2015 au 30/07/2015",1.6,1.56,1.57,1.53,1.5,1.51,1.64,1.58,1.6,1.4042316288730099]
[null,"semaine 32","31/07/2015 au 06/08/2015",1.59,1.56,1.57,1.53,1.5,1.51,1.63,1.58,1.6,1.4036406973018001]
[null,"semaine 33","07/08/2015 au 13/08/2015",1.61,1.57,1.58,1.55,1.51,1.53,1.64,1.6,1.61]
["A","semaine 34","14/08/2015 au 20/08/2015",1.5840000000000001,1.55,1.56,1.53,1.49,1.5,1.6220000000000001,1.58,1.59,1.389]
[null,"semaine 35","21/08/2015 au 27/08/2015",1.5740000000000001,1.55,1.56,1.4970000000000001,1.49,1.5,1.615,1.57,1.59,1.3884344264100299]
[null,"semaine 36","28/08/2015 au 03/09/2015",1.569,1.54,1.55,1.51,1.48,1.49,1.6259999999999999,1.57,1.59,1.3808038637852]
[null,"semaine 37","04/09/2015 au 10/09/2015",1.57,1.54,1.55,1.51,1.48,1.49,1.6,1.56,1.57,1.37698869608554]
[null,"semaine 38","11/09/2015 au 17/09/2015",1.56,1.53,1.54,1.5,1.47,1.48,1.6,1.56,1.57,1.3734141268203199]
["S","semaine 39","18/09/2015 au 24/09/2015",1.53,1.53,1.54,1.47,1.47,1.47,1.57,1.55,1.56,1.35048447419266]
[null,"semaine 40","25/09/2015 au 01/10/2015",1.5109999999999999,1.4930000000000001,1.5,1.4550000000000001,1.431,1.44,1.5469999999999999,1.514,1.5229999999999999,1.31491903312281]
[null,"semaine 41","02/10/2015 au 08/10/2015",1.4770000000000001,1.4610000000000001,1.4710000000000001,1.4219999999999999,1.3979999999999999,1.4119999999999999,1.512,1.482,1.496,1.3009999999999999]
[null,"semaine 42","09/10/2015 au 15/10/2015",1.4470000000000001,1.42,1.4330000000000001,1.389,1.355,1.3720000000000001,1.484,1.4430000000000001,1.4590000000000001]
["O","semaine 43","16/10/2015 au 22/10/2015",1.41,1.39,1.4,1.35,1.32,1.34,1.44,1.41,1.42]
[null,"semaine 44","23/10/2015 au 29/10/2015",1.4,1.38,1.39,1.35,1.31,1.33,1.44,1.4,1.42]
[null,"semaine 45","30/102015 au 05/11/2015",1.36,1.35,1.36,1.31,1.29,1.31,1.4,1.38,1.39]
[null,"semaine 46","06/11/2015 au 12/11/2015",1.34,1.33,1.34,1.29,1.27,1.28,1.38,1.35,1.36]
["N","semaine 47","13/11/2015 au 19/11/2015",1.32,1.3,1.31,1.26,1.23,1.25,1.36,1.32,1.34]
[null,"semaine 48","20/11/2015 au 26/11/2015",1.28,1.26,1.27,1.22,1.2,1.21,1.31,1.28,1.3,1.0760000000000001]
[null,"semaine 49","27/11/2015 au 03/12/2015",1.26,1.24,1.25,1.2,1.18,1.19,1.3,1.26,1.28,1.0720000000000001]
[null,"semaine 50","04/12/2015 au 10/12/2015",1.26,1.23,1.24,1.2,1.1599999999999999,1.17,1.29,1.25,1.26,1.0669999999999999]
[null,"semaine 51","11/12/2015 au 17/12/2015",1.25,1.23,1.24,1.2,1.1599999999999999,1.18,1.29,1.25,1.27,1.0680000000000001]
["D","semaine 52","18/12/2015 au 24/12/2015",1.25,1.22,1.23,1.2,1.1599999999999999,1.18,1.29,1.24,1.26,1.0687692984534201]
[null,"semaine 53","25/12/2015 au 31/12/2015",1.25,1.22,1.23,1.19,1.1499999999999999,1.17,1.29,1.24,1.26,1.07]
[2016,null,null,null,null,null,"Nantes E","Rennes E","National E","Nantes S","Rennes S","National S","PLERIN",null,"Evolution/semaine -1","Evolution/ semaine id 2022","Evolution/semaine id moy. 5 ans"]
[null,"semaine 1","01/01/2016 au 07/01/2016",1.25,1.23,1.24,1.19,1.1599999999999999,1.17,1.29,1.25,1.26,1.0723095475315201]
[null,"semaine 2","08/01/2016 au 14/01/2016",1.26,1.23,1.24,1.2,1.1599999999999999,1.18,1.3,1.25,1.26,1.0840238466604299]
[null,"semaine 3","15/01/2016 au 21/01/2016",1.26,1.24,1.25,1.21,1.17,1.19,1.3,1.25,1.27,1.09162923543986]
[null,"semaine 4","22/01/2016 au 28/01/2016",1.29,1.25,1.26,1.22,1.18,1.19,1.32,1.26,1.28,1.09708602415578]
[null,"semaine 5","29/01/2016 au 04/02/2016",1.28,1.25,1.26,1.23,1.19,1.2,1.32,1.27,1.29,1.10077104365136]
[null,"semaine 6","05/02/2016 au 11/02/2016",1.29,1.26,1.27,1.23,1.19,1.2,1.32,1.28,1.29,1.10585947923391]
[null,"semaine 7","12/02/2016 au 18/02/2016",1.29,1.26,1.27,1.24,1.2,1.21,1.33,1.28,1.29,1.10854270012293]
[null,"semaine 8","19/02/2016 au 25/02/2016",1.3,1.26,1.27,1.24,1.2,1.21,1.33,1.28,1.3,1.1120855435732999]
[null,"semaine 9","26/02/2016 au 03/03/2016",1.3,1.27,1.28,1.24,1.21,1.22,1.33,1.29,1.3,1.113]
[null,"semaine 10","04/03/2016 au 10/03/2016",1.3,1.27,1.28,1.23,1.21,1.22,1.34,1.29,1.3,1.11376454490529]
[null,"semaine 11","11/03/2016 au 17/03/2016",1.3,1.27,1.28,1.24,1.21,1.22,1.34,1.29,1.3,1.11554834752981]
[null,"semaine 12","18/03/2016 au 24/03/2016",1.31,1.28,1.29,1.25,1.21,1.22,1.34,1.29,1.3,1.1180000000000001]
[null,"semaine 13","25/03/2016 au 31/03/2016",1.31,1.28,1.29,1.25,1.21,1.22,1.34,1.29,1.3,1.1180000000000001]
[null,"semaine 14","01/04/2016 au 07/04/2016",1.31,1.28,1.29,1.25,1.21,1.23,1.35,1.29,1.31,1.1180000000000001]
[null,"semaine 15","08/04/2016 au 14/04/2016",1.31,1.28,1.29,1.26,1.21,1.23,1.35,1.3,1.31,1.1195423344108899]
[null,"semaine 16","15/04/2016 au 21/04/2016",1.31,1.28,1.29,1.25,1.21,1.22,1.35,1.3,1.31,1.1240844499415901]
[null,"semaine 17","22/04/2016 au 28/04/2016",1.32,1.28,1.29,1.26,1.22,1.24,1.35,1.3,1.31,1.1383385270094]
[null,"semaine 18","29/04/2016 au 05/05/2016",1.33,1.29,1.3,1.27,1.23,1.24,1.37,1.31,1.33,1.1574778297989501]
[null,"semaine 19","06/05/2016 AU 12/05/2016",1.36,1.31,1.33,1.3,1.24,1.26,1.39,1.33,1.35,1.1857476702754599]
[null,"semaine 20","13/05/2016 au 19/05/2016",1.37,1.33,1.35,1.33,1.27,1.29,1.39,1.35,1.37,1.21143388925951]
[null,"semaine 21","20/05/2016 au 26/05/2016",1.42,1.36,1.38,1.36,1.29,1.32,1.46,1.38,1.41,1.2419315158425801]
[null,"semaine 22","27/05/2016 au 02/06/2016",1.45,1.39,1.41,1.39,1.32,1.35,1.49,1.41,1.44,1.2793805670616201]
[null,"semaine 23","03/06/2016 au 09/06/2016",1.49,1.42,1.45,1.43,1.36,1.39,1.53,1.44,1.47,1.31074006908463]
[null,"semaine 24","10/06/2016 au 16/06/2016",1.52,1.45,1.48,1.47,1.39,1.42,1.56,1.48,1.5,1.34396081945323]
[null,"semaine 25","17/06/2016 au 23/06/2016",1.55,1.48,1.51,1.5,1.42,1.45,1.59,1.51,1.54,1.3836142774507501]
[null,"semaine 26","24/06/2016 au 30/06/2016",1.59,1.52,1.55,1.54,1.46,1.49,1.63,1.54,1.57,1.4178415947507299]
[null,"semaine 27","01/07/2016 au 07/07/2016",1.63,1.56,1.58,1.58,1.5,1.53,1.67,1.58,1.61,1.44868966166003]
[null,"semaine 28","08/07/2016 au 14/07/2016",1.65,1.58,1.6,1.6,1.52,1.55,1.69,1.6,1.63,1.4572161776162]
[null,"semaine 29","15/07/2016 au 21/07/2016",1.66,1.6,1.62,1.61,1.53,1.56,1.69,1.62,1.64,1.4597801721525101]
[null,"semaine 30","22/07/2016 au 28/07/2016",1.66,1.6,1.62,1.6,1.54,1.56,1.69,1.63,1.65,1.4590000000000001]
[null,"semaine 31","29/07/2016 au 04/08/2016",1.66,1.61,1.63,1.61,1.55,1.57,1.69,1.63,1.65,1.46159799751136]
[null,"semaine 32","05/08/2016 au 11/08/2016",1.66,1.61,1.63,1.6,1.55,1.57,1.69,1.63,1.65,1.4628013468013501]
[null,"semaine 33","12/08/2016 au 18/08/2016",1.66,1.62,1.63,1.61,1.55,1.57,1.7,1.64,1.66,1.46377961925435]
[null,"semaine 34","19/08/2016 au 25/08/2016",1.66,1.62,1.63,1.61,1.56,1.58,1.7,1.64,1.66,1.4698719187104099]
[null,"semaine 35","26/08/2016 au 01/09/2016",1.67,1.63,1.64,1.62,1.56,1.58,1.7,1.64,1.66,1.48019368251025]
[null,"semaine 36","02/09/2016 au 08/09/2016",1.68,1.63,1.65,1.63,1.57,1.59,1.72,1.65,1.67,1.4947741750906001]
[null,"semaine 37","09/09/2016 au 15/09/2016",1.7,1.64,1.66,1.65,1.58,1.61,1.74,1.67,1.69,1.5328956731825201]
[null,"semaine 38","16/09/2016 au 22/09/2016",1.73,1.66,1.68,1.68,1.6,1.63,1.76,1.68,1.71,1.5171467488502799]
[null,"semaine 39","23/09/2016 au 29/09/2016",1.73,1.67,1.69,1.68,1.61,1.63,1.76,1.69,1.71,1.47648230142318]
[null,"semaine 40","30/09/2016 au 06/10/2016",1.7,1.67,1.68,1.65,1.61,1.62,1.74,1.69,1.7,1.47648230142318]
[null,"semaine 41","07/10/2016 au 13/10/2016",1.66,1.64,1.64,1.61,1.58,1.59,1.69,1.66,1.66,1.4173578034515499]
[null,"semaine 42","14/10/2016 au 20/10/2016",1.6,1.6,1.59,1.55,1.53,1.52,1.63,1.61,1.61,1.3587953480092601]
[null,"semaine 43","21/10/2016 au 27/10/2016",1.55,1.54,1.54,1.49,1.48,1.48,1.58,1.56,1.56,1.31000687186002]
[null,"semaine 44","28/10/2016 au 03/11/2016",1.51,1.49,1.49,1.45,1.43,1.44,1.54,1.51,1.52,1.3]
[null,"semaine 45","04/11/2016 au 10/11/2016",1.5,1.47,1.48,1.44,1.41,1.42,1.53,1.49,1.5,1.29980809425933]
[null,"semaine 46","11/11/2016 au 17/11/2016",1.5,1.47,1.48,1.44,1.4,1.42,1.53,1.48,1.5,1.3]
[null,"semaine 47","18/11/2016 au 24/11/2016",1.5,1.47,1.48,1.44,1.4,1.42,1.53,1.48,1.5,1.3]
[null,"semaine 48","25/11/2016 au 01/12/2016",1.5,1.47,1.48,1.44,1.4,1.42,1.53,1.48,1.5,1.30080969421896]
[null,"semaine 49","02/12/2016 au 08/12/2016",1.5,1.47,1.48,1.44,1.4,1.42,1.53,1.48,1.5,1.3009999999999999]
[null,"semaine 50","09/12/2016 au 15/12/2016",1.5,1.47,1.48,1.44,1.4,1.42,1.53,1.48,1.5,1.3009999999999999]
[null,"semaine 51","16/12/2016 au 22/12/2016",1.5,1.46,1.47,1.44,1.4,1.42,1.53,1.48,1.5,1.3009999999999999]
[null,"semaine 52","23/12/2016 au 29/12/2016",1.5,1.46,1.47,1.45,1.4,1.42,1.53,1.48,1.5,1.3025794363580101]
[2017,null,null,null,null,null,"Nantes E","Rennes E","National E","Nantes S","Rennes S","National S","PLERIN",null,"Evolution/semaine -1","Evolution/ semaine id 2022","Evolution/semaine id moy. 5 ans"]
[null,"semaine 1","30/12/2016 au 05/01/2017",1.5,1.46,1.47,1.44,1.4,1.42,1.53,1.48,1.5,1.3122348668280901]
[null,"semaine 2","06/01/2017 au 12/01/2017",1.51,1.47,1.48,1.45,1.4,1.42,1.54,1.48,1.5,1.32238581949281]
[null,"semaine 3","13/01/2017 au 19/01/2017",1.52,1.47,1.49,1.47,1.41,1.43,1.55,1.49,1.51,1.323]
[null,"semaine 4","20/01/2017 au 26/01/2017",1.52,1.47,1.49,1.47,1.41,1.43,1.55,1.49,1.51,1.33448929510085]
[null,"semaine 5","27/01/2017 au 02/02/2017",1.54,1.48,1.5,1.49,1.42,1.45,1.58,1.5,1.53,1.3657752501471501]
[null,"semaine 6","03/02/2017 au 09/02/2017",1.57,1.5,1.52,1.52,1.44,1.47,1.6,1.52,1.55,1.3809232334981101]
[null,"semaine 7","10/02/2017 au 16/02/2017",1.57,1.52,1.53,1.51,1.46,1.48,1.59,1.54,1.56,1.3916606536881599]
[null,"semaine 8","17/02/2017 au 23/02/2017",1.59,1.53,1.55,1.53,1.47,1.5,1.62,1.55,1.58,1.39638351609893]
[null,"semaine 9","24/02/2017 au 03/03/2017",1.6,1.54,1.56,1.54,1.48,1.5,1.63,1.56,1.58,1.3978103372627]
[null,"semaine 10","04/03/2017 au 10/03/2017",1.6,1.54,1.56,1.55,1.48,1.51,1.63,1.56,1.59,1.40124416135881]
[null,"semaine 11","10/03/2017 au 16/03/2017",1.6,1.55,1.57,1.54,1.48,1.5,1.63,1.56,1.59,1.4062462690834201]
[null,"semaine 12","17/03/2017 au 23/03/2017",1.62,1.55,1.58,1.57,1.49,1.52,1.65,1.57,1.6,1.44976271582576]
[null,"semaine 13","24/03/2017 au 30/03/2017",1.67,1.58,1.61,1.61,1.51,1.55,1.71,1.59,1.63,1.4903353916939099]
[null,"semaine 14","31/03/2017 au 06/04/2017",1.71,1.65,1.66,1.65,1.57,1.6,1.74,1.65,1.68,1.5344375225279301]
[null,"semaine 15","07/04/2017 au 13/04/2017",1.74,1.67,1.69,1.69,1.61,1.64,1.77,1.69,1.72,1.5455783069246301]
[null,"semaine 16","14/04/2017 au 20/04/2017",1.75,1.7,1.71,1.69,1.64,1.66,1.78,1.72,1.74,1.5476742893014099]
[null,"semaine 17","21/04/2017 au 27/04/2017",1.75,1.7,1.71,1.69,1.64,1.66,1.78,1.72,1.74,1.5376565905819499]
[null,"semaine 18","28/04/2017 au 04/05/2017",1.73,1.68,1.69,1.68,1.62,1.64,1.77,1.69,1.71,1.5084865802392899]
[null,"semaine 19","05/05/2017 au 11/05/2017",1.7,1.68,1.69,1.64,1.62,1.63,1.73,1.7,1.71,1.4915336720633801]
[null,"semaine 20","12/05/2017 au 18/05/2017",1.68,1.66,1.67,1.62,1.6,1.61,1.72,1.68,1.69,1.48192381590706]
[null,"semaine 21","19/05/2017 au 25/05/2017",1.67,1.65,1.66,1.62,1.58,1.59,1.7,1.66,1.68,1.4781931922161899]
[null,"semaine 22","26/05/2017 au 01/06/2017",1.68,1.64,1.65,1.62,1.58,1.59,1.71,1.66,1.68,1.4836180496393501]
[null,"semaine 23","02/06/2017 au 08/06/2017",1.68,1.64,1.65,1.62,1.58,1.59,1.71,1.66,1.68,1.486]
[null,"semaine 24","09/06/2017 au 15/06/2017",1.69,1.64,1.66,1.63,1.58,1.6,1.72,1.66,1.68,1.4850000000000001]
[null,"semaine 25","16/06/2017 au 22/06/2017",1.69,1.64,1.66,1.64,1.58,1.6,1.72,1.66,1.68,1.48712889563184]
[null,"semaine 26","23/06/2017 au 29/06/2017",1.69,1.64,1.66,1.64,1.58,1.6,1.72,1.66,1.68,1.49032954879123]
[null,"semaine 27","30/06/2017 au 06/07/2017",1.69,1.64,1.66,1.64,1.58,1.6,1.73,1.66,1.68,1.4910000000000001]
[null,"semaine 28","07/07/2017 au 13/07/2017",1.69,1.65,1.66,1.63,1.58,1.6,1.72,1.67,1.69,1.4910000000000001]
[null,"semaine 29","14/07/2017 au 20/07/2017",1.69,1.65,1.66,1.64,1.58,1.6,1.72,1.67,1.69,1.48126577247889]
[null,"semaine 30","21/07/2017 au 27/07/2017",1.68,1.64,1.65,1.63,1.58,1.6,1.72,1.66,1.68,1.4770000000000001]
[null,"semaine 31","28/07/2017 au 03/08/2017",1.68,1.63,1.65,1.63,1.57,1.59,1.71,1.65,1.67,1.4770000000000001]
[null,"semaine 32","04/08/2017 au 10/08/2017",1.68,1.63,1.64,1.62,1.56,1.58,1.71,1.64,1.66,1.46945324668202]
[null,"semaine 33","11/08/2017 au 17/08/2017",1.68,1.62,1.64,1.62,1.56,1.58,1.71,1.64,1.66,1.4562246905206]
[null,"semaine 34","18/08/2017 au 24/08/2017",1.65,1.61,1.62,1.6,1.55,1.56,1.69,1.63,1.65,1.42448113729717]
[null,"semaine 35","25/08/2017 au 31/08/2017",1.61,1.59,1.59,1.56,1.53,1.54,1.65,1.61,1.62,1.3878999543170401]
[null,"semaine 36","01/09/2017 au 07/09/2017",1.58,1.57,1.57,1.52,1.5,1.51,1.61,1.58,1.59,1.3784252145320399]
[null,"semaine 37","08/09/2017 au 14/09/2017",1.58,1.55,1.56,1.52,1.48,1.49,1.61,1.57,1.58,1.3495632578819701]
[null,"semaine 38","15/09/2017 au 21/09/2017",1.53,1.52,1.52,1.48,1.46,1.46,1.56,1.54,1.54,1.3024325185699199]
[null,"semaine 39","22/09/2017 au 28/09/2017",1.5,1.48,1.48,1.44,1.42,1.43,1.53,1.5,1.51,1.2728603661350699]
[null,"semaine 40","29/09/2017 au 05/10/2017",1.46,1.45,1.45,1.4,1.39,1.39,1.49,1.47,1.47,1.2367194492254701]
[null,"semaine 41","06/10/2017 au 12/10/2017",1.43,1.41,1.42,1.37,1.35,1.36,1.46,1.43,1.44,1.228]
[null,"semaine 42","13/10/2017 au 19/10/2017",1.42,1.4,1.4,1.36,1.33,1.34,1.46,1.41,1.43,1.2129250654450301]
[null,"semaine 43","20/10/2017 au 26/10/2017",1.41,1.38,1.39,1.35,1.32,1.33,1.44,1.4,1.41,1.2036508106372701]
[null,"semaine 44","27/10/2017 au 02/11/2017",1.39,1.37,1.38,1.33,1.3,1.31,1.43,1.39,1.4,1.1879227352719299]
[null,"semaine 45","03/11/2017 au 09/11/2017",1.38,1.36,1.37,1.32,1.29,1.3,1.42,1.38,1.39,1.1802108352763701]
[null,"semaine 46","10/11/2017 au 16/11/2017",1.37,1.35,1.36,1.31,1.29,1.3,1.41,1.37,1.38,1.17979398185867]
[null,"semaine 47","17/11/2017 au 23/11/2017",1.37,1.34,1.35,1.31,1.28,1.3,1.41,1.36,1.38,1.17920698492325]
[null,"semaine 48","24/11/2017 au 30/11/2017",1.38,1.34,1.35,1.32,1.28,1.3,1.41,1.36,1.38,1.1782024254236401]
[null,"semaine 49","01/12/2017 au 07/12/2017",1.38,1.34,1.35,1.32,1.28,1.3,1.41,1.36,1.38,1.1767985017706299]
[null,"semaine 50","08/12/2017 au 14/12/2017",1.38,1.34,1.35,1.32,1.28,1.29,1.41,1.36,1.37,1.1752008909051199]
[null,"semaine 51","15/12/2017 au 21/12/2017",1.37,1.34,1.35,1.31,1.28,1.29,1.41,1.36,1.37,1.1543941548183301]
[null,"semaine 52","22/12/2017 au 28/12/2017",1.34,1.32,1.33,1.28,1.26,1.27,1.38,1.34,1.35,1.1427984215718501]
[2018,null,null,null,null,null,"Nantes E","Rennes E","National E","Nantes S","Rennes S","National S","PLERIN",null,"Evolution/semaine -1","Evolution/ semaine id 2022","Evolution/semaine id moy. 5 ans"]
[null,"semaine 1","29/12/2017 au 4/1/2018",1.34,1.31,1.32,1.27,1.25,1.26,1.37,1.33,1.34,1.13679314727825]
[null,"semaine 2","05/01/2018 au 11/01/2018",1.31,1.3,1.3,1.25,1.24,1.25,1.37,1.32,1.33,1.12407949574027]
[null,"semaine 3","12/01/2018 au 18/01/2018",1.31,1.29,1.3,1.26,1.22,1.24,1.35,1.31,1.32,1.1020908409346499]
[null,"semaine 4","19/01/2018 au 25/01/2018",1.29,1.28,1.28,1.23,1.21,1.22,1.33,1.29,1.3,1.10041341072512]
[null,"semaine 5","26/01/2018 au 01/02/2018",1.3,1.26,1.28,1.24,1.2,1.22,1.34,1.28,1.3,1.1203636602145499]
[null,"semaine 6","02/02/2018 au 08/02/2018",1.32,1.27,1.29,1.27,1.21,1.24,1.36,1.29,1.32,1.1394518099547499]
[null,"semaine 7","09/02/2018 au 15/02/2018",1.34,1.28,1.31,1.28,1.22,1.25,1.38,1.3,1.33,1.1746041827187701]
[null,"semaine 8","16/02/2018 au 22/02/2018",1.38,1.32,1.34,1.32,1.26,1.28,1.41,1.33,1.36,1.2]
[null,"semaine 9","23/02/2018 au 01/03/2018",1.4,1.35,1.37,1.34,1.28,1.31,1.43,1.36,1.39,1.2273942457231699]
[null,"semaine 10","02/03/2018 au 08/03/2018",1.43,1.37,1.39,1.37,1.31,1.34,1.47,1.39,1.42,1.2386110612611101]
[null,"semaine 11","09/03/2018 au 15/03/2018",1.44,1.39,1.41,1.38,1.32,1.34,1.47,1.4,1.42,1.24]
[null,"semaine 12","16/03/2018 au 22/03/2018",1.43,1.39,1.41,1.37,1.33,1.35,1.46,1.41,1.43,1.21604547426885]
[null,"semaine 13","23/03/2018 au 29/03/2018",1.41,1.38,1.39,1.35,1.35,1.35,1.44,1.43,1.43,1.2]
[null,"semaine 14","30/03/2018 au 05/04/2018",1.4,1.37,1.38,1.34,1.3,1.32,1.43,1.39,1.4,1.2]
[null,"semaine 15","06/04/2018 au 12/04/2018",1.4,1.36,1.37,1.34,1.3,1.32,1.43,1.38,1.4,1.2]
[null,"semaine 16","13/04/2018 au 19/04/2018",1.39,1.36,1.37,1.33,1.29,1.31,1.43,1.38,1.39,1.18]
[null,"semaine 17","20/04/2018 au 26/04/2018",1.38,1.35,1.36,1.32,1.28,1.3,1.41,1.37,1.38,1.18]
[null,"semaine 18","27/04/2018 au 03/05/2018",1.38,1.35,1.36,1.32,1.28,1.3,1.42,1.36,1.38,1.1850000000000001]
[null,"semaine 19","04/05/2018 au 09/05/2018",1.38,1.34,1.35,1.32,1.28,1.3,1.42,1.36,1.38,1.19]
[null,"semaine 20","11/05/2018 au 17/05/2018",1.38,1.34,1.35,1.33,1.28,1.3,1.41,1.36,1.38,1.19]
[null,"semaine 21","18/05/2018 au 24/05/2018",1.39,1.34,1.36,1.33,1.28,1.3,1.42,1.36,1.38,1.19]
[null,"semaine 22","25/05/2018 au 31/05/2018",1.38,1.34,1.35,1.33,1.28,1.3,1.42,1.36,1.38,1.19]
[null,"semaine 23","01/06/2018 au 07/06/2018",1.39,1.34,1.36,1.33,1.28,1.3,1.43,1.36,1.38,1.2]
[null,"semaine 24","08/06/2018 au 14/06/2018",1.4,1.35,1.37,1.34,1.29,1.31,1.43,1.37,1.39,1.2]
[null,"semaine 25","15/09/2018 au 21/06/2018",1.4,1.36,1.37,1.35,1.29,1.32,1.44,1.38,1.4,1.2]
[null,"semaine 26","22/06/2018 au 28/06/2018",1.4,1.36,1.37,1.34,1.3,1.32,1.43,1.38,1.4,1.21]
[null,"semaine 27","29/06/2018 au 5/07/2018",1.43,1.36,1.38,1.38,1.3,1.33,1.45,1.39,1.41,1.22]
[null,"semaine 28","06/07/2018 au 12/07/2018",1.41,1.36,1.38,1.36,1.3,1.33,1.44,1.38,1.4,1.22]
[null,"semaine 29","13/07/2018 au 19/07/2018",1.41,1.36,1.38,1.36,1.3,1.32,1.44,1.38,1.4,1.22]
[null,"semaine 30","20/07/2017 au 26/07/2018",1.41,1.36,1.38,1.36,1.3,1.32,1.44,1.38,1.4,1.22]
[null,"semaine 31","27/07/2018 au 02/08/2018",1.41,1.36,1.38,1.36,1.3,1.32,1.44,1.38,1.4,1.22]
[null,"semaine 32","03/08/2018 au 09/08/2018",1.41,1.36,1.38,1.36,1.3,1.33,1.44,1.38,1.4,1.22]
[null,"semaine 33","10/08/2018 au 16/08/2018",1.41,1.36,1.38,1.36,1.3,1.33,1.44,1.38,1.4,1.22]
[null,"semaine 34","17/08/2018 au 23/08/2018",1.42,1.37,1.39,1.36,1.31,1.33,1.45,1.39,1.41,1.26]
[null,"semaine 35","24/08/2018 au 30/08/2018",1.45,1.4,1.42,1.4,1.34,1.37,1.48,1.42,1.44,1.28]
[null,"semaine 36","31/08/2018 au 06/09/2018",1.48,1.42,1.44,1.42,1.36,1.39,1.5,1.44,1.46,1.3]
[null,"semaine 37","07/09/2018 au 13/09/2018",1.49,1.43,1.45,1.43,1.37,1.4,1.51,1.45,1.47,1.3]
[null,"semaine 38","14/09/2018 au 20/09/2018",1.49,1.43,1.45,1.43,1.37,1.39,1.51,1.45,1.47,1.25]
[null,"semaine 39","21/09/2018 au 27/09/2018",1.45,1.4,1.41,1.4,1.34,1.36,1.48,1.42,1.44,1.21]
[null,"semaine 40","28/09/2018 au 04/10/2018",1.43,1.38,1.39,1.37,1.31,1.33,1.45,1.39,1.41,1.2]
[null,"semaine 41","05/10/2018 au 11/10/2018",1.41,1.36,1.37,1.35,1.3,1.32,1.44,1.38,1.4,1.19]
[null,"semaine 42","12/10/2018 au 18/10/2018",1.4,1.35,1.36,1.35,1.28,1.31,1.43,1.37,1.39,1.19]
[null,"semaine 43","19/10/2018 au 25/10/2018",1.4,1.34,1.36,1.34,1.28,1.3,1.42,1.36,1.38,1.19]
[null,"semaine 44","26/10/2018 au 31/10/2018",1.4,1.34,1.36,1.34,1.28,1.3,1.42,1.36,1.38,1.18]
[null,"semaine 45","02/11/2018 au 08/11/2018",1.38,1.34,1.35,1.32,1.27,1.29,1.41,1.36,1.37,1.17]
[null,"semaine 46","09/11/2018 au 15/11/2018",1.38,1.34,1.35,1.31,1.27,1.29,1.4,1.35,1.37,1.17]
[null,"semaine 47","16/11/2018 au 22/11/2018",1.38,1.34,1.35,1.31,1.27,1.29,1.4,1.36,1.37,1.17]
[null,"semaine 48","23/11/2018 au 29/11/2018",1.38,1.33,1.34,1.32,1.27,1.29,1.4,1.35,1.37,1.17]
[null,"semaine 49","30/11/2018 au 06/12/2018",1.38,1.34,1.35,1.32,1.27,1.29,1.4,1.36,1.37,1.18]
[null,"semaine 50","07/12/2018 au 13/12/2018",1.38,1.34,1.35,1.32,1.28,1.3,1.41,1.36,1.37,1.18]
[null,"semaine 51","14/12/2018 au 20/12/2018",1.37,1.34,1.35,1.31,1.28,1.29,1.4,1.36,1.37,1.18]
[null,"semaine 52","21/12/2019 au 27/12/2019",1.38,1.35,1.36,1.32,1.28,1.3,1.41,1.36,1.37,1.17]
[2019,null,null,null,null,null,"Nantes E","Rennes E","National E","Nantes S","Rennes S","National S","PLERIN",null,"Evolution/semaine -1","Evolution/ semaine id 2022","Evolution/semaine id moy. 5 ans"]
[null,"semaine 1","28/12/2019 au 03/01/2019",1.38,1.34,1.35,1.31,1.28,1.29,1.41,1.36,1.37,1.17]
[null,"semaine 2","04/01/2019 au 10/01/2019",1.38,1.33,1.34,1.31,1.27,1.29,1.4,1.35,1.37,1.17]
[null,"semaine 3","11/01/2019 au 17/01/2019",1.38,1.34,1.35,1.31,1.27,1.29,1.4,1.36,1.37,1.17]
[null,"semaine 4","18/01/2019 au 24/01/2019",1.37,1.33,1.34,1.31,1.27,1.29,1.4,1.35,1.36,1.17]
[null,"semaine 5","25/01/2019 au 31/01/2019",1.38,1.33,1.34,1.31,1.27,1.29,1.4,1.35,1.37,1.17]
[null,"semaine 6","01/02/2019 au 07/02/2019",1.37,1.33,1.34,1.3,1.27,1.29,1.4,1.35,1.37,1.18]
[null,"semaine 7","08/02/2019 au 14/02/2019",1.38,1.34,1.35,1.31,1.27,1.29,1.41,1.36,1.37,1.18]
[null,"semaine 8","15/02/2019 au 21/02/2019",1.39,1.34,1.35,1.32,1.28,1.3,1.41,1.36,1.37,1.18]
[null,"semaine 9","22/02/2019 au 28/02/2019",1.39,1.35,1.36,1.32,1.28,1.3,1.41,1.36,1.37,1.18]
[null,"semaine 10","01/03/2019 au 07/03/2019",1.39,1.34,1.36,1.32,1.28,1.3,1.41,1.36,1.38,1.18]
[null,"semaine 11","08/03/2019 au 14/03/2019",1.39,1.34,1.36,1.32,1.28,1.3,1.41,1.36,1.38,1.23]
[null,"semaine 12","15/03/2019 au 21/03/2019",1.42,1.37,1.39,1.36,1.31,1.34,1.44,1.39,1.41,1.28]
[null,"semaine 13","22/03/2019 au 28/03/2019",1.47,1.42,1.44,1.4,1.35,1.38,1.49,1.44,1.46,1.33]
[null,"semaine 14","29/03/2019 au 04/04/2019",1.52,1.47,1.49,1.45,1.41,1.43,1.54,1.49,1.51,1.38]
[null,"semaine 15","05/04/2019 au 11/04/2019",1.57,1.52,1.54,1.51,1.46,1.48,1.59,1.54,1.56,1.41]
[null,"semaine 16","12/04/2019 au 18/04/2019",1.6,1.56,1.58,1.53,1.49,1.51,1.63,1.58,1.6,1.41]
[null,"semaine 17","19/04/2019 au 25/04/2019",1.62,1.57,1.59,1.54,1.51,1.52,1.64,1.59,1.61,1.41]
[null,"semaine 18","26/04/2019 au 02/05/2019",1.62,1.58,1.59,1.56,1.52,1.53,1.65,1.6,1.61,1.42]
[null,"semaine 19","03/05/2019 au 09/05/2019",1.62,1.58,1.6,1.55,1.52,1.54,1.65,1.6,1.62,1.45]
[null,"semaine 20","10/05/2019 au 16/05/2019",1.64,1.6,1.62,1.57,1.53,1.55,1.67,1.62,1.64,1.47]
[null,"semaine 21","17/05/2019 au 23/05/2019",1.65,1.61,1.63,1.59,1.54,1.56,1.68,1.63,1.65,1.47]
[null,"semaine 22","24/05/2019 au 29/05/2019",1.67,1.63,1.64,1.61,1.57,1.58,1.7,1.65,1.67,1.48]
[null,"semaine 23","31/05/2019 au 06/06/2019",1.68,1.64,1.65,1.61,1.58,1.6,1.71,1.66,1.68,1.52]
[null,"semaine 24","07/06/2019 au 13/06/2019",1.71,1.66,1.68,1.64,1.6,1.61,1.73,1.68,1.7,1.52]
[null,"semaine 25","14/06/2019 au 20/06/2019",1.71,1.67,1.69,1.65,1.61,1.63,1.74,1.7,1.71,1.52]
[null,"semaine 26","21/06/2019 au 27/06/2019",1.72,1.68,1.69,1.66,1.62,1.63,1.75,1.7,1.71,1.52]
[null,"semaine 27","28/06/2019 au 04/07/2019",1.72,1.68,1.69,1.67,1.62,1.64,1.75,1.71,1.72,1.53]
[null,"semaine 28","05/07/2019 au 11/07/2019",1.73,1.69,1.7,1.97,1.63,1.64,1.75,1.71,1.72,1.53]
[null,"semaine 29","12/07/2019 au 18/07/2019",1.72,1.69,1.7,1.66,1.63,1.64,1.75,1.71,1.73,1.56]
[null,"semaine 30","19/07/2019 au 25/07/2017",1.75,1.7,1.72,1.69,1.64,1.66,1.77,1.72,1.74,1.57]
[null,"semaine 31","26/07/2019 au 01/08//2019",1.76,1.71,1.73,1.7,1.65,1.67,1.78,1.73,1.75,1.58]
[null,"semaine 32","02/08/2019 au 08/08/2019",1.77,1.72,1.74,1.71,1.65,1.67,1.8,1.74,1.76,1.58]
[null,"semaine 33","09/08/2019 au 14/08/2019",1.77,1.72,1.74,1.71,1.66,1.68,1.8,1.74,1.76,1.59]
[null,"semaine 34","16/08/2019 au 22/08/2019",1.78,1.73,1.75,1.72,1.67,1.69,1.81,1.75,1.77,1.63]
[null,"semaine 35","23/08/2019 au 29/08/2019",1.81,1.76,1.78,1.75,1.7,1.72,1.83,1.78,1.8,1.64]
[null,"semaine 36","30/08/2019 au 05/09/2019",1.83,1.78,1.8,1.77,1.72,1.74,1.85,1.8,1.82,1.68]
[null,"semaine 37","06/09/2019 au 12/09/2019",1.88,1.82,1.84,1.81,1.76,1.78,1.9,1.84,1.86,1.7]
[null,"semaine 38","13/09/2019 au 19/09/2019",1.9,1.85,1.87,1.83,1.79,1.8,1.92,1.87,1.89,1.7]
[null,"semaine 39","20/09/2019 au 26/09/2019",1.91,1.86,1.88,1.85,1.8,1.81,1.93,1.88,1.89,1.7]
[null,"semaine 40","27/09/2019 au 03/10/2019",1.9,1.86,1.87,1.84,1.8,1.81,1.93,1.88,1.9,1.7]
[null,"semaine 41","04/10/2019 au 10/10/2019",1.9,1.86,1.87,1.84,1.8,1.81,1.92,1.88,1.89,1.7]
[null,"semaine 42","11/10/2019 au 17/10/2019",1.9,1.86,1.87,1.84,1.8,1.81,1.93,1.88,1.89,1.7]
[null,"semaine 43","18/10/2019 au 24/10/2019",1.9,1.86,1.87,1.84,1.8,1.81,1.93,1.88,1.89,1.69]
[null,"semaine 44","25/11/2019 au 31/10/2019",1.9,1.86,1.87,1.83,1.8,1.81,1.92,1.88,1.89,1.68]
[null,"semaine 45","01/11/2019 au 07/11/2019",1.88,1.85,1.86,1.82,1.79,1.8,1.91,1.87,1.88,1.68]
[null,"semaine 46","08/11/2019 au 14/11/2019",1.88,1.85,1.86,1.82,1.79,1.8,1.91,1.87,1.88,1.68]
[null,"semaine 47","15/11/2019 au 21/11/2019",1.89,1.85,1.86,1.81,1.79,1.8,1.91,1.87,1.88,1.7]
[null,"semaine 48","22/11/2019 au 28/11/2019",1.9,1.87,1.88,1.83,1.8,1.81,1.92,1.88,1.89,1.7]
[null,"semaine 49","29/11/2019 au 05/12/2019",1.91,1.87,1.88,1.84,1.81,1.81,1.93,1.89,1.9,1.7]
[null,"semaine 50","06/12/2019 au 12/12/2019",1.91,1.87,1.88,1.84,1.81,1.81,1.93,1.89,1.9,1.7]
[null,"semaine 51","13/12/2019 au 19/12/2019",1.91,1.87,1.88,1.84,1.81,1.81,1.93,1.89,1.9,1.65]
[null,"semaine 52","20/12/2019 au 26/12/2019",1.87,1.86,1.86,1.8,1.79,1.78,1.9,1.87,1.87,1.63]
[2020,null,null,null,null,null,"Nantes E","Rennes E","National E","Nantes S","Rennes S","National S","PLERIN",null,"Evolution/semaine -1","Evolution/ semaine id 2022","Evolution/semaine id moy. 5 ans"]
[null,"semaine 1","27/12/2019 au 02/01/2020",1.84,1.83,1.83,1.78,1.77,1.77,1.87,1.85,1.85,1.62]
[null,"semaine 2","03/01/2020 au 09/01/2020",1.83,1.81,1.81,1.76,1.75,1.74,1.85,1.83,1.83,1.57]
[null,"semaine 3","10/01/2020 au 16/01/2020",1.79,1.76,1.76,1.72,1.7,1.7,1.82,1.78,1.78,1.52]
[null,"semaine 4","17/01/2020 au 23/01/2020",1.74,1.71,1.71,1.67,1.65,1.65,1.76,1.73,1.73,1.46]
[null,"semaine 5","24/01/2020 au 30/01/2020",1.69,1.66,1.66,1.62,1.59,1.6,1.71,1.68,1.68,1.46]
[null,"semaine 6","31/01/2020 au 06/02/2020",1.68,1.64,1.65,1.61,1.58,1.59,1.7,1.66,1.67,1.46]
[null,"semaine 7","07/02/2020 au 13/02/2020",1.68,1.63,1.64,1.61,1.57,1.58,1.7,1.65,1.66,1.46]
[null,"semaine 8","14/02/2020 au 20/02/2020",1.67,1.64,1.65,1.6,1.57,1.58,1.7,1.65,1.66,1.49]
[null,"semaine 9","21/02/20120 au 27/02/2020",1.7,1.66,1.67,1.63,1.59,1.61,1.72,1.68,1.69,1.53]
[null,"semaine 10","28/02/2020 au 05/03/2020",1.73,1.69,1.7,1.66,1.62,1.64,1.75,1.7,1.72,1.55]
[null,"semaine 11","06/03/2020 au 12/03/2020",1.74,1.71,1.72,1.67,1.65,1.66,1.76,1.73,1.74,1.57]
[null,"semaine 12","13/03/2020 au 19/03/2020",1.77,1.73,1.74,1.7,1.66,1.67,1.79,1.74,1.76,1.55]
[null,"semaine 13","20/03/2020 au 26/03/2020",1.76,1.72,1.73,1.7,1.66,1.67,1.79,1.74,1.75,1.55]
[null,"semaine 14","27/03/2020 au 02/04/2020",1.75,1.72,1.73,1.68,1.65,1.66,1.77,1.73,1.74,1.52]
[null,"Semaine 15","03/04/2020 au 09/04/2020",1.74,1.7,1.71,1.67,1.64,1.65,1.76,1.72,1.73,1.51]
[null,"Semaine 16","10/04/2020 au 16/04/2020",1.72,1.69,1.7,1.65,1.63,1.64,1.75,1.71,1.72,1.51]
[null,"Semaine 17","17/04/2020 au 23/04/2020",1.72,1.68,1.69,1.65,1.62,1.63,1.74,1.7,1.71,1.48]
[null,"Semaine 18","24/04/2020 au 30/04/2020",1.7,1.66,1.67,1.64,1.59,1.61,1.73,1.68,1.69,1.44]
[null,"semaine 19","02/05/2020 au 07/05/2020",1.66,1.61,1.62,1.59,1.54,1.56,1.68,1.63,1.64,1.39]
[null,"semaine 20","08/05/2020 au 14/05/2020",1.61,1.57,1.58,1.54,1.51,1.52,1.64,1.59,1.6,1.36]
[null,"Semaine 21","15/05/2020 au 21/05/2020",1.56,1.53,1.54,1.49,1.47,1.49,1.58,1.55,1.56]
[null,"semaine 22","22/05/2020 au 28/05/2020",1.55,1.51,1.52,1.48,1.45,1.47,1.58,1.53,1.54]
[null,"Semaine 23","29/05/2020 au 04/06/2020",1.55,1.51,1.52,1.48,1.46,1.47,1.57,1.53,1.54,1.35]
[null,"semaine 24","05/06/2020 au 11/06/2020",1.55,1.51,1.52,1.48,1.45,1.47,1.58,1.53,1.54,1.35]
[null,"Semaine 25","12/06/2020 au 18/06/2020",1.56,1.51,1.52,1.51,1.45,1.47,1.59,1.53,1.55,1.35]
[null,"Semaine 26","19/06/2020 au 25/06/2020",1.56,1.51,1.52,1.51,1.45,1.47,1.58,1.53,1.54,1.35]
[null,"Semaine 27","26/06/2020 au 02/07/2020",1.55,1.51,1.52,1.5,1.45,1.47,1.56,1.53,1.54,1.35]
["correction le 11/08","Semaine 28","03/07/2020 au 09/07/2020",1.56,1.51,1.52,1.5,1.45,1.47,1.58,1.53,1.54,1.31]
["correction le 11/08","Semaine 29","10/07/2020 au 16/07/2020",1.5,1.48,1.49,1.37,1.42,1.42,1.55,1.51,1.52,1.29]
["correction le 11/08","Semaine 30","17/07/2020 au 23/07/2020",1.51,1.46,1.47,1.44,1.4,1.42,1.53,1.49,1.5,1.29]
["correction le 11/08","Semaine 31","24/07/2020 au 30/07/2020",1.51,1.46,1.47,1.44,1.4,1.42,1.53,1.48,1.49,1.29]
[null,"Semaine 32","31/07/2020 au 06/08/2020",1.51,1.46,1.47,1.44,1.4,1.42,1.53,1.48,1.49,1.29]
[null,"Semaine 33","07/08/2020 au 13/08/2020",1.5,1.46,1.47,1.44,1.4,1.42,1.53,1.48,1.49,1.29]
[null,"semaine 34","14/08/2020 au 20/08/2020",1.51,1.47,1.48,1.45,1.41,1.43,1.53,1.49,1.5,1.33]
[null,"semaine 35","21/08/2020 au 27/08/2020",1.54,1.49,1.51,1.48,1.43,1.46,1.56,1.51,1.53,1.35]
[null,"semaine 36","28/08/2020 au 03/09/2020",1.57,1.51,1.53,1.5,1.45,1.48,1.59,1.53,1.55,1.37]
[null,"Semaine 37","04/09/2020 au 10/09/2020",1.58,1.53,1.55,1.51,1.47,1.49,1.6,1.55,1.57,1.38]
[null,"Semaine 38","11/09/2020 au 17/09/2020",1.6,1.55,1.56,1.53,1.48,1.5,1.62,1.57,1.58,1.38]
[null,"Semaine 39","18/09/2020 au 24/09/2020",1.59,1.55,1.56,1.52,1.49,1.51,1.61,1.57,1.58,1.38]
[null,"semaine 40","25/09/2020 au 01/10/2020",1.6,1.55,1.56,1.53,1.49,1.51,1.62,1.57,1.58,1.37]
[null,"semaine 41","02/10/2020 au 08/10/2020",1.59,1.54,1.55,1.53,1.48,1.5,1.61,1.56,1.57,1.37]
[null,"semaine 42","09/10/2020 au 15/10/2020",1.59,1.54,1.55,1.52,1.48,1.5,1.61,1.56,1.57,1.36]
[null,"semaine 43","16/10/2020 au 22/10/2020",1.58,1.54,1.55,1.51,1.48,1.49,1.6,1.56,1.57,1.36]
[null,"Semaine 44","23/10/2020 au 29/10/2020",1.58,1.54,1.55,1.51,1.47,1.49,1.6,1.55,1.56,1.36]
[null,"semaine 45","30/10/2020 au 05/11/2020",1.57,1.53,1.54,1.5,1.47,1.48,1.59,1.55,1.56,1.31]
[null,"Semaine 46","06/11/2020 au 12/11/2020",1.56,1.49,1.51,1.51,1.41,1.44,1.58,1.51,1.53,1.29]
[null,"semaine 47","13/11/2020 au 19/11/2020",1.51,1.47,1.48,1.44,1.41,1.42,1.53,1.49,1.5,1.25]
[null,"semaine 48","20/11/2020 au 26/11/2020",1.47,1.43,1.44,1.4,1.37,1.39,1.49,1.45,1.46,1.22]
[null,"semaine 49","27/11/2020 au 03/12/2020",1.44,1.4,1.41,1.37,1.34,1.36,1.46,1.42,1.43,1.21]
[null,"semaine 50","04/12/2020 au 10/12/2020",1.42,1.38,1.39,1.36,1.32,1.34,1.44,1.4,1.41,1.2]
[null,"Semaine 51","11/12/2020 au 17/12/2020",1.41,1.37,1.38,1.34,1.31,1.33,1.43,1.39,1.4,1.2]
[null,"semaine 52","18/12/2020 au 24//12/2020",1.42,1.37,1.38,1.35,1.31,1.33,1.44,1.39,1.4,1.2]
[null,"semaine 53","25/12/2020 au 31/12/2020",1.41,1.37,1.38,1.34,1.31,1.33,1.43,1.39,1.4,1.2]
[2021,null,null,null,null,null,"Nantes E","Rennes E","National E","Nantes S","Rennes S","National S","PLERIN",null,"Evolution/semaine -1","Evolution/ semaine id 2022","Evolution/semaine id moy. 5 ans"]
[null,"semaine 1","01/01/2021 au 07/01/2021",1.4,1.37,1.38,1.33,1.31,1.33,1.42,1.39,1.4,1.2]
[null,"semaine 2","08/01/2021 au 14/01/2021",1.4,1.37,1.38,1.33,1.31,1.33,1.43,1.39,1.4,1.2]
[null,"semaine 3","15/01/2021 au 21/01/2021",1.41,1.37,1.38,1.34,1.31,1.33,1.43,1.39,1.4,1.2]
["J","semaine 4","22/01/2021 au 28/01/2021",1.41,1.37,1.38,1.34,1.31,1.33,1.43,1.39,1.4,1.2]
[null,"semaine 5","29/01/2021 au 04/02/2021",1.41,1.37,1.38,1.34,1.31,1.33,1.43,1.39,1.4,1.2]
[null,"semaine 6","05/02/2021 au 11/02/2021",1.41,1.37,1.38,1.34,1.31,1.33,1.43,1.39,1.4,1.2]
[null,"semaine 7","12/02/2021 au 18/02/2021",1.42,1.37,1.38,1.34,1.31,1.33,1.44,1.39,1.4,1.21]
["F","semaine 8","19/02/2021 au 25/02/2021",1.43,1.39,1.4,1.36,1.32,1.35,1.45,1.4,1.42,1.24]
[null,"semaine 9","26/02/2021 au 04/03/2021",1.45,1.41,1.42,1.38,1.34,1.36,1.47,1.42,1.44,1.28]
[null,"semaine 10","05/03/2021 au 11/03/2021",1.48,1.43,1.45,1.41,1.37,1.4,1.5,1.45,1.47,1.32]
[null,"semaine 11","12/03/2021 au 18/03/2021",1.52,1.48,1.49,1.45,1.42,1.44,1.54,1.5,1.51,1.34]
[null,"semaine 12","19/03/2021 au 25/03/2021",1.55,1.51,1.52,1.48,1.44,1.46,1.57,1.52,1.54,1.3474999999999999]
["M","semaine 13","26/03/2021 au 01/04/2021",1.56,1.52,1.53,1.49,1.46,1.47,1.58,1.54,1.56,1.3580000000000001]
[null,"semaine 14","02/04/2021 au 08/04/2021",1.58,1.53,1.55,1.51,1.47,1.49,1.6,1.55,1.57,1.39]
[null,"semaine 15","09/04/2021 au 15/04/2021",1.59,1.55,1.57,1.53,1.49,1.51,1.62,1.57,1.59,1.42]
[null,"semaine 16","16/04/2021 au 22/04/2021",1.62,1.58,1.6,1.56,1.52,1.54,1.65,1.6,1.62,1.48]
["A","semaine 17","23/04/2021 au 29/04/2021",1.67,1.63,1.65,1.61,1.56,1.59,1.7,1.65,1.67,1.53]
[null,"semaine 18","30/04/2021 au 06/05/2021",1.72,1.67,1.69,1.66,1.61,1.63,1.75,1.69,1.71,1.54]
[null,"semaine 19","07/05/2021 au 13/05/2021",1.74,1.7,1.71,1.68,1.63,1.65,1.77,1.71,1.73,1.54]
[null,"semaine 20","14/05/2021 au 20/05/2021",1.74,1.7,1.71,1.67,1.63,1.65,1.77,1.72,1.73,1.54]
["M","semaine 21","21/05/2021 au 27/05/2021",1.74,1.7,1.71,1.68,1.64,1.66,1.77,1.72,1.73,1.54]
[null,"semaine 22","28/05/2021 au 03/06/2021",1.74,1.71,1.72,1.68,1.64,1.66,1.77,1.73,1.74,1.55]
[null,"semaine 23","04/06/2021 au 10/06/2021",1.75,1.71,1.72,1.68,1.66,1.67,1.78,1.73,1.74,1.55]
[null,"semaine 24","11/06/2021 au 17/06/2021",1.75,1.71,1.72,1.69,1.65,1.67,1.78,1.73,1.74,1.55]
[null,"semaine 25","18/06/2021 au 24/06/2021",1.75,1.71,1.72,1.69,1.65,1.66,1.78,1.73,1.74,1.5]
["J","semaine 26","25/06/2021 au 01/07/2021",1.71,1.68,1.69,1.6,1.62,1.62,1.75,1.7,1.72,1.44]
[null,"semaine 27","02/07/2021 au 08/07/2021",1.66,1.63,1.63,1.6,1.57,1.58,1.69,1.65,1.66,1.39]
[null,"semaine 28","09/07/2021 au 15/07/2021",1.62,1.57,1.58,1.56,1.52,1.54,1.65,1.6,1.61,1.35]
[null,"semaine 29","16/07/2021 au 22/07/2021",1.57,1.53,1.54,1.51,1.47,1.49,1.6,1.55,1.56,1.35]
["J","semaine 30","23/07/2021 au 29/07/2021",1.56,1.51,1.52,1.5,1.45,1.47,1.59,1.53,1.55,1.35]
[null,"semaine 31","30/07/2021 au 05/08/2021",1.55,1.51,1.52,1.49,1.45,1.47,1.58,1.53,1.54,1.35]
[null,"semaine 32","06/08/2021 au 12/08/2021",1.55,1.51,1.52,1.49,1.45,1.47,1.58,1.53,1.54,1.35]
[null,"semaine 33","13/08/2021 au 19/08/2021",1.56,1.51,1.53,1.5,1.45,1.47,1.59,1.53,1.55,1.35]
["A","semaine 34","20/08/2021 au 26/08/2021",1.56,1.51,1.52,1.5,1.45,1.47,1.59,1.53,1.55,1.35]
[null,"semaine 35","27/08/2021 au 02/09/2021",1.56,1.51,1.52,1.5,1.45,1.47,1.59,1.53,1.55,1.34]
[null,"semaine 36","03/09/2021 au 09/09/2021",1.56,1.51,1.52,1.49,1.45,1.47,1.58,1.53,1.54,1.34]
["correction le 28/09","semaine 37","10/09/2021 au 16/09/2021",1.55,1.5,1.51,1.49,1.44,1.46,1.58,1.52,1.54,1.31]
[null,"semaine 38","17/09/2021 au 23/09/2021",1.53,1.48,1.49,1.47,1.42,1.44,1.56,1.5,1.51,1.27]
["S","semaine 39","24/09/2021 au 30/09/2021",1.49,1.45,1.46,1.43,1.39,1.41,1.52,1.47,1.48,1.25]
[null,"semaine 40","01/10/2021 au 07/10/2021",1.47,1.42,1.43,1.41,1.36,1.38,1.49,1.44,1.45,1.23]
[null,"semaine 41","08/10/2021 au 14/10/2021",1.44,1.39,1.41,1.38,1.33,1.36,1.46,1.41,1.43,1.22]
[null,"semaine 42","15/10/2021 au 21/10/2021",1.43,1.37,1.39,1.37,1.31,1.34,1.45,1.39,1.41,1.23]
["O","semaine 43","22/10/2021 au 28/10/2021",1.42,1.34,1.37,1.35,1.28,1.32,1.44,1.36,1.39,1.23]
[null,"semaine 44","29/10/2021 au 04/11/2021",1.42,1.35,1.38,1.35,1.29,1.33,1.44,1.37,1.4,1.23]
[null,"semaine 45","05/11/2021 au 11/11/2021",1.41,1.35,1.38,1.35,1.29,1.33,1.44,1.37,1.4,1.23]
[null,"semaine 46","12/11/2021 au 18/11/2021",1.41,1.35,1.38,1.35,1.29,1.33,1.44,1.37,1.4,1.23]
["N","semaine 47","19/11/2021 au 25/11/2021",1.42,1.36,1.39,1.35,1.3,1.34,1.45,1.38,1.41,1.24]
[null,"semaine 48","26/11/2021 au 02/12/2021",1.43,1.37,1.39,1.37,1.31,1.34,1.46,1.39,1.42,1.25]
[null,"semaine 49","03/12/2021 au 09/12/2021",1.44,1.38,1.4,1.37,1.32,1.35,1.46,1.4,1.42,1.25]
[null,"semaine 50","10/12/2021 au 16/12/2021",1.44,1.38,1.41,1.37,1.32,1.35,1.47,1.4,1.42,1.25]
[null,"semaine 51","17/12/2021 au 23/12/2021",1.45,1.39,1.42,1.38,1.32,1.35,1.47,1.4,1.42,1.25]
["D","semaine 52","24/12/2021 au 30/12/2021",1.44,1.39,1.42,1.37,1.33,1.36,1.47,1.41,1.43,1.25]
[2022,null,null,null,null,null,"Nantes E","Rennes E","National E","Nantes S","Rennes S","National S","PLERIN",null,"Evolution/semaine -1","Evolution/ semaine id 2022","Evolution/semaine id moy. 5 ans"]
[null,"semaine 1",{"$f":"TEXT(R380,\"jj/mm/aaaa\") & \" au \" & TEXT(S380,\"jj/mm/aaaa\")","v":"31/12/2021 au 06/01/2022"},1.44,1.39,1.42,1.37,1.33,1.36,1.47,1.41,1.43,1.2469999999999999,null,{"$f":"(J380-J378)/J378","v":0},{"$f":"(J380-J327)/J327","v":3.5211267605633839E-2},{"$f":"(J752-MoyQuinqHebdoPorcs!H4)/MoyQuinqHebdoPorcs!H4","v":-1},{"$f":"RIGHT(C378,10)+DAY(1)","v":"2021-12-31"},{"$f":"RIGHT(C378,10)+DAY(7)","v":"2022-01-06"}]
[null,"semaine 2","07/01/2022 au 13/01/2022",1.44,1.39,1.41,1.38,1.32,1.35,1.47,1.41,1.43,1.2470000000000001,null,{"$f":"(J381-J380)/J380","v":0},{"$f":"(J381-J328)/J328","v":2.7972027972028E-2},{"$f":"(J753-MoyQuinqHebdoPorcs!H5)/MoyQuinqHebdoPorcs!H5","v":-1},{"$f":"RIGHT(C380,10)+DAY(1)","v":"2022-01-07"},{"$f":"RIGHT(C380,10)+DAY(7)","v":"2022-01-13"}]
[null,"semaine 3","14/01/2022 au 20/01/2022",1.45,1.39,1.41,1.38,1.33,1.36,1.47,1.41,1.43,1.2481772618459599,null,{"$f":"(J382-J381)/J381","v":0},2.7972027972028E-2,{"$f":"(J754-MoyQuinqHebdoPorcs!H6)/MoyQuinqHebdoPorcs!H6","v":-1},"2022-01-14","2022-01-20"]
["J","semaine 4","21/01/2022 au 27/01/2022",1.44,1.39,1.41,1.38,1.33,1.36,1.47,1.41,1.43,1.2491797369518249,null,0,2.7972027972028E-2,{"$f":"(J755-MoyQuinqHebdoPorcs!H7)/MoyQuinqHebdoPorcs!H7","v":-1},"2022-01-21","2022-01-27"]
[null,"semaine 5","28/01/2022 au 03/02/2022",1.44,1.39,1.41,1.37,1.33,1.36,1.47,1.41,1.43,1.2493653344748414,null,0,2.7972027972028E-2,{"$f":"(J756-MoyQuinqHebdoPorcs!H8)/MoyQuinqHebdoPorcs!H8","v":-1},"2022-01-28","2022-02-03"]
[null,"semaine 6","04/02/2022 au 10/02/2022",1.44,1.39,1.41,1.38,1.33,1.36,1.47,1.41,1.43,1.2655421877412383,null,0,2.7972027972028E-2,{"$f":"(J757-MoyQuinqHebdoPorcs!H9)/MoyQuinqHebdoPorcs!H9","v":-1},"2022-02-04","2022-02-10"]
[null,"semaine 7","11/02/2022 au 17/02/2022",1.46,1.4,1.42,1.4,1.34,1.37,1.49,1.42,1.44,1.2721680376028202,null,1.360544217687076E-2,3.4722222222222252E-2,{"$f":"(J758-MoyQuinqHebdoPorcs!H10)/MoyQuinqHebdoPorcs!H10","v":-1},"2022-02-11","2022-02-17"]
["F","semaine 8","18/02/2022 au 24/02/2022",1.46,1.44,1.45,1.4,1.36,1.38,1.49,1.46,1.47,1.2850607021251614,null,0,2.7586206896551748E-2,{"$f":"(J759-MoyQuinqHebdoPorcs!H11)/MoyQuinqHebdoPorcs!H11","v":-1},"2022-02-18","2022-02-24"]
[null,"semaine 9","25/02/2022 au 03/03/2022",1.48,1.43,1.45,1.41,1.36,1.39,1.51,1.45,1.47,1.3356430401039876,null,1.3422818791946321E-2,2.721088435374152E-2,{"$f":"(J760-MoyQuinqHebdoPorcs!H12)/MoyQuinqHebdoPorcs!H12","v":-1},"2022-02-25","2022-03-03"]
[null,"semaine 10","04/03/2022 au 10/03/2022",1.53,1.47,1.5,1.46,1.4,1.44,1.55,1.48,1.51,1.3958375963961211,null,2.6490066225165587E-2,3.3333333333333361E-2,{"$f":"(J761-MoyQuinqHebdoPorcs!H13)/MoyQuinqHebdoPorcs!H13","v":-1},"2022-03-04","2022-03-10"]
[null,"semaine 11","11/03/2022 au 17/03/2022",1.57,1.55,1.57,1.49,1.48,1.51,1.59,1.57,1.59,1.4969701967921738,null,2.5806451612903247E-2,3.2467532467532492E-2,{"$f":"(J762-MoyQuinqHebdoPorcs!H14)/MoyQuinqHebdoPorcs!H14","v":-1},"2022-03-11","2022-03-17"]
[null,"semaine 12","18/03/2022 au 24/03/2022",1.69,1.65,1.67,1.62,1.58,1.61,1.72,1.67,1.69,1.6314398798709726,null,8.1761006289308102E-2,9.5541401273885287E-2,{"$f":"(J763-MoyQuinqHebdoPorcs!H15)/MoyQuinqHebdoPorcs!H15","v":-1},"2022-03-18","2022-03-24"]
["M","semaine 13","25/03/2022 au 31/03/2022",1.79,1.76,1.78,1.72,1.69,1.71,1.82,1.77,1.79,1.6586641292239139,null,5.8139534883720985E-2,0.15189873417721517,{"$f":"(J764-MoyQuinqHebdoPorcs!H16)/MoyQuinqHebdoPorcs!H16","v":-1},"2022-03-25","2022-03-31"]
[null,"semaine 14","01/04/2022 au 07/04/2022",1.85,1.82,1.83,1.79,1.75,1.77,1.88,1.84,1.85,1.6834615003509352,null,3.2967032967032871E-2,0.17499999999999988,{"$f":"(J765-MoyQuinqHebdoPorcs!H17)/MoyQuinqHebdoPorcs!H17","v":-1},"2022-04-01","2022-04-07"]
[null,"semaine 15","08/04/2022 au 14/04/2022",1.89,1.86,1.87,1.82,1.79,1.8,1.91,1.87,1.88,1.6857895761508821,null,1.5957446808510654E-2,0.17901234567901222,{"$f":"(J766-MoyQuinqHebdoPorcs!H18)/MoyQuinqHebdoPorcs!H18","v":-1},"2022-04-08","2022-04-14"]
[null,"semaine 16","15/04/2022 au 21/04/2022",1.9,1.86,1.87,1.83,1.8,1.81,1.92,1.88,1.89,1.6886545679203024,null,5.2356020942408424E-3,0.16363636363636366,{"$f":"(J767-MoyQuinqHebdoPorcs!H19)/MoyQuinqHebdoPorcs!H19","v":-1},"2022-04-15","2022-04-21"]
["A","semaine 17","22/04/2022 au 28/04/2022",1.9,1.87,1.88,1.83,1.8,1.81,1.92,1.88,1.89,1.6918114855365738,null,0,0.12941176470588234,{"$f":"(J768-MoyQuinqHebdoPorcs!H20)/MoyQuinqHebdoPorcs!H20","v":-1},"2022-04-22","2022-04-28"]
[null,"semaine 18","29/04/2022 au 05/05/2022",1.9,1.87,1.88,1.83,1.8,1.81,1.93,1.89,1.9,1.6980000000000002,null,5.2083333333333382E-3,0.10285714285714283,{"$f":"(J769-MoyQuinqHebdoPorcs!H21)/MoyQuinqHebdoPorcs!H21","v":-1},"2022-04-29","2022-05-05"]
[null,"semaine 19","06/05/2022 au 12/05/2022",1.9,1.87,1.88,1.84,1.8,1.81,1.93,1.89,1.9,1.6980000000000002,null,0,9.0395480225988659E-2,{"$f":"(J770-MoyQuinqHebdoPorcs!H22)/MoyQuinqHebdoPorcs!H22","v":-1},"2022-05-06","2022-05-12"]
[null,"semaine 20","13/05/2022 au 19/05/2022",1.9,1.87,1.88,1.84,1.8,1.82,1.92,1.89,1.9,1.6979999999999997,null,-5.1813471502590719E-3,8.4745762711864361E-2,{"$f":"(J771-MoyQuinqHebdoPorcs!H23)/MoyQuinqHebdoPorcs!H23","v":-1},"2022-05-13","2022-05-19"]
["M","semaine 21","20/05/2022 au 26/05/2022",1.9,1.87,1.88,1.84,1.8,1.82,1.93,1.89,1.9,1.6980000000000002,null,5.2083333333333382E-3,9.0395480225988659E-2,{"$f":"(J772-MoyQuinqHebdoPorcs!H24)/MoyQuinqHebdoPorcs!H24","v":-1},"2022-05-20","2022-05-26"]
[null,"semaine 22","27/05/2022 au 02/06/2022",1.9,1.87,1.88,1.84,1.8,1.82,1.93,1.89,1.9,1.6980000000000002,null,0,9.0395480225988659E-2,{"$f":"(J773-MoyQuinqHebdoPorcs!H25)/MoyQuinqHebdoPorcs!H25","v":-1},"2022-05-27","2022-06-02"]
[null,"semaine 23","03/06/2022 au 09/06/2022",1.91,1.87,1.88,1.84,1.8,1.82,1.93,1.89,1.9,1.6980000000000002,null,0,8.4269662921348257E-2,{"$f":"(J774-MoyQuinqHebdoPorcs!H26)/MoyQuinqHebdoPorcs!H26","v":-1},"2022-06-03","2022-06-09"]
[null,"semaine 24","10/06/2022 au 16/06/2022",1.91,1.87,1.88,1.84,1.8,1.82,1.93,1.89,1.9,1.6987959876759329,null,0,8.4269662921348257E-2,{"$f":"(J775-MoyQuinqHebdoPorcs!H27)/MoyQuinqHebdoPorcs!H27","v":-1},"2022-06-10","2022-06-16"]
[null,"semaine 25","17/06/2022 au 23/06/2022",1.91,1.87,1.89,1.84,1.81,1.83,1.93,1.89,1.9,1.7438414119175658,null,0,8.4269662921348257E-2,{"$f":"(J776-MoyQuinqHebdoPorcs!H28)/MoyQuinqHebdoPorcs!H28","v":-1},"2022-06-17","2022-06-23"]
["J","semaine 26","24/06/2022 au 30/06/2022",1.95,1.9,1.92,1.89,1.84,1.87,1.97,1.92,1.94,1.8030671835570344,null,2.0725388601036288E-2,0.1257142857142857,{"$f":"(J777-MoyQuinqHebdoPorcs!H29)/MoyQuinqHebdoPorcs!H29","v":-1},"2022-06-24","2022-06-30"]
[null,"semaine 27","01/07/2022 au 07/07/2022",1.99,1.95,1.97,1.94,1.89,1.92,2.02,1.97,1.99,1.849319193212742,null,2.5380710659898501E-2,0.19526627218934917,{"$f":"(J778-MoyQuinqHebdoPorcs!H30)/MoyQuinqHebdoPorcs!H30","v":-1},"2022-07-01","2022-07-07"]
[null,"semaine 28","08/07/2022 au 14/07/2022",2.0499999999999998,2,2.02,2,1.94,1.96,2.0699999999999998,2.02,2.04,1.8595575861162239,null,2.4752475247524663E-2,0.25454545454545452,{"$f":"(J779-MoyQuinqHebdoPorcs!H31)/MoyQuinqHebdoPorcs!H31","v":-1},"2022-07-08","2022-07-14"]
[null,"semaine 29","15/07/2022 au 21/07/2022",2.06,2.02,2.0299999999999998,2,1.95,1.98,2.09,2.04,2.0499999999999998,1.8655177268195413,null,9.6618357487922805E-3,0.30624999999999986,{"$f":"(J780-MoyQuinqHebdoPorcs!H32)/MoyQuinqHebdoPorcs!H32","v":-1},"2022-07-15","2022-07-21"]
["J","semaine 30","22/07/2022 au 28/07/2022",2.0699999999999998,2.0299999999999998,2.04,2.0099999999999998,1.97,1.99,2.1,2.0499999999999998,2.06,1.8768113516389084,null,4.7846889952154218E-3,0.32075471698113206,{"$f":"(J781-MoyQuinqHebdoPorcs!H33)/MoyQuinqHebdoPorcs!H33","v":-1},"2022-07-22","2022-07-28"]
[null,"semaine 31","29/07/2022 au 04/08/2022",2.09,2.04,2.06,2.0299999999999998,1.98,2.0099999999999998,2.11,2.06,2.08,1.9095634663790007,null,4.76190476190466E-3,0.33544303797468339,{"$f":"(J782-MoyQuinqHebdoPorcs!H34)/MoyQuinqHebdoPorcs!H34","v":-1},"2022-07-29","2022-08-04"]
[null,"semaine 32","05/08/2022 au 11/08/2022",2.11,2.06,2.08,2.0499999999999998,2,2.0299999999999998,2.14,2.08,2.1,1.962129462849791,null,1.4218009478673105E-2,0.35443037974683544,{"$f":"(J783-MoyQuinqHebdoPorcs!H35)/MoyQuinqHebdoPorcs!H35","v":-1},"2022-08-05","2022-08-11"]
[null,"semaine 33",{"$f":"TEXT(R412,\"jj/mm/aaaa\") & \" au \" & TEXT(S412,\"jj/mm/aaaa\")","v":"12/08/2022 au 18/08/2022"},2.15,2.11,2.13,2.09,2.0499999999999998,2.0699999999999998,2.1800000000000002,2.13,2.15,1.9987756659609039,null,1.8691588785046745E-2,0.37106918238993714,{"$f":"(J784-MoyQuinqHebdoPorcs!H36)/MoyQuinqHebdoPorcs!H36","v":-1},"2022-08-12","2022-08-18"]
["A","semaine 34","19/08/2022 au 25/08/2022",2.19,2.15,2.17,2.13,2.09,2.11,2.2200000000000002,2.17,2.19,2.0143522801569143,null,1.8348623853211024E-2,0.3962264150943397,{"$f":"(J785-MoyQuinqHebdoPorcs!H37)/MoyQuinqHebdoPorcs!H37","v":-1},{"$f":"RIGHT(C412,10)+DAY(1)","v":"2022-08-19"},{"$f":"RIGHT(C412,10)+DAY(7)","v":"2022-08-25"}]
[null,"semaine 35","26/08/2022 au 01/09/2022",2.2200000000000002,2.17,2.19,2.15,2.11,2.14,2.2400000000000002,2.19,2.21,2.0249844253287352,null,9.0090090090090159E-3,0.40880503144654096,{"$f":"(J786-MoyQuinqHebdoPorcs!H38)/MoyQuinqHebdoPorcs!H38","v":-1},"2022-08-26","2022-09-01"]
[null,"semaine 36","02/09/2022 au 08/09/2022",2.23,2.1800000000000002,2.2000000000000002,2.16,2.12,2.14,2.25,2.2000000000000002,2.2200000000000002,2.0328619712167466,null,4.4642857142856186E-3,0.42405063291139233,{"$f":"(J787-MoyQuinqHebdoPorcs!H39)/MoyQuinqHebdoPorcs!H39","v":-1},"2022-09-02","2022-09-08"]
[null,"semaine 37","09/09/2022 au 15/09/2022",2.23,2.1800000000000002,2.2000000000000002,2.16,2.12,2.14,2.25,2.2000000000000002,2.2200000000000002,2.0409635069483674,null,0,0.42405063291139233,{"$f":"(J788-MoyQuinqHebdoPorcs!H40)/MoyQuinqHebdoPorcs!H40","v":-1},"2022-09-09","2022-09-15"]
[null,"semaine 38","16/09/2022 au 22/09/2022",2.23,2.19,2.21,2.17,2.12,2.15,2.2599999999999998,2.21,2.23,2.0481448563187694,null,4.4444444444443499E-3,0.44871794871794851,{"$f":"(J789-MoyQuinqHebdoPorcs!H41)/MoyQuinqHebdoPorcs!H41","v":-1},"2022-09-16","2022-09-22"]
["S","semaine 39","23/09/2022 au 29/09/2022",2.2400000000000002,2.19,2.21,2.17,2.13,2.15,2.2599999999999998,2.21,2.23,2.0526366300366301,null,0,0.48684210526315774,{"$f":"(J790-MoyQuinqHebdoPorcs!H42)/MoyQuinqHebdoPorcs!H42","v":-1},"2022-09-23","2022-09-29"]
[null,"semaine 40","30/09/2022 au 06/10/2022",2.2400000000000002,2.19,2.21,2.1800000000000002,2.13,2.16,2.27,2.21,2.23,2.0538291809746472,null,4.4247787610620492E-3,0.52348993288590606,{"$f":"(J791-MoyQuinqHebdoPorcs!H43)/MoyQuinqHebdoPorcs!H43","v":-1},"2022-09-30","2022-10-06"]
[null,"semaine 41","07/10/2022 au 13/10/2022",2.25,2.2000000000000002,2.2200000000000002,2.1800000000000002,2.13,2.16,2.27,2.21,2.23,2.036224561147935,null,0,0.5547945205479452,{"$f":"(J792-MoyQuinqHebdoPorcs!H44)/MoyQuinqHebdoPorcs!H44","v":-1},"2022-10-07","2022-10-13"]
[null,"semaine 42","14/10/2022 au 20/10/2022",2.23,2.19,2.2000000000000002,2.17,2.12,2.14,2.2599999999999998,2.2000000000000002,2.21,1.982235573092537,null,-4.4052863436124367E-3,0.55862068965517231,{"$f":"(J793-MoyQuinqHebdoPorcs!H45)/MoyQuinqHebdoPorcs!H45","v":-1},"2022-10-14","2022-10-20"]
["O","semaine 43","21/10/2022 au 27/10/2022",2.19,2.16,2.16,2.12,2.09,2.1,2.21,2.17,2.1800000000000002,1.9242497727542189,null,-2.2123893805309658E-2,0.53472222222222221,{"$f":"(J794-MoyQuinqHebdoPorcs!H46)/MoyQuinqHebdoPorcs!H46","v":-1},"2022-10-21","2022-10-27"]
[null,"semaine 44","28/10/2022 au 03/11/2022",2.14,2.1,2.1,2.08,2.04,2.0499999999999998,2.16,2.12,2.12,1.8678464004663367,null,-2.2624434389140191E-2,0.50000000000000011,{"$f":"(J795-MoyQuinqHebdoPorcs!H47)/MoyQuinqHebdoPorcs!H47","v":-1},"2022-10-28","2022-11-03"]
[null,"semaine 45","04/11/2022 au 10/11/2022",2.08,2.0499999999999998,2.0499999999999998,2.02,1.98,1.99,2.11,2.0699999999999998,2.0699999999999998,1.8179137812262065,null,-2.3148148148148268E-2,0.46527777777777773,{"$f":"(J796-MoyQuinqHebdoPorcs!H48)/MoyQuinqHebdoPorcs!H48","v":-1},"2022-11-04","2022-11-10"]
[null,"semaine 46","11/11/2022 au 17/11/2022",2.02,1.99,2,1.96,1.92,1.94,2.0499999999999998,2.0099999999999998,2.02,1.8083806924193215,null,-2.8436018957345998E-2,0.42361111111111105,{"$f":"(J797-MoyQuinqHebdoPorcs!H49)/MoyQuinqHebdoPorcs!H49","v":-1},"2022-11-11","2022-11-17"]
["N","semaine 47","18/11/2022 au 24/11/2022",2.0099999999999998,1.98,1.99,1.94,1.91,1.93,2.04,2,2.0099999999999998,1.806364949446317,null,-4.8780487804877017E-3,0.40689655172413802,{"$f":"(J798-MoyQuinqHebdoPorcs!H50)/MoyQuinqHebdoPorcs!H50","v":-1},"2022-11-18","2022-11-24"]
[null,"semaine 48","25/11/2022 au 01/12/2022",2.02,1.98,1.99,1.95,1.91,1.93,2.04,2,2.0099999999999998,1.8070000000000002,null,0,0.39726027397260277,{"$f":"(J799-MoyQuinqHebdoPorcs!H51)/MoyQuinqHebdoPorcs!H51","v":-1},"2022-11-25","2022-12-01"]
[null,"semaine 49","02/12/2022 au 08/12/2022",2.0099999999999998,1.98,1.99,1.94,1.91,1.93,2.04,2,2.0099999999999998,1.8069999999999999,null,0,0.39726027397260277,{"$f":"(J800-MoyQuinqHebdoPorcs!H52)/MoyQuinqHebdoPorcs!H52","v":-1},"2022-12-02","2022-12-08"]
[null,"semaine 50","09/12/2022 au 15/12/2022",2.02,1.98,1.99,1.95,1.91,1.93,2.04,2,2.0099999999999998,1.8069999999999999,null,0,0.38775510204081637,{"$f":"(J801-MoyQuinqHebdoPorcs!H53)/MoyQuinqHebdoPorcs!H53","v":-1},"2022-12-09","2022-12-15"]
[null,"semaine 51","16/12/2022 au 22/12/2022",2.02,1.98,1.99,1.95,1.91,1.93,2.04,2,2.0099999999999998,1.8079999999999998,null,0,0.38775510204081637,{"$f":"(J802-MoyQuinqHebdoPorcs!H54)/MoyQuinqHebdoPorcs!H54","v":-1},"2022-12-16","2022-12-22"]
["D","semaine 52","23/12/2022 au 29/12/2022",2.0099999999999998,1.98,1.99,1.95,1.92,1.94,2.0499999999999998,2,2.0099999999999998,1.8186823641484424,null,4.9019607843136213E-3,0.39455782312925158,{"$f":"(J803-MoyQuinqHebdoPorcs!H55)/MoyQuinqHebdoPorcs!H55","v":-1},"2022-12-23","2022-12-29"]
[2023,null,null,null,null,null,"Nantes E","Rennes E","National E","Nantes S","Rennes S","National S","PLERIN",null,"Evolution/semaine -1","Evolution/ semaine id 2022","Evolution/semaine id moy. 5 ans"]
[null,"semaine 01",{"$f":"TEXT(R433,\"jj/mm/aaaa\") & \" au \" & TEXT(S433,\"jj/mm/aaaa\")","v":"30/12/2022 au 05/01/2023"},null,null,null,1.95,1.92,1.95,2.04,2.0099999999999998,2.02,1.8703326055312954,null,{"$f":"(J433-J431)/J431","v":-4.8780487804877017E-3},{"$f":"(J380-J433)/J433","v":-0.27941176470588236},{"$f":"(J433-MoyQuinqHebdoPorcs!H4)/MoyQuinqHebdoPorcs!H4","v":0.24238733252131539},{"$f":"RIGHT(C431,10)+DAY(1)","v":"2022-12-30"},{"$f":"RIGHT(C431,10)+DAY(7)","v":"2023-01-05"}]
[null,"semaine 02","06/01/2023 au 12/01/2023",null,null,null,1.99,1.96,1.98,2.09,2.04,2.06,1.8974819052462073,null,{"$f":"(J434-J433)/J433","v":2.450980392156854E-2},-0.29665071770334922,{"$f":"(J434-MoyQuinqHebdoPorcs!H5)/MoyQuinqHebdoPorcs!H5","v":0.26820388349514579},{"$f":"RIGHT(C433,10)+DAY(1)","v":"2023-01-06"},{"$f":"RIGHT(C433,10)+DAY(7)","v":"2023-01-12"}]
[null,"semaine 03","13/01/2023 au 19/01/2023",null,null,null,2.02,1.99,2.0099999999999998,2.12,2.0699999999999998,2.09,1.9490973663771798,null,1.4354066985646053E-2,-0.3066037735849057,{"$f":"(J435-MoyQuinqHebdoPorcs!H6)/MoyQuinqHebdoPorcs!H6","v":0.28640776699029158},"2023-01-13","2023-01-19"]
["J","semaine 04","20/01/2023 au 26/01/2023",null,null,null,2.0699999999999998,2.0299999999999998,2.06,2.17,2.12,2.14,2.0082395543175489,null,2.3584905660377273E-2,-0.32258064516129031,{"$f":"(J436-MoyQuinqHebdoPorcs!H7)/MoyQuinqHebdoPorcs!H7","v":0.31834750911300108},"2023-01-20","2023-01-26"]
[null,"semaine 05","27/01/2023 au 02/02/2023",null,null,null,2.13,2.08,2.11,2.2200000000000002,2.17,2.19,2.06,null,2.3041474654378002E-2,-0.33783783783783788,{"$f":"(J437-MoyQuinqHebdoPorcs!H8)/MoyQuinqHebdoPorcs!H8","v":0.34872417982989068},"2023-01-27","2023-02-02"]
[null,"semaine 06","03/02/2023 au 09/02/2023",null,null,null,2.17,2.14,2.17,2.27,2.2200000000000002,2.2400000000000002,2.12,null,2.2522522522522442E-2,-0.3524229074889868,{"$f":"(J438-MoyQuinqHebdoPorcs!H9)/MoyQuinqHebdoPorcs!H9","v":0.3724304715840388},"2023-02-03","2023-02-09"]
[null,"semaine 07","10/02/2023 au 16/02/2023",null,null,null,2.23,2.1800000000000002,2.2200000000000002,2.33,2.27,2.2999999999999998,2.17,null,2.643171806167403E-2,-0.36051502145922748,{"$f":"(J439-MoyQuinqHebdoPorcs!H10)/MoyQuinqHebdoPorcs!H10","v":0.3918757467144563},"2023-02-10","2023-02-16"]
["F","semaine 08","17/02/2023 au 23/02/2023",null,null,null,2.27,2.23,2.27,2.37,2.31,2.34,2.2400000000000002,null,1.7167381974248941E-2,-0.37130801687763715,{"$f":"(J440-MoyQuinqHebdoPorcs!H11)/MoyQuinqHebdoPorcs!H11","v":0.40736342042755358},"2023-02-17","2023-02-23"]
[null,"semaine 09","24/02/2023 au 02/03/2023",null,null,null,2.33,2.27,2.31,2.42,2.36,2.39,2.2999999999999998,null,2.1097046413502032E-2,-0.37603305785123964,{"$f":"(J441-MoyQuinqHebdoPorcs!H12)/MoyQuinqHebdoPorcs!H12","v":0.4185228604923798},"2023-02-24","2023-03-02"]
[null,"semaine 10","03/03/2023 au 09/03/2023",null,null,null,2.39,2.33,2.38,2.48,2.41,2.44,2.36,null,2.4793388429752088E-2,-0.375,{"$f":"(J442-MoyQuinqHebdoPorcs!H13)/MoyQuinqHebdoPorcs!H13","v":0.42692750287686998},"2023-03-03","2023-03-09"]
[null,"semaine 11","10/03/2023 au 16/03/2023",null,null,null,2.44,2.39,2.4300000000000002,2.54,2.4700000000000002,2.5,2.37,null,2.4193548387096794E-2,-0.37401574803149606,{"$f":"(J443-MoyQuinqHebdoPorcs!H14)/MoyQuinqHebdoPorcs!H14","v":0.43665158371040724},"2023-03-10","2023-03-16"]
[null,"semaine 12","17/03/2023 au 23/03/2023",null,null,null,2.4700000000000002,2.42,2.46,2.56,2.5,2.5299999999999998,2.38,null,7.8740157480315029E-3,-0.328125,{"$f":"(J444-MoyQuinqHebdoPorcs!H15)/MoyQuinqHebdoPorcs!H15","v":0.4096916299559471},"2023-03-17","2023-03-23"]
["M","semaine 13","24/03/2023 au 30/03/2023",null,null,null,2.48,2.4300000000000002,2.46,2.57,2.5099999999999998,2.54,2.38,null,3.9062499999999167E-3,-0.29182879377431897,{"$f":"(J445-MoyQuinqHebdoPorcs!H16)/MoyQuinqHebdoPorcs!H16","v":0.38918918918918904},"2023-03-24","2023-03-30"]
[null,"semaine 14","31/03/2023 au 06/04/2023",null,null,null,2.48,2.4300000000000002,2.4700000000000002,2.57,2.5099999999999998,2.54,2.38,null,0,-0.26848249027237353,{"$f":"(J446-MoyQuinqHebdoPorcs!H17)/MoyQuinqHebdoPorcs!H17","v":0.37286324786324787},"2023-03-31","2023-04-06"]
[null,"semaine 15","07/04/2023 au 13/04/2023",null,null,null,2.4700000000000002,2.42,2.46,2.57,2.5099999999999998,2.5299999999999998,2.37,null,0,-0.25680933852140075,{"$f":"(J447-MoyQuinqHebdoPorcs!H18)/MoyQuinqHebdoPorcs!H18","v":0.3597883597883596},"2023-04-07","2023-04-13"]
[null,"semaine 16","14/04/2023 au 20/04/2023",null,null,null,2.4700000000000002,2.42,2.4500000000000002,2.56,2.5099999999999998,2.5299999999999998,2.31,null,-3.8910505836575048E-3,-0.25000000000000006,{"$f":"(J448-MoyQuinqHebdoPorcs!H19)/MoyQuinqHebdoPorcs!H19","v":0.34595162986330186},"2023-04-14","2023-04-20"]
["A","semaine 17","21/04/2023 au 27/04/2023",null,null,null,2.42,2.39,2.41,2.52,2.48,2.4900000000000002,2.25,null,-1.5625000000000014E-2,-0.23809523809523814,{"$f":"(J449-MoyQuinqHebdoPorcs!H20)/MoyQuinqHebdoPorcs!H20","v":0.32352941176470595},"2023-04-21","2023-04-27"]
[null,"semaine 18","28/04/2023 au 04/05/2023",null,null,null,2.37,2.35,2.36,2.4700000000000002,2.44,2.44,2.19,null,-1.9841269841269771E-2,-0.21862348178137661,{"$f":"(J450-MoyQuinqHebdoPorcs!H21)/MoyQuinqHebdoPorcs!H21","v":0.29590766002098651},"2023-04-28","2023-05-04"]
[null,"semaine 19","05/05/2023 au 11/05/2023",null,null,null,2.3199999999999998,2.2999999999999998,2.31,2.41,2.39,2.39,2.16,null,-2.4291497975708523E-2,-0.19917012448132787,{"$f":"(J451-MoyQuinqHebdoPorcs!H22)/MoyQuinqHebdoPorcs!H22","v":0.27648305084745778},"2023-05-05","2023-05-11"]
[null,"semaine 20","12/05/2023 au 18/05/2023",null,null,null,2.2999999999999998,2.27,2.29,2.39,2.36,2.37,2.15,null,-8.2987551867219986E-3,-0.19665271966527204,{"$f":"(J452-MoyQuinqHebdoPorcs!H23)/MoyQuinqHebdoPorcs!H23","v":0.27263045793397228},"2023-05-12","2023-05-18"]
["M","semaine 21","19/05/2023 au 25/05/2023",null,null,null,2.2400000000000002,2.2599999999999998,2.27,2.3199999999999998,2.34,2.34,2.15,null,-2.9288702928870411E-2,-0.16810344827586204,{"$f":"(J453-MoyQuinqHebdoPorcs!H24)/MoyQuinqHebdoPorcs!H24","v":0.25},"2023-05-19","2023-05-25"]
[null,"semaine 22","26/05/2023 au 01/06/2023",null,null,null,2.2799999999999998,2.2599999999999998,2.27,2.37,2.34,2.35,2.15,null,2.155172413793115E-2,-0.18565400843881863,{"$f":"(J454-MoyQuinqHebdoPorcs!H25)/MoyQuinqHebdoPorcs!H25","v":0.26737967914438487},"2023-05-26","2023-06-01"]
[null,"semaine 23","02/06/2023 au 08/06/2023",null,null,null,2.2799999999999998,2.2599999999999998,2.2799999999999998,2.38,2.35,2.36,2.1800000000000002,null,4.2194092827003314E-3,-0.18907563025210083,{"$f":"(J455-MoyQuinqHebdoPorcs!H26)/MoyQuinqHebdoPorcs!H26","v":0.27001067235859111},"2023-06-02","2023-06-08"]
[null,"semaine 24","09/06/2023 au 15/06/2023",null,null,null,2.31,2.2799999999999998,2.31,2.4,2.37,2.38,2.23,null,8.4033613445378234E-3,-0.19583333333333333,{"$f":"(J456-MoyQuinqHebdoPorcs!H27)/MoyQuinqHebdoPorcs!H27","v":0.27388535031847139},"2023-06-09","2023-06-15"]
[null,"semaine 25","16/06/2023 au 22/06/2023",null,null,null,2.35,2.3199999999999998,2.35,2.44,2.4,2.42,2.27,null,1.6666666666666684E-2,-0.20901639344262296,{"$f":"(J457-MoyQuinqHebdoPorcs!H28)/MoyQuinqHebdoPorcs!H28","v":0.28691983122362857},"2023-06-16","2023-06-22"]
["J","semaine 26","23/06/2023 au 29/06/2023",null,null,null,2.39,2.35,2.39,2.48,2.44,2.46,2.34,null,1.6393442622950834E-2,-0.20564516129032259,{"$f":"(J458-MoyQuinqHebdoPorcs!H29)/MoyQuinqHebdoPorcs!H29","v":0.30115424973767058},"2023-06-23","2023-06-29"]
[null,"semaine 27","30/06/2023 au 06/07/2023",null,null,null,2.4300000000000002,2.39,2.42,2.52,2.4700000000000002,2.5,2.35,null,1.612903225806453E-2,-0.1984126984126984,{"$f":"(J459-MoyQuinqHebdoPorcs!H30)/MoyQuinqHebdoPorcs!H30","v":0.32075471698113212},"2023-06-30","2023-07-06"]
[null,"semaine 28","07/07/2023 au 13/07/2023",null,null,null,2.46,2.4,2.4300000000000002,2.5499999999999998,2.4900000000000002,2.5099999999999998,2.35,null,1.1904761904761828E-2,-0.18823529411764706,{"$f":"(J460-MoyQuinqHebdoPorcs!H31)/MoyQuinqHebdoPorcs!H31","v":0.32812499999999967},"2023-07-07","2023-07-13"]
[null,"semaine 29","14/07/2023 au 20/07/2023",null,null,null,2.4500000000000002,2.4,2.44,2.5499999999999998,2.4900000000000002,2.5099999999999998,2.35,null,0,-0.1803921568627451,{"$f":"(J461-MoyQuinqHebdoPorcs!H32)/MoyQuinqHebdoPorcs!H32","v":0.33647798742138363},"2023-07-14","2023-07-20"]
["J","semaine 30","21/07/2023 au 27/07/2023",null,null,null,2.46,2.4,2.44,2.54,2.4900000000000002,2.5099999999999998,2.35,null,-3.9215686274508971E-3,-0.17322834645669288,{"$f":"(J462-MoyQuinqHebdoPorcs!H33)/MoyQuinqHebdoPorcs!H33","v":0.33263378803777538},"2023-07-21","2023-07-27"]
[null,"semaine 31","28/07/2023 au 03/08/2023",null,null,null,2.4500000000000002,2.4,2.4300000000000002,2.54,2.48,2.5,2.29,null,0,-0.16929133858267723,{"$f":"(J463-MoyQuinqHebdoPorcs!H34)/MoyQuinqHebdoPorcs!H34","v":0.33123689727463318},"2023-07-28","2023-08-03"]
[null,"semaine 32","04/08/2023 au 10/08/2023",null,null,null,2.41,2.36,2.39,2.5,2.44,2.46,2.2400000000000002,null,-1.5748031496063006E-2,-0.14399999999999996,{"$f":"(J464-MoyQuinqHebdoPorcs!H35)/MoyQuinqHebdoPorcs!H35","v":0.30890052356020931},"2023-08-04","2023-08-10"]
[null,"semaine 33",{"$f":"TEXT(R465,\"jj/mm/aaaa\") & \" au \" & TEXT(S465,\"jj/mm/aaaa\")","v":"11/08/2023 au 17/08/2023"},null,null,null,2.35,2.2999999999999998,2.33,2.44,2.38,2.4,2.1800000000000002,null,-2.4000000000000021E-2,{"$f":"(J412-J465)/J465","v":-0.10655737704918024},{"$f":"(J465-MoyQuinqHebdoPorcs!H36)/MoyQuinqHebdoPorcs!H36","v":0.27882599580712791},"2023-08-11","2023-08-17"]
[null,"semaine 34","18/08/2023 au 24/08/2023",null,null,null,2.2999999999999998,2.2599999999999998,2.2799999999999998,2.39,2.34,2.35,2.12,null,{"$f":"(J466-J465)/J465","v":-2.0491803278688454E-2},-7.1129707112970675E-2,{"$f":"(J466-MoyQuinqHebdoPorcs!H37)/MoyQuinqHebdoPorcs!H37","v":0.25262054507337522},{"$f":"RIGHT(C465,10)+DAY(1)","v":"2023-08-18"},{"$f":"RIGHT(C465,10)+DAY(7)","v":"2023-08-24"}]
["A","semaine 35","25/08/2023 au 31/08/2023",null,null,null,2.2400000000000002,2.19,2.2200000000000002,2.33,2.27,2.29,2.06,null,-2.5104602510460271E-2,-3.8626609442060027E-2,{"$f":"(J467-MoyQuinqHebdoPorcs!H38)/MoyQuinqHebdoPorcs!H38","v":0.21989528795811514},"2023-08-25","2023-08-31"]
[null,"semaine 36","01/09/2023 au 07/09/2023",null,null,null,2.1800000000000002,2.15,2.17,2.27,2.23,2.25,2.0499999999999998,null,-2.5751072961373411E-2,-8.8105726872246774E-3,{"$f":"(J468-MoyQuinqHebdoPorcs!H39)/MoyQuinqHebdoPorcs!H39","v":0.18972746331236889},"2023-09-01","2023-09-07"]
[null,"semaine 37","08/09/2023 au 14/09/2023",null,null,null,2.16,2.12,2.15,2.2400000000000002,2.21,2.2200000000000002,2.0499999999999998,null,-1.3215859030836918E-2,4.4642857142856186E-3,{"$f":"(J469-MoyQuinqHebdoPorcs!H40)/MoyQuinqHebdoPorcs!H40","v":0.17032392894461862},"2023-09-08","2023-09-14"]
[null,"semaine 38","15/09/2023 au 21/09/2023",null,null,null,2.16,2.14,2.16,2.25,2.23,2.23,2.0299999999999998,null,4.4642857142856186E-3,4.4444444444443499E-3,{"$f":"(J470-MoyQuinqHebdoPorcs!H41)/MoyQuinqHebdoPorcs!H41","v":0.17065556711758589},"2023-09-15","2023-09-21"]
["S","semaine 39","22/09/2023 au 28/09/2023",null,null,null,2.14,2.09,2.12,2.2200000000000002,2.17,2.19,2,null,-1.3333333333333246E-2,1.8018018018017834E-2,{"$f":"(J471-MoyQuinqHebdoPorcs!H42)/MoyQuinqHebdoPorcs!H42","v":0.16352201257861637},"2023-09-22","2023-09-28"]
[null,"semaine 40","29/09/2023 au 05/10/2023",null,null,null,2.12,2.0699999999999998,2.1,2.21,2.15,2.17,2,null,-4.5045045045046085E-3,2.7149321266968351E-2,{"$f":"(J472-MoyQuinqHebdoPorcs!H43)/MoyQuinqHebdoPorcs!H43","v":0.16071428571428575},"2023-09-29","2023-10-05"]
[null,"semaine 41","06/10/2023 au 12/10/2023",null,null,null,2.11,2.0499999999999998,2.08,2.2000000000000002,2.13,2.15,1.95,null,-4.5248868778279576E-3,3.1818181818181746E-2,{"$f":"(J473-MoyQuinqHebdoPorcs!H44)/MoyQuinqHebdoPorcs!H44","v":0.16279069767441862},"2023-10-06","2023-10-12"]
[null,"semaine 42","13/10/2023 au 19/10/2023",null,null,null,2.06,2.0099999999999998,2.04,2.15,2.09,2.11,1.9,null,-2.2727272727272846E-2,5.1162790697674362E-2,{"$f":"(J474-MoyQuinqHebdoPorcs!H45)/MoyQuinqHebdoPorcs!H45","v":0.14361702127659562},"2023-10-13","2023-10-19"]
["O","semaine 43","20/10/2023 au 26/10/2023",null,null,null,2.02,1.96,1.99,2.1,2.04,2.06,1.85,null,-2.3255813953488292E-2,5.238095238095232E-2,{"$f":"(J475-MoyQuinqHebdoPorcs!H46)/MoyQuinqHebdoPorcs!H46","v":0.13146551724137917},"2023-10-20","2023-10-26"]
[null,"semaine 44","27/10/2023 au 02/11/2023",null,null,null,1.97,1.93,1.95,2.06,2.0099999999999998,2.02,1.81,null,-1.9047619047619063E-2,4.854368932038839E-2,{"$f":"(J476-MoyQuinqHebdoPorcs!H47)/MoyQuinqHebdoPorcs!H47","v":0.12200435729847506},"2023-10-27","2023-11-02"]
[null,"semaine 45","03/11/2023 au 09/11/2023",null,null,null,1.94,1.9,1.92,2.02,1.98,1.99,1.78,null,-1.9417475728155355E-2,4.4554455445544483E-2,{"$f":"(J477-MoyQuinqHebdoPorcs!H48)/MoyQuinqHebdoPorcs!H48","v":0.11356119073869926},"2023-11-03","2023-11-09"]
[null,"semaine 46","10/11/2023 au 16/11/2023",null,null,null,1.91,1.88,1.9,2,1.96,1.97,1.77,null,-9.9009900990099098E-3,2.4999999999999911E-2,{"$f":"(J478-MoyQuinqHebdoPorcs!H49)/MoyQuinqHebdoPorcs!H49","v":0.11358574610244987},"2023-11-10","2023-11-16"]
[null,"semaine 47","17/11/2023 au 23/11/2023",null,null,null,1.9,1.87,1.89,1.99,1.95,1.96,1.76,null,-5.0000000000000044E-3,2.512562814070354E-2,{"$f":"(J479-MoyQuinqHebdoPorcs!H50)/MoyQuinqHebdoPorcs!H50","v":0.11547085201793719},"2023-11-17","2023-11-23"]
["N","semaine 48","24/11/2023 au 30/11/2023",null,null,null,1.9,1.87,1.89,1.99,1.95,1.96,1.76,null,0,2.512562814070354E-2,{"$f":"(J480-MoyQuinqHebdoPorcs!H51)/MoyQuinqHebdoPorcs!H51","v":0.11797752808988762},"2023-11-24","2023-11-30"]
[null,"semaine 49","01/12/2023 au 07/12/2023",null,null,null,1.91,1.87,1.9,2,1.95,1.96,1.78,null,5.0251256281407079E-3,2.0000000000000018E-2,{"$f":"(J481-MoyQuinqHebdoPorcs!H52)/MoyQuinqHebdoPorcs!H52","v":0.124859392575928},"2023-12-01","2023-12-07"]
[null,"semaine 50","08/12/2023 au 14/12/2023",null,null,null,1.91,1.88,1.9,2,1.96,1.97,1.78,null,0,2.0000000000000018E-2,{"$f":"(J482-MoyQuinqHebdoPorcs!H53)/MoyQuinqHebdoPorcs!H53","v":0.16279069767441862},"2023-12-08","2023-12-14"]
[null,"semaine 51","15/12/2023 au 21/12/2023",null,null,null,1.92,1.88,1.9,2.0099999999999998,1.96,1.97,1.78,null,4.9999999999998934E-3,1.4925373134328483E-2,{"$f":"(J483-MoyQuinqHebdoPorcs!H54)/MoyQuinqHebdoPorcs!H54","v":0.17030567685589507},"2023-12-15","2023-12-21"]
["D","semaine 52","22/12/2023 au 28/12/2023",null,null,null,1.93,1.87,1.9,2.0099999999999998,1.96,1.98,1.78,null,0,1.9900497512437831E-2,{"$f":"(J484-MoyQuinqHebdoPorcs!H55)/MoyQuinqHebdoPorcs!H55","v":0.17201166180758015},"2023-12-22","2023-12-28"]
[2024,null,null,null,null,null,"Nantes E","Rennes E","National E","Nantes S","Rennes S","National S","PLERIN",null,"Evolution/semaine -1","Evolution/ semaine id 2022","Evolution/semaine id moy. 5 ans"]
[null,"semaine 01",{"$f":"TEXT(R486,\"jj/mm/aaaa\") & \" au \" & TEXT(S486,\"jj/mm/aaaa\")","v":"29/12/2023 au 04/01/2024"},null,null,null,1.95,1.88,1.91,2.02,1.97,1.98,1.78,null,{"$f":"(J486-J484)/J484","v":4.975124378109568E-3},{"$f":"(J433-J486)/J486","v":9.9009900990099098E-3},{"$f":"(J486-MoyQuinqHebdoPorcs!H57)/MoyQuinqHebdoPorcs!H57","v":{"$error":"#DIV/0!"}},{"$f":"RIGHT(C484,10)+DAY(1)","v":"2023-12-29"},{"$f":"RIGHT(C484,10)+DAY(7)","v":"2024-01-04"}]
[null,"semaine 02","05/01/2024 au 11/01/2024",null,null,null,1.95,1.88,1.91,2.02,1.96,1.98,1.78,null,{"$f":"(J487-J486)/J486","v":0},3.4653465346534573E-2,{"$f":"(J487-MoyQuinqHebdoPorcs!H58)/MoyQuinqHebdoPorcs!H58","v":{"$error":"#DIV/0!"}},{"$f":"RIGHT(C486,10)+DAY(1)","v":"2024-01-05"},{"$f":"RIGHT(C486,10)+DAY(7)","v":"2024-01-11"}]
[null,"semaine 03","12/01/2024 au 18/01/2024",null,null,null,1.94,1.88,1.91,2.0299999999999998,1.96,1.98,1.78,null,4.9504950495048447E-3,4.4334975369458282E-2,{"$f":"(J488-MoyQuinqHebdoPorcs!H59)/MoyQuinqHebdoPorcs!H59","v":{"$error":"#DIV/0!"}},"2024-01-12","2024-01-18"]
["J","semaine 04","19/01/2024 au 25/01/2024",null,null,null,1.94,1.88,1.91,2.02,1.97,1.98,1.78,null,-4.9261083743841316E-3,7.4257425742574212E-2,{"$f":"(J489-MoyQuinqHebdoPorcs!H60)/MoyQuinqHebdoPorcs!H60","v":{"$error":"#DIV/0!"}},"2024-01-19","2024-01-25"]
[null,"semaine 05","26/01/2024 au 01/02/2024",null,null,null,1.96,1.91,1.93,2.0499999999999998,2.0099999999999998,2.0099999999999998,1.78,null,1.4851485148514755E-2,8.2926829268292868E-2,{"$f":"(J490-MoyQuinqHebdoPorcs!H61)/MoyQuinqHebdoPorcs!H61","v":{"$error":"#DIV/0!"}},"2024-01-26","2024-02-01"]
[null,"semaine 06","02/02/2024 au 08/02/2024",null,null,null,1.96,1.92,1.93,2.0099999999999998,2.0099999999999998,2.0099999999999998,1.79,null,-1.9512195121951237E-2,0.1293532338308459,{"$f":"(J491-MoyQuinqHebdoPorcs!H62)/MoyQuinqHebdoPorcs!H62","v":{"$error":"#DIV/0!"}},"2024-02-02","2024-02-08"]
[null,"semaine 07","09/02/2024 au 15/02/2024",null,null,null,1.98,1.93,1.95,2.06,2.0299999999999998,2.0299999999999998,1.84,null,2.48756218905474E-2,0.13106796116504854,{"$f":"(J492-MoyQuinqHebdoPorcs!H63)/MoyQuinqHebdoPorcs!H63","v":{"$error":"#DIV/0!"}},"2024-02-09","2024-02-15"]
["F","semaine 08","16/02/2024 au 22/02/2024",null,null,null,2.0299999999999998,1.98,1.99,2.11,2.0699999999999998,2.08,1.9,null,2.4271844660194088E-2,0.123222748815166,{"$f":"(J493-MoyQuinqHebdoPorcs!H64)/MoyQuinqHebdoPorcs!H64","v":{"$error":"#DIV/0!"}},"2024-02-16","2024-02-22"]
[null,"semaine 09","23/02/2024 au 29/02/2024",null,null,null,2.08,2.0299999999999998,2.0499999999999998,2.16,2.12,2.13,1.95,null,2.3696682464455103E-2,0.12037037037037027,{"$f":"(J494-MoyQuinqHebdoPorcs!H65)/MoyQuinqHebdoPorcs!H65","v":{"$error":"#DIV/0!"}},"2024-02-23","2024-02-29"]
[null,"semaine 10","01/03/2024 au 07/03/2024",null,null,null,2.12,2.0699999999999998,2.09,2.2000000000000002,2.16,2.2200000000000002,2,null,1.8518518518518535E-2,0.12727272727272718,{"$f":"(J495-MoyQuinqHebdoPorcs!H66)/MoyQuinqHebdoPorcs!H66","v":{"$error":"#DIV/0!"}},"2024-03-01","2024-03-07"]
[null,"semaine 11","08/03/2024 au 14/03/2024",null,null,null,2.16,2.11,2.13,2.25,2.21,2.2200000000000002,2.02,null,2.2727272727272645E-2,0.12888888888888891,{"$f":"(J496-MoyQuinqHebdoPorcs!H67)/MoyQuinqHebdoPorcs!H67","v":{"$error":"#DIV/0!"}},"2024-03-08","2024-03-14"]
[null,"semaine 12","15/03/2024 au 21/03/2024",null,null,null,2.19,2.14,2.16,2.27,2.2400000000000002,2.2400000000000002,2.0299999999999998,null,8.8888888888888976E-3,0.12775330396475773,{"$f":"(J497-MoyQuinqHebdoPorcs!H68)/MoyQuinqHebdoPorcs!H68","v":{"$error":"#DIV/0!"}},"2024-03-15","2024-03-21"]
["M","semaine 13",{"$f":"TEXT(R498,\"jj/mm/aaaa\") & \" au \" & TEXT(S498,\"jj/mm/aaaa\")","v":"25/03/2024 au 29/03/2024"},null,null,null,2.2200000000000002,2.16,2.1800000000000002,2.2799999999999998,2.25,2.2599999999999998,2.0299999999999998,null,{"$f":"(J498-J497)/J497","v":4.4052863436122407E-3},0.12719298245614039,{"$f":"(J498-MoyQuinqHebdoPorcs!H69)/MoyQuinqHebdoPorcs!H69","v":{"$error":"#DIV/0!"}},{"$f":"RIGHT(C497,10)+DAY(4)","v":"2024-03-25"},{"$f":"RIGHT(C497,10)+DAY(8)","v":"2024-03-29"},"Changement période (passage du lundi au vendredi)."]
[null,"semaine 14","01/04/2024 au 05/04/2024",null,null,null,2.2200000000000002,2.17,2.19,2.2799999999999998,2.25,2.2599999999999998,2.0299999999999998,null,0,0.12719298245614039,{"$f":"(J499-MoyQuinqHebdoPorcs!H70)/MoyQuinqHebdoPorcs!H70","v":{"$error":"#DIV/0!"}},{"$f":"RIGHT(C498,10)+DAY(3)","v":"2024-04-01"},"2024-04-05"]
[null,"semaine 15","08/04/2024 au 12/04/2024",null,null,null,2.2000000000000002,2.16,2.1800000000000002,2.2799999999999998,2.2400000000000002,2.25,2.0299999999999998,null,0,0.12719298245614039,{"$f":"(J500-MoyQuinqHebdoPorcs!H71)/MoyQuinqHebdoPorcs!H71","v":{"$error":"#DIV/0!"}},{"$f":"RIGHT(C499,10)+DAY(3)","v":"2024-04-08"},"2024-04-12"]
[null,"semaine 16","15/04/2024 au 19/04/2024",null,null,null,2.2000000000000002,2.16,2.1800000000000002,2.2799999999999998,2.2400000000000002,2.25,2.0299999999999998,null,0,0.12280701754385977,{"$f":"(J501-MoyQuinqHebdoPorcs!H72)/MoyQuinqHebdoPorcs!H72","v":{"$error":"#DIV/0!"}},{"$f":"RIGHT(C500,10)+DAY(3)","v":"2024-04-15"},"2024-04-19"]
["A","semaine 17","22/04/2024 au 26/04/2024",null,null,null,2.2000000000000002,2.15,2.1800000000000002,2.2799999999999998,2.2400000000000002,2.25,2.0299999999999998,null,0,0.10526315789473695,{"$f":"(J502-MoyQuinqHebdoPorcs!H73)/MoyQuinqHebdoPorcs!H73","v":{"$error":"#DIV/0!"}},"2024-04-22","2024-04-26"]
[null,"semaine 18","29/04/2024 au 03/05/2024",null,null,null,2.21,2.16,2.1800000000000002,2.2799999999999998,2.2400000000000002,2.25,2.02,null,0,8.3333333333333509E-2,{"$f":"(J503-MoyQuinqHebdoPorcs!H74)/MoyQuinqHebdoPorcs!H74","v":{"$error":"#DIV/0!"}},"2024-04-29","2024-05-03"]
[null,"semaine 19","06/05/2024 au 10/05/2024",null,null,null,2.2000000000000002,2.14,2.17,2.27,2.23,2.2400000000000002,2.0099999999999998,null,-4.3859649122806087E-3,6.1674008810572743E-2,{"$f":"(J504-MoyQuinqHebdoPorcs!H75)/MoyQuinqHebdoPorcs!H75","v":{"$error":"#DIV/0!"}},"2024-05-06","2024-05-10"]
[null,"semaine 20","13/05/2024 au 17/05/2024",null,null,null,2.19,2.13,2.16,2.2599999999999998,2.2200000000000002,2.23,2,null,-4.4052863436124367E-3,5.7522123893805462E-2,{"$f":"(J505-MoyQuinqHebdoPorcs!H76)/MoyQuinqHebdoPorcs!H76","v":{"$error":"#DIV/0!"}},"2024-05-13","2024-05-17"]
["M","semaine 21","20/05/2024 au 24/05/2024",null,null,null,2.17,2.13,2.15,2.2599999999999998,2.2200000000000002,2.23,2,null,0,2.6548672566371709E-2,{"$f":"(J506-MoyQuinqHebdoPorcs!H77)/MoyQuinqHebdoPorcs!H77","v":{"$error":"#DIV/0!"}},"2024-05-20","2024-05-24"]
[null,"semaine 22","27/05/2024 au 31/05/2024",null,null,null,null,null,null,null,null,null,null,null,-1,{"$error":"#DIV/0!"},{"$f":"(J507-MoyQuinqHebdoPorcs!H78)/MoyQuinqHebdoPorcs!H78","v":{"$error":"#DIV/0!"}},"2024-05-27","2024-05-31"]
[null,"semaine 23","03/06/2024 au 07/06/2024",null,null,null,null,null,null,null,null,null,null,null,{"$error":"#DIV/0!"},{"$error":"#DIV/0!"},{"$f":"(J508-MoyQuinqHebdoPorcs!H79)/MoyQuinqHebdoPorcs!H79","v":{"$error":"#DIV/0!"}},"2024-06-03","2024-06-07"]
[null,"semaine 24","10/06/2024 au 14/06/2024",null,null,null,null,null,null,null,null,null,null,null,{"$error":"#DIV/0!"},{"$error":"#DIV/0!"},{"$f":"(J509-MoyQuinqHebdoPorcs!H80)/MoyQuinqHebdoPorcs!H80","v":{"$error":"#DIV/0!"}},"2024-06-10","2024-06-14"]
[null,"semaine 25","17/06/2024 au 21/06/2024",null,null,null,null,null,null,null,null,null,null,null,{"$error":"#DIV/0!"},{"$error":"#DIV/0!"},{"$f":"(J510-MoyQuinqHebdoPorcs!H81)/MoyQuinqHebdoPorcs!H81","v":{"$error":"#DIV/0!"}},"2024-06-17","2024-06-21"]
["J","semaine 26","24/06/2024 au 28/06/2024",null,null,null,null,null,null,null,null,null,null,null,{"$error":"#DIV/0!"},{"$error":"#DIV/0!"},{"$f":"(J511-MoyQuinqHebdoPorcs!H82)/MoyQuinqHebdoPorcs!H82","v":{"$error":"#DIV/0!"}},"2024-06-24","2024-06-28"]
[null,"semaine 27","01/07/2024 au 05/07/2024",null,null,null,null,null,null,null,null,null,null,null,{"$error":"#DIV/0!"},{"$error":"#DIV/0!"},{"$f":"(J512-MoyQuinqHebdoPorcs!H83)/MoyQuinqHebdoPorcs!H83","v":{"$error":"#DIV/0!"}},"2024-07-01","2024-07-05"]
[null,"semaine 28","08/07/2024 au 12/07/2024",null,null,null,null,null,null,null,null,null,null,null,{"$error":"#DIV/0!"},{"$error":"#DIV/0!"},{"$f":"(J513-MoyQuinqHebdoPorcs!H84)/MoyQuinqHebdoPorcs!H84","v":{"$error":"#DIV/0!"}},"2024-07-08","2024-07-12"]
[null,"semaine 29","15/07/2024 au 19/07/2024",null,null,null,null,null,null,null,null,null,null,null,{"$error":"#DIV/0!"},{"$error":"#DIV/0!"},{"$f":"(J514-MoyQuinqHebdoPorcs!H85)/MoyQuinqHebdoPorcs!H85","v":{"$error":"#DIV/0!"}},"2024-07-15","2024-07-19"]
["J","semaine 30","22/07/2024 au 26/07/2024",null,null,null,null,null,null,null,null,null,null,null,{"$error":"#DIV/0!"},{"$error":"#DIV/0!"},{"$f":"(J515-MoyQuinqHebdoPorcs!H86)/MoyQuinqHebdoPorcs!H86","v":{"$error":"#DIV/0!"}},"2024-07-22","2024-07-26"]
[null,"semaine 31","29/07/2024 au 02/08/2024",null,null,null,null,null,null,null,null,null,null,null,{"$error":"#DIV/0!"},{"$error":"#DIV/0!"},{"$f":"(J516-MoyQuinqHebdoPorcs!H87)/MoyQuinqHebdoPorcs!H87","v":{"$error":"#DIV/0!"}},"2024-07-29","2024-08-02"]
[null,"semaine 32","05/08/2024 au 09/08/2024",null,null,null,null,null,null,null,null,null,null,null,{"$error":"#DIV/0!"},{"$error":"#DIV/0!"},{"$f":"(J517-MoyQuinqHebdoPorcs!H88)/MoyQuinqHebdoPorcs!H88","v":{"$error":"#DIV/0!"}},"2024-08-05","2024-08-09"]
[null,"semaine 33",{"$f":"TEXT(R518,\"jj/mm/aaaa\") & \" au \" & TEXT(S518,\"jj/mm/aaaa\")","v":"12/08/2024 au 16/08/2024"},null,null,null,null,null,null,null,null,null,null,null,{"$error":"#DIV/0!"},{"$f":"(J465-J518)/J518","v":{"$error":"#DIV/0!"}},{"$f":"(J518-MoyQuinqHebdoPorcs!H89)/MoyQuinqHebdoPorcs!H89","v":{"$error":"#DIV/0!"}},"2024-08-12","2024-08-16"]
["A","semaine 34","19/08/2024 au 23/08/2024",null,null,null,null,null,null,null,null,null,null,null,{"$f":"(J519-J518)/J518","v":{"$error":"#DIV/0!"}},{"$error":"#DIV/0!"},{"$f":"(J519-MoyQuinqHebdoPorcs!H90)/MoyQuinqHebdoPorcs!H90","v":{"$error":"#DIV/0!"}},"2024-08-19",{"$f":"RIGHT(C518,10)+DAY(7)","v":"2024-08-23"}]
[null,"semaine 35","26/08/2024 au 30/08/2024",null,null,null,null,null,null,null,null,null,null,null,{"$error":"#DIV/0!"},{"$error":"#DIV/0!"},{"$f":"(J520-MoyQuinqHebdoPorcs!H91)/MoyQuinqHebdoPorcs!H91","v":{"$error":"#DIV/0!"}},"2024-08-26","2024-08-30"]
[null,"semaine 36","02/09/2024 au 06/09/2024",null,null,null,null,null,null,null,null,null,null,null,{"$error":"#DIV/0!"},{"$error":"#DIV/0!"},{"$f":"(J521-MoyQuinqHebdoPorcs!H92)/MoyQuinqHebdoPorcs!H92","v":{"$error":"#DIV/0!"}},"2024-09-02","2024-09-06"]
[null,"semaine 37","09/09/2024 au 13/09/2024",null,null,null,null,null,null,null,null,null,null,null,{"$error":"#DIV/0!"},{"$error":"#DIV/0!"},{"$f":"(J522-MoyQuinqHebdoPorcs!H93)/MoyQuinqHebdoPorcs!H93","v":{"$error":"#DIV/0!"}},"2024-09-09","2024-09-13"]
[null,"semaine 38","16/09/2024 au 20/09/2024",null,null,null,null,null,null,null,null,null,null,null,{"$error":"#DIV/0!"},{"$error":"#DIV/0!"},{"$f":"(J523-MoyQuinqHebdoPorcs!H94)/MoyQuinqHebdoPorcs!H94","v":{"$error":"#DIV/0!"}},"2024-09-16","2024-09-20"]
["S","semaine 39","23/09/2024 au 27/09/2024",null,null,null,null,null,null,null,null,null,null,null,{"$error":"#DIV/0!"},{"$error":"#DIV/0!"},{"$f":"(J524-MoyQuinqHebdoPorcs!H95)/MoyQuinqHebdoPorcs!H95","v":{"$error":"#DIV/0!"}},"2024-09-23","2024-09-27"]
[null,"semaine 40","30/09/2024 au 04/10/2024",null,null,null,null,null,null,null,null,null,null,null,{"$error":"#DIV/0!"},{"$error":"#DIV/0!"},{"$f":"(J525-MoyQuinqHebdoPorcs!H96)/MoyQuinqHebdoPorcs!H96","v":{"$error":"#DIV/0!"}},"2024-09-30","2024-10-04"]
[null,"semaine 41","07/10/2024 au 11/10/2024",null,null,null,null,null,null,null,null,null,null,null,{"$error":"#DIV/0!"},{"$error":"#DIV/0!"},{"$f":"(J526-MoyQuinqHebdoPorcs!H97)/MoyQuinqHebdoPorcs!H97","v":{"$error":"#DIV/0!"}},"2024-10-07","2024-10-11"]
[null,"semaine 42","14/10/2024 au 18/10/2024",null,null,null,null,null,null,null,null,null,null,null,{"$error":"#DIV/0!"},{"$error":"#DIV/0!"},{"$f":"(J527-MoyQuinqHebdoPorcs!H98)/MoyQuinqHebdoPorcs!H98","v":{"$error":"#DIV/0!"}},"2024-10-14","2024-10-18"]
["O","semaine 43","21/10/2024 au 25/10/2024",null,null,null,null,null,null,null,null,null,null,null,{"$error":"#DIV/0!"},{"$error":"#DIV/0!"},{"$f":"(J528-MoyQuinqHebdoPorcs!H99)/MoyQuinqHebdoPorcs!H99","v":{"$error":"#DIV/0!"}},"2024-10-21","2024-10-25"]
[null,"semaine 44","28/10/2024 au 01/11/2024",null,null,null,null,null,null,null,null,null,null,null,{"$error":"#DIV/0!"},{"$error":"#DIV/0!"},{"$f":"(J529-MoyQuinqHebdoPorcs!H100)/MoyQuinqHebdoPorcs!H100","v":{"$error":"#DIV/0!"}},"2024-10-28","2024-11-01"]
[null,"semaine 45","04/11/2024 au 08/11/2024",null,null,null,null,null,null,null,null,null,null,null,{"$error":"#DIV/0!"},{"$error":"#DIV/0!"},{"$f":"(J530-MoyQuinqHebdoPorcs!H101)/MoyQuinqHebdoPorcs!H101","v":{"$error":"#DIV/0!"}},"2024-11-04","2024-11-08"]
[null,"semaine 46","11/11/2024 au 15/11/2024",null,null,null,null,null,null,null,null,null,null,null,{"$error":"#DIV/0!"},{"$error":"#DIV/0!"},{"$f":"(J531-MoyQuinqHebdoPorcs!H102)/MoyQuinqHebdoPorcs!H102","v":{"$error":"#DIV/0!"}},"2024-11-11","2024-11-15"]
["N","semaine 47","18/11/2024 au 22/11/2024",null,null,null,null,null,null,null,null,null,null,null,{"$error":"#DIV/0!"},{"$error":"#DIV/0!"},{"$f":"(J532-MoyQuinqHebdoPorcs!H103)/MoyQuinqHebdoPorcs!H103","v":{"$error":"#DIV/0!"}},"2024-11-18","2024-11-22"]
[null,"semaine 48","25/11/2024 au 29/11/2024",null,null,null,null,null,null,null,null,null,null,null,{"$error":"#DIV/0!"},{"$error":"#DIV/0!"},{"$f":"(J533-MoyQuinqHebdoPorcs!H104)/MoyQuinqHebdoPorcs!H104","v":{"$error":"#DIV/0!"}},"2024-11-25","2024-11-29"]
[null,"semaine 49","02/12/2024 au 06/12/2024",null,null,null,null,null,null,null,null,null,null,null,{"$error":"#DIV/0!"},{"$error":"#DIV/0!"},{"$f":"(J534-MoyQuinqHebdoPorcs!H105)/MoyQuinqHebdoPorcs!H105","v":{"$error":"#DIV/0!"}},"2024-12-02","2024-12-06"]
[null,"semaine 50","09/12/2024 au 13/12/2024",null,null,null,null,null,null,null,null,null,null,null,{"$error":"#DIV/0!"},{"$error":"#DIV/0!"},{"$f":"(J535-MoyQuinqHebdoPorcs!H106)/MoyQuinqHebdoPorcs!H106","v":{"$error":"#DIV/0!"}},"2024-12-09","2024-12-13"]
[null,"semaine 51","16/12/2024 au 20/12/2024",null,null,null,null,null,null,null,null,null,null,null,{"$error":"#DIV/0!"},{"$error":"#DIV/0!"},{"$f":"(J536-MoyQuinqHebdoPorcs!H107)/MoyQuinqHebdoPorcs!H107","v":{"$error":"#DIV/0!"}},"2024-12-16","2024-12-20"]
["D","semaine 52","23/12/2024 au 27/12/2024",null,null,null,null,null,null,null,null,null,null,null,{"$error":"#DIV/0!"},{"$error":"#DIV/0!"},{"$f":"(J537-MoyQuinqHebdoPorcs!H108)/MoyQuinqHebdoPorcs!H108","v":{"$error":"#DIV/0!"}},"2024-12-23","2024-12-27"]

{"sheet":"GraphPorcs","index":28,"n_rows":34,"n_cols":19,"rows_kept":34,"cut":false,"hidden":false,"merged":[[14,18,15,18],[14,8,15,8],[14,7,15,7],[14,0,15,0],[14,10,15,10],[14,17,15,17]]}
[]
[]
[]
[]
[]
[]
[]
[]
[]
[]
[]
[]
["Prix du porc entrée abattoir des carcasses de porcs charcutiers  (€ HT/kg)",null,null,null,null,null,null,null,null,null,"Nouvel indicateur IFIP - Institut du porc"]
["Classe S (TMP>=60%) - Nantes",null,null,null,null,null,null,{"$f":"'Porcs2015-2024'!B4","v":"Mis à jour :04/06/2024"},null,null,"Elevage Naisseur-engraisseur",null,null,null,null,null,null,"2024-05-14"]
["Mois",2019,2020,2021,2022,2023,2024,"N/N-1","Moyenne quinquennale",null,"en €/truie/an",2019,2020,2021,2022,2023,2024,"N/N-1","Moyenne quinquennale"]
[null,"N-5","N-4","N-3","N-2","N-1","N",null,null,null,null,"N-5","N-4","N-3","N-2","N-1","N"]
["J",1.4019999999999999,1.802,1.4275,1.47,2.105,{"$f":"IF(('Porcs2015-2024'!J489)>0,AVERAGE('Porcs2015-2024'!J486:J489),NA())","v":2.0225},{"$f":"IF(G17=\"\",\"\",(G17-F17)/F17)","v":-3.9192399049881241E-2},{"$f":"SUMIF(B17:F17,\"<>#N/A\",B17:F17)/COUNTIF(B17:F17,\"<>#N/A\")","v":1.6413},null,"J",908,1737,867,825,1410,1625,{"$f":"IF(Q17=\"\",\"\",(Q17-P17)/P17)","v":0.1524822695035461},{"$f":"AVERAGE(L17:P17)","v":1149.4000000000001}]
["F",1.4075,1.7050000000000001,1.4375,1.48,2.2975000000000003,{"$f":"IF(('Porcs2015-2024'!J493)>0,AVERAGE('Porcs2015-2024'!J490:J493),NA())","v":2.0574999999999997},{"$f":"IF(G18=\"\",\"\",(G18-F18)/F18)","v":-0.10446137105549537},{"$f":"SUMIF(B18:F18,\"<>#N/A\",B18:F18)/COUNTIF(B18:F18,\"<>#N/A\")","v":1.6655000000000002},null,"F",896,1553,854,806,1901,1752,{"$f":"IF(Q18=\"\",\"\",(Q18-P18)/P18)","v":-7.8379800105207786E-2},{"$f":"AVERAGE(L18:P18)","v":1202}]
["M",1.44,1.7725,1.532,1.6379999999999999,2.5140000000000002,{"$f":"IF(('Porcs2015-2024'!J498)>0,AVERAGE('Porcs2015-2024'!J494:J498),NA())","v":2.2320000000000002},{"$f":"IF(G19=\"\",\"\",(G19-F19)/F19)","v":-0.11217183770883055},1.7792999999999999,null,"M",976,1730,1038,1171,2465,2185,-0.11359026369168357,1476]
["A",1.6,1.75,1.6425000000000001,1.9075,2.5549999999999997,{"$f":"IF(('Porcs2015-2024'!J502)>0,AVERAGE('Porcs2015-2024'!J499:J502),NA())","v":2.2799999999999998},-0.10763209393346378,1.8909999999999996,null,"A",1335,1638,1289,1690,2524,2286,-9.4294770206022185E-2,1695.2]
["M",1.67,1.62,1.7649999999999999,1.9274999999999998,2.3975000000000004,{"$f":"IF(('Porcs2015-2024'!J506)>0,AVERAGE('Porcs2015-2024'!J503:J506),NA())","v":2.2675000000000001},-5.4223149113660191E-2,1.8760000000000001,null,"M",1460,1332,1555,1635,2140,null,"",1624.4]
["J",1.7324999999999999,1.58,1.772,1.9379999999999999,2.4140000000000001,{"$f":"IF(('Porcs2015-2024'!J511)>0,AVERAGE('Porcs2015-2024'!J507:J511),NA())","v":{"$error":"#N/A"}},{"$error":"#N/A"},1.8873000000000002,null,"J",1606,1255,1531,1546,2223,null,"",1632.2]
["J",1.76,1.55,1.6325000000000001,2.0699999999999998,2.54,{"$f":"IF(('Porcs2015-2024'!J515)>0,AVERAGE('Porcs2015-2024'!J512:J515),NA())","v":{"$error":"#N/A"}},{"$error":"#N/A"},1.9104999999999996,null,"J",1665,1166,1277,1744,2667,null,"",1703.8]
["A",1.81,1.5375000000000001,1.585,2.1625000000000001,2.4400000000000004,{"$f":"IF(('Porcs2015-2024'!J519)>0,AVERAGE('Porcs2015-2024'!J516:J519),NA())","v":{"$error":"#N/A"}},{"$error":"#N/A"},1.907,null,"A",1783,1135,1126,1800,2426,null,"",1654]
["S",1.9,1.6080000000000001,1.5660000000000001,2.2519999999999998,2.2450000000000001,{"$f":"IF(('Porcs2015-2024'!J524)>0,AVERAGE('Porcs2015-2024'!J520:J524),NA())","v":{"$error":"#N/A"}},{"$error":"#N/A"},1.9141999999999999,null,"S",1984,1278,1048,1894,2042,null,"",1649.2]
["O",1.93,1.605,1.46,2.2524999999999999,2.165,{"$f":"IF(('Porcs2015-2024'!J528)>0,AVERAGE('Porcs2015-2024'!J525:J528),NA())","v":{"$error":"#N/A"}},{"$error":"#N/A"},1.8825000000000003,null,"O",2021,1260,848,1795,1906,null,"",1566]
["N",1.9125000000000001,1.5475000000000001,1.4424999999999999,2.09,2.012,{"$f":"IF(('Porcs2015-2024'!J532)>0,AVERAGE('Porcs2015-2024'!J529:J532),NA())","v":{"$error":"#N/A"}},{"$error":"#N/A"},1.8008999999999999,null,"N",2006,1099,842,1322,1553,null,"",1364.4]
["D",1.9225000000000001,1.44,1.466,2.0420000000000003,2,{"$f":"IF(('Porcs2015-2024'!J537)>0,AVERAGE('Porcs2015-2024'!J533:J537),NA())","v":{"$error":"#N/A"}},{"$error":"#N/A"},1.7741,null,"D",2015,881,857,1214,1579,null,"",1309.2]
["Moyenne :",{"$f":"AVERAGE(B17:B28)","v":1.7072500000000002},1.6264583333333336,1.5607083333333334,1.9358333333333337,2.3350000000000004,{"$f":"SUMIF(G17:G28,\"<>#N/A\",G17:G28)/COUNTIF(G17:G28,\"<>#N/A\")","v":2.1718999999999999},-6.9850107066381339E-2,1.8330500000000005,null,"Moyenne :",{"$f":"AVERAGE(L17:L28)","v":1554.5833333333333},1338.6666666666667,1094.3333333333333,1453.5,2069.6666666666665,null,"",1502.15]
["Source : DRAAF Pays de la Loire - SRISE - FranceAgriMer",null,null,null,null,null,null,null,null,null,"Synthèse de la conjoncture pour l’élevage : indicateur de marge brute, naisseur-engraisseur, en euros/truie/an."]
[null,null,null,null,null,null,null,null,null,null,"Source : Institut du Porc IFIP"]
[]
[]
[null,null,null,null,null,null,null,null,null,null,"\n\n"]

{"sheet":"Ovins2019-2024","index":29,"n_rows":63,"n_cols":12,"rows_kept":63,"cut":false,"hidden":false,"merged":[[7,1,7,8],[6,1,6,8],[6,9,8,9],[6,10,8,10],[6,11,8,11]]}
["COTATIONS AGNEAUX DE BOUCHERIE : ENTREE ABATTOIR",null,null,null,null,null,null,null,null,"Mis à jour : 04/06/2024"]
["Source DRAAF Pays de la Loire-SRISE-FranceAgriMer"]
["Mis à jour : 04/06/2024"]
["Agneau de boucherie : Prix \"entrée abattoir\" HT en EURO/Kg de carcasse (cinquième quartier inclus)"]
["Etat d'engraissement : couvert"]
[]
[null,"Moyenne Nationale hebdomadaire",null,null,null,null,null,null,null,"Evolution/semaine -1","Evolution / semaine id 2023","Evolution / semaine id moy. 5 ans"]
[null,"Prix moyen pondéré des agneaux"]
[null,"Sem.",2019,2020,2021,2022,2023,2024,"Moyenne quinquennale"]
[null,1,6.26,6.78,7.23,7.940000057220459,8.4300003051757813,8.84,{"$f":"AVERAGE(C10:G10)","v":7.3280000724792469},null,{"$f":"(H10-G10)/G10","v":4.8635786474703971E-2},{"$f":"(H10-I10)/I10","v":0.20633186579775856}]
[null,2,6.15,6.64,7.27,7.8000001907348633,8.2799997329711914,8.86,{"$f":"AVERAGE(C11:G11)","v":7.2279999847412117},{"$f":"(H11-H10)/H10","v":2.2624434389139788E-3},7.0048343687649006E-2,{"$f":"(H11-I11)/I11","v":0.22578860247704041}]
[null,3,6.03,6.65,7.2,7.7199997901916504,8.2200002670288086,8.81,7.1640000114440907,{"$f":"(H12-H11)/H11","v":-5.6433408577876909E-3},7.1776120900839402E-2,0.22975990869996044]
["J",4,5.91,6.53,7.18,7.7100000381469727,8.119999885559082,8.7200000000000006,7.0899999847412118,{"$f":"(H13-H12)/H12","v":-1.0215664018161165E-2},7.3891640750880019E-2,0.22990127204045185]
[null,5,5.76,6.48,7.08,7.690000057220459,8.0299999999999994,8.59,7.0080000114440919,-1.4908256880734034E-2,6.9738480697384878E-2,0.22574200713077849]
[null,6,5.69,6.45,6.97,7.5199999809265137,7.97,8.5,6.919999996185302,-1.0477299185098935E-2,6.649937264742789E-2,0.22832370009908728]
[null,7,5.7,6.42,6.93,7.5100002288818359,7.86,8.48,6.8840000457763679,-2.3529411764705382E-3,7.8880407124681945E-2,0.23184194416193352]
[null,8,5.76,6.39,6.95,7.4200000762939453,7.83,8.5299999999999994,6.870000015258789,5.8962264150942134E-3,8.9399744572158268E-2,0.24163027380701965]
["F",9,5.88,6.48,6.99,7.440000057220459,7.84,8.67,6.9260000114440912,1.6412661195779669E-2,0.10586734693877552,0.25180479146321566]
[null,10,6.01,6.51,7.07,7.5399999618530273,7.93,8.83,7.0119999923706047,1.8454440599769337E-2,0.11349306431273649,0.25926982453044317]
[null,11,6.13,6.6,7.28,7.630000114440918,8.06,{"$f":"H19+0.24","v":9.07},7.1400000228881835,2.71800679501699E-2,0.12531017369727043,0.27030811917716457]
[null,12,6.26,6.65,7.5,7.570000171661377,8.19,9.44,7.2340000343322757,4.0793825799338393E-2,0.15262515262515264,0.30494884644707437]
["M",13,6.24,6.53,7.65,7.6700000762939453,8.42,9.5399999999999991,7.3020000152587894,1.0593220338983014E-2,0.13301662707838471,0.30649136949664785]
[null,14,6.39,6.18,7.53,7.929999828338623,8.5500000000000007,9.5,7.3159999656677259,-4.1928721174003302E-3,0.11111111111111102,0.29852378958191289]
[null,15,6.59,6.2,7.56,8.0699996948242188,8.44,9.56,7.3719999389648434,6.3157894736842633E-3,0.13270142180094799,0.29679870851197948]
[null,16,6.67,6.3,7.54,8.0699996948242188,8.44,9.59,7.4039999389648425,3.1380753138074645E-3,0.13625592417061616,0.29524582375142255]
["A",17,6.56,6.37,7.48,8.0699996948242188,8.4700000000000006,9.6199999999999992,7.3899999389648441,3.1282586027110908E-3,0.13577331759149924,0.30175914471624787]
[null,18,6.52,6.5,7.42,8.0799999237060547,8.36,9.69,7.3759999847412105,7.2765072765073064E-3,0.15909090909090912,0.31372017625349502]
[null,19,6.43,6.47,7.47,8.0600004196166992,8.2899999999999991,9.6199999999999992,7.3440000839233388,-7.2239422084623616E-3,0.16043425814234019,0.30991283906151146]
[null,20,6.37,6.46,7.38,8.0600004196166992,8.2899999999999991,9.6300000000000008,7.3120000839233397,1.039501039501202E-3,0.16164053075995197,0.317013113986852]
[null,21,6.2,6.47,7.31,7.929999828338623,8.24,9.5399999999999991,7.2299999656677247,-9.3457943925235338E-3,0.15776699029126201,0.31950208095456539]
["M",22,6.13,6.49,7.26,7.9699997901916504,8.19,null,7.2079999580383305,-1,-1,-1]
[null,23,6.03,6.56,7.19,7.9200000762939453,8.18,null,7.1760000152587891,{"$error":"#DIV/0!"},-1,-1]
[null,24,6,6.58,7.09,7.9499998092651367,8.19,null,7.1619999618530272,{"$error":"#DIV/0!"},-1,-1]
[null,25,5.94,6.61,7.06,8,8.15,null,7.1519999999999992,{"$error":"#DIV/0!"},-1,-1]
["J",26,5.93,6.6,6.98,7.9800000190734863,8.27,null,7.1520000038146971,{"$error":"#DIV/0!"},-1,-1]
[null,27,5.91,6.55,7.02,8.119999885559082,8.2100000000000009,null,7.1619999771118161,{"$error":"#DIV/0!"},-1,-1]
[null,28,5.86,6.58,6.99,8.0699996948242188,8.17,null,7.1339999389648439,{"$error":"#DIV/0!"},-1,-1]
[null,29,5.89,6.64,7.06,8.0600004196166992,8.18,null,7.1660000839233389,{"$error":"#DIV/0!"},-1,-1]
["J",30,5.9,6.71,7.02,8.0500001907348633,8.1199999999999992,null,7.1600000381469728,{"$error":"#DIV/0!"},-1,-1]
[null,31,5.9,6.77,7.04,8.0100002288818359,8.06,null,7.1560000457763682,{"$error":"#DIV/0!"},-1,-1]
[null,32,5.89,6.8,7.07,8.0200004577636719,8,null,7.156000091552734,{"$error":"#DIV/0!"},-1,-1]
[null,33,5.91,6.83,7.04,8,8.02,null,7.1599999999999993,{"$error":"#DIV/0!"},{"$f":"(H42-G42)/G42","v":-1},-1]
[null,34,5.99,6.83,7.18,8.0299997329711914,8,null,7.2059999465942379,{"$f":"(H43-H42)/H42","v":{"$error":"#DIV/0!"}},-1,-1]
["A",35,6.09,6.91,7.25,7.9699997901916504,7.96,null,7.2359999580383301,{"$error":"#DIV/0!"},-1,-1]
[null,36,6.13,6.99,7.29,8.0100002288818359,8,null,7.2840000457763665,{"$error":"#DIV/0!"},-1,-1]
[null,37,6.15,6.98,7.36,8,7.98,null,7.2939999999999996,{"$error":"#DIV/0!"},-1,-1]
[null,38,6.23,6.92,7.37,7.9600000381469727,8.0399999999999991,null,7.3040000076293952,{"$error":"#DIV/0!"},-1,-1]
["S",39,6.17,7,7.44,7.9699997901916504,8.0399999999999991,null,7.3239999580383301,{"$error":"#DIV/0!"},-1,-1]
[null,40,6.18,7,7.46,7.9600000381469727,8.09,null,7.338000007629395,{"$error":"#DIV/0!"},-1,-1]
[null,41,6.15,7.02,7.53,7.9499998092651367,8.1999999999999993,null,7.3699999618530274,{"$error":"#DIV/0!"},-1,-1]
[null,42,6.17,7.03,7.57,7.9600000381469727,8.34,null,7.4140000076293946,{"$error":"#DIV/0!"},-1,-1]
[null,43,6.19,7.02,7.6,8,8.35,null,7.4320000000000004,{"$error":"#DIV/0!"},-1,-1]
["O",44,6.19,7.01,7.75,8.0399999618530273,8.44,null,7.4859999923706058,{"$error":"#DIV/0!"},-1,-1]
[null,45,6.25,7,7.77,8.1499996185302734,8.5299999999999994,null,7.5399999237060538,{"$error":"#DIV/0!"},-1,-1]
[null,46,6.37,7.07,7.84,8.2899999618530273,8.57,null,7.6279999923706061,{"$error":"#DIV/0!"},-1,-1]
[null,47,6.48,7.11,7.85,null,8.59,null,7.5074999999999994,{"$error":"#DIV/0!"},-1,-1]
["N",48,6.62,7.2,7.97,8.5200004577636719,8.7200000000000006,null,7.8060000915527343,{"$error":"#DIV/0!"},-1,-1]
[null,49,6.67,7.21,7.96,8.5100002288818359,8.73,null,7.8160000457763674,{"$error":"#DIV/0!"},-1,-1]
[null,50,6.7,7.23,8.0399999999999991,8.5699996948242188,8.86,null,7.8799999389648434,{"$error":"#DIV/0!"},-1,-1]
[null,51,6.77,7.25,8.06,8.5699996948242188,8.91,null,7.9119999389648425,{"$error":"#DIV/0!"},-1,-1]
["D",52,6.78,7.3,8.07,8.5600004196166992,8.93,null,7.9280000839233393,{"$error":"#DIV/0!"},-1,-1]
[null,53,null,7.26,null,null,null,null,7.26,{"$error":"#DIV/0!"},{"$error":"#DIV/0!"},-1]
[null,"Moy.",{"$f":"AVERAGE(C10:C61)","v":6.1746153846153842},{"$f":"AVERAGE(D10:D61)","v":6.7280769230769231},7.3686538461538467,7.9725490270876413,{"$f":"AVERAGE(G10:G62)","v":8.2553846190525935},{"$f":"AVERAGE(H10:H62)","v":9.1252380952380943}]

{"sheet":"GraphOvins","index":30,"n_rows":33,"n_cols":8,"rows_kept":33,"cut":false,"hidden":false,"merged":[]}
[null,null,null,null,null,null,null,{"$f":"'Ovins2019-2024'!J1","v":"Mis à jour : 04/06/2024"}]
[]
[]
[]
[]
[]
[]
[]
[]
[]
[]
[]
["COTATIONS AGNEAUX DE BOUCHERIE : ENTREE ABATTOIR"]
["Source : DRAAF Pays de la Loire-SRISE-FranceAgriMer"]
[]
["Agneau de boucherie : Prix \"entrée abattoir\" HT en EURO/Kg de carcasse (cinquième quartier inclus)"]
["Etat d'engraissement : couvert"]
[]
["Moyenne Nationale hebdomadaire"]
["Prix moyen pondéré des agneaux"]
[null,2024,2023,2022,2021,2020,2019,"Moyenne quinquennale"]
["J",{"$f":"IF(('Ovins2019-2024'!H13)>0,AVERAGE('Ovins2019-2024'!H10:H13),NA())","v":8.8074999999999992},8.2625000476837158,7.7925000190734863,7.22,6.6159999999999997,6.0220000000000002,{"$f":"SUMIF(C22:G22,\"<>#N/A\",C22:G22)/COUNTIF(C22:G22,\"<>#N/A\")","v":7.1826000133514398}]
["F",{"$f":"IF(('Ovins2019-2024'!H17)>0,AVERAGE('Ovins2019-2024'!H14:H17),NA())","v":8.5250000000000004},7.9224999999999994,7.5350000858306885,6.9824999999999999,6.4349999999999996,5.7575000000000003,{"$f":"SUMIF(C23:G23,\"<>#N/A\",C23:G23)/COUNTIF(C23:G23,\"<>#N/A\")","v":6.9265000171661368}]
["M",{"$f":"IF(('Ovins2019-2024'!H21)>0,AVERAGE('Ovins2019-2024'!H18:H21),NA())","v":9.0024999999999995},8.0879999999999992,7.5700000762939457,7.298,6.5724999999999998,6.16,7.1377000152587895]
["A",{"$f":"IF(('Ovins2019-2024'!H25)>0,AVERAGE('Ovins2019-2024'!H22:H25),NA())","v":9.5474999999999994},8.4749999999999996,8.0349997282028198,7.5274999999999999,6.31,6.5525000000000002,7.3799999456405647]
["M",{"$f":"IF(('Ovins2019-2024'!H29)>0,AVERAGE('Ovins2019-2024'!H26:H29),NA())","v":9.64},8.2949999999999999,8.032500147819519,7.3949999999999996,6.4725000000000001,6.33,7.3050000295639039]
["J",{"$f":"IF(('Ovins2019-2024'!H33)>0,AVERAGE('Ovins2019-2024'!H30:H33),NA())","v":{"$error":"#N/A"}},8.195999999999998,7.9639999389648439,7.1159999999999997,6.5875000000000004,5.9749999999999996,7.167699987792969]
["J",{"$f":"IF(('Ovins2019-2024'!H37)>0,AVERAGE('Ovins2019-2024'!H34:H37),NA())","v":{"$error":"#N/A"}},8.17,8.0750000476837158,7.0225,6.65,5.8920000000000003,7.161900009536744]
["A",{"$f":"IF(('Ovins2019-2024'!H41)>0,AVERAGE('Ovins2019-2024'!H38:H41),NA())","v":{"$error":"#N/A"}},8.0079999999999991,8.0150001049041748,7.0824999999999996,6.8425000000000002,5.97,{"$f":"SUMIF(C29:G29,\"<>#N/A\",C29:G29)/COUNTIF(C29:G29,\"<>#N/A\")","v":7.1836000209808351}]
["S",{"$f":"IF(('Ovins2019-2024'!H45)>0,AVERAGE('Ovins2019-2024'!H42:H45),NA())","v":{"$error":"#N/A"}},8.0150000000000006,7.9899999300638838,7.3150000000000004,6.9779999999999998,6.17,7.2935999860127776]
["O",{"$f":"IF(('Ovins2019-2024'!H49)>0,AVERAGE('Ovins2019-2024'!H46:H49),NA())","v":{"$error":"#N/A"}},8.2449999999999992,7.9674999713897705,7.54,7.02,6.18,7.3904999942779543]
["N",{"$f":"IF(('Ovins2019-2024'!H53)>0,AVERAGE('Ovins2019-2024'!H50:H53),NA())","v":{"$error":"#N/A"}},8.5699999999999985,null,7.8025000000000002,7.1,6.43,{"$f":"SUMIF(C32:G32,\"<>#N/A\",C32:G32)/COUNTIF(C32:G32,\"<>#N/A\")","v":5.9804999999999993}]
["D",{"$f":"IF(('Ovins2019-2024'!H57)>0,AVERAGE('Ovins2019-2024'!H54:H57),NA())","v":{"$error":"#N/A"}},null,8.5460000991821286,8.02,7.25,6.73,{"$f":"SUMIF(C33:G33,\"<>#N/A\",C33:G33)/COUNTIF(C33:G33,\"<>#N/A\")","v":6.1092000198364254}]

{"sheet":"VolaillesLapinsOeufs","index":31,"n_rows":55,"n_cols":72,"rows_kept":55,"cut":false,"hidden":false,"merged":[[1,37,1,43],[2,61,2,63],[2,64,2,66],[2,67,2,69],[0,61,1,61],[0,62,1,62],[0,63,1,63],[0,64,1,64],[0,65,1,65],[0,66,1,66],[1,44,1,48],[2,70,2,71],[0,67,1,67],[0,68,1,68],[0,69,1,69],[0,70,1,70],[0,71,1,71],[1,2,1,8],[1,9,1,15],[1,16,1,22],[1,23,1,29],[1,30,1,36]]}
["Mis à jour : 30/04/2024",null,null,null,null,"Message 4007",null,null,null,null,null,null,null,null,null,null,null,null,null,null,null,null,null,null,null,null,null,null,null,null,null,null,null,null,null,null,null,null,null,null,null,null,null,null,null,null,null,"Mis à jour : 04/06/2024",null,null,null,null,null,null,null,null,null,null,null,null,null,"Evolution / semaine -1","Evolution /semaine id 2023","Evolution/semaine id moy. 5 ans","Evolution / semaine -1","Evolution /semaine id 2023","Evolution/semaine id moy. 5 ans","Evolution / semaine -1","Evolution /semaine id 2023","Evolution/semaine id moy. 5 ans","Evolution / semaine -1","Evolution /semaine id 2023"]
[null,null,"Poulet PAC frais standard",null,null,null,null,null,null,"Poulet PAC frais label",null,null,null,null,null,null,"Filet de dinde France standard",null,null,null,null,null,null,"Filet de canard de Barbarie France standard",null,null,null,null,null,null,"Pintade entière effilé France label",null,null,null,null,null,null,"Lapin entier France standard",null,null,null,null,null,null,"TNO",null,null,null,null,null,null,"Poulet PAC frais standard","Poulet PAC frais label","Filet de dinde France standard","Filet de canard de Barbarie France standard","Pintade entière effilé France label","Lapin entier France standard","TNO"]
["Mois","Sem.",2019,2020,2021,2022,2023,2024,"Moyenne 5 ans",2019,2020,2021,2022,2023,2024,"Moyenne 5 ans",2019,2020,2021,2022,2023,2024,"Moyenne 5 ans",2019,2020,2021,2022,2023,2024,"Moyenne 5 ans",2019,2020,2021,2022,2023,2024,"Moyenne 5 ans",2019,2020,2021,2022,2023,2024,"Moyenne 5 ans",2020,2021,2022,2023,2024,null,"J",{"$f":"IF((H7)>0,AVERAGE(H4:H7),NA())","v":3},{"$f":"IF((O7)>0,AVERAGE(O4:O7),NA())","v":5.0999999999999996},{"$f":"IF((V7)>0,AVERAGE(V4:V7),NA())","v":7},{"$f":"IF((AC7)>0,AVERAGE(AC4:AC7),NA())","v":12.5},{"$f":"IF((AJ7)>0,AVERAGE(AJ4:AJ7),NA())","v":6.5},{"$f":"IF((AQ7)>0,AVERAGE(AQ4:AQ7),NA())","v":6.5},{"$f":"IF((AW7)>0,AVERAGE(AW4:AW7),NA())","v":14.1175},null,null,null,"Pintade entière effilé France label",null,null,"Filet de canard de Barbarie France standard",null,null,"Lapin entier France standard",null,null,"TNO"]
[2024,1,2.2999999999999998,2.2999999999999998,2.2000000000000002,2.35,3,3,{"$f":"AVERAGE(C4:G4)","v":2.4300000000000002},4.0999999999999996,4.0999999999999996,4,4.2,5.0999999999999996,5.0999999999999996,{"$f":"AVERAGE(J4:N4)","v":4.3},4.7,5.3,5.4,5.5,6.8,7,{"$f":"AVERAGE(Q4:U4)","v":5.54},10.7,10.8,10.4,10.7,12.3,12.5,{"$f":"AVERAGE(X4:AB4)","v":10.979999999999999},5,5,4.9000000000000004,5.15,6.5,6.5,{"$f":"AVERAGE(AE4:AI4)","v":5.3100000000000005},5.8,4.9000000000000004,5.3,5,6.4,6.5,{"$f":"AVERAGE(AL4:AP4)","v":5.4799999999999995},8.67,5.22,9.3299999237060547,15.380000114440918,14.43,null,"F",{"$f":"IF((H12)>0,AVERAGE(H8:H12),NA())","v":3},{"$f":"IF((O12)>0,AVERAGE(O8:O12),NA())","v":5.0999999999999996},{"$f":"IF((V12)>0,AVERAGE(V8:V12),NA())","v":7.0600000000000005},{"$f":"IF((AC12)>0,AVERAGE(AC8:AC12),NA())","v":12.5},{"$f":"IF((AJ12)>0,AVERAGE(AJ8:AJ12),NA())","v":6.5},{"$f":"IF((AQ12)>0,AVERAGE(AQ8:AQ12),NA())","v":6.5},{"$f":"IF((AW12)>0,AVERAGE(AW8:AW12),NA())","v":13.584},null,null,null,null,{"$f":"(AJ4-AI4)/AI4","v":0},{"$f":"(AJ4-AK4)/AK4","v":0.22410546139359688},null,{"$f":"(AC4-AB4)/AB4","v":1.6260162601625959E-2},{"$f":"(AC4-AD4)/AD4","v":0.13843351548269595},null,{"$f":"(AQ4-AP4)/AP4","v":1.5624999999999944E-2},{"$f":"(AQ4-AR4)/AR4","v":0.18613138686131397},null,{"$f":"(AW4-AV4)/AV4","v":-6.1768537540446693E-2}]
[null,2,2.2999999999999998,2.2999999999999998,2.2000000000000002,2.35,3,3,{"$f":"AVERAGE(C5:G5)","v":2.4300000000000002},4.0999999999999996,4.0999999999999996,4,4.2,5.0999999999999996,5.0999999999999996,{"$f":"AVERAGE(J5:N5)","v":4.3},4.7,5.3,5.4,5.5,6.8,7,{"$f":"AVERAGE(Q5:U5)","v":5.54},10.7,10.8,10.4,10.7,12.5,12.5,{"$f":"AVERAGE(X5:AB5)","v":11.02},5,5,4.9000000000000004,5.15,6.5,6.5,{"$f":"AVERAGE(AE5:AI5)","v":5.3100000000000005},5.8,4.9000000000000004,5.3,5,6.4,6.5,{"$f":"AVERAGE(AL5:AP5)","v":5.4799999999999995},8.27,5.15,9.0799999237060547,15.380000114440918,14.28,null,"M",{"$f":"IF((H16)>0,AVERAGE(H13:H16),NA())","v":3},{"$f":"IF((O16)>0,AVERAGE(O13:O16),NA())","v":5.0999999999999996},{"$f":"IF((V16)>0,AVERAGE(V13:V16),NA())","v":7.1},{"$f":"IF((AC16)>0,AVERAGE(AC13:AC16),NA())","v":12.5},{"$f":"IF((AJ16)>0,AVERAGE(AJ13:AJ16),NA())","v":6.5},{"$f":"IF((AQ16)>0,AVERAGE(AQ13:AQ16),NA())","v":6.5},{"$f":"IF((AW16)>0,AVERAGE(AW13:AW16),NA())","v":14.100000000000001},null,null,null,{"$f":"(AJ5-AJ4)/AJ4","v":0},{"$f":"(AJ5-AI5)/AI5","v":0},{"$f":"(AJ5-AK5)/AK5","v":0.22410546139359688},{"$f":"(AC5-AC4)/AC4","v":0},{"$f":"(AC5-AB5)/AB5","v":0},{"$f":"(AC5-AD5)/AD5","v":0.1343012704174229},{"$f":"(AQ5-AQ4)/AQ4","v":0},{"$f":"(AQ5-AP5)/AP5","v":1.5624999999999944E-2},{"$f":"(AQ5-AR5)/AR5","v":0.18613138686131397},{"$f":"(AW5-AW4)/AW4","v":-1.039501039501042E-2},{"$f":"(AW5-AV5)/AV5","v":-7.152146334563958E-2}]
[null,3,2.2999999999999998,2.2999999999999998,2.2000000000000002,2.35,3,3,{"$f":"AVERAGE(C6:G6)","v":2.4300000000000002},4.0999999999999996,4.0999999999999996,4,4.2,5.0999999999999996,5.0999999999999996,{"$f":"AVERAGE(J6:N6)","v":4.3},4.7,5.3,5.4,5.5,6.8,7,{"$f":"AVERAGE(Q6:U6)","v":5.54},10.7,10.8,10.4,10.7,12.5,12.5,{"$f":"AVERAGE(X6:AB6)","v":11.02},5,5,4.9000000000000004,5.15,6.5,6.5,{"$f":"AVERAGE(AE6:AI6)","v":5.3100000000000005},5.8,4.9000000000000004,5.3,5,6.4,6.5,{"$f":"AVERAGE(AL6:AP6)","v":5.4799999999999995},7.83,5.32,9.0500001907348633,15.380000114440918,14.03,null,"A",{"$f":"IF((H20)>0,AVERAGE(H17:H20),NA())","v":3},{"$f":"IF((O20)>0,AVERAGE(O17:O20),NA())","v":5.0999999999999996},{"$f":"IF((V20)>0,AVERAGE(V17:V20),NA())","v":7.1},{"$f":"IF((AC20)>0,AVERAGE(AC17:AC20),NA())","v":12.5},{"$f":"IF((AJ20)>0,AVERAGE(AJ17:AJ20),NA())","v":6.5},{"$f":"IF((AQ20)>0,AVERAGE(AQ17:AQ20),NA())","v":6.5},{"$f":"IF((AW20)>0,AVERAGE(AW17:AW20),NA())","v":14.125},null,null,null,{"$f":"(AJ6-AJ5)/AJ5","v":0},0,0.22410546139359688,{"$f":"(AC6-AC5)/AC5","v":0},0,0.1343012704174229,{"$f":"(AQ6-AQ5)/AQ5","v":0},{"$f":"(AQ6-AP6)/AP6","v":1.5624999999999944E-2},0.18613138686131397,{"$f":"(AW6-AW5)/AW5","v":-1.7507002801120448E-2},{"$f":"(AW6-AV6)/AV6","v":-8.7776339687627686E-2}]
["J",4,2.2999999999999998,2.2999999999999998,2.2000000000000002,2.35,3,3,{"$f":"AVERAGE(C7:G7)","v":2.4300000000000002},4.0999999999999996,4.0999999999999996,4,4.2,5.0999999999999996,5.0999999999999996,{"$f":"AVERAGE(J7:O7)","v":4.4333333333333336},4.7,5.3,5.4,5.5,6.8,7,{"$f":"AVERAGE(Q7:V7)","v":5.7833333333333341},10.7,10.8,10.4,10.7,12.5,12.5,{"$f":"AVERAGE(X7:AC7)","v":11.266666666666666},5,5,4.9000000000000004,5.15,6.5,6.5,{"$f":"AVERAGE(AE7:AJ7)","v":5.5083333333333329},5.8,4.9000000000000004,5.3,5,6.4,6.5,{"$f":"AVERAGE(AL7:AQ7)","v":5.6499999999999995},7.52,5.58,9.0500001907348633,15.380000114440918,13.73,null,"M",{"$f":"IF((H25)>0,AVERAGE(H21:H25),NA())","v":3},{"$f":"IF((O25)>0,AVERAGE(O21:O25),NA())","v":5.0999999999999996},{"$f":"IF((V25)>0,AVERAGE(V21:V25),NA())","v":7.1},{"$f":"IF((AC25)>0,AVERAGE(AC21:AC25),NA())","v":12.5},{"$f":"IF((AJ25)>0,AVERAGE(AJ21:AJ25),NA())","v":6.5},{"$f":"IF((AQ25)>0,AVERAGE(AQ21:AQ25),NA())","v":6.5},{"$f":"IF((AW25)>0,AVERAGE(AW21:AW25),NA())","v":{"$error":"#N/A"}},null,null,null,{"$f":"(AJ7-AJ6)/AJ6","v":0},0,0.18003025718608179,0,0,0.10946745562130186,0,1.5624999999999944E-2,0.15044247787610629,-2.1382751247327081E-2,-0.10728219129801334]
[null,5,2.2999999999999998,2.2999999999999998,2.2000000000000002,2.35,3,3,2.4300000000000002,4.0999999999999996,4.0999999999999996,4,4.2,5.0999999999999996,5.0999999999999996,4.4333333333333336,4.7,5.3,5.4,5.5,6.8,7,5.7833333333333341,10.7,10.8,10.4,10.7,12.5,12.5,11.266666666666666,5,5,4.9000000000000004,5.15,6.5,6.5,5.5083333333333329,5.8,4.9000000000000004,5.3,5,6.4,6.5,5.6499999999999995,7.35,5.8,9,15.38,13.48,null,"J",{"$f":"IF((H29)>0,AVERAGE(H26:H29),NA())","v":{"$error":"#N/A"}},{"$f":"IF((O29)>0,AVERAGE(O26:O29),NA())","v":{"$error":"#N/A"}},{"$f":"IF((V29)>0,AVERAGE(V26:V29),NA())","v":{"$error":"#N/A"}},{"$f":"IF((AC29)>0,AVERAGE(AC26:AC29),NA())","v":{"$error":"#N/A"}},{"$f":"IF((AJ29)>0,AVERAGE(AJ26:AJ29),NA())","v":{"$error":"#N/A"}},{"$f":"IF((AQ29)>0,AVERAGE(AQ26:AQ29),NA())","v":{"$error":"#N/A"}},{"$f":"IF((AW29)>0,AVERAGE(AW26:AW29),NA())","v":{"$error":"#N/A"}},null,null,null,{"$f":"(AJ8-AJ7)/AJ7","v":0},0,0.18003025718608179,0,0,0.10946745562130186,0,1.5624999999999944E-2,0.15044247787610629,-1.820830298616169E-2,-0.12353706111833551]
[null,6,2.2999999999999998,2.2999999999999998,2.2999999999999998,2.35,3,3,2.4500000000000002,4.0999999999999996,4.0999999999999996,4,4.2,5.0999999999999996,5.0999999999999996,4.4333333333333336,4.7,5.3,5.5,5.5,6.8,7,5.8,10.8,10.8,10.4,10.9,12.5,12.5,11.316666666666668,5,5,4.9000000000000004,5.15,6.5,6.5,5.5083333333333329,5.8,4.8,5.5,5,6.4,6.5,5.666666666666667,7.31,6.05,9.0799999237060547,15.48,13.35,null,"J",{"$f":"IF((H33)>0,AVERAGE(H30:H33),NA())","v":{"$error":"#N/A"}},{"$f":"IF((O33)>0,AVERAGE(O30:O33),NA())","v":{"$error":"#N/A"}},{"$f":"IF((V33)>0,AVERAGE(V30:V33),NA())","v":{"$error":"#N/A"}},{"$f":"IF((AC33)>0,AVERAGE(AC30:AC33),NA())","v":{"$error":"#N/A"}},{"$f":"IF((AJ33)>0,AVERAGE(AJ30:AJ33),NA())","v":{"$error":"#N/A"}},{"$f":"IF((AQ33)>0,AVERAGE(AQ30:AQ33),NA())","v":{"$error":"#N/A"}},{"$f":"IF((AW33)>0,AVERAGE(AW30:AW33),NA())","v":{"$error":"#N/A"}},null,null,null,{"$f":"(AJ9-AJ8)/AJ8","v":0},0,0.18003025718608179,0,0,0.10456553755522813,0,1.5624999999999944E-2,0.14705882352941171,-9.6439169139466447E-3,-0.13759689922480625]
[null,7,2.2999999999999998,2.2999999999999998,2.2999999999999998,2.35,3,3,2.4500000000000002,4.0999999999999996,4.0999999999999996,4,4.2,5.0999999999999996,5.0999999999999996,4.4333333333333336,4.7,5.3,5.5,5.5,6.8,7.1,5.8166666666666664,10.8,10.8,10.4,10.9,12.5,12.5,11.316666666666668,5,5,4.9000000000000004,5.15,6.5,6.5,5.5083333333333329,5.6,4.8,5.5,5,6.4,6.5,5.6333333333333329,7.43,6.27,9.25,15.63,13.47,null,"A",{"$f":"IF((H38)>0,AVERAGE(H34:H38),NA())","v":{"$error":"#N/A"}},{"$f":"IF((O38)>0,AVERAGE(O34:O38),NA())","v":{"$error":"#N/A"}},{"$f":"IF((V38)>0,AVERAGE(V34:V38),NA())","v":{"$error":"#N/A"}},{"$f":"IF((AC38)>0,AVERAGE(AC34:AC38),NA())","v":{"$error":"#N/A"}},{"$f":"IF((AJ38)>0,AVERAGE(AJ34:AJ38),NA())","v":{"$error":"#N/A"}},{"$f":"IF((AQ38)>0,AVERAGE(AQ34:AQ38),NA())","v":{"$error":"#N/A"}},{"$f":"IF((AW38)>0,AVERAGE(AW34:AW38),NA())","v":{"$error":"#N/A"}},null,null,null,0,0,0.18003025718608179,0,0,0.10456553755522813,0,1.5624999999999944E-2,0.15384615384615394,8.9887640449438956E-3,-0.13819577735124761]
[null,8,2.2999999999999998,2.2999999999999998,2.2999999999999998,2.35,3,3,2.4500000000000002,4.0999999999999996,4.0999999999999996,4.05,4.3,5.0999999999999996,5.0999999999999996,4.458333333333333,4.75,5.3,5.5,5.5,6.8,7.1,5.8250000000000002,10.8,10.8,10.6,10.9,12.5,12.5,11.35,5,5,5.15,5.3,6.5,6.5,5.5750000000000002,5.5,4.8,5.5,5,6.4,6.5,5.6166666666666671,7.7,6.64,9.4499998092651367,15.83,13.72,null,"S",{"$f":"IF((H42)>0,AVERAGE(H39:H42),NA())","v":{"$error":"#N/A"}},{"$f":"IF((O42)>0,AVERAGE(O39:O42),NA())","v":{"$error":"#N/A"}},{"$f":"IF((V42)>0,AVERAGE(V39:V42),NA())","v":{"$error":"#N/A"}},{"$f":"IF((AC42)>0,AVERAGE(AC39:AC42),NA())","v":{"$error":"#N/A"}},{"$f":"IF((AJ42)>0,AVERAGE(AJ39:AJ42),NA())","v":{"$error":"#N/A"}},{"$f":"IF((AQ42)>0,AVERAGE(AQ39:AQ42),NA())","v":{"$error":"#N/A"}},{"$f":"IF((AW42)>0,AVERAGE(AW39:AW42),NA())","v":{"$error":"#N/A"}},null,null,null,0,0,0.16591928251121071,0,0,0.10132158590308374,0,1.5624999999999944E-2,0.15727002967359041,1.855976243504083E-2,-0.13329121920404291]
["F",9,2.2999999999999998,2.2999999999999998,2.35,2.35,3,3,2.46,4.0999999999999996,4.0999999999999996,4.0999999999999996,4.3,5.0999999999999996,5.0999999999999996,4.4666666666666659,4.9000000000000004,5.3,5.5,5.5,6.8,7.1,5.8500000000000005,10.8,10.8,10.6,11,12.5,12.5,11.366666666666667,5,5,5.15,5.3,6.5,6.5,5.5750000000000002,5.5,4.8,5.5,5,6.4,6.5,5.6166666666666671,7.89,6.98,9.7100000381469727,16.03,13.9,null,"O",{"$f":"IF((H47)>0,AVERAGE(H43:H47),NA())","v":{"$error":"#N/A"}},{"$f":"IF((O47)>0,AVERAGE(O43:O47),NA())","v":{"$error":"#N/A"}},{"$f":"IF((V47)>0,AVERAGE(V43:V47),NA())","v":{"$error":"#N/A"}},{"$f":"IF((AC47)>0,AVERAGE(AC43:AC47),NA())","v":{"$error":"#N/A"}},{"$f":"IF((AJ47)>0,AVERAGE(AJ43:AJ47),NA())","v":{"$error":"#N/A"}},{"$f":"IF((AQ47)>0,AVERAGE(AQ43:AQ47),NA())","v":{"$error":"#N/A"}},{"$f":"IF((AW47)>0,AVERAGE(AW43:AW47),NA())","v":{"$error":"#N/A"}},null,null,null,0,0,0.16591928251121071,0,0,9.9706744868035144E-2,0,1.5624999999999944E-2,0.15727002967359041,1.3119533527696771E-2,-0.13287585776668751]
[null,10,2.2999999999999998,2.2999999999999998,2.35,2.35,3,3,2.46,4.0999999999999996,4.0999999999999996,4.0999999999999996,4.3,5.0999999999999996,5.0999999999999996,4.4666666666666659,4.9000000000000004,5.3,5.5,5.5,6.8,7.1,5.8500000000000005,10.8,10.8,10.6,11,12.5,12.5,11.366666666666667,5,5,5.15,5.3,6.5,6.5,5.5750000000000002,5.5,4.8,5.5,5,6.4,6.5,5.6166666666666671,8.09,7.1,10.180000305175781,16.190000000000001,14,null,"N",{"$f":"IF((H51)>0,AVERAGE(H48:H51),NA())","v":{"$error":"#N/A"}},{"$f":"IF((O51)>0,AVERAGE(O48:O51),NA())","v":{"$error":"#N/A"}},{"$f":"IF((V51)>0,AVERAGE(V48:V51),NA())","v":{"$error":"#N/A"}},{"$f":"IF((AC51)>0,AVERAGE(AC48:AC51),NA())","v":{"$error":"#N/A"}},{"$f":"IF((AJ51)>0,AVERAGE(AJ48:AJ51),NA())","v":{"$error":"#N/A"}},{"$f":"IF((AQ51)>0,AVERAGE(AQ48:AQ51),NA())","v":{"$error":"#N/A"}},{"$f":"IF((AW51)>0,AVERAGE(AW48:AW51),NA())","v":{"$error":"#N/A"}},null,null,null,0,0,0.16591928251121071,0,0,9.9706744868035144E-2,0,1.5624999999999944E-2,0.15727002967359041,7.1942446043165211E-3,-0.13526868437306985]
[null,11,2.2999999999999998,2.2999999999999998,2.35,2.5499999999999998,3,3,2.5,4.0999999999999996,4.0999999999999996,4.0999999999999996,4.4000000000000004,5.0999999999999996,5.0999999999999996,4.4833333333333334,4.9000000000000004,5.3,5.5,5.6,6.8,7.1,5.8666666666666663,10.8,10.8,10.6,11.4,12.5,12.5,11.433333333333332,5,5,5.15,5.45,6.5,6.5,5.6000000000000005,5.5,4.8,5.5,5,6.4,6.5,5.6166666666666671,8.44,7.1,10.779999732971191,16.34,14.05,null,"D",{"$f":"IF((H55)>0,AVERAGE(H52:H55),NA())","v":{"$error":"#N/A"}},{"$f":"IF((O55)>0,AVERAGE(O52:O55),NA())","v":{"$error":"#N/A"}},{"$f":"IF((V55)>0,AVERAGE(V52:V55),NA())","v":{"$error":"#N/A"}},{"$f":"IF((AC55)>0,AVERAGE(AC52:AC55),NA())","v":{"$error":"#N/A"}},{"$f":"IF((AJ55)>0,AVERAGE(AJ52:AJ55),NA())","v":{"$error":"#N/A"}},{"$f":"IF((AQ55)>0,AVERAGE(AQ52:AQ55),NA())","v":{"$error":"#N/A"}},{"$f":"IF((AW55)>0,AVERAGE(AW52:AW55),NA())","v":{"$error":"#N/A"}},null,null,null,0,0,0.16071428571428562,0,0,9.3294460641399568E-2,0,1.5624999999999944E-2,0.15727002967359041,3.5714285714286221E-3,-0.14014687882496935]
[null,12,2.2999999999999998,2.35,2.35,2.6,3,3,2.52,4.0999999999999996,4.0999999999999996,4.2,4.5,5.0999999999999996,5.0999999999999996,4.5166666666666666,4.9000000000000004,5.3,5.5,5.6,6.8,7.1,5.8666666666666663,10.8,10.7,10.6,11.5,12.5,12.5,11.433333333333332,5,5,5.15,5.5,6.5,6.5,5.6083333333333334,5.5,4.8,5.5,5,6.4,6.5,5.6166666666666671,8.5299999999999994,7.07,11.380000114440918,16.48,14.15,null,null,null,null,null,null,null,null,null,null,null,null,0,0,0.15898959881129271,0,0,9.3294460641399568E-2,0,1.5624999999999944E-2,0.15727002967359041,7.1174377224199033E-3,-0.14138349514563106]
["M",13,2.2999999999999998,2.2999999999999998,2.35,2.75,3,3,2.54,4.0999999999999996,4.0999999999999996,4.2,4.5999999999999996,5.0999999999999996,5.0999999999999996,{"$f":"AVERAGE(J16:O16)","v":4.5333333333333341},4.8,5.3,5.5,5.7,6.8,7.1,{"$f":"AVERAGE(Q16:V16)","v":5.8666666666666671},10.8,10.5,10.6,11.7,12.5,12.5,{"$f":"AVERAGE(X16:AC16)","v":11.433333333333332},5,4.9000000000000004,5.15,5.5,6.5,6.5,{"$f":"AVERAGE(AE16:AJ16)","v":5.5916666666666659},5.5,4.8,5.5,5,6.4,6.5,{"$f":"AVERAGE(AL16:AQ16)","v":5.6166666666666671},8.4499999999999993,7.08,12.140000343322754,16.53,14.2,null,null,null,null,null,null,null,null,null,null,null,null,0,0,0.16244411326378555,0,0,9.3294460641399568E-2,0,1.5624999999999944E-2,0.15727002967359041,3.5335689045935641E-3,-0.14095583787053853]
[null,14,2.2999999999999998,2.2999999999999998,2.35,2.75,3,3,2.54,4.0999999999999996,4.0999999999999996,4.2,4.7,5.0999999999999996,5.0999999999999996,{"$f":"AVERAGE(J17:O17)","v":4.55},4.8,5.3,5.5,5.8,6.8,7.1,{"$f":"AVERAGE(Q17:V17)","v":5.8833333333333329},10.8,10.5,10.6,11.9,12.5,12.5,{"$f":"AVERAGE(X17:AC17)","v":11.466666666666667},5,4.9000000000000004,5.15,5.6,6.5,6.5,{"$f":"AVERAGE(AE17:AJ17)","v":5.6083333333333334},5.5,4.5999999999999996,5.5,5.3,6.4,6.5,{"$f":"AVERAGE(AL17:AQ17)","v":5.6333333333333329},8.27,7.1,12.699999809265137,16.53,14.2,null,null,null,null,null,null,null,null,null,null,null,null,0,0,0.15898959881129271,0,0,9.0116279069767435E-2,0,1.5624999999999944E-2,0.15384615384615394,0,-0.14095583787053853]
[null,15,2.2999999999999998,2.2999999999999998,2.35,2.75,3,3,2.54,4.0999999999999996,4.0999999999999996,4.2,4.7,5.0999999999999996,5.0999999999999996,{"$f":"AVERAGE(J18:O18)","v":4.55},4.8,5.3,5.5,5.9,6.8,7.1,{"$f":"AVERAGE(Q18:V18)","v":5.8999999999999995},10.8,10.5,10.6,11.9,12.5,12.5,{"$f":"AVERAGE(X18:AC18)","v":11.466666666666667},5,4.9000000000000004,5.15,5.7,6.5,6.5,{"$f":"AVERAGE(AE18:AJ18)","v":5.625},5.5,4.5999999999999996,5.5,5.3,6.4,6.5,{"$f":"AVERAGE(AL18:AQ18)","v":5.6333333333333329},8.1999999999999993,7.05,12.779999732971191,16.53,14.2,null,null,null,null,null,null,null,null,null,null,null,null,0,0,0.15555555555555556,0,0,9.0116279069767435E-2,0,1.5624999999999944E-2,0.15384615384615394,0,-0.14095583787053853]
[null,16,2.2999999999999998,2.2999999999999998,2.35,2.75,3,3,2.54,4.0999999999999996,4.0999999999999996,4.2,4.7,5.0999999999999996,5.0999999999999996,{"$f":"AVERAGE(J19:O19)","v":4.55},4.8,5.3,5.5,5.9,6.8,7.1,{"$f":"AVERAGE(Q19:V19)","v":5.8999999999999995},10.8,10.5,10.6,11.9,12.5,12.5,{"$f":"AVERAGE(X19:AC19)","v":11.466666666666667},5,4.9000000000000004,5.15,5.7,6.5,6.5,{"$f":"AVERAGE(AE19:AJ19)","v":5.625},5.5,4.5999999999999996,5.3,5.3,6.4,6.5,{"$f":"AVERAGE(AL19:AQ19)","v":5.6000000000000005},8.23,6.97,12.800000190734863,16.440000000000001,14.15,null,null,null,null,null,null,null,null,null,null,null,null,0,0,0.15555555555555556,0,0,9.0116279069767435E-2,0,1.5624999999999944E-2,0.16071428571428562,-3.5211267605633053E-3,-0.13929440389294409]
["A",17,2.2999999999999998,2.2999999999999998,2.35,2.75,3,3,2.54,4.0999999999999996,4.0999999999999996,4.2,4.7,5.0999999999999996,5.0999999999999996,{"$f":"AVERAGE(J20:O20)","v":4.55},4.8,5.3,5.5,5.9,6.8,7.1,{"$f":"AVERAGE(Q20:V20)","v":5.8999999999999995},10.8,10.4,10.6,11.9,12.5,12.5,{"$f":"AVERAGE(X20:AC20)","v":11.450000000000001},5,4.9000000000000004,5.15,5.7,6.5,6.5,{"$f":"AVERAGE(AE20:AJ20)","v":5.625},5,4.5999999999999996,5,5.3,6.4,6.5,{"$f":"AVERAGE(AL20:AQ20)","v":5.4666666666666659},8.5,6.82,12.78,16.43,13.95,null,null,null,null,null,null,null,null,null,null,null,null,0,0,0.15555555555555556,0,0,9.1703056768558847E-2,0,1.5624999999999944E-2,0.18902439024390261,-1.4134275618374633E-2,-0.15094339622641512]
[null,18,2.2999999999999998,2.2999999999999998,2.35,2.75,3,3,2.54,4.0999999999999996,4.0999999999999996,4.2,4.7,5.0999999999999996,5.0999999999999996,{"$f":"AVERAGE(J21:O21)","v":4.55},4.8,5.3,5.5,5.9,6.8,7.1,{"$f":"AVERAGE(Q21:V21)","v":5.8999999999999995},10.8,10.4,10.6,11.9,12.5,12.5,{"$f":"AVERAGE(X21:AC21)","v":11.450000000000001},5,4.9000000000000004,5.15,5.8,6.5,6.5,{"$f":"AVERAGE(AE21:AJ21)","v":5.6416666666666666},5,4.5999999999999996,4.9000000000000004,5.3,6.3,6.5,{"$f":"AVERAGE(AL21:AQ21)","v":5.4333333333333336},8.75,6.75,12.63,16.23,13.65,null,null,null,null,null,null,null,null,null,null,null,null,0,0,0.15214180206794684,0,0,9.1703056768558847E-2,0,3.1746031746031772E-2,0.19631901840490792,-2.1505376344085947E-2,-0.15896487985212571]
[null,19,2.2999999999999998,2.2999999999999998,2.35,2.9,3,3,2.57,4.0999999999999996,4.0999999999999996,4.2,4.8,5.0999999999999996,5.0999999999999996,{"$f":"AVERAGE(J22:O22)","v":4.5666666666666664},4.8,5.3,5.5,5.9,6.8,7.1,{"$f":"AVERAGE(Q22:V22)","v":5.8999999999999995},10.8,10.4,10.6,12,12.5,12.5,{"$f":"AVERAGE(X22:AC22)","v":11.466666666666669},5,4.9000000000000004,5.15,5.8,6.5,6.5,{"$f":"AVERAGE(AE22:AJ22)","v":5.6416666666666666},5,4.5999999999999996,4.9000000000000004,5.3,6.3,6.5,{"$f":"AVERAGE(AL22:AQ22)","v":5.4333333333333336},8.85,6.8,12.53,16.05,13.3,null,null,null,null,null,null,null,null,null,null,null,null,0,0,0.15214180206794684,0,0,9.0116279069767255E-2,0,3.1746031746031772E-2,0.19631901840490792,-2.5641025641025616E-2,-0.17133956386292834]
[null,20,2.2999999999999998,2.2999999999999998,2.35,2.9,3,3,2.57,4.0999999999999996,4.0999999999999996,4.2,4.8,5.0999999999999996,5.0999999999999996,{"$f":"AVERAGE(J23:O23)","v":4.5666666666666664},4.8,5.3,5.5,5.9,6.8,7.1,{"$f":"AVERAGE(Q23:V23)","v":5.8999999999999995},10.8,10.4,10.6,12,12.5,12.5,{"$f":"AVERAGE(X23:AC23)","v":11.466666666666669},5,4.9000000000000004,5.15,5.8,6.5,6.5,{"$f":"AVERAGE(AE23:AJ23)","v":5.6416666666666666},4.8,4.5999999999999996,4.9000000000000004,5.3,6.2,6.5,{"$f":"AVERAGE(AL23:AQ23)","v":5.3833333333333329},8.82,7.05,12.5,15.8,12.76,null,null,null,null,null,null,null,null,null,null,null,null,0,0,0.15214180206794684,0,0,9.0116279069767255E-2,0,4.8387096774193519E-2,0.20743034055727566,-4.0601503759398562E-2,-0.19240506329113929]
[null,21,2.2999999999999998,2.2999999999999998,2.35,2.9,3,3,2.57,4.0999999999999996,4.0999999999999996,4.2,4.8,5.0999999999999996,5.0999999999999996,{"$f":"AVERAGE(J24:O24)","v":4.5666666666666664},4.8,5.3,5.5,5.9,6.8,7.1,{"$f":"AVERAGE(Q24:V24)","v":5.8999999999999995},10.8,10.4,10.6,12,12.5,12.5,{"$f":"AVERAGE(X24:AC24)","v":11.466666666666669},5,4.9000000000000004,5.15,5.8,6.5,6.5,{"$f":"AVERAGE(AE24:AJ24)","v":5.6416666666666666},4.8,4.5999999999999996,4.9000000000000004,5.3,6.2,6.5,{"$f":"AVERAGE(AL24:AQ24)","v":5.3833333333333329},8.6,7.38,12.48,15.4,12.23,null,null,null,null,null,null,null,null,null,null,null,null,0,0,0.15214180206794684,0,0,9.0116279069767255E-2,0,4.8387096774193519E-2,0.20743034055727566,-4.1536050156739765E-2,-0.20584415584415583]
["M",22,2.2999999999999998,2.2999999999999998,2.35,2.9,3,3,2.57,4.0999999999999996,4.0999999999999996,4.2,4.8,5.0999999999999996,5.0999999999999996,{"$f":"AVERAGE(J25:O25)","v":4.5666666666666664},4.8,5.3,5.5,5.9,6.8,7.1,{"$f":"AVERAGE(Q25:V25)","v":5.8999999999999995},10.8,10.4,10.6,12,12.5,12.5,{"$f":"AVERAGE(X25:AC25)","v":11.466666666666669},5,4.9000000000000004,5.15,5.8,6.5,6.5,{"$f":"AVERAGE(AE25:AJ25)","v":5.6416666666666666},4.8,4.5999999999999996,4.7,5.3,5.9,6.5,{"$f":"AVERAGE(AL25:AQ25)","v":5.3},8.2799999999999994,7.58,12.38,14.86,null,null,null,null,null,null,null,null,null,null,null,null,null,0,0,0.15214180206794684,0,0,9.0116279069767255E-2,0,0.10169491525423723,0.22641509433962267,-1,-1]
[null,23,2.2999999999999998,2.2999999999999998,2.35,3,3,null,2.59,4.0999999999999996,4.0999999999999996,4.2,4.9000000000000004,5.0999999999999996,null,4.4799999999999995,4.8,5.3,5.5,5.9,6.8,null,5.66,10.8,10.4,10.6,12,12.5,null,11.260000000000002,5,4.9000000000000004,5.15,5.8,6.5,null,{"$f":"AVERAGE(AE26:AI26)","v":5.4700000000000006},4.5,4.4000000000000004,4.5,5.3,5.9,null,4.92,7.83,7.6,11.98,14.34,null,null,null,null,null,null,null,null,null,null,null,null,null,-1,-1,-1,-1,-1,-1,-1,-1,-1,{"$error":"#DIV/0!"},-1]
[null,24,2.2999999999999998,2.2999999999999998,2.35,3,3,null,2.59,4.0999999999999996,4.0999999999999996,4.2,4.9000000000000004,5.0999999999999996,null,4.4799999999999995,4.8,5.4,5.5,5.9,6.8,null,5.6800000000000006,10.8,10.4,10.6,12,12.5,null,11.260000000000002,5,4.9000000000000004,5.15,5.8,6.5,null,5.4700000000000006,4.5,4.4000000000000004,4.5,5.3,5.8,null,4.9000000000000004,7.35,7.51,11.78,13.8,null,null,null,null,null,null,null,null,null,null,null,null,null,{"$error":"#DIV/0!"},-1,-1,{"$error":"#DIV/0!"},-1,-1,{"$error":"#DIV/0!"},-1,-1,{"$error":"#DIV/0!"},-1]
[null,25,2.2999999999999998,2.2000000000000002,2.35,3,3,null,2.57,4.0999999999999996,4,4.2,4.9000000000000004,5.0999999999999996,null,4.4600000000000009,4.8,5.4,5.5,5.9,6.8,null,5.6800000000000006,10.8,10.4,10.6,12,12.5,null,11.260000000000002,5,4.9000000000000004,5.15,5.8,6.5,null,5.4700000000000006,4.3,4.3,4.4000000000000004,5.3,5.8,null,4.82,6.96,7.18,11.78,13.2,null,null,null,null,null,null,null,null,null,null,null,null,null,{"$error":"#DIV/0!"},-1,-1,{"$error":"#DIV/0!"},-1,-1,{"$error":"#DIV/0!"},-1,-1,{"$error":"#DIV/0!"},-1]
["J",26,2.2999999999999998,2.2000000000000002,2.35,3,3,null,2.57,4.0999999999999996,4,4.2,4.9000000000000004,5.0999999999999996,null,4.4600000000000009,4.8,5.4,5.5,5.9,6.8,null,5.6800000000000006,10.8,10.4,10.6,12,12.5,null,11.260000000000002,5,4.9000000000000004,5.15,5.8,6.5,null,5.4700000000000006,4.0999999999999996,4.3,4.4000000000000004,5.3,5.8,null,4.7799999999999994,6.74,6.78,11.78,12.45,null,null,null,null,null,null,null,null,null,null,null,null,null,{"$error":"#DIV/0!"},-1,-1,{"$error":"#DIV/0!"},-1,-1,{"$error":"#DIV/0!"},-1,-1,{"$error":"#DIV/0!"},-1]
[null,27,2.2999999999999998,2.2000000000000002,2.35,3,3,null,2.57,4.0999999999999996,4,4.2,4.9000000000000004,5.0999999999999996,null,4.4600000000000009,4.8,5.4,5.5,5.9,6.8,null,5.6800000000000006,10.8,10.4,10.6,12,12.5,null,11.260000000000002,5,4.9000000000000004,5.15,5.8,6.5,null,5.4700000000000006,3.8,4.3,4.4000000000000004,5.3,5.7,null,4.7,6.63,6.47,11.78,11.7,null,null,null,null,null,null,null,null,null,null,null,null,null,{"$error":"#DIV/0!"},-1,-1,{"$error":"#DIV/0!"},-1,-1,{"$error":"#DIV/0!"},-1,-1,{"$error":"#DIV/0!"},-1]
[null,28,2.2999999999999998,2.2000000000000002,2.35,3,3,null,2.57,4.0999999999999996,4,4.2,4.9000000000000004,5.0999999999999996,null,4.4600000000000009,4.8,5.4,5.5,5.9,6.8,null,5.6800000000000006,10.8,10.4,10.6,12,12.5,null,11.260000000000002,5,4.9000000000000004,5.15,5.8,6.5,null,5.4700000000000006,3.8,4.3,4.4000000000000004,5.3,5.7,null,4.7,6.63,6.38,11.93,11.23,null,null,null,null,null,null,null,null,null,null,null,null,null,{"$error":"#DIV/0!"},-1,-1,{"$error":"#DIV/0!"},-1,-1,{"$error":"#DIV/0!"},-1,-1,{"$error":"#DIV/0!"},-1]
[null,29,2.2999999999999998,2.2000000000000002,2.35,3,3,null,2.57,4.0999999999999996,4,4.2,4.9000000000000004,5.0999999999999996,null,4.4600000000000009,4.8,5.4,5.5,5.9,6.8,null,5.6800000000000006,10.8,10.4,10.6,12,12.5,null,11.260000000000002,5,4.9000000000000004,5.15,5.8,6.5,null,5.4700000000000006,3.8,4.3,4.4000000000000004,5.2,5.7,null,4.68,6.53,6.43,12.159999847412109,10.75,null,null,null,null,null,null,null,null,null,null,null,null,null,{"$error":"#DIV/0!"},-1,-1,{"$error":"#DIV/0!"},-1,-1,{"$error":"#DIV/0!"},-1,-1,{"$error":"#DIV/0!"},-1]
["J",30,2.2999999999999998,2.2000000000000002,2.35,3,3,null,2.57,4.0999999999999996,4,4.2,4.9000000000000004,5.0999999999999996,null,4.4600000000000009,4.8,5.4,5.5,5.9,6.8,null,5.6800000000000006,10.8,10.4,10.6,12,12.5,null,11.260000000000002,5,4.9000000000000004,5.15,5.8,6.5,null,5.4700000000000006,3.8,4.3,4.4000000000000004,5.2,5.7,null,4.68,6.28,6.51,12.460000038146973,10.050000000000001,null,null,null,null,null,null,null,null,null,null,null,null,null,{"$error":"#DIV/0!"},-1,-1,{"$error":"#DIV/0!"},-1,-1,{"$error":"#DIV/0!"},-1,-1,{"$error":"#DIV/0!"},-1]
[null,31,2.2999999999999998,2.2000000000000002,2.35,3,3,null,2.57,4.0999999999999996,4,4.2,4.9000000000000004,5.0999999999999996,null,4.4600000000000009,4.8,5.4,5.5,5.9,6.8,null,5.6800000000000006,10.8,10.4,10.6,12,12.5,null,11.260000000000002,5,4.9000000000000004,5.15,5.8,6.5,null,5.4700000000000006,3.8,4.3,4.4000000000000004,5.2,5.7,null,4.68,5.98,6.68,12.649999618530273,9.4499999999999993,null,null,null,null,null,null,null,null,null,null,null,null,null,{"$error":"#DIV/0!"},-1,-1,{"$error":"#DIV/0!"},-1,-1,{"$error":"#DIV/0!"},-1,-1,{"$error":"#DIV/0!"},-1]
[null,32,2.2999999999999998,2.2000000000000002,2.35,3,3,null,2.57,4.0999999999999996,4,4.2,4.9000000000000004,5.0999999999999996,null,4.4600000000000009,4.8,5.4,5.5,5.9,6.8,null,5.6800000000000006,10.8,10.4,10.6,12,12.5,null,11.260000000000002,5,4.9000000000000004,5.15,5.8,6.5,null,5.4700000000000006,3.6,4.3,4.4000000000000004,5.2,5.7,null,4.6399999999999997,5.8,6.98,12.869999885559082,9.25,null,null,null,null,null,null,null,null,null,null,null,null,null,{"$error":"#DIV/0!"},-1,-1,{"$error":"#DIV/0!"},-1,-1,{"$error":"#DIV/0!"},-1,-1,{"$error":"#DIV/0!"},-1]
[null,33,2.2999999999999998,2.2000000000000002,2.35,3,3,null,2.57,4.0999999999999996,4,4.2,4.9000000000000004,5.0999999999999996,null,4.4600000000000009,4.8,5.4,5.5,5.9,6.8,null,5.6800000000000006,10.8,10.4,10.6,12,12.5,null,11.260000000000002,5,4.9000000000000004,5.15,5.8,6.5,null,5.4700000000000006,3.6,4.3,4.4000000000000004,5.2,5.7,null,4.6399999999999997,5.8,7.39,13.020000457763672,9.23,null,null,null,null,null,null,null,null,null,null,null,null,null,{"$error":"#DIV/0!"},-1,-1,{"$error":"#DIV/0!"},-1,{"$f":"(AC36-AD36)/AD36","v":-1},{"$error":"#DIV/0!"},-1,-1,{"$error":"#DIV/0!"},-1]
[null,34,2.2999999999999998,2.2000000000000002,2.35,3,3,null,2.57,4.0999999999999996,4,4.2,4.9000000000000004,5.0999999999999996,null,4.4600000000000009,4.8,5.4,5.5,5.9,6.8,null,5.6800000000000006,10.8,10.4,10.6,12,12.5,null,11.260000000000002,5,4.9000000000000004,5.15,5.8,6.5,null,5.4700000000000006,3.6,4.3,4.4000000000000004,5.2,5.7,null,4.6399999999999997,5.8,7.83,13.100000381469727,9.42,null,null,null,null,null,null,null,null,null,null,null,null,null,{"$error":"#DIV/0!"},-1,-1,{"$error":"#DIV/0!"},-1,-1,{"$error":"#DIV/0!"},-1,-1,{"$error":"#DIV/0!"},-1]
["A",35,2.2999999999999998,2.2000000000000002,2.35,3,3,null,2.57,4.0999999999999996,4,4.2,4.9000000000000004,5.0999999999999996,null,4.4600000000000009,4.8,5.4,5.5,6,6.8,null,5.7,10.8,10.4,10.6,12,12.5,null,11.260000000000002,5,4.9000000000000004,5.15,5.8,6.5,null,5.4700000000000006,3.9,4.5,4.4000000000000004,5.2,5.7,null,4.74,5.95,8.14,13.260000228881836,9.77,null,null,null,null,null,null,null,null,null,null,null,null,null,{"$error":"#DIV/0!"},-1,-1,{"$error":"#DIV/0!"},-1,-1,{"$error":"#DIV/0!"},-1,-1,{"$error":"#DIV/0!"},-1]
[null,36,2.2999999999999998,2.2000000000000002,2.35,3,3,null,2.57,4.0999999999999996,4,4.2,5,5.0999999999999996,null,4.4799999999999995,4.8,5.4,5.5,6.4,6.8,null,5.78,10.8,10.4,10.6,12,12.5,null,11.260000000000002,5,4.9000000000000004,5.15,5.8,6.5,null,5.4700000000000006,3.9,4.5999999999999996,4.4000000000000004,5.2,5.7,null,4.76,6.28,8.35,13.520000457763672,10.119999999999999,null,null,null,null,null,null,null,null,null,null,null,null,null,{"$error":"#DIV/0!"},-1,-1,{"$error":"#DIV/0!"},-1,-1,{"$error":"#DIV/0!"},-1,-1,{"$error":"#DIV/0!"},-1]
[null,37,2.2999999999999998,2.2000000000000002,2.35,3,3,null,2.57,4.0999999999999996,4,4.2,5.0999999999999996,5.0999999999999996,null,4.5,4.8,5.4,5.5,6.5,6.8,null,5.8,10.8,10.4,10.6,12,12.5,null,11.260000000000002,5,4.9000000000000004,5.15,5.9,6.5,null,5.49,3.9,4.7,4.4000000000000004,5.3,5.7,null,4.8,6.7,8.58,13.75,10.5,null,null,null,null,null,null,null,null,null,null,null,null,null,{"$error":"#DIV/0!"},-1,-1,{"$error":"#DIV/0!"},-1,-1,{"$error":"#DIV/0!"},-1,-1,{"$error":"#DIV/0!"},-1]
[null,38,2.2999999999999998,2.2000000000000002,2.35,3,3,null,2.57,4.0999999999999996,4,4.2,5.0999999999999996,5.0999999999999996,null,4.5,4.8,5.4,5.5,6.6,6.8,null,5.8199999999999994,10.8,10.4,10.6,12,12.5,null,11.260000000000002,5,4.9000000000000004,5.15,5.9,6.5,null,5.49,4.3,4.7,4.4000000000000004,5.4,5.7,null,4.9000000000000004,6.97,8.77,14.050000190734863,10.82,null,null,null,null,null,null,null,null,null,null,null,null,null,{"$error":"#DIV/0!"},-1,-1,{"$error":"#DIV/0!"},-1,-1,{"$error":"#DIV/0!"},-1,-1,{"$error":"#DIV/0!"},-1]
["S",39,2.2999999999999998,2.2000000000000002,2.35,3,3,null,2.57,4.0999999999999996,4,4.2,5.0999999999999996,5.0999999999999996,null,4.5,5.0199999999999996,5.4,5.5,6.7,6.8,null,5.8840000000000003,10.8,10.4,10.6,12,12.5,null,11.260000000000002,5,4.9000000000000004,5.15,5.9,6.5,null,5.49,4.5,4.7,4.4000000000000004,5.4,5.7,null,4.9399999999999995,6.99,8.7799999999999994,14.329999923706055,10.98,null,null,null,null,null,null,null,null,null,null,null,null,null,{"$error":"#DIV/0!"},-1,-1,{"$error":"#DIV/0!"},-1,-1,{"$error":"#DIV/0!"},-1,-1,{"$error":"#DIV/0!"},-1]
[null,40,2.2999999999999998,2.2000000000000002,2.35,3,3,null,2.57,4.0999999999999996,4,4.2,5.0999999999999996,5.0999999999999996,null,4.5,5.0999999999999996,5.4,5.5,6.7,6.8,null,5.9,10.8,10.4,10.6,12,12.5,null,11.260000000000002,5,4.9000000000000004,5.15,5.9,6.5,null,5.49,4.9000000000000004,4.7,4.4000000000000004,5.6,5.7,null,5.0600000000000005,6.64,8.7799999999999994,14.5,11.18,null,null,null,null,null,null,null,null,null,null,null,null,null,{"$error":"#DIV/0!"},-1,-1,{"$error":"#DIV/0!"},-1,-1,{"$error":"#DIV/0!"},-1,-1,{"$error":"#DIV/0!"},-1]
[null,41,2.2999999999999998,2.2000000000000002,2.35,3,3,null,2.57,4.0999999999999996,4,4.2,5.0999999999999996,5.0999999999999996,null,4.5,5.0999999999999996,5.4,5.5,6.7,6.8,null,5.9,10.8,10.4,10.6,12,12.5,null,11.260000000000002,5,4.9000000000000004,5.15,5.9,6.5,null,5.49,4.9000000000000004,4.7,4.4000000000000004,5.6,5.7,null,5.0600000000000005,6.22,8.7799999999999994,14.640000343322754,11.44,null,null,null,null,null,null,null,null,null,null,null,null,null,{"$error":"#DIV/0!"},-1,-1,{"$error":"#DIV/0!"},-1,-1,{"$error":"#DIV/0!"},-1,-1,{"$error":"#DIV/0!"},-1]
[null,42,2.2999999999999998,2.2000000000000002,2.35,3,3,null,{"$f":"AVERAGE(C45:G45)","v":2.57},4.0999999999999996,4,4.2,5.0999999999999996,5.0999999999999996,null,4.5,5.25,5.4,5.5,6.7,6.8,null,5.93,10.8,10.4,10.6,12,12.5,null,11.260000000000002,5,4.9000000000000004,5.15,5.9,6.5,null,5.49,4.9000000000000004,5.2,4.5,5.6,5.8,null,5.2000000000000011,5.82,8.7799999999999994,14.800000190734863,11.73,null,null,null,null,null,null,null,null,null,null,null,null,null,{"$error":"#DIV/0!"},-1,-1,{"$error":"#DIV/0!"},-1,-1,{"$error":"#DIV/0!"},-1,-1,{"$error":"#DIV/0!"},-1]
[null,43,2.2999999999999998,2.2000000000000002,2.35,3,3,null,2.57,4.0999999999999996,4,4.2,5.0999999999999996,5.0999999999999996,null,4.5,5.3,5.4,5.5,6.7,6.9,null,5.9599999999999991,10.8,10.4,10.6,12,12.5,null,11.260000000000002,5,4.9000000000000004,5.15,5.9,6.5,null,5.49,4.9000000000000004,5.2,4.5,5.6,6.1,null,5.2600000000000007,5.31,8.65,14.899999618530273,12.09,null,null,null,null,null,null,null,null,null,null,null,null,null,{"$error":"#DIV/0!"},-1,-1,{"$error":"#DIV/0!"},-1,-1,{"$error":"#DIV/0!"},-1,-1,{"$error":"#DIV/0!"},-1]
["O",44,2.2999999999999998,2.2000000000000002,2.35,3,3,null,2.57,4.0999999999999996,4,4.2,5.0999999999999996,5.0999999999999996,null,4.5,5.3,5.4,5.5,6.7,6.9,null,5.9599999999999991,10.8,10.4,10.7,12,12.5,null,11.280000000000001,5,4.9000000000000004,5.15,5.9,6.5,null,5.49,4.9000000000000004,5.2,4.9000000000000004,6,6.3,null,5.46,5.37,8.42,14.989999771118164,12.51,null,null,null,null,null,null,null,null,null,null,null,null,null,{"$error":"#DIV/0!"},-1,-1,{"$error":"#DIV/0!"},-1,-1,{"$error":"#DIV/0!"},-1,-1,{"$error":"#DIV/0!"},-1]
[null,45,2.2999999999999998,2.2000000000000002,2.35,3,3,null,2.57,4.0999999999999996,4,4.2,5.0999999999999996,5.0999999999999996,null,4.5,5.3,5.4,5.5,6.7,6.9,null,5.9599999999999991,10.8,10.4,10.7,12,12.5,null,11.280000000000001,5,4.9000000000000004,5.15,5.9,6.5,null,5.49,4.9000000000000004,5.2,4.9000000000000004,6.3,6,null,5.46,5.93,8.35,15.050000190734863,13.11,null,null,null,null,null,null,null,null,null,null,null,null,null,{"$error":"#DIV/0!"},-1,-1,{"$error":"#DIV/0!"},-1,-1,{"$error":"#DIV/0!"},-1,-1,{"$error":"#DIV/0!"},-1]
[null,46,2.2999999999999998,2.2000000000000002,2.35,3,3,null,2.57,4.0999999999999996,4,4.2,5.0999999999999996,5.0999999999999996,null,4.5,5.3,5.4,5.5,6.7,6.9,null,5.9599999999999991,10.8,10.4,10.7,12,12.5,null,11.280000000000001,5,4.9000000000000004,5.15,5.9,6.5,null,5.49,4.9000000000000004,5.2,4.9000000000000004,6.4,6.5,null,5.58,6.27,8.4700000000000006,15.109999656677246,13.63,null,null,null,null,null,null,null,null,null,null,null,null,null,{"$error":"#DIV/0!"},-1,-1,{"$error":"#DIV/0!"},-1,-1,{"$error":"#DIV/0!"},-1,-1,{"$error":"#DIV/0!"},-1]
[null,47,2.2999999999999998,2.2000000000000002,2.35,3,3,null,2.57,4.0999999999999996,4,4.2,5.0999999999999996,5.0999999999999996,null,4.5,5.3,5.4,5.5,6.8,7,null,{"$f":"AVERAGE(Q50:U50)","v":6},10.8,10.4,10.7,12,12.5,null,11.280000000000001,5,4.9000000000000004,5.15,5.9,6.5,null,5.49,4.9000000000000004,5.2,4.9000000000000004,6.4,6.5,null,5.58,6.1,8.7799999999999994,15.159999847412109,13.89,null,null,null,null,null,null,null,null,null,null,null,null,null,{"$error":"#DIV/0!"},-1,-1,{"$error":"#DIV/0!"},-1,-1,{"$error":"#DIV/0!"},-1,-1,{"$error":"#DIV/0!"},-1]
["N",48,2.2999999999999998,2.2000000000000002,2.35,3,3,null,2.57,4.0999999999999996,4,4.2,5.0999999999999996,5.0999999999999996,null,4.5,5.3,5.4,5.5,6.8,7,null,{"$f":"AVERAGE(Q51:U51)","v":6},10.8,10.4,10.7,12,12.5,null,11.280000000000001,5,4.9000000000000004,5.15,6,6.5,null,5.51,4.9000000000000004,5.2,4.9000000000000004,6.4,6.5,null,5.58,5.9,9.0399999999999991,15.229999542236328,14,null,null,null,null,null,null,null,null,null,null,null,null,null,{"$error":"#DIV/0!"},-1,-1,{"$error":"#DIV/0!"},-1,-1,{"$error":"#DIV/0!"},-1,-1,{"$error":"#DIV/0!"},-1]
[null,49,2.2999999999999998,2.2000000000000002,2.35,3,3,null,2.57,4.0999999999999996,4,4.2,5.0999999999999996,5.0999999999999996,null,4.5,5.3,5.4,5.5,6.8,7,null,6,10.8,10.4,10.7,12.3,12.5,null,11.34,5,4.9000000000000004,5.15,6.1,6.5,null,5.5299999999999994,4.9000000000000004,5.2,5,6.4,6.5,null,5.6,5.85,9.17,15.289999961853027,14.12,null,null,null,null,null,null,null,null,null,null,null,null,null,{"$error":"#DIV/0!"},-1,-1,{"$error":"#DIV/0!"},-1,-1,{"$error":"#DIV/0!"},-1,-1,{"$error":"#DIV/0!"},-1]
[null,50,2.2999999999999998,2.2000000000000002,2.35,3,3,null,2.57,4.0999999999999996,4,4.2,5.0999999999999996,5.0999999999999996,null,4.5,5.3,5.4,5.5,6.8,7,null,6,10.8,10.4,10.7,12.3,12.5,null,11.34,5,4.9000000000000004,5.15,6.1,6.5,null,5.5299999999999994,4.9000000000000004,5.3,5,6.4,6.5,null,5.62,5.85,9.4499999999999993,15.359999656677246,14.26,null,null,null,null,null,null,null,null,null,null,null,null,null,{"$error":"#DIV/0!"},-1,-1,{"$error":"#DIV/0!"},-1,-1,{"$error":"#DIV/0!"},-1,-1,{"$error":"#DIV/0!"},-1]
[null,51,2.2999999999999998,2.2000000000000002,2.35,3,3,null,2.57,4.0999999999999996,4,4.2,5.0999999999999996,5.0999999999999996,null,4.5,5.3,5.4,5.5,6.8,7,null,6,10.8,10.4,10.7,12.3,12.5,null,11.34,5,4.9000000000000004,5.15,6.4,6.5,null,5.5900000000000007,4.9000000000000004,5.3,5,6.4,6.5,null,5.62,null,9.6,15.380000114440918,14.34,null,null,null,null,null,null,null,null,null,null,null,null,null,{"$error":"#DIV/0!"},-1,-1,{"$error":"#DIV/0!"},-1,-1,{"$error":"#DIV/0!"},-1,-1,{"$error":"#DIV/0!"},-1]
["D",52,2.2999999999999998,2.2000000000000002,2.35,3,3,null,2.57,4.0999999999999996,4,4.2,5.0999999999999996,5.0999999999999996,null,4.5,5.3,5.4,5.5,6.8,7,null,6,10.8,10.4,10.7,12.3,12.5,null,11.34,5,4.9000000000000004,5.15,6.5,6.5,null,5.61,4.9000000000000004,5.3,5,6.4,6.5,null,5.62,null,9.4700000000000006,15.380000114440918,14.41,null,null,null,null,null,null,null,null,null,null,null,null,null,{"$error":"#DIV/0!"},-1,-1,{"$error":"#DIV/0!"},-1,-1,{"$error":"#DIV/0!"},-1,-1,{"$error":"#DIV/0!"},-1]

{"sheet":"GraphVolaillesOeufsLapins","index":32,"n_rows":152,"n_cols":13,"rows_kept":152,"cut":false,"hidden":false,"merged":[[98,8,99,8],[115,0,115,8],[117,8,118,8],[136,8,137,8],[3,8,4,8],[21,0,21,6],[22,8,23,8],[41,8,42,8],[60,8,61,8],[79,8,80,8]]}
[null,null,null,null,null,null,null,null,null,null,null,null,{"$f":"VolaillesLapinsOeufs!A1","v":"Mis à jour : 30/04/2024"}]
["Cotation"]
["Poulet prêt à cuire frais standard",null,null,null,null,null,null,"Moyennes mensuelles    €/Kg net"]
[null,2019,2020,2021,2022,2023,2024,null,"Moyenne quinquennale"]
[null,"N-5","N-4","N-3","N-2","N-1","N","N/N-1"]
["Janvier",2.2999999999999998,2.2999999999999998,2.2000000000000002,2.35,3,{"$f":"IF((VolaillesLapinsOeufs!AZ3)>0,VolaillesLapinsOeufs!AZ3,NA())","v":3},{"$f":"IF(G6=\"\",NA(),(G6-F6)/F6)","v":0},{"$f":"SUMIF(B6:F6,\"<>#N/A\",B6:F6)/COUNTIF(B6:F6,\"<>#N/A\")","v":2.4300000000000002}]
["Février",2.2999999999999998,2.2999999999999998,2.2749999999999999,2.35,3,{"$f":"IF((VolaillesLapinsOeufs!AZ4)>0,VolaillesLapinsOeufs!AZ4,NA())","v":3},0,2.4449999999999998]
["Mars",2.2999999999999998,2.3125,2.35,2.52,3,{"$f":"IF((VolaillesLapinsOeufs!AZ5)>0,VolaillesLapinsOeufs!AZ5,NA())","v":3},0,2.4965000000000002]
["Avril",2.2999999999999998,2.31,2.35,2.75,3,{"$f":"IF((VolaillesLapinsOeufs!AZ6)>0,VolaillesLapinsOeufs!AZ6,NA())","v":3},0,2.5419999999999998]
["Mai",2.2999999999999998,2.2999999999999998,2.35,2.8625000000000003,3,{"$f":"IF((VolaillesLapinsOeufs!AZ7)>0,VolaillesLapinsOeufs!AZ7,NA())","v":3},0,2.5625]
["Juin",2.2999999999999998,2.25,2.35,2.98,3,{"$f":"IF((VolaillesLapinsOeufs!AZ8)>0,VolaillesLapinsOeufs!AZ8,NA())","v":{"$error":"#N/A"}},{"$error":"#N/A"},2.5760000000000001]
["Juillet",2.2999999999999998,2.2000000000000002,2.35,3,3,{"$f":"IF((VolaillesLapinsOeufs!AZ9)>0,VolaillesLapinsOeufs!AZ9,NA())","v":{"$error":"#N/A"}},{"$error":"#N/A"},2.57]
["Août",2.2999999999999998,2.2000000000000002,2.35,3,3,{"$f":"IF((VolaillesLapinsOeufs!AZ10)>0,VolaillesLapinsOeufs!AZ10,NA())","v":{"$error":"#N/A"}},{"$error":"#N/A"},2.57]
["Septembre",2.2999999999999998,2.2000000000000002,2.35,3,3,{"$f":"IF((VolaillesLapinsOeufs!AZ11)>0,VolaillesLapinsOeufs!AZ11,NA())","v":{"$error":"#N/A"}},{"$error":"#N/A"},2.57]
["Octobre",2.2999999999999998,2.2000000000000002,2.35,3,3,{"$f":"IF((VolaillesLapinsOeufs!AZ12)>0,VolaillesLapinsOeufs!AZ12,NA())","v":{"$error":"#N/A"}},{"$error":"#N/A"},2.57]
["Novembre",2.2999999999999998,2.2000000000000002,2.35,3,3,{"$f":"IF((VolaillesLapinsOeufs!AZ13)>0,VolaillesLapinsOeufs!AZ13,NA())","v":{"$error":"#N/A"}},{"$error":"#N/A"},2.57]
["Décembre",2.2999999999999998,2.2000000000000002,2.35,3,{"$error":"#N/A"},{"$f":"IF((VolaillesLapinsOeufs!AZ14)>0,VolaillesLapinsOeufs!AZ14,NA())","v":{"$error":"#N/A"}},{"$error":"#N/A"},2.4624999999999999]
["Moyenne",{"$f":"AVERAGE(B6:B17)","v":2.3000000000000003},2.2477083333333332,2.3312500000000003,2.8177083333333335,3,{"$f":"SUMIF(G6:G17,\"<>#N/A\",G6:G17)/COUNTIF(G6:G17,\"<>#N/A\")","v":3},{"$f":"SUMIF(H6:H17,\"<>#N/A\",H6:H17)/COUNTIF(H6:H17,\"<>#N/A\")","v":0},{"$f":"SUMIF(I6:I17,\"<>#N/A\",I6:I17)/COUNTIF(I6:I17,\"<>#N/A\")","v":2.5303749999999998}]
["Source : FranceAgriMer – RNM  :   Prix relevés sur le marché de Rungis"]
[]
["Cotation"]
["poulet frais prêt à cuire label",null,null,null,null,null,null,"Moyennes mensuelles    €/Kg net"]
[null,2019,2020,2021,2022,2023,2024,null,"Moyenne quinquennale"]
[null,"N-5","N-4","N-3","N-2","N-1","N","N/N-1"]
["Janvier",4.0999999999999996,4.0999999999999996,4,4.2,5.0999999999999996,{"$f":"IF((VolaillesLapinsOeufs!BA3)>0,VolaillesLapinsOeufs!BA3,NA())","v":5.0999999999999996},{"$f":"IF(G25=\"\",NA(),(G25-F25)/F25)","v":0},{"$f":"SUMIF(B25:F25,\"<>#N/A\",B25:F25)/COUNTIF(B25:F25,\"<>#N/A\")","v":4.3}]
["Février",4.0999999999999996,4.0999999999999996,4.0125000000000002,4.2250000000000005,5.0999999999999996,{"$f":"IF((VolaillesLapinsOeufs!BA4)>0,VolaillesLapinsOeufs!BA4,NA())","v":5.0999999999999996},0,4.3075000000000001]
["Mars",4.0999999999999996,4.0999999999999996,4.1399999999999997,4.42,5.0999999999999996,{"$f":"IF((VolaillesLapinsOeufs!BA5)>0,VolaillesLapinsOeufs!BA5,NA())","v":5.0999999999999996},0,4.3719999999999999]
["Avril",4.0999999999999996,4.0999999999999996,4.2,4.7,5.0999999999999996,{"$f":"IF((VolaillesLapinsOeufs!BA6)>0,VolaillesLapinsOeufs!BA6,NA())","v":5.0999999999999996},0,4.4399999999999995]
["Mai",4.0999999999999996,4.0999999999999996,4.2,4.7750000000000004,5.0999999999999996,{"$f":"IF((VolaillesLapinsOeufs!BA7)>0,VolaillesLapinsOeufs!BA7,NA())","v":5.0999999999999996},0,4.4550000000000001]
["Juin",4.0999999999999996,4.05,4.2,4.88,5.0999999999999996,{"$f":"IF((VolaillesLapinsOeufs!BA8)>0,VolaillesLapinsOeufs!BA8,NA())","v":{"$error":"#N/A"}},{"$error":"#N/A"},4.4659999999999993]
["Juillet",4.0999999999999996,4,4.2,4.9000000000000004,5.0999999999999996,{"$f":"IF((VolaillesLapinsOeufs!BA9)>0,VolaillesLapinsOeufs!BA9,NA())","v":{"$error":"#N/A"}},{"$error":"#N/A"},4.4600000000000009]
["Août",4.0999999999999996,4,4.2,4.9000000000000004,5.0999999999999996,{"$f":"IF((VolaillesLapinsOeufs!BA10)>0,VolaillesLapinsOeufs!BA10,NA())","v":{"$error":"#N/A"}},{"$error":"#N/A"},4.4600000000000009]
["Septembre",4.0999999999999996,4,4.2,5.0400000000000009,5.0999999999999996,{"$f":"IF((VolaillesLapinsOeufs!BA11)>0,VolaillesLapinsOeufs!BA11,NA())","v":{"$error":"#N/A"}},{"$error":"#N/A"},4.4880000000000013]
["Octobre",4.0999999999999996,4,4.2,5.0999999999999996,5.0999999999999996,{"$f":"IF((VolaillesLapinsOeufs!BA12)>0,VolaillesLapinsOeufs!BA12,NA())","v":{"$error":"#N/A"}},{"$error":"#N/A"},4.5]
["Novembre",4.0999999999999996,4,4.2,5.0999999999999996,5.0999999999999996,{"$f":"IF((VolaillesLapinsOeufs!BA13)>0,VolaillesLapinsOeufs!BA13,NA())","v":{"$error":"#N/A"}},{"$error":"#N/A"},4.5]
["Décembre",4.0999999999999996,4,4.2,5.0999999999999996,{"$error":"#N/A"},{"$f":"IF((VolaillesLapinsOeufs!BA14)>0,VolaillesLapinsOeufs!BA14,NA())","v":{"$error":"#N/A"}},{"$error":"#N/A"},4.3499999999999996]
["Moyenne",{"$f":"AVERAGE(B25:B36)","v":4.1000000000000005},4.0458333333333334,4.1627083333333337,4.7783333333333333,5.1000000000000005,{"$f":"SUMIF(G25:G36,\"<>#N/A\",G25:G36)/COUNTIF(G25:G36,\"<>#N/A\")","v":5.0999999999999996},null,{"$f":"SUMIF(I25:I36,\"<>#N/A\",I25:I36)/COUNTIF(I25:I36,\"<>#N/A\")","v":4.4248750000000001}]
["Source : FranceAgriMer - RNM  :   Prix relevés sur le marché de Rungis"]
[]
["Cotation"]
["filet de dinde standard",null,null,"Moyennes mensuelles    €/Kg net"]
[null,2019,2020,2021,2022,2023,2024,null,"Moyenne quinquennale"]
[null,"N-5","N-4","N-3","N-2","N-1","N","N/N-1"]
["Janvier",4.7,5.3,5.4,5.5,6.8,{"$f":"IF((VolaillesLapinsOeufs!BB3)>0,VolaillesLapinsOeufs!BB3,NA())","v":7},{"$f":"IF(G44=\"\",NA(),(G44-F44)/F44)","v":2.941176470588238E-2},{"$f":"SUMIF(B44:F44,\"<>#N/A\",B44:F44)/COUNTIF(B44:F44,\"<>#N/A\")","v":5.54}]
["Février",4.75,5.3,5.4749999999999996,5.5,6.8,{"$f":"IF((VolaillesLapinsOeufs!BB4)>0,VolaillesLapinsOeufs!BB4,NA())","v":7.0600000000000005},3.8235294117647159E-2,5.5649999999999995]
["Mars",4.88,5.3,5.5,5.58,6.8,{"$f":"IF((VolaillesLapinsOeufs!BB5)>0,VolaillesLapinsOeufs!BB5,NA())","v":7.1},4.4117647058823505E-2,5.6120000000000001]
["Avril",4.8,5.3,5.5,5.875,6.8,{"$f":"IF((VolaillesLapinsOeufs!BB6)>0,VolaillesLapinsOeufs!BB6,NA())","v":7.1},4.4117647058823505E-2,5.6550000000000002]
["Mai",4.8,5.3,5.5,5.9,6.8,{"$f":"IF((VolaillesLapinsOeufs!BB7)>0,VolaillesLapinsOeufs!BB7,NA())","v":7.1},4.4117647058823505E-2,5.66]
["Juin",4.8,5.375,5.5,5.9,6.8,{"$f":"IF((VolaillesLapinsOeufs!BB8)>0,VolaillesLapinsOeufs!BB8,NA())","v":{"$error":"#N/A"}},{"$error":"#N/A"},5.6750000000000007]
["Juillet",4.8,5.4,5.5,5.9,6.8,{"$f":"IF((VolaillesLapinsOeufs!BB9)>0,VolaillesLapinsOeufs!BB9,NA())","v":{"$error":"#N/A"}},{"$error":"#N/A"},5.6800000000000006]
["Août",4.8,5.4,5.5,5.9,6.8,{"$f":"IF((VolaillesLapinsOeufs!BB10)>0,VolaillesLapinsOeufs!BB10,NA())","v":{"$error":"#N/A"}},{"$error":"#N/A"},5.6800000000000006]
["Septembre",4.8600000000000003,5.4,5.5,6.44,6.8,{"$f":"IF((VolaillesLapinsOeufs!BB11)>0,VolaillesLapinsOeufs!BB11,NA())","v":{"$error":"#N/A"}},{"$error":"#N/A"},5.8000000000000007]
["Octobre",5.21,5.4,5.5,6.7,6.8249999999999993,{"$f":"IF((VolaillesLapinsOeufs!BB12)>0,VolaillesLapinsOeufs!BB12,NA())","v":{"$error":"#N/A"}},{"$error":"#N/A"},5.9269999999999996]
["Novembre",5.3,5.4,5.5,6.7250000000000005,6.94,{"$f":"IF((VolaillesLapinsOeufs!BB13)>0,VolaillesLapinsOeufs!BB13,NA())","v":{"$error":"#N/A"}},{"$error":"#N/A"},5.9730000000000008]
["Décembre",5.3,5.4,5.5,6.75,{"$error":"#N/A"},{"$f":"IF((VolaillesLapinsOeufs!BB14)>0,VolaillesLapinsOeufs!BB14,NA())","v":{"$error":"#N/A"}},{"$error":"#N/A"},5.7374999999999998]
["Moyenne",{"$f":"AVERAGE(B44:B55)","v":4.9166666666666661},5.3562499999999993,5.489583333333333,6.0558333333333323,6.8149999999999986,{"$f":"SUMIF(G44:G55,\"<>#N/A\",G44:G55)/COUNTIF(G44:G55,\"<>#N/A\")","v":7.0720000000000001},null,{"$f":"SUMIF(I44:I55,\"<>#N/A\",I44:I55)/COUNTIF(I44:I55,\"<>#N/A\")","v":5.7087083333333339}]
["Source : FranceAgriMer - RNM  :   Prix relevés sur le marché de Rungis"]
[]
["Cotation"]
["Filet de canard de Barbarie",null,null,"Moyennes mensuelles    €/Kg net"]
[null,2019,2020,2021,2022,2023,2024,null,"Moyenne quinquennale"]
[null,"N-5","N-4","N-3","N-2","N-1","N","N/N-1"]
["Janvier",10.7,10.8,10.4,10.7,12.45,{"$f":"IF((VolaillesLapinsOeufs!BC3)>0,VolaillesLapinsOeufs!BC3,NA())","v":12.5},{"$f":"IF(G63=\"\",NA(),(G63-F63)/F63)","v":4.0160642570281693E-3},{"$f":"SUMIF(B63:F63,\"<>#N/A\",B63:F63)/COUNTIF(B63:F63,\"<>#N/A\")","v":11.01}]
["Février",10.78,10.8,10.45,10.85,12.5,{"$f":"IF((VolaillesLapinsOeufs!BC4)>0,VolaillesLapinsOeufs!BC4,NA())","v":12.5},0,11.076000000000001]
["Mars",10.8,10.7,10.6,11.319999999999999,12.5,{"$f":"IF((VolaillesLapinsOeufs!BC5)>0,VolaillesLapinsOeufs!BC5,NA())","v":12.5},0,11.184000000000001]
["Avril",10.8,10.6,10.6,11.9,12.5,{"$f":"IF((VolaillesLapinsOeufs!BC6)>0,VolaillesLapinsOeufs!BC6,NA())","v":12.5},0,11.28]
["Mai",10.8,10.4,10.6,11.975,12.5,{"$f":"IF((VolaillesLapinsOeufs!BC7)>0,VolaillesLapinsOeufs!BC7,NA())","v":12.5},0,11.255000000000001]
["Juin",10.8,10.4,10.6,12,12.5,{"$f":"IF((VolaillesLapinsOeufs!BC8)>0,VolaillesLapinsOeufs!BC8,NA())","v":{"$error":"#N/A"}},{"$error":"#N/A"},11.260000000000002]
["Juillet",10.8,10.4,10.6,12,12.5,{"$f":"IF((VolaillesLapinsOeufs!BC9)>0,VolaillesLapinsOeufs!BC9,NA())","v":{"$error":"#N/A"}},{"$error":"#N/A"},11.260000000000002]
["Août",10.8,10.4,10.6,12,12.5,{"$f":"IF((VolaillesLapinsOeufs!BC10)>0,VolaillesLapinsOeufs!BC10,NA())","v":{"$error":"#N/A"}},{"$error":"#N/A"},11.260000000000002]
["Septembre",10.8,10.4,10.6,12,12.5,{"$f":"IF((VolaillesLapinsOeufs!BC11)>0,VolaillesLapinsOeufs!BC11,NA())","v":{"$error":"#N/A"}},{"$error":"#N/A"},11.260000000000002]
["Octobre",10.8,10.4,10.6,12,12.5,{"$f":"IF((VolaillesLapinsOeufs!BC12)>0,VolaillesLapinsOeufs!BC12,NA())","v":{"$error":"#N/A"}},{"$error":"#N/A"},11.260000000000002]
["Novembre",10.8,10.4,10.7,12,12.5,{"$f":"IF((VolaillesLapinsOeufs!BC13)>0,VolaillesLapinsOeufs!BC13,NA())","v":{"$error":"#N/A"}},{"$error":"#N/A"},11.280000000000001]
["Décembre",10.8,10.4,10.7,12,{"$error":"#N/A"},{"$f":"IF((VolaillesLapinsOeufs!BC14)>0,VolaillesLapinsOeufs!BC14,NA())","v":{"$error":"#N/A"}},{"$error":"#N/A"},10.975000000000001]
["Moyenne",{"$f":"AVERAGE(B63:B74)","v":10.79},10.508333333333335,10.5875,11.72875,12.495454545454544,{"$f":"SUMIF(G63:G74,\"<>#N/A\",G63:G74)/COUNTIF(G63:G74,\"<>#N/A\")","v":12.5},null,{"$f":"SUMIF(I63:I74,\"<>#N/A\",I63:I74)/COUNTIF(I63:I74,\"<>#N/A\")","v":11.196666666666667}]
["Source : FranceAgriMer - RNM  :   Prix relevés sur le marché de Rungis"]
[]
["Cotation"]
["Pintade entière effilé France Label",null,null,"Moyennes mensuelles    €/Kg net"]
[null,2019,2020,2021,2022,2023,2024,null,"Moyenne quinquennale"]
[null,"N-5","N-4","N-3","N-2","N-1","N","N/N-1"]
["Janvier",5,5,4.9000000000000004,5.15,6.5,{"$f":"IF((VolaillesLapinsOeufs!BD3)>0,VolaillesLapinsOeufs!BD3,NA())","v":6.5},{"$f":"IF(G82=\"\",NA(),(G82-F82)/F82)","v":0},{"$f":"SUMIF(B82:F82,\"<>#N/A\",B82:F82)/COUNTIF(B82:F82,\"<>#N/A\")","v":5.3100000000000005}]
["Février",5,5,4.9625000000000004,5.1875,6.5,{"$f":"IF((VolaillesLapinsOeufs!BD4)>0,VolaillesLapinsOeufs!BD4,NA())","v":6.5},0,5.33]
["Mars",5,4.9749999999999996,5.15,5.41,6.5,{"$f":"IF((VolaillesLapinsOeufs!BD5)>0,VolaillesLapinsOeufs!BD5,NA())","v":6.5},0,5.407]
["Avril",5,4.9400000000000004,5.15,5.6749999999999998,6.5,{"$f":"IF((VolaillesLapinsOeufs!BD6)>0,VolaillesLapinsOeufs!BD6,NA())","v":6.5},0,5.4530000000000003]
["Mai",5,4.9000000000000004,5.15,5.8,6.5,{"$f":"IF((VolaillesLapinsOeufs!BD7)>0,VolaillesLapinsOeufs!BD7,NA())","v":6.5},0,5.4700000000000006]
["Juin",5,4.9000000000000004,5.15,5.8,6.5,{"$f":"IF((VolaillesLapinsOeufs!BD8)>0,VolaillesLapinsOeufs!BD8,NA())","v":{"$error":"#N/A"}},{"$error":"#N/A"},5.4700000000000006]
["Juillet",5,4.9000000000000004,5.15,5.8,6.5,{"$f":"IF((VolaillesLapinsOeufs!BD9)>0,VolaillesLapinsOeufs!BD9,NA())","v":{"$error":"#N/A"}},{"$error":"#N/A"},5.4700000000000006]
["Août",5,4.9000000000000004,5.15,5.8,6.5,{"$f":"IF((VolaillesLapinsOeufs!BD10)>0,VolaillesLapinsOeufs!BD10,NA())","v":{"$error":"#N/A"}},{"$error":"#N/A"},5.4700000000000006]
["Septembre",5,4.9000000000000004,5.15,5.8599999999999994,6.5,{"$f":"IF((VolaillesLapinsOeufs!BD11)>0,VolaillesLapinsOeufs!BD11,NA())","v":{"$error":"#N/A"}},{"$error":"#N/A"},5.4820000000000002]
["Octobre",5,4.9000000000000004,5.15,5.9,6.5,{"$f":"IF((VolaillesLapinsOeufs!BD12)>0,VolaillesLapinsOeufs!BD12,NA())","v":{"$error":"#N/A"}},{"$error":"#N/A"},5.49]
["Novembre",5,4.9000000000000004,5.15,5.9,6.5,{"$f":"IF((VolaillesLapinsOeufs!BD13)>0,VolaillesLapinsOeufs!BD13,NA())","v":{"$error":"#N/A"}},{"$error":"#N/A"},5.49]
["Décembre",5,4.9000000000000004,5.15,5.9250000000000007,{"$error":"#N/A"},{"$f":"IF((VolaillesLapinsOeufs!BD14)>0,VolaillesLapinsOeufs!BD14,NA())","v":{"$error":"#N/A"}},{"$error":"#N/A"},5.2437500000000004]
["Moyenne",{"$f":"AVERAGE(B82:B93)","v":5},4.9262499999999987,5.1135416666666655,5.683958333333333,6.5,{"$f":"SUMIF(G82:G93,\"<>#N/A\",G82:G93)/COUNTIF(G82:G93,\"<>#N/A\")","v":6.5},null,{"$f":"SUMIF(I82:I93,\"<>#N/A\",I82:I93)/COUNTIF(I82:I93,\"<>#N/A\")","v":5.4238125000000004}]
["Source : FranceAgriMer - RNM  :   Prix relevés sur le marché de Rungis"]
[]
["Oeufs moyen calibre (53-63 g) Tendance nationale officieuse \"les marchés\" (en euros pour 100 œufs)"]
[]
[null,2019,2020,2021,2022,2023,2024,null,"Moyenne quinquennale"]
[null,"N-5","N-4","N-3","N-2","N-1","N","N/N-1"]
["Janvier",7.7220000000000004,7.74,5.3174999999999999,9.127500057220459,15.380000114440918,{"$f":"IF((VolaillesLapinsOeufs!BF3)>0,VolaillesLapinsOeufs!BF3,NA())","v":14.1175},{"$f":"IF(G101=\"\",NA(),(G101-F101)/F101)","v":-8.2087132967931825E-2},{"$f":"SUMIF(B101:F101,\"<>#N/A\",B101:F101)/COUNTIF(B101:F101,\"<>#N/A\")","v":9.0574000343322751}]
["Février",7.4720000000000004,7.5824999999999996,6.19,9.1949999332427979,15.58,{"$f":"IF((VolaillesLapinsOeufs!BF4)>0,VolaillesLapinsOeufs!BF4,NA())","v":13.584},-0.12811296534017974,9.20389998664856]
["Mars",7.04,8.3774999999999995,7.0659999999999998,10.838000106811524,16.314,{"$f":"IF((VolaillesLapinsOeufs!BF5)>0,VolaillesLapinsOeufs!BF5,NA())","v":14.100000000000001},-0.13571165869805066,9.9271000213623051]
["Avril",6.9850000000000003,8.39,6.9850000000000003,12.764999933242798,16.482500000000002,{"$f":"IF((VolaillesLapinsOeufs!BF6)>0,VolaillesLapinsOeufs!BF6,NA())","v":14.125},-0.14303048688002434,10.321499986648559]
["Mai",6.9020000000000001,8.6374999999999993,6.9950000000000001,12.535,15.87,{"$f":"IF((VolaillesLapinsOeufs!BF7)>0,VolaillesLapinsOeufs!BF7,NA())","v":{"$error":"#N/A"}},{"$error":"#N/A"},10.187900000000001]
["Juin",6.6849999999999996,7.22,7.33,11.940000000000001,13.73,{"$f":"IF((VolaillesLapinsOeufs!BF8)>0,VolaillesLapinsOeufs!BF8,NA())","v":{"$error":"#N/A"}},{"$error":"#N/A"},9.3810000000000002]
["Juillet",6.5259999999999998,6.36,6.4474999999999998,12.082499971389771,10.932500000000001,{"$f":"IF((VolaillesLapinsOeufs!BF9)>0,VolaillesLapinsOeufs!BF9,NA())","v":{"$error":"#N/A"}},{"$error":"#N/A"},8.4696999942779545]
["Août",6.9225000000000003,5.8375000000000004,7.22,12.910000085830688,9.4240000000000013,{"$f":"IF((VolaillesLapinsOeufs!BF10)>0,VolaillesLapinsOeufs!BF10,NA())","v":{"$error":"#N/A"}},{"$error":"#N/A"},8.4628000171661384]
["Septembre",7.71,6.7160000000000002,8.5239999999999991,13.782000160217285,10.605,{"$f":"IF((VolaillesLapinsOeufs!BF11)>0,VolaillesLapinsOeufs!BF11,NA())","v":{"$error":"#N/A"}},{"$error":"#N/A"},9.4674000320434573]
["Octobre",7.85,5.68,8.7475000000000005,14.710000038146973,11.61,{"$f":"IF((VolaillesLapinsOeufs!BF12)>0,VolaillesLapinsOeufs!BF12,NA())","v":{"$error":"#N/A"}},{"$error":"#N/A"},9.7195000076293958]
["Novembre",8.4250000000000007,6.05,8.5050000000000008,15.077499866485596,13.428000000000001,{"$f":"IF((VolaillesLapinsOeufs!BF13)>0,VolaillesLapinsOeufs!BF13,NA())","v":{"$error":"#N/A"}},{"$error":"#N/A"},10.297099973297119]
["Décembre",null,5.73,9.3460000000000001,15.327999877929688,{"$error":"#N/A"},{"$f":"IF((VolaillesLapinsOeufs!BF14)>0,VolaillesLapinsOeufs!BF14,NA())","v":{"$error":"#N/A"}},{"$error":"#N/A"},7.6009999694824222]
["Moyenne",{"$f":"AVERAGE(B101:B112)","v":7.2945000000000002},7.0267499999999998,7.3894583333333328,12.524208335876466,13.577818192221901,{"$f":"SUMIF(G101:G112,\"<>#N/A\",G101:G112)/COUNTIF(G101:G112,\"<>#N/A\")","v":13.981625000000001},null,{"$f":"SUMIF(I101:I112,\"<>#N/A\",I101:I112)/COUNTIF(I101:I112,\"<>#N/A\")","v":9.3413583352406828}]
["Source : TNO \"les marchés\""]
[]
["Prix à la production des œufs (IPPAP) Indice mensuel des prix agricoles à la production ( base 100 en 2015 ) - Données brutes",null,null,null,null,null,null,null,null,null,"Mis à jour : 07/11/2023"]
[]
[null,2019,2020,2021,2022,2023,2024,null,"Moyenne quinquennale"]
[null,"N-5","N-4","N-3","N-2","N-1","N","N/N-1"]
["Janvier",121.8,119,77.8,142.9,253.9,null,{"$f":"IF(G120=\"\",NA(),(G120-F120)/F120)","v":{"$error":"#N/A"}},{"$f":"SUMIF(B120:F120,\"<>#N/A\",B120:F120)/COUNTIF(B120:F120,\"<>#N/A\")","v":143.07999999999998}]
["Février",118.6,115.1,93.9,145.69999999999999,258.3,null,{"$f":"IF(G121=\"\",NA(),(G121-F121)/F121)","v":{"$error":"#N/A"}},{"$f":"SUMIF(B121:F121,\"<>#N/A\",B121:F121)/COUNTIF(B121:F121,\"<>#N/A\")","v":146.32}]
["Mars",111.1,128.4,108.1,176.7,271.39999999999998,null,{"$error":"#N/A"},159.13999999999999]
["Avril",109.6,128.80000000000001,106.2,207.6,274.10000000000002,null,{"$error":"#N/A"},165.26000000000002]
["Mai",108.6,132.4,108.1,204.1,261.39999999999998,null,{"$error":"#N/A"},162.92000000000002]
["Juin",103.4,108.5,110.5,194.6,221.4,null,{"$error":"#N/A"},147.68]
["Juillet",100.1,96.3,95.7,198.4,172.1,null,{"$error":"#N/A"},132.52000000000001]
["Août",106.9,87.8,111.2,212.2,149.1,null,{"$error":"#N/A"},133.44]
["Septembre",119.4,103.4,132.19999999999999,227.6,171,null,{"$error":"#N/A"},{"$f":"SUMIF(B128:F128,\"<>#N/A\",B128:F128)/COUNTIF(B128:F128,\"<>#N/A\")","v":150.72}]
["Octobre",120.7,85.2,135.1,243.2,null,null,{"$error":"#N/A"},116.84]
["Novembre",131.9,90,132.69999999999999,249,null,null,{"$error":"#N/A"},120.72]
["Décembre",143.4,83.9,147.80000000000001,253.1,null,null,{"$error":"#N/A"},125.64000000000001]
["Moyenne",{"$f":"AVERAGE(B120:B131)","v":116.29166666666669},106.56666666666666,113.27499999999999,200.04545454545453,225.85555555555553,{"$f":"AVERAGE(G120:G131)","v":{"$error":"#DIV/0!"}},null,{"$f":"AVERAGE(I120:I131)","v":142.02333333333334}]
["Source : FranceAgriMer"]
[]
["Cotation lapin entier standard France"]
[null,null,null,"Moyennes mensuelles    €/Kg net"]
[null,2019,2020,2021,2022,2023,2024,null,"Moyenne quinquennale"]
[null,"N-5","N-4","N-3","N-2","N-1","N","N/N-1"]
["Janvier",5.8,4.9000000000000004,5.3,5,6.4,{"$f":"IF((VolaillesLapinsOeufs!BE3)>0,VolaillesLapinsOeufs!BE3,NA())","v":6.5},{"$f":"IF(G139=\"\",NA(),(G139-F139)/F139)","v":1.5624999999999944E-2},{"$f":"SUMIF(B139:F139,\"<>#N/A\",B139:F139)/COUNTIF(B139:F139,\"<>#N/A\")","v":5.4799999999999995}]
["Février",5.64,4.8,5.45,5,6.4,{"$f":"IF((VolaillesLapinsOeufs!BE4)>0,VolaillesLapinsOeufs!BE4,NA())","v":6.5},1.5624999999999944E-2,{"$f":"SUMIF(B140:F140,\"<>#N/A\",B140:F140)/COUNTIF(B140:F140,\"<>#N/A\")","v":5.4580000000000002}]
["Mars",5.5,4.8,5.5,5,6.4,{"$f":"IF((VolaillesLapinsOeufs!BE5)>0,VolaillesLapinsOeufs!BE5,NA())","v":6.5},1.5624999999999944E-2,5.44]
["Avril",5.375,4.72,5.3250000000000002,5.3,6.4,{"$f":"IF((VolaillesLapinsOeufs!BE6)>0,VolaillesLapinsOeufs!BE6,NA())","v":6.5},1.5624999999999944E-2,5.4239999999999995]
["Mai",4.88,4.5999999999999996,4.9000000000000004,5.3,6.25,{"$f":"IF((VolaillesLapinsOeufs!BE7)>0,VolaillesLapinsOeufs!BE7,NA())","v":6.5},0.04,5.1859999999999999]
["Juin",4.3499999999999996,4.3499999999999996,4.5,5.3,5.8400000000000007,{"$f":"IF((VolaillesLapinsOeufs!BE8)>0,VolaillesLapinsOeufs!BE8,NA())","v":{"$error":"#N/A"}},{"$error":"#N/A"},4.8680000000000003]
["Juillet",3.8,4.3,4.4000000000000004,5.25,5.7,{"$f":"IF((VolaillesLapinsOeufs!BE9)>0,VolaillesLapinsOeufs!BE9,NA())","v":{"$error":"#N/A"}},{"$error":"#N/A"},4.6899999999999995]
["Août",3.7,4.3499999999999996,4.4000000000000004,5.2,5.7,{"$f":"IF((VolaillesLapinsOeufs!BE10)>0,VolaillesLapinsOeufs!BE10,NA())","v":{"$error":"#N/A"}},{"$error":"#N/A"},4.67]
["Septembre",4.1500000000000004,4.68,4.4000000000000004,5.3,5.7,{"$f":"IF((VolaillesLapinsOeufs!BE11)>0,VolaillesLapinsOeufs!BE11,NA())","v":{"$error":"#N/A"}},{"$error":"#N/A"},4.8460000000000001]
["Octobre",4.9000000000000004,5.0750000000000002,4.45,5.6,5.8249999999999993,{"$f":"IF((VolaillesLapinsOeufs!BE12)>0,VolaillesLapinsOeufs!BE12,NA())","v":{"$error":"#N/A"}},{"$error":"#N/A"},5.17]
["Novembre",4.9000000000000004,5.2,4.9000000000000004,6.2750000000000004,6.36,{"$f":"IF((VolaillesLapinsOeufs!BE13)>0,VolaillesLapinsOeufs!BE13,NA())","v":{"$error":"#N/A"}},{"$error":"#N/A"},5.5270000000000001]
["Décembre",4.9000000000000004,5.28,4.9000000000000004,6.375,{"$error":"#N/A"},{"$f":"IF((VolaillesLapinsOeufs!BE14)>0,VolaillesLapinsOeufs!BE14,NA())","v":{"$error":"#N/A"}},{"$error":"#N/A"},5.3637499999999996]
["Moyenne",{"$f":"AVERAGE(B139:B150)","v":4.8245833333333321},4.7545833333333336,4.8687499999999995,5.4083333333333341,6.0886363636363647,{"$f":"SUMIF(G139:G150,\"<>#N/A\",G139:G150)/COUNTIF(G139:G150,\"<>#N/A\")","v":6.5},null,{"$f":"AVERAGE(I139:I150)","v":5.176895833333333}]
["Source : FranceAgriMer - RNM  :   Prix relevés sur le marché de Rungis"]