{"text_format":"1","workbook":"xlsx","n_sheets":35,"sheets":["Mode d'emploi","GraphHebdo","MoyQuinqHebdoGB","MoyQuinqHebdoVeaux","Données-VeauxCharolais-Limousin","MoyQuindHebdoOvins","GrosBovinsAnneeEnCours","GrosBovins2024","GrosBovins2023","GrosBovins2022","GrosBovins2021","GrosBovins2020","GrosBovins2019","GrosBovins 2018","GrosBovins2017","GrosBovins2016","GraphGrosBovins","VeauxAnneeEnCours","Veaux2024","Veaux2023","Veaux2022","Veaux2021","Veaux2020","Veaux2019","Veaux2018","Veaux2017","Veaux2016","GraphVeaux","Porcs2015-2025","MoyQuinqHebdoPorcs","GraphPorcs","Ovins2020-2025","GraphOvins","VolaillesLapinsOeufs","GraphVolaillesOeufsLapins"],"not_rendered":{"charts":56,"images":2,"macros":1,"external_links":0,"defined_names":2,"comments":13,"pivot_tables":0},"unopened":[],"bounds":{"document_bytes":16777216,"sheet_cells":100000,"rows_first":2000,"rows_last":500,"rows_between":2000,"halvings":0,"cell_chars":16384,"cell_head_chars":4096},"cells_cut":0,"cells_raw":0,"read":"whole","date_system":"1900"}

{"sheet":"Mode d'emploi","index":0,"n_rows":95,"n_cols":11,"rows_kept":95,"cut":false,"hidden":true,"merged":[[93,6,94,6],[6,9,6,10],[8,9,9,9],[11,9,14,9],[16,1,16,2],[40,5,45,5],[23,1,27,1],[26,6,28,6],[59,5,67,5],[86,5,91,5],[4,5,4,7],[32,5,39,5],[51,5,51,7],[73,5,73,7],[83,5,83,7],[37,6,39,6],[30,5,30,7],[6,5,12,5],[13,5,24,5],[47,6,49,6],[69,6,71,6],[79,6,81,6]]}
[]
[null,"Chemin du dossier Visionet :","S:\\NOTES_CONJONCTURE\\1_ANIMAL\\3_COTATIONS\\Bases de données\\COT-VIA-cotations_csv-A23-S06",null,null,null,"Nom du fichier :",{"$f":"MID(CELL(\"filename\",E1),SEARCH(\"[\",CELL(\"filename\",E1))+1,SEARCH(\"]\",CELL(\"filename\",E1))-SEARCH(\"[\",CELL(\"filename\",E1))-6)","v":"CotationsOutil_2025-LS"}]
[null,"Chemin de l'extraction RNM :","S:\\NOTES_CONJONCTURE\\1_ANIMAL\\3_COTATIONS\\Bases de données\\COT-MUL-prd_RNM-A23.csv"]
[null,"Chemin du fichier TNO :","S:\\NOTES_CONJONCTURE\\1_ANIMAL\\3_COTATIONS\\Bases de données\\TNO.ods"]
[null,"Chemin du fichier PLERIN COTATIONS :","S:\\NOTES_CONJONCTURE\\1_ANIMAL\\3_COTATIONS\\Bases de données\\PLERIN COTATIONS.ods",null,null,"Gros bovins"]
[null,"Chemin du fichier des IPPAP :","S:\\NOTES_CONJONCTURE\\1_ANIMAL\\3_COTATIONS\\Bases de données\\selection_serie_17022023\\valeurs_mensuelles.csv"]
[null,"Chemin du fichier Valeurs_mensuelles :","S:\\NOTES_CONJONCTURE\\1_ANIMAL\\3_COTATIONS\\Bases de données\\IPPAP Volailles_ls.ods",null,null,"GBEA","Nom du fichier GBEA :","COT-VRO-GBST_regionale",null,{"$f":"\"Fichier '\" &H7&\"'\"","v":"Fichier 'COT-VRO-GBST_regionale'"}]
[null,null,null,null,null,null,"Lieu","GRAND-OUEST",null,"Catégorie","Nom de la colonne"]
[null,"Année",2024,null,null,null,"N° ligne des catégories",8,null,"Jeunes bovins 12 à 24 mois","Viande hors Bl/Parth."]
[null,"Semaine",6,null,null,null,"N° ligne viande",9]
[null,null,null,null,null,null,"N° de la colonne lieu",1,null,"Bœufs"]
[null,null,null,null,null,null,"N° de la colonne classification",2,null,"Vaches","Viande hors Bl/Parth. -10 a +350kg"]
[null,null,null,null,null,null,"N° de la colonne cot",3,null,null,"Blonde/Parth. -10 ans +350Kg"]
[null,null,null,null,null,"Gros bovins maigres","Nom du fichier : Gros bovins maigres","COT-VRO-GB_maigres"]
[null,null,null,null,null,null,"Lieu","NANTES"]
[null,null,null,null,null,null,"Race","CHAROLAIS",null,"Génisses","Viande +350Kg"]
[null,"Mode d'emploi",null,null,null,null,"Sexe","M"]
[null,null,null,null,null,null,"Age","*6/12"]
[null,null,null,null,null,null,"Tonnage (en kg)",350]
[null,"Champs à remplir à chaque utilisation",null,null,null,null,"Classification","U"]
[null,"Champs à vérifier",null,null,null,null,"N° de la ligne race",7]
[null,null,null,null,null,null,"N° de la ligne sexe",8]
[null,"Lien pour le site Visionet :",null,null,null,null,"N° de la ligne age",9]
[null,"https://visionet.franceagrimer.fr/Pages/Statistiques.aspx?menuurl=Statistiques/productions%20animales/viandes/cotations%20en%20format%20csv/ZIP%20csv%20toutes%20esp%C3%A8ces",null,null,null,null,"N° de la colonne lieu",1]
[null,null,null,null,null,null,"N° de la colonne classification",3]
[]
[null,null,null,null,null,null,{"$f":" \"Feuille de \"&H2","v":"Feuille de CotationsOutil_2025-LS"},{"$f":"RIGHT(CELL(\"nomfichier\",GrosBovinsAnneeEnCours!A1),LEN(CELL(\"nomfichier\",GrosBovinsAnneeEnCours!A1))-FIND(\"]\",CELL(\"nomfichier\",GrosBovinsAnneeEnCours!A1)))","v":"GrosBovinsAnneeEnCours"}]
[null,null,null,null,null,null,null,{"$f":"RIGHT(CELL(\"nomfichier\",GraphGrosBovins!A1),LEN(CELL(\"nomfichier\",GraphGrosBovins!A1))-FIND(\"]\",CELL(\"nomfichier\",GraphGrosBovins!A1)))","v":"GraphGrosBovins"}]
[null,null,null,null,null,null,null,{"$f":"RIGHT(CELL(\"nomfichier\",MoyQuinqHebdoGB!A1),LEN(CELL(\"nomfichier\",MoyQuinqHebdoGB!A1))-FIND(\"]\",CELL(\"nomfichier\",MoyQuinqHebdoGB!A1)))","v":"MoyQuinqHebdoGB"}]
[]
[null,null,null,null,null,"Veaux"]
[]
[null,"A noter un changement de nom de fichier cellule H7",null,null,null,"Veaux Grand Nord","Nom du fichier Veaux Grand Nord :","COT-VRO-veaux_bouch_synthese"]
[null,"COT-VRO-GBEA_regionale","jusqu'en semaine 29-2022",null,null,null,"Lieu","NORD"]
[null,null,null,null,null,null,"N° de la ligne race",7]
[null,"COT-VRO-GBST_regionale","à partir de la semaine 30-2022",null,null,null,"N° de la ligne classification",8]
[null,null,null,null,null,null,"N° de la colonne lieu",1]
[null,null,null,null,null,null,"Viande","ROSE TRES CLAIR"]
[null,"disparition du fichier  COT-VRO-veaux14j_9_marches en semaine 47-2022",null,null,null,null,null,"ROSE CLAIR"]
[null,"pas de porc en semaine 2 et 3 2023?",null,null,null,null,null,"ROSE"]
[null,null,null,null,null,"Veaux Château Gontier","Nom du fichier Veaux Château Gontier :","COT-VRO-veaux14j_9_marches",null,{"$f":" \"Fichier '\"&H2&\"'\"","v":"Fichier 'CotationsOutil_2025-LS'"},{"$f":"\"Fichier '\" &H41&\"'\"","v":"Fichier 'COT-VRO-veaux14j_9_marches'"}]
[null,null,null,null,null,null,"Lieu","CHAG",null,"NORMAND","Normande"]
[null,null,null,null,null,null,"Poids","45 A 50 KG",null,"LAITIERS","Prim'Holstein"]
[null,null,null,null,null,null,"N° de la ligne Lieu",7]
[null,null,null,null,null,null,"N° de la colonne race",2]
[null,null,null,null,null,null,"N° de la colonne poids",4]
[]
[null,null,null,null,null,null,{"$f":" \"Feuille de \"&H2","v":"Feuille de CotationsOutil_2025-LS"},{"$f":"RIGHT(CELL(\"nomfichier\",VeauxAnneeEnCours!A1),LEN(CELL(\"nomfichier\",VeauxAnneeEnCours!A1))-FIND(\"]\",CELL(\"nomfichier\",VeauxAnneeEnCours!A1)))","v":"VeauxAnneeEnCours"}]
[null,null,null,null,null,null,null,{"$f":"RIGHT(CELL(\"nomfichier\",GraphVeaux!A1),LEN(CELL(\"nomfichier\",GraphVeaux!A1))-FIND(\"]\",CELL(\"nomfichier\",GraphVeaux!A1)))","v":"GraphVeaux"}]
[null,null,null,null,null,null,null,{"$f":"RIGHT(CELL(\"nomfichier\",MoyQuinqHebdoVeaux!A1),LEN(CELL(\"nomfichier\",MoyQuinqHebdoVeaux!A1))-FIND(\"]\",CELL(\"nomfichier\",MoyQuinqHebdoVeaux!A1)))","v":"MoyQuinqHebdoVeaux"}]
[]
[null,null,null,null,null,"Porcs"]
[]
[null,null,null,null,null,null,"N° de la colonne semaine",2]
[null,null,null,null,null,null,"N° de la colonne du code produit",5]
[null,null,null,null,null,null,"N° de la colonne valeur",7]
[]
[null,null,null,null,null,"Marché"," code produit"," produit"]
[null,null,null,null,null,"Cadran de Plérin : porc charcutier ","PORC (carcasse) Nantes classe E + S ",90190]
[null,null,null,null,null,"France : porc charcutier entrée abattoir ","PORC (carcasse) Rennes classe E + S ",100190]
[null,null,null,null,null,null,"PORC (carcasse) France classe E + S ",120190]
[null,null,null,null,null,null,"PORC (carcasse) Nantes classe E ",57222090]
[null,null,null,null,null,null,"PORC (carcasse) Rennes classe E ",57222091]
[null,null,null,null,null,null,"PORC (carcasse) France classe E ",57222087]
[null,null,null,null,null,null,"PORC (carcasse) Nantes classe S ",57222095]
[null,null,null,null,null,null,"PORC (carcasse) Rennes classe S ",57222094]
[null,null,null,null,null,null,"PORC (carcasse) France classe S ",57222098]
[null,null,null,null,null,null,"PORC (carcasse) 56% taux-de-muscle-des-pièces Bretagne ",70178]
[]
[null,null,null,null,null,null,{"$f":" \"Feuille de \"&H2","v":"Feuille de CotationsOutil_2025-LS"},{"$f":"RIGHT(CELL(\"nomfichier\",'Porcs2015-2025'!#REF!),LEN(CELL(\"nomfichier\",'Porcs2015-2025'!#REF!))-FIND(\"]\",CELL(\"nomfichier\",'Porcs2015-2025'!#REF!)))","v":{"$error":"#REF!"}}]
[null,null,null,null,null,null,null,{"$f":"RIGHT(CELL(\"nomfichier\",GraphPorcs!A2),LEN(CELL(\"nomfichier\",GraphPorcs!A2))-FIND(\"]\",CELL(\"nomfichier\",GraphPorcs!A2)))","v":"GraphPorcs"}]
[null,null,null,null,null,null,null,{"$f":"RIGHT(CELL(\"nomfichier\",MoyQuinqHebdoPorcs!A1),LEN(CELL(\"nomfichier\",MoyQuinqHebdoPorcs!A1))-FIND(\"]\",CELL(\"nomfichier\",MoyQuinqHebdoPorcs!A1)))","v":"MoyQuinqHebdoPorcs"}]
[]
[null,null,null,null,null,"Ovins"]
[]
[null,null,null,null,null,null,"Nom du fichier Ovins :","COT-VRO-ovins_PMP"]
[null,null,null,null,null,null,"N° de la colonne cotation",1]
[null,null,null,null,null,null,"N° de la colonne : P.M.P AGNEAUX",2]
[]
[null,null,null,null,null,null,{"$f":" \"Feuille de \"&H2","v":"Feuille de CotationsOutil_2025-LS"},{"$f":"RIGHT(CELL(\"nomfichier\",'Ovins2020-2025'!A1),LEN(CELL(\"nomfichier\",'Ovins2020-2025'!A1))-FIND(\"]\",CELL(\"nomfichier\",'Ovins2020-2025'!A1)))","v":"Ovins2020-2025"}]
[null,null,null,null,null,null,null,{"$f":"RIGHT(CELL(\"nomfichier\",GraphOvins!#REF!),LEN(CELL(\"nomfichier\",GraphOvins!#REF!))-FIND(\"]\",CELL(\"nomfichier\",GraphOvins!#REF!)))","v":{"$error":"#REF!"}}]
[null,null,null,null,null,null,null,{"$f":"RIGHT(CELL(\"nomfichier\",MoyQuindHebdoOvins!A1),LEN(CELL(\"nomfichier\",MoyQuindHebdoOvins!A1))-FIND(\"]\",CELL(\"nomfichier\",MoyQuindHebdoOvins!A1)))","v":"MoyQuindHebdoOvins"}]
[]
[null,null,null,null,null,"VolaillesLapinsOeufs"]
[]
[null,null,null,null,null,"Marché","Code produit","Produit"]
[null,null,null,null,null,"MIN de Rungis : volaille ","POULET (entier) prêt à cuire France standard ",720156]
[null,null,null,null,null,null,"POULET (entier) prêt à cuire France label ",730156]
[null,null,null,null,null,null,"DINDE (filet) France standard ",1120156]
[null,null,null,null,null,null,"CANARD de Barbarie (filet) France standard ",1030156]
[null,null,null,null,null,null,"PINTADE (entière) prêt à cuire France label ",1950156]
[null,null,null,null,null,null,"LAPIN (entier) France standard ",1280156]
[]
[null,null,null,null,null,null,{"$f":" \"Feuille de \"&H2","v":"Feuille de CotationsOutil_2025-LS"},{"$f":"RIGHT(CELL(\"nomfichier\",VolaillesLapinsOeufs!A3),LEN(CELL(\"nomfichier\",VolaillesLapinsOeufs!A3))-FIND(\"]\",CELL(\"nomfichier\",VolaillesLapinsOeufs!A3)))","v":"VolaillesLapinsOeufs"}]
[null,null,null,null,null,null,null,{"$f":"RIGHT(CELL(\"nomfichier\",GraphVolaillesOeufsLapins!#REF!),LEN(CELL(\"nomfichier\",GraphVolaillesOeufsLapins!#REF!))-FIND(\"]\",CELL(\"nomfichier\",GraphVolaillesOeufsLapins!#REF!)))","v":{"$error":"#REF!"}}]

{"sheet":"GraphHebdo","index":1,"n_rows":132,"n_cols":18,"rows_kept":132,"cut":false,"hidden":true,"merged":[[1,17,1,20]]}
[]
[null,null,null,null,null,null,null,null,null,null,null,null,null,null,null,null,null,"Commentaires"]
[]
["COTATION REGIONALE ENTREE ABATTOIR GRAND OUEST FRANCEAGRIMER-HEBDOMADAIRE (€/Kg net)"]
[]
[]
[]
[]
[]
[]
[]
[]
[]
[]
[]
[]
[]
[]
[]
[]
[]
[]
[]
[]
[]
[]
[]
[]
[]
[]
[]
[]
[]
[]
[]
[]
[]
[]
[]
[]
[]
[]
[]
[]
[]
[]
[]
[]
["MOYENNE NATIONALE DES BOVINS MAIGRES DESTINES A L'ENGRAISSEMENT CHAROLAIS MALE de 6-12 mois catégorie U (350 kg)  en €/kg vif"]
[]
[]
[]
[]
[]
[]
[]
[]
[]
[]
[]
[]
[]
[]
["Veaux de boucherie entrée abattoir région Grand Nord",null,null,null,null,null,"Prix \"entrée abattoir\" HT exprimé en Euro/Kg de carcasse (cinquième quartier compris)",null,null,null,null,null,null,null,"Veaux"]
["Source : DRAAF Pays de la Loire - SRISE - FranceAgriMer"]
[]
[]
[]
[]
[]
[]
[]
[]
[]
[]
[]
[]
[]
[]
["Marché de Château Gontier (marché de référence pour les petits veaux) : cotation des veaux destinés à l'engraissement"]
["Source : DRAAF Pays de la Loire - SRISE - FranceAgriMer"]
[]
[]
[]
[]
[]
[]
[]
[]
[]
[]
[]
[]
[]
[]
[]
["Prix du porc entrée abattoir des carcasses de porcs charcutiers  (€ HT/kg)",null,null,null,null,null,null,null,"Source : DRAAF Pays de la Loire - SRISE - FranceAgriMer",null,null,null,null,null,"Porcs"]
[]
[null,null,null,null,null,null,"  "]
[]
[]
[]
[]
[]
[]
[]
[]
[]
[]
[]
[]
[]
["COTATIONS AGNEAUX DE BOUCHERIE : ENTREE ABATTOIR",null,null,null,null,null,null,null,null,null,null,null,null,null,"Ovins"]
["Agneau de boucherie : Prix \"entrée abattoir\" HT en EURO/Kg de carcasse (cinquième quartier inclus)"]
["Etat d'engraissement : couvert"]
["Source : DRAAF Pays de la Loire-SRISE-FranceAgriMer"]
[]
[]
[]
[]
[]
[]
[null,null,null,null,null,null," "]
[]
[]
[]
[]
[]
[]
[]
["Source : FranceAgriMer – RNM  :   Prix relevés sur le marché de Rungis",null,null,null,null,null,null,null,null,null,null,null,null,null,"Volailles"]
[null,null,null,null,null,null,null,null,null," "]

{"sheet":"MoyQuinqHebdoGB","index":2,"n_rows":57,"n_cols":74,"rows_kept":57,"cut":false,"hidden":true,"merged":[[3,68,3,73],[3,2,3,7],[3,8,3,13],[3,14,3,19],[3,20,3,25],[3,26,3,31],[3,32,3,37],[3,38,3,43],[3,44,3,49],[3,50,3,55],[3,56,3,61],[3,62,3,67]]}
["COTATION REGIONALE ENTREE ABATTOIR GRAND OUEST FRANCEAGRIMER-HEBDOMADAIRE (€/Kg net)"]
[]
[null,null,2020,2021,2022,2023,2024,"MOYENNE 5 ANS",2020,2021,2022,2023,2024,"MOYENNE 5 ANS",2020,2021,2022,2023,2024,"MOYENNE 5 ANS",2020,2021,2022,2023,2024,"MOYENNE 5 ANS",2020,2021,2022,2023,2024,"MOYENNE 5 ANS",2020,2021,2022,2023,2024,"MOYENNE 5 ANS",2020,2021,2022,2023,2024,"MOYENNE 5 ANS",2020,2021,2022,2023,2024,"MOYENNE 5 ANS",2020,2021,2022,2023,2024,"MOYENNE 5 ANS",2020,2021,2022,2023,2024,"MOYENNE 5 ANS",2020,2021,2022,2023,2024,"MOYENNE 5 ANS",2020,2020,2022,2023,2024,"MOYENNE 5 ANS"]
["Mois","Sem.","JB VIANDE U",null,null,null,null,null,"JB VIANDE R",null,null,null,null,null,"JB MIXTE O",null,null,null,null,null,"BOEUFS MIXTE O",null,null,null,null,null,"VACHE VIANDE U",null,null,null,null,null,"VACHE VIANDE R",null,null,null,null,null,"VACHE BLONDE U",null,null,null,null,null,"VACHE MIXTE O",null,null,null,null,null,"VACHE LAIT P",null,null,null,null,null,"GENISSE VIANDE U",null,null,null,null,null,"GENISSE VIANDE R",null,null,null,null,null,"MAIGRE – CHAROLAIS 6/12 mois  ( U )"]
[null,1,4.07,3.82,4.5999999999999996,5.54,5.45,{"$f":"AVERAGE(C5:G5)","v":4.6959999999999997},3.9,3.66,4.4400000000000004,5.4,5.28,{"$f":"AVERAGE(I5:M5)","v":4.5359999999999996},3.46,3.39,3.79,5.0999999999999996,null,{"$f":"AVERAGE(O5:S5)","v":3.9350000000000001},3.22,3.14,3.8,5.05,4.5999999999999996,{"$f":"AVERAGE(U5:Y5)","v":3.9620000000000006},4.42,4.45,4.88,5.71,null,{"$f":"AVERAGE(AA5:AE5)","v":4.8650000000000002},3.72,4.03,4.38,5.41,5.44,{"$f":"AVERAGE(AG5:AK5)","v":4.5960000000000001},5.0999999999999996,5.17,5.5,6.05,6.39,{"$f":"AVERAGE(AM5:AQ5)","v":5.6420000000000003},3.14,3.07,3.76,4.93,4.4400000000000004,{"$f":"AVERAGE(AS5:AW5)","v":3.8679999999999999},2.54,2.76,3.48,4.59,3.93,{"$f":"AVERAGE(AY5:BC5)","v":3.46},4.63,4.87,5.0999999999999996,5.84,6.13,{"$f":"AVERAGE(BE5:BI5)","v":5.3139999999999992},3.8,4.03,4.32,5.41,5.43,{"$f":"AVERAGE(BK5:BO5)","v":4.5980000000000008},2.69,2.62,null,3.39,3.32,{"$f":"AVERAGE(BQ5:BU5)","v":3.0050000000000003}]
[null,2,4.07,3.82,4.62,5.54,5.47,4.7039999999999997,3.91,3.66,4.46,5.4,5.31,4.548,3.51,3.37,3.82,5.09,4.8499999999999996,4.1280000000000001,3.25,3.15,3.81,5.03,4.59,3.9660000000000002,4.37,4.5599999999999996,4.87,5.71,null,4.8775000000000004,3.75,4.01,4.41,5.43,5.46,4.6120000000000001,5.07,5.2,5.52,6.13,6.36,5.6559999999999997,3.15,3.08,3.79,4.9400000000000004,4.49,3.8900000000000006,2.57,2.77,3.52,4.5999999999999996,3.97,3.4859999999999998,4.63,4.88,5.08,5.83,6.21,5.3260000000000005,3.84,4.04,4.38,5.41,5.43,4.62,2.69,2.62,2.82,3.39,3.32,2.9680000000000004]
[null,3,4.07,3.83,4.6500000000000004,5.55,5.49,4.7180000000000009,3.9,3.65,4.5,5.41,5.32,4.556,3.49,3.45,3.82,5.1100000000000003,4.88,4.1500000000000004,3.24,3.15,3.85,5.0199999999999996,4.66,3.9840000000000004,4.38,4.4800000000000004,4.97,5.76,5.88,5.0939999999999994,3.72,4.0199999999999996,4.4400000000000004,5.43,5.46,4.6139999999999999,5.04,5.16,5.54,6.13,6.43,5.6599999999999993,3.16,3.1,3.82,4.9400000000000004,4.5,3.9039999999999999,2.56,2.77,3.59,4.6100000000000003,4,3.5060000000000002,4.7,4.8899999999999997,5.25,5.9,6.16,5.3800000000000008,3.85,4.0199999999999996,4.4000000000000004,5.42,5.45,4.6279999999999992,2.69,2.62,2.82,3.38,3.39,2.9800000000000004]
["J",4,4.07,3.84,4.6900000000000004,5.53,5.5,4.7260000000000009,3.89,3.67,4.51,5.39,5.35,4.5620000000000003,3.52,3.41,3.87,5.0999999999999996,4.95,4.17,3.23,3.17,3.89,5.0199999999999996,4.7,4.0020000000000007,4.3600000000000003,4.59,4.92,5.7,5.89,5.0920000000000005,3.71,4.03,4.46,5.42,5.47,4.6179999999999994,5.05,5.17,5.6,6.11,6.42,5.67,3.15,3.09,3.86,4.93,4.53,3.9119999999999999,2.5499999999999998,2.78,3.65,4.59,4.05,3.524,4.7,4.7699999999999996,5.21,5.87,6.17,5.3439999999999994,3.81,4.0199999999999996,4.4400000000000004,5.42,5.46,4.63,2.69,2.59,2.85,3.4,3.4,2.9859999999999998]
[null,5,4.0599999999999996,3.85,4.7300000000000004,5.52,5.53,4.7380000000000004,3.88,3.67,4.57,5.4,5.38,4.58,3.52,3.43,3.94,5.07,4.96,4.1840000000000002,3.22,3.17,3.93,4.88,4.6399999999999997,3.968,4.4400000000000004,4.5199999999999996,4.9800000000000004,5.76,null,4.9250000000000007,3.72,4.05,4.5199999999999996,5.42,5.49,4.6400000000000006,5.0199999999999996,5.21,5.54,6.19,6.46,5.6840000000000002,3.14,3.11,3.91,4.91,4.58,3.9299999999999997,2.54,2.78,3.75,4.5599999999999996,4.09,3.5439999999999996,4.6399999999999997,4.84,5.24,5.9,6.17,5.3579999999999997,3.82,4,4.45,5.41,5.45,4.6259999999999994,2.69,2.59,2.85,3.43,3.42,2.9959999999999996]
[null,6,4.05,3.86,4.8,5.52,5.56,4.758,3.88,3.69,4.63,5.41,5.4,4.6019999999999994,3.51,3.41,4.01,null,null,3.6433333333333331,3.25,3.19,4.05,4.99,4.7300000000000004,4.0419999999999998,4.46,4.58,5.0199999999999996,5.75,null,4.9524999999999997,3.73,4.03,4.59,5.42,5.51,4.6560000000000006,5.0599999999999996,5.21,5.62,6.13,6.5,5.7039999999999997,3.13,3.11,4.01,4.91,4.6100000000000003,3.9539999999999997,2.5299999999999998,2.79,3.84,4.5599999999999996,4.13,3.5699999999999994,4.62,4.92,5.3,5.92,6.23,5.3979999999999997,3.81,3.99,4.51,5.41,5.49,4.6420000000000003,2.69,2.59,2.85,3.44,3.45,3.004]
[null,7,4.04,3.88,4.8600000000000003,5.53,5.57,4.7760000000000007,3.85,3.71,4.71,5.41,5.42,4.62,3.49,3.43,4.12,null,null,3.6799999999999997,3.22,3.18,4.1399999999999997,5.0199999999999996,4.7,4.0519999999999996,4.46,4.5199999999999996,5.05,5.73,null,4.9400000000000004,3.7,4.05,4.6500000000000004,5.42,5.5,4.6639999999999997,5.0199999999999996,5.2,5.63,6.19,6.47,5.702,3.14,3.13,4.12,4.93,4.62,3.9880000000000004,2.5499999999999998,2.81,3.96,4.5999999999999996,4.16,3.6159999999999997,4.6100000000000003,4.79,5.24,5.84,6.2,5.3360000000000003,3.81,4,4.6100000000000003,5.39,5.48,4.6580000000000004,2.69,2.59,2.88,3.43,3.49,3.016]
[null,8,4.01,3.9,4.9400000000000004,5.54,5.58,4.7939999999999996,3.84,3.73,4.76,5.42,5.44,4.6379999999999999,3.49,3.45,4.2699999999999996,null,4.99,4.0500000000000007,3.25,3.2,4.28,5.07,4.74,4.1079999999999997,4.4000000000000004,4.53,5.14,5.76,5.91,5.1479999999999997,3.72,4.07,4.76,5.44,5.49,4.6960000000000006,5,5.27,5.65,6.19,6.46,5.7140000000000004,3.16,3.15,4.25,4.97,4.62,4.03,2.58,2.83,4.1399999999999997,4.6399999999999997,4.16,3.6700000000000004,4.5999999999999996,4.8,5.34,5.93,6.16,5.3659999999999997,3.83,3.99,4.71,5.43,5.48,4.6880000000000006,2.72,2.59,2.93,3.46,3.53,3.0459999999999998]
["F",9,4,3.91,4.9800000000000004,5.56,5.58,4.806,3.84,3.75,4.82,5.43,5.43,4.6539999999999999,3.51,3.47,4.34,5.1100000000000003,null,4.1074999999999999,3.26,3.23,4.33,5.08,4.74,4.1280000000000001,4.42,4.7,5.0999999999999996,5.88,null,5.0250000000000004,3.75,4.09,4.8,5.46,5.46,4.7120000000000006,5.14,5.29,5.65,6.2,6.51,5.758,3.16,3.17,4.33,5,4.66,4.0640000000000001,2.62,2.86,4.21,4.6900000000000004,4.16,3.7080000000000006,4.6900000000000004,4.95,5.41,5.91,6.19,5.4300000000000006,3.82,4.03,4.74,5.46,5.48,4.7060000000000004,2.75,2.62,2.98,3.47,3.57,3.0780000000000003]
[null,10,4,3.96,5.0199999999999996,5.57,5.58,4.8260000000000005,3.82,3.78,4.8499999999999996,5.46,5.43,4.6680000000000001,3.53,3.46,4.42,5.13,null,4.1349999999999998,3.27,3.24,4.4000000000000004,5.1100000000000003,4.7300000000000004,4.1500000000000004,4.4400000000000004,4.7,5.19,5.8,5.94,5.2140000000000004,3.77,4.0999999999999996,4.8499999999999996,5.48,5.49,4.7379999999999995,5.03,5.42,5.68,6.21,6.47,5.7619999999999996,3.18,3.19,4.3899999999999997,5.04,4.6399999999999997,4.0880000000000001,2.66,2.9,4.25,4.75,4.16,3.7439999999999998,4.67,5.0599999999999996,5.36,5.93,6.22,5.4479999999999995,3.84,4.0199999999999996,4.78,5.47,5.48,4.718,2.75,2.65,3.05,3.52,3.59,3.1119999999999997]
[null,11,3.98,3.99,5.0599999999999996,5.6,5.57,4.8400000000000007,3.81,3.81,4.88,5.47,5.4,4.6739999999999995,3.5,3.48,4.47,null,5.01,4.1150000000000002,3.28,3.25,4.5,5.12,4.75,4.18,4.43,4.7300000000000004,5.28,5.8,5.97,5.242,3.78,4.09,4.91,5.52,5.48,4.7559999999999993,5.14,5.35,5.71,6.21,6.48,5.7780000000000005,3.18,3.21,4.45,5.07,4.63,4.1079999999999997,2.66,2.94,4.29,4.8,4.18,3.774,4.6399999999999997,5.0199999999999996,5.46,6,6.27,5.4779999999999998,3.84,4.01,4.8499999999999996,5.49,5.48,4.734,2.78,2.65,3.15,3.53,3.61,3.1439999999999997]
[null,12,3.96,4,5.09,5.62,5.55,4.8440000000000003,3.78,3.83,4.91,5.47,5.39,4.6760000000000002,3.55,3.46,4.51,5.16,null,4.17,3.27,3.28,4.5599999999999996,5.15,4.76,4.2039999999999988,4.49,4.97,5.27,null,null,4.91,3.78,4.12,4.9400000000000004,5.53,5.48,4.7700000000000005,5.12,5.4,5.7,6.22,6.54,5.7959999999999994,3.18,3.23,4.5,5.08,4.6399999999999997,4.1259999999999994,2.67,2.95,4.34,4.82,4.17,3.7900000000000005,4.6500000000000004,5.15,5.47,6.05,6.46,5.556,3.85,4.07,4.88,5.49,5.46,4.75,2.8,2.68,3.2,3.54,3.65,3.1739999999999999]
["M",13,3.94,4.0199999999999996,5.1100000000000003,5.62,5.54,4.8460000000000001,3.77,3.85,4.9400000000000004,5.48,5.36,4.68,3.47,3.48,4.5599999999999996,5.17,null,4.17,3.25,3.31,4.6100000000000003,5.16,4.78,4.2220000000000004,4.4400000000000004,4.62,5.3,6.16,null,5.13,3.74,4.0999999999999996,4.99,5.5,5.48,4.7619999999999996,5.17,5.3,5.81,6.37,6.5,5.83,3.17,3.25,4.55,5.09,4.66,4.1440000000000001,2.68,2.96,4.3899999999999997,4.8099999999999996,4.18,3.8039999999999998,4.7300000000000004,4.8899999999999997,5.58,6.12,6.25,5.5140000000000002,3.85,4.0599999999999996,4.93,5.49,5.46,4.758,2.8,2.7,3.25,3.55,3.65,3.1900000000000004]
[null,14,3.9,4.03,5.13,5.6,5.5,4.831999999999999,3.73,3.84,4.9800000000000004,5.45,5.33,4.6659999999999995,3.43,3.48,4.6100000000000003,5.14,4.9000000000000004,4.3120000000000003,3.19,3.31,4.6399999999999997,5.15,4.79,4.2159999999999993,4.5,4.63,5.59,5.87,null,5.1475,3.74,4.09,5.01,5.51,5.49,4.7680000000000007,5.17,5.33,5.86,6.25,6.47,5.8159999999999998,3.09,3.26,4.5999999999999996,5.07,4.66,4.1360000000000001,2.66,2.97,4.4400000000000004,4.78,4.18,3.806,4.78,5.05,5.67,6.02,6.23,5.55,3.84,4.09,4.99,5.48,5.43,4.766,2.82,2.7,3.3,3.57,3.67,3.2120000000000006]
[null,15,3.88,4.0199999999999996,5.17,5.58,5.47,4.8239999999999998,3.69,3.85,4.99,5.44,5.28,4.6500000000000004,3.35,3.49,4.67,5.1100000000000003,null,4.1550000000000002,3.08,3.32,4.6900000000000004,5.1100000000000003,4.7699999999999996,4.194,4.45,4.62,5.38,null,null,4.8166666666666664,3.72,4.0999999999999996,5.0599999999999996,5.43,5.48,4.758,5.0999999999999996,5.39,5.77,6.27,6.5,5.8059999999999992,3.04,3.26,4.6399999999999997,5.03,4.66,4.1259999999999994,2.64,2.97,4.49,4.7300000000000004,4.1900000000000004,3.8040000000000007,4.7,5.07,5.59,6.02,6.18,5.5119999999999996,3.82,4.04,5.03,5.47,5.48,4.7679999999999998,2.82,2.72,3.35,3.57,3.69,3.2300000000000004]
[null,16,3.86,4.0199999999999996,5.21,5.57,5.43,4.8179999999999996,3.71,3.85,5.0199999999999996,5.46,5.25,4.6579999999999995,3.36,3.49,4.74,5.1100000000000003,null,4.1749999999999998,3.07,3.32,4.74,5.0999999999999996,4.74,4.194,4.51,4.68,5.4,null,5.93,5.13,3.72,4.09,5.0999999999999996,5.45,5.5,4.7720000000000002,5.05,5.4,5.79,6.24,6.58,5.8119999999999994,3.01,3.27,4.7,5.01,4.67,4.1319999999999997,2.64,2.98,4.55,4.7,4.2,3.8140000000000001,4.7699999999999996,4.96,5.57,5.99,6.17,5.492,3.86,4.07,5.09,5.47,5.44,4.7859999999999996,2.82,2.72,3.35,3.57,3.74,3.2400000000000007]
["A",17,3.85,4.01,5.24,5.55,5.4,4.8099999999999996,3.69,3.82,5.07,5.42,5.22,4.6440000000000001,3.34,3.47,4.78,5.09,null,4.17,3.07,3.33,4.79,5.0599999999999996,4.8099999999999996,4.2119999999999997,4.42,4.75,5.44,5.85,null,5.1150000000000002,3.71,4.0999999999999996,5.14,5.44,5.49,4.7760000000000007,5.12,5.36,5.8,6.22,6.51,5.8019999999999996,3.01,3.28,4.7699999999999996,4.99,4.6900000000000004,4.1479999999999997,2.67,2.98,4.6399999999999997,4.67,4.22,3.8359999999999999,4.75,5.04,5.58,6.05,6.25,5.5339999999999998,3.82,4.07,5.12,5.44,5.45,4.78,2.84,2.75,3.4,3.57,3.76,3.2640000000000002]
[null,18,3.85,4.01,5.28,5.53,5.37,4.8080000000000007,3.68,3.81,5.12,5.39,5.21,4.6420000000000003,3.37,3.48,4.8899999999999997,null,4.82,4.1399999999999997,3.11,3.38,4.9000000000000004,5.05,4.8099999999999996,4.25,4.3899999999999997,4.7,5.46,5.85,null,5.0999999999999996,3.75,4.0999999999999996,5.18,5.44,5.5,4.7939999999999996,5.0599999999999996,5.44,5.83,6.27,6.58,5.8360000000000003,3.03,3.29,4.88,4.97,4.72,4.177999999999999,2.71,2.99,4.74,4.6399999999999997,4.25,3.8660000000000005,4.8099999999999996,4.9800000000000004,5.65,6.02,6.26,5.5439999999999996,3.82,4.03,5.17,5.45,5.5,4.7939999999999996,2.84,2.75,3.4,3.57,3.78,3.2679999999999998]
[null,19,3.85,3.99,5.3,5.5,5.35,4.798,3.7,3.81,5.15,5.37,5.2,4.6459999999999999,3.34,3.47,4.97,5.05,null,4.2075000000000005,3.11,3.43,4.9800000000000004,5.05,4.84,4.282,4.47,4.6900000000000004,5.45,5.9,null,5.1274999999999995,3.76,4.08,5.21,5.44,5.52,4.8020000000000005,5.1100000000000003,5.48,5.88,6.32,6.56,5.8699999999999992,3.05,3.3,4.9400000000000004,4.96,4.7699999999999996,4.2039999999999997,2.74,2.99,4.79,4.6100000000000003,4.29,3.8839999999999995,4.68,5,5.68,6.07,6.28,5.5419999999999998,3.84,4.04,5.22,5.43,5.5,4.806,2.84,2.75,3.4,3.57,3.78,3.2679999999999998]
[null,20,3.84,3.99,5.31,5.48,5.36,4.7960000000000003,3.69,3.81,5.18,5.35,5.2,4.6459999999999999,3.37,3.44,4.9800000000000004,5.0199999999999996,null,4.2025000000000006,3.14,3.4,5.01,5.0599999999999996,4.8,4.282,4.57,4.74,5.53,null,null,4.9466666666666663,3.8,4.09,5.24,5.45,5.5,4.8159999999999998,5.12,5.43,5.88,6.29,6.57,5.8579999999999997,3.08,3.34,4.9800000000000004,4.97,4.76,4.2260000000000009,2.79,3.01,4.83,4.62,4.33,3.9159999999999995,4.71,4.99,5.76,6.09,6.3,5.5699999999999994,3.87,4.07,5.23,5.43,5.49,4.8180000000000005,2.84,2.75,3.4,3.59,3.78,3.2719999999999998]
[null,21,3.84,3.99,5.32,5.48,5.36,4.798,3.68,3.81,5.17,5.37,5.21,4.6480000000000006,3.38,3.49,5,null,null,3.956666666666667,3.16,3.44,5.03,5.05,4.84,4.3040000000000003,4.49,4.68,5.56,5.81,5.88,5.2839999999999998,3.82,4.09,5.27,5.45,5.51,4.8280000000000003,5.08,5.45,5.9,6.3,6.52,5.85,3.12,3.35,5,4.97,4.76,4.24,2.83,3.03,4.84,4.63,4.33,3.9319999999999995,4.76,5.03,5.74,6.09,6.26,5.5759999999999987,3.87,4.07,5.22,5.45,5.5,4.8220000000000001,2.84,2.75,3.4,3.6,3.84,3.286]
["M",22,3.85,3.99,5.33,5.46,5.37,4.8,3.69,3.83,5.18,5.33,5.2,4.6459999999999999,3.41,3.47,5.0199999999999996,5.03,null,4.2324999999999999,3.2,3.46,5.04,5.08,4.8600000000000003,4.3280000000000003,4.5999999999999996,4.7,5.65,null,null,4.9833333333333334,3.88,4.0999999999999996,5.27,5.47,5.51,4.8459999999999992,5.0999999999999996,5.42,5.9,6.27,6.55,5.8480000000000008,3.15,3.38,5.0199999999999996,4.9800000000000004,4.78,4.2620000000000005,2.86,3.06,4.8600000000000003,4.67,4.3499999999999996,3.96,4.79,5.04,5.8,6.05,6.18,5.5720000000000001,3.97,4.09,5.28,5.45,5.5,4.8579999999999997,2.84,2.75,3.45,3.61,3.87,3.3039999999999998]
[null,23,3.84,3.99,5.33,5.46,5.37,4.798,3.72,3.81,5.2,5.33,5.22,4.6560000000000006,3.37,3.49,5.0199999999999996,5.01,null,4.2225000000000001,3.22,3.47,5.08,5.09,4.8600000000000003,4.3439999999999994,4.59,4.72,5.57,null,null,4.96,3.95,4.1100000000000003,5.29,5.49,5.52,4.8720000000000008,5.16,5.42,5.96,6.29,6.49,5.8639999999999999,3.18,3.4,5.04,5.0199999999999996,4.8,4.2880000000000003,2.87,3.08,4.87,4.71,4.3600000000000003,3.9780000000000002,4.83,5.0999999999999996,5.7,6.1,6.28,5.6019999999999994,3.98,4.05,5.29,5.48,5.51,4.8620000000000001,2.84,2.73,3.45,3.62,3.88,3.3039999999999998]
[null,24,3.85,4,5.33,5.45,5.38,4.8019999999999996,3.72,3.84,5.2,5.31,5.24,4.6620000000000008,3.39,3.5,5.03,5.05,null,4.2425000000000006,3.23,3.48,5.0999999999999996,5.09,4.8600000000000003,4.3519999999999994,4.53,4.7300000000000004,5.56,null,5.89,5.1775000000000002,4.01,4.1399999999999997,5.29,5.5,5.51,4.8899999999999988,5.17,5.36,5.95,6.29,6.56,5.8659999999999997,3.18,3.43,5.05,5.03,4.8,4.298,2.88,3.11,4.87,4.71,4.38,3.9899999999999998,4.7300000000000004,5.0199999999999996,5.74,6.06,6.26,5.5620000000000003,4.05,4.1100000000000003,5.31,5.47,5.51,4.8899999999999988,2.84,2.73,3.45,3.62,3.9,3.3079999999999998]
[null,25,3.85,4.01,5.33,5.43,5.38,4.7999999999999989,3.71,3.84,5.19,5.27,5.24,4.6500000000000004,3.4,3.47,5.03,5.04,null,4.2350000000000003,3.23,3.52,5.12,5.09,4.91,4.3740000000000006,4.62,4.78,5.52,null,null,4.9733333333333336,4.03,4.0999999999999996,5.29,5.48,5.5,4.88,5.16,5.45,5.95,6.29,6.51,5.8719999999999999,3.18,3.44,5.05,5.0199999999999996,4.8,4.298,2.88,3.12,4.87,4.7,4.3899999999999997,3.992,4.8600000000000003,5.09,5.75,6.13,6.29,5.6239999999999997,4.07,4.0599999999999996,5.3,5.46,5.47,4.8719999999999999,2.82,2.73,3.45,3.62,3.92,3.3079999999999998]
["J",26,3.85,4.01,5.33,5.39,5.38,4.7919999999999998,3.72,3.82,5.2,5.24,5.23,4.6420000000000003,3.39,3.53,5.01,5.0199999999999996,null,4.2374999999999998,3.23,3.53,5.1100000000000003,5.05,4.8899999999999997,4.3620000000000001,4.5999999999999996,4.68,5.49,null,null,4.9233333333333329,4.07,4.12,5.3,5.48,5.52,4.8980000000000006,5.13,5.45,5.98,6.3,6.5,5.8720000000000008,3.19,3.46,5.05,4.99,4.8099999999999996,4.2999999999999989,2.87,3.14,4.88,4.66,4.3899999999999997,3.9880000000000004,4.97,5.0599999999999996,5.68,6.05,6.22,5.5959999999999992,4.05,4.1100000000000003,5.29,5.47,5.49,4.8819999999999997,2.82,2.73,3.43,3.62,3.89,3.2980000000000005]
[null,27,3.85,4.01,5.33,5.37,5.36,4.7839999999999998,3.71,3.85,5.19,5.21,5.25,4.6420000000000003,3.4,3.5,5.05,4.97,null,4.2299999999999995,3.23,3.55,5.13,5.01,4.9000000000000004,4.3639999999999999,4.59,4.76,5.61,null,null,4.9866666666666672,4.05,4.1399999999999997,5.29,5.46,5.51,4.8900000000000006,5.13,5.37,5.94,6.24,6.58,5.8519999999999994,3.19,3.46,5.05,4.96,4.8099999999999996,4.2939999999999996,2.87,3.15,4.87,4.62,4.3899999999999997,3.9800000000000004,4.79,4.99,5.8,6.09,6.2,5.5739999999999998,4.08,4.08,5.31,5.46,5.49,4.8840000000000003,2.8,2.73,3.43,3.61,3.85,3.2839999999999998]
[null,28,3.85,4.0199999999999996,5.31,5.33,5.34,4.7699999999999996,3.7,3.85,5.17,5.17,5.2,4.6180000000000003,3.37,3.51,5.0599999999999996,4.92,4.88,4.3479999999999999,3.22,3.53,5.13,5,4.88,4.3519999999999994,4.5599999999999996,4.7699999999999996,5.57,null,5.88,5.1949999999999994,4.0599999999999996,4.1399999999999997,5.28,5.44,5.51,4.8860000000000001,5.16,5.39,5.95,6.29,6.59,5.8759999999999994,3.19,3.48,5.0599999999999996,4.93,4.82,4.2960000000000003,2.88,3.16,4.87,4.57,4.4000000000000004,3.9760000000000004,4.84,5.13,5.75,6.1,6.23,5.61,4.09,4.13,5.3,5.42,5.46,4.88,2.8,2.73,3.43,3.52,3.82,3.2599999999999993]
[null,29,3.86,4.03,5.31,5.31,5.32,4.766,3.69,3.87,5.16,5.16,5.18,4.6120000000000001,3.37,3.5,5.04,4.9000000000000004,null,4.2025000000000006,3.24,3.57,5.14,5.01,4.9000000000000004,4.3719999999999999,4.53,4.75,5.6,null,null,4.96,4.09,4.13,5.3,5.44,5.5,4.8920000000000003,5.2,5.38,5.97,6.33,6.55,5.886000000000001,3.2,3.48,5.08,4.8899999999999997,4.82,4.2939999999999996,2.88,3.18,4.9000000000000004,4.53,4.4000000000000004,3.9780000000000002,4.79,4.9800000000000004,5.78,6.01,6.27,5.5660000000000007,4.0999999999999996,4.1100000000000003,5.3,5.43,5.49,4.8860000000000001,2.8,2.73,3.43,3.5,3.83,3.258]
["J",30,3.85,4.05,5.3,5.29,5.31,4.76,3.69,3.9,5.16,5.1100000000000003,5.18,4.6079999999999997,3.38,3.54,5.04,4.8600000000000003,4.88,4.34,3.24,3.59,5.13,4.9800000000000004,4.93,4.3740000000000006,4.5199999999999996,4.7300000000000004,5.56,null,null,4.9366666666666665,4.08,4.13,5.28,5.42,5.52,4.886000000000001,5.19,5.49,5.86,6.3,6.61,5.89,3.21,3.5,5.08,4.88,4.83,4.3,2.88,3.2,4.87,4.5,4.42,3.9739999999999993,4.87,4.95,5.69,6.05,6.34,5.58,4.0599999999999996,4.0999999999999996,5.29,5.43,5.48,4.8719999999999999,2.8,2.73,3.43,3.45,3.83,3.2480000000000002]
[null,31,3.85,4.07,5.29,5.24,5.31,4.7520000000000007,3.68,3.9,5.16,5.09,5.19,4.6040000000000001,3.37,3.54,5.04,4.84,4.88,4.3339999999999996,3.24,3.6,5.14,4.96,4.92,4.3719999999999999,4.5199999999999996,4.67,5.5,null,null,4.8966666666666665,4.07,4.16,5.19,5.44,5.53,4.878000000000001,5.24,5.44,5.9,6.32,6.5,5.88,3.21,3.52,5.07,4.8600000000000003,4.84,4.3,2.88,3.22,4.8600000000000003,4.4800000000000004,4.43,3.9740000000000002,4.8099999999999996,4.97,5.65,6,null,5.3574999999999999,4.09,4.09,5.21,5.41,5.51,4.8620000000000001,2.77,2.73,3.4,3.45,3.83,3.2359999999999998]
[null,32,3.83,4.1100000000000003,5.28,5.24,5.33,4.758,3.66,3.91,5.15,5.0599999999999996,5.23,4.6020000000000003,3.35,3.56,5.03,4.83,4.91,4.3360000000000003,3.24,3.61,5.14,4.96,4.9400000000000004,4.3780000000000001,4.59,4.78,5.53,5.85,null,5.1875,4.08,4.1500000000000004,5.28,5.45,5.56,4.9039999999999999,5.13,5.41,5.92,6.38,6.55,5.8780000000000001,3.2,3.53,5.08,4.87,4.8600000000000003,4.3079999999999998,2.87,3.25,4.8600000000000003,4.49,4.46,3.9859999999999998,4.93,5.05,5.79,6.02,6.29,5.6159999999999997,4.0599999999999996,4.1399999999999997,5.29,5.41,5.52,4.8839999999999995,2.77,2.73,3.35,3.45,3.83,3.2260000000000004]
[null,33,3.82,4.1100000000000003,5.29,5.25,5.37,{"$f":"AVERAGE(C37:G37)","v":4.7679999999999998},3.66,3.92,5.14,5.07,5.26,{"$f":"AVERAGE(I37:M37)","v":4.6099999999999994},3.35,3.56,5.0199999999999996,4.8600000000000003,null,{"$f":"AVERAGE(O37:S37)","v":4.1974999999999998},3.24,3.63,5.14,5.0199999999999996,4.97,{"$f":"AVERAGE(U37:Y37)","v":4.4000000000000004},4.46,4.79,5.61,null,null,{"$f":"AVERAGE(AA37:AE37)","v":4.9533333333333331},4.09,4.16,5.29,5.46,5.6,{"$f":"AVERAGE(AG37:AK37)","v":4.92},5.16,5.48,5.95,6.33,6.53,{"$f":"AVERAGE(AM37:AQ37)","v":5.8900000000000006},3.21,3.56,5.08,4.93,4.9000000000000004,{"$f":"AVERAGE(AS37:AW37)","v":4.3360000000000003},2.88,3.26,4.87,4.54,4.5,{"$f":"AVERAGE(AY37:BC37)","v":4.01},4.83,5.07,5.75,null,6.33,{"$f":"AVERAGE(BE37:BI37)","v":5.4950000000000001},4.03,4.0999999999999996,5.31,5.46,5.54,{"$f":"AVERAGE(BK37:BO37)","v":4.8879999999999999},2.77,2.73,3.35,3.45,3.83,{"$f":"AVERAGE(BQ37:BU37)","v":3.2260000000000004}]
[null,34,3.81,4.1399999999999997,5.3,5.27,5.41,4.7859999999999996,3.66,3.96,5.15,5.12,5.27,4.6319999999999997,3.34,3.6,5.04,4.9000000000000004,4.9400000000000004,4.3640000000000008,3.25,3.64,5.13,5.04,4.99,4.4099999999999993,4.57,4.78,5.58,null,null,4.9766666666666675,4.08,4.1900000000000004,5.29,5.52,5.6,4.9359999999999999,5.24,5.43,5.95,6.37,6.56,5.91,3.21,3.58,5.08,4.96,4.92,4.3499999999999996,2.88,3.29,4.8600000000000003,4.5999999999999996,4.55,4.0359999999999996,4.83,5.13,5.75,6.19,6.29,5.6379999999999999,4.03,4.1399999999999997,5.3,5.46,5.58,4.9019999999999992,2.72,2.73,3.35,3.46,3.82,3.2160000000000002]
["A",35,3.81,4.1500000000000004,5.29,5.3,5.42,4.7939999999999996,3.65,3.98,5.16,5.15,5.29,4.645999999999999,3.34,3.6,5.04,4.96,4.96,4.3800000000000008,3.23,3.65,5.14,5.07,5,4.4180000000000001,4.5199999999999996,4.8899999999999997,5.59,null,null,5,4.0999999999999996,4.21,5.31,5.56,5.61,4.9579999999999993,5.23,5.49,5.97,6.38,6.62,5.9380000000000006,3.21,3.58,5.08,4.99,4.9400000000000004,4.3600000000000003,2.88,3.3,4.8600000000000003,4.66,4.55,4.05,4.88,5.1100000000000003,5.76,6.2,6.29,5.6479999999999997,4.04,4.1900000000000004,5.31,5.52,5.57,4.9260000000000002,2.69,2.76,3.38,3.47,3.83,3.226]
[null,36,3.8,4.17,5.29,5.33,5.44,4.806,3.65,4.0199999999999996,5.17,5.2,5.31,4.67,3.35,3.6,5.0599999999999996,5.01,4.96,4.3959999999999999,3.24,3.66,5.13,5.0999999999999996,5,4.4260000000000002,4.5999999999999996,4.87,5.6,null,null,5.0233333333333325,4.08,4.21,5.32,5.58,5.61,4.9599999999999991,5.16,5.44,5.97,6.35,6.66,5.9160000000000004,3.21,3.59,5.0999999999999996,5.03,4.9400000000000004,4.3740000000000006,2.89,3.31,4.8600000000000003,4.7,4.5199999999999996,4.056,4.8499999999999996,5.13,5.73,6.15,6.29,5.63,4.03,4.17,5.32,5.53,5.56,4.9219999999999997,2.69,2.76,3.4,3.5,3.83,3.2359999999999998]
[null,37,3.82,4.1900000000000004,5.3,5.38,5.45,4.8279999999999994,3.63,4.01,5.18,5.22,5.3,4.6680000000000001,3.36,3.61,5.05,5.01,4.96,4.3980000000000006,3.26,3.68,5.16,5.09,4.95,4.427999999999999,4.75,4.78,5.61,null,null,5.0466666666666669,4.07,4.2300000000000004,5.34,5.56,5.57,4.9539999999999997,5.22,5.43,6.01,6.36,6.6,5.9239999999999995,3.22,3.6,5.1100000000000003,5.05,4.87,4.37,2.88,3.31,4.87,4.71,4.4800000000000004,4.05,4.87,5.04,5.76,6.11,6.29,5.6139999999999999,4.04,4.1900000000000004,5.34,5.53,5.53,4.9260000000000002,2.69,2.76,3.4,3.58,3.87,3.2600000000000002]
[null,38,3.79,4.2,5.3,5.41,5.46,4.8319999999999999,3.63,4.03,5.17,5.23,5.32,4.6760000000000002,3.33,3.6,5.0599999999999996,null,null,3.9966666666666661,3.25,3.66,5.15,5.07,4.93,4.4120000000000008,4.71,4.84,5.69,null,null,5.080000000000001,4.08,4.21,5.35,5.55,5.56,4.9499999999999993,5.26,5.5,6.01,6.4,6.61,5.9560000000000004,3.22,3.6,5.1100000000000003,5.04,4.83,4.3599999999999994,2.88,3.31,4.9000000000000004,4.67,4.42,4.0359999999999996,4.84,5.0999999999999996,5.75,6.21,6.3,5.64,4.0199999999999996,4.16,5.34,5.51,5.54,4.9139999999999997,2.69,2.8,3.45,3.59,3.89,3.2840000000000003]
["S",39,3.79,4.22,5.31,5.42,5.47,4.8420000000000005,3.65,4.05,5.19,5.26,5.32,4.694,3.3,3.66,5.07,null,4.9400000000000004,4.2425000000000006,3.24,3.68,5.19,5.0599999999999996,4.8600000000000003,4.4059999999999997,4.62,4.8899999999999997,5.81,null,null,5.1066666666666665,4.09,4.21,5.35,5.54,5.57,4.952,5.14,5.51,6.02,6.34,6.6,5.9219999999999997,3.22,3.6,5.13,4.99,4.78,4.3439999999999994,2.88,3.31,4.91,4.6500000000000004,4.3600000000000003,4.0220000000000002,4.84,5.1100000000000003,5.74,6.19,6.26,5.6280000000000001,4.07,4.17,5.36,5.53,5.52,4.9300000000000006,2.67,2.8,3.45,3.59,3.91,3.2840000000000003]
[null,40,3.8,4.26,5.32,5.42,5.51,4.8619999999999992,3.65,4.07,5.2,5.27,5.32,4.702,3.3,3.62,5.07,4.9800000000000004,4.91,4.3759999999999994,3.25,3.67,5.19,5.05,4.8099999999999996,4.3940000000000001,4.58,4.84,null,null,null,4.71,4.07,4.2300000000000004,5.39,5.56,5.57,4.9640000000000004,5.19,5.43,6,6.41,6.56,5.9180000000000001,3.21,3.6,5.13,4.95,4.74,4.3260000000000005,2.88,3.3,4.91,4.5999999999999996,4.32,4.0019999999999998,4.9000000000000004,5.1100000000000003,5.76,6.18,6.29,5.6480000000000006,4.04,4.16,5.37,5.53,5.53,4.9260000000000002,2.67,2.82,3.45,3.56,3.96,3.2920000000000003]
[null,41,3.79,4.28,5.34,5.43,5.52,4.8719999999999999,3.62,4.0999999999999996,5.21,5.27,5.36,4.7119999999999997,3.32,3.65,5.08,4.97,4.92,4.3879999999999999,3.25,3.66,5.19,5.01,4.76,4.3739999999999997,4.57,4.79,5.72,null,null,5.0266666666666664,4.07,4.21,5.42,5.53,5.58,4.9620000000000006,5.17,5.49,6.02,6.36,6.58,5.9239999999999995,3.21,3.61,5.14,4.92,4.6900000000000004,4.3140000000000009,2.87,3.31,4.92,4.55,4.2699999999999996,3.9839999999999995,4.8499999999999996,5.0599999999999996,5.86,6.17,6.25,5.6379999999999999,4.03,4.1500000000000004,5.38,5.49,5.51,4.911999999999999,2.67,2.82,3.45,3.49,3.96,3.278]
[null,42,3.78,4.32,5.35,5.42,5.56,4.8859999999999992,3.62,4.1399999999999997,5.23,5.26,5.39,4.7279999999999998,3.33,3.67,5.0999999999999996,4.93,4.8899999999999997,4.3840000000000003,3.22,3.7,5.2,4.9400000000000004,4.71,4.354000000000001,4.68,4.92,null,null,null,4.8,4.0999999999999996,4.2300000000000004,5.42,5.53,5.57,4.9700000000000006,5.14,5.5,6.04,6.39,6.65,5.944,3.21,3.63,5.14,4.88,4.66,4.3040000000000003,2.86,3.34,4.92,4.51,4.22,3.9699999999999998,4.8600000000000003,5.0599999999999996,5.83,6.19,6.3,5.6480000000000006,4.0199999999999996,4.1900000000000004,5.37,5.51,5.52,4.9220000000000006,2.64,2.82,3.48,3.49,3.97,3.28]
[null,43,3.79,4.3600000000000003,5.36,5.4,5.59,4.9000000000000004,3.6,4.2,5.25,5.26,5.42,4.7460000000000004,3.35,3.69,5.09,4.93,4.9000000000000004,4.3920000000000003,3.25,3.7,5.19,4.93,4.75,4.3639999999999999,4.53,4.87,5.66,null,null,5.0200000000000005,4.09,4.26,5.41,5.51,5.53,4.96,5.19,5.48,6.06,6.46,6.62,5.9620000000000006,3.21,3.65,5.13,4.8499999999999996,4.6500000000000004,4.2979999999999992,2.87,3.35,4.8899999999999997,4.4400000000000004,4.18,3.9460000000000002,4.83,5.14,5.84,6.13,6.38,5.6639999999999997,4.0199999999999996,4.1900000000000004,5.38,5.49,5.49,4.9139999999999997,2.62,2.82,3.48,3.45,3.97,3.2679999999999998]
["O",44,3.8,4.41,5.38,5.4,5.63,4.9240000000000004,3.6,4.25,5.25,5.25,5.46,4.7620000000000005,3.34,3.7,null,4.8899999999999997,4.9800000000000004,4.2275,3.24,3.73,5.16,4.91,4.71,4.3499999999999996,4.58,4.95,null,null,null,4.7650000000000006,4.07,4.2699999999999996,5.43,5.51,5.53,4.9620000000000006,5.22,5.52,6.04,6.42,6.61,5.9619999999999989,3.19,3.66,5.09,4.78,4.62,4.2679999999999998,2.85,3.38,4.8600000000000003,4.3499999999999996,4.1399999999999997,3.9159999999999995,4.8099999999999996,5.13,5.83,null,6.37,5.5350000000000001,4.01,4.2300000000000004,5.38,5.51,5.51,4.9279999999999999,2.62,2.82,3.48,3.45,3.97,3.2679999999999998]
[null,45,3.78,4.46,5.39,5.39,5.67,4.9379999999999997,3.61,4.29,5.27,5.24,5.51,4.7840000000000007,3.35,3.7,5.07,4.8499999999999996,4.9800000000000004,4.3899999999999997,3.23,3.75,5.14,4.8499999999999996,4.6900000000000004,4.3319999999999999,4.53,4.8499999999999996,null,null,null,4.6899999999999995,4.0599999999999996,4.3099999999999996,5.42,5.48,5.5,4.9539999999999997,5.0999999999999996,5.56,6.11,6.4,6.63,5.96,3.18,3.69,5.07,4.71,4.6399999999999997,4.2580000000000009,2.82,3.4,4.82,4.26,4.1500000000000004,3.8899999999999997,4.91,5.18,5.88,6.23,6.23,5.6859999999999999,3.95,4.2300000000000004,5.4,5.44,5.5,4.9039999999999999,2.62,2.82,3.5,3.4,3.98,3.2640000000000002]
[null,46,3.77,4.49,5.42,5.41,5.73,4.9640000000000004,3.61,4.34,5.3,5.24,5.58,4.8140000000000001,3.37,3.74,5.07,4.8099999999999996,null,4.2474999999999996,3.19,3.74,5.09,4.6900000000000004,4.71,4.2840000000000007,4.59,4.8899999999999997,null,null,null,4.74,4.07,4.32,5.4,5.46,5.57,4.9640000000000004,5.2,5.53,6.06,6.43,6.58,5.9599999999999991,3.13,3.71,5.05,4.62,4.6399999999999997,4.2300000000000004,2.77,3.43,4.76,4.16,4.16,3.8560000000000003,4.8499999999999996,5.17,5.84,6.14,6.43,5.6859999999999999,4,4.26,5.39,5.43,5.51,4.9179999999999993,2.62,2.82,3.5,3.35,4,3.258]
[null,47,3.78,4.53,5.46,5.42,5.77,4.9919999999999991,3.61,4.3899999999999997,5.32,5.27,5.62,4.8420000000000005,3.33,3.74,5.0999999999999996,4.76,5.07,4.4000000000000004,3.15,3.77,5.07,4.6900000000000004,4.75,4.2859999999999996,4.45,4.84,5.8,5.95,null,5.26,4.04,4.32,5.41,5.41,5.56,4.9479999999999995,5.24,5.54,6.06,6.4,6.61,5.9700000000000006,3.08,3.73,5,4.54,4.67,4.2040000000000006,2.74,3.45,4.72,4.0599999999999996,4.1900000000000004,3.8319999999999999,4.8600000000000003,5.14,5.88,6.14,6.27,5.6579999999999995,4.01,4.28,5.41,5.41,5.55,4.9320000000000004,2.62,2.82,3.5,3.34,4.03,3.2619999999999996]
["N",48,3.79,4.57,5.49,5.44,5.83,5.0239999999999991,3.62,4.41,5.36,5.25,5.65,4.8579999999999997,3.36,3.74,5.0999999999999996,4.72,null,4.2299999999999995,3.14,3.78,5.07,4.62,4.74,4.2700000000000005,4.5599999999999996,4.84,null,null,null,4.6999999999999993,4.05,4.3499999999999996,5.42,5.38,5.6,4.9599999999999991,5.22,5.47,6.02,6.37,6.6,5.9359999999999999,3.06,3.74,4.99,4.4800000000000004,4.67,4.1880000000000006,2.73,3.45,4.67,3.95,4.2,3.8,4.87,5.22,5.82,6.2,6.36,5.694,4.0199999999999996,4.28,5.4,5.41,5.56,4.9339999999999993,2.62,2.82,3.47,3.32,4.03,3.2520000000000002]
[null,49,3.8,4.59,5.51,5.44,5.86,5.04,3.61,4.4000000000000004,5.37,5.26,5.69,4.8660000000000005,3.38,3.76,5.1100000000000003,4.76,5.03,4.4079999999999995,3.13,3.78,5.05,4.46,4.7699999999999996,4.2380000000000004,4.57,5.25,6.07,6.27,6.25,5.6820000000000004,4.05,4.3499999999999996,5.42,5.38,5.57,4.9539999999999997,5.22,5.62,6.13,6.53,6.63,6.0259999999999998,3.04,3.73,4.96,4.38,4.6900000000000004,4.16,2.73,3.46,4.63,3.88,4.21,3.782,4.84,5.24,5.96,6.31,6.32,5.734,4.0199999999999996,4.32,5.42,5.4,5.54,4.9399999999999995,2.62,2.79,3.45,3.27,4.03,3.2320000000000002]
[null,50,3.79,4.59,5.52,null,5.87,4.9424999999999999,3.62,4.41,5.38,null,5.69,4.7750000000000004,3.41,3.78,5.1100000000000003,null,5.14,4.3600000000000003,3.15,3.79,5.01,null,4.8,4.1875,4.79,4.96,5.92,null,6.65,5.58,4.04,4.3499999999999996,5.41,null,5.57,4.8425000000000002,5.33,5.58,6.15,null,6.74,5.9500000000000011,3.04,3.73,4.92,null,4.6900000000000004,4.0949999999999998,2.73,3.42,4.5999999999999996,null,4.21,3.74,5,5.28,6.01,null,6.74,5.7575000000000003,4.01,4.3,5.4,null,5.55,4.8149999999999995,2.62,2.79,3.27,null,4.05,3.1825000000000001]
[null,51,3.8,4.59,5.52,null,5.88,4.9474999999999998,3.63,4.41,5.39,null,5.66,4.7725,3.37,3.78,5.0999999999999996,null,5.0999999999999996,4.3375000000000004,3.13,3.79,5.0199999999999996,null,4.79,4.1825000000000001,4.75,4.87,null,null,null,4.8100000000000005,4.04,4.3600000000000003,5.42,null,5.57,4.8475000000000001,5.24,5.56,6.18,null,6.65,5.9075000000000006,3.06,3.73,4.91,null,4.68,4.0949999999999998,2.73,3.41,4.57,null,4.22,3.7324999999999999,4.9000000000000004,5.13,5.92,null,6.41,5.59,4.03,4.29,5.43,null,5.58,4.8324999999999996,2.62,2.79,3.27,null,4.05,3.1825000000000001]
["D",52,3.82,4.59,5.53,null,null,4.6466666666666674,3.65,4.42,5.4,null,null,4.49,3.35,3.75,5.07,null,null,4.0566666666666666,3.13,3.8,4.99,null,null,3.9733333333333332,4.5,4.88,null,null,null,4.6899999999999995,4.05,4.38,5.42,null,null,4.6166666666666663,5.21,5.49,6.08,null,null,5.5933333333333337,3.07,3.74,4.91,null,null,3.9066666666666667,2.74,3.43,4.59,null,null,3.5866666666666664,4.9400000000000004,5.22,5.86,null,null,5.34,3.97,4.34,5.43,null,null,4.58,2.62,null,3.27,null,null,2.9450000000000003]
[null,53,3.82,null,null,null,null,3.82,3.66,null,null,null,null,3.66,3.37,null,null,null,null,3.37,3.13,null,null,null,null,3.13,4.5599999999999996,null,null,null,null,4.5599999999999996,4.04,null,null,null,null,4.04,5.19,null,null,null,null,5.19,3.07,null,null,null,null,3.07,2.75,null,null,null,null,2.75,4.8099999999999996,null,null,null,null,4.8099999999999996,4.03,null,null,null,null,4.03,2.62,null,null,null,null,2.62]

{"sheet":"MoyQuinqHebdoVeaux","index":3,"n_rows":60,"n_cols":32,"rows_kept":60,"cut":false,"hidden":true,"merged":[[5,26,5,31],[5,2,5,7],[5,8,5,13],[5,14,5,19],[5,20,5,25]]}
[]
[]
[]
[]
[null,null,2020,2021,2022,2023,2024,"MOYENNE 5 ANS",2020,2021,2022,2023,2024,"MOYENNE 5 ANS",2020,2021,2022,2023,2024,"MOYENNE 5 ANS",2020,2021,2022,2023,2024,"MOYENNE 5 ANS",2020,2021,2022,2023,2024,"MOYENNE 5 ANS"]
["Mois","Sem.","Rose très clair",null,null,null,null,null,"R.clair",null,null,null,null,null,"Rosé",null,null,null,null,null,"NORMAND 45 à 50 Kg (Euros/tête)",null,null,null,null,null,"LAITIER 45 à 50 Kg (Euros/tête)"]
[]
[null,1,6.77,6.91,6.9600000381469727,7.9499998092651367,null,{"$f":"AVERAGE(C8:G8)","v":7.1474999618530273},6.37,6.39,6.9499998092651367,7.75,7.48,{"$f":"AVERAGE(I8:M8)","v":6.987999961853026},4.93,4.96,4.9600000381469727,5.5100002288818359,5.6,{"$f":"AVERAGE(O8:S8)","v":5.1920000534057618},55,40,35,40,40,{"$f":"AVERAGE(U8:Y8)","v":42},55,55,55,60,55,{"$f":"AVERAGE(AA8:AE8)","v":56}]
[null,2,6.95,6.86,7.1500000953674316,7.9899997711181641,7.59,7.3079999732971199,6.41,6.36,6.9600000381469727,7.7600002288818359,7.49,6.9960000534057611,5.26,5.03,4.929999828338623,5.3899998664855957,5.6,5.2419999389648435,55,40,35,60,40,46,55,55,55,70,55,58]
[null,3,6.91,6.86,7.1500000953674316,7.9899997711181641,null,7.2274999666213988,6.41,6.37,6.9499998092651367,7.75,7.51,6.9979999618530275,5.17,4.95,4.5999999046325684,5.380000114440918,5.6,5.1400000038146967,55,40,35,60,40,46,55,55,55,70,55,58]
["J",4,6.86,6.85,7.1500000953674316,7.880000114440918,7.53,7.2540000419616701,6.41,6.37,6.9499998092651367,7.7699999809265137,7.51,7.0019999580383301,5.04,4.95,4.8499999046325684,5.2100000381469727,5.6,5.1299999885559089,55,45,35,60,40,47,55,60,55,70,55,59]
[null,5,6.77,6.85,7.1100001335144043,"nc",7.53,7.0650000333786007,6.37,6.39,6.9200000762939453,7.77,7.52,6.9940000152587887,5.18,5.0199999999999996,4.940000057220459,5.81,5.54,5.2980000114440911,55,45,35,70,45,50,55,60,55,80,60,62]
[null,6,6.78,6.85,7.0999999046325684,7.84,7.69,7.251999980926513,6.34,6.37,6.9000000953674316,7.77,7.51,6.9780000190734865,5.32,4.6399999999999997,5.0900001525878906,5.81,5.68,5.3080000305175776,55,45,45,70,45,52,55,60,65,80,60,64]
[null,7,6.8,6.85,7.0999999046325684,7.84,7.66,7.2499999809265132,6.31,6.39,6.8899998664855957,7.76,7.55,6.9799999732971187,4.9400000000000004,4.8499999999999996,5.0799999237060547,5.81,5.68,5.2719999847412105,55,45,45,70,45,52,55,60,65,80,60,64]
["F",8,6.65,6.85,7.1599998474121094,7.84,7.66,7.2319999694824215,6.3,6.37,6.9000000953674316,7.76,7.55,6.9760000190734859,4.5599999999999996,4.83,5.1599998474121094,5.81,5.59,5.1899999694824217,55,45,45,70,55,54,55,60,65,80,70,66]
[null,9,6.74,6.72,7.1599998474121094,7.74,null,7.0899999618530281,6.3,6.39,6.8899998664855957,7.74,7.48,6.9599999732971183,4.75,4.87,5.2300000190734863,5.43,5.67,5.1900000038146974,55,45,55,70,55,56,55,60,75,80,70,68]
[null,10,6.74,6.72,null,7.74,7.6,7.2000000000000011,6.27,6.35,6.8600001335144043,7.74,7.45,6.934000026702881,4.9800000000000004,4.51,5.2300000190734863,5.93,5.88,5.3060000038146971,55,45,65,70,65,60,55,60,85,80,80,72]
[null,11,6.69,6.66,null,7.84,7.6,7.1974999999999998,6.25,6.37,6.9099998474121094,7.74,7.5,6.9539999694824219,4.58,4.1100000000000003,5.2300000190734863,5.77,5.88,5.1140000038146969,null,45,65,70,65,61.25,null,60,85,80,80,76.25]
[null,12,6.59,6.53,6.9899997711181641,7.75,7.58,7.0879999542236334,6.23,6.29,6.9800000190734863,7.73,7.5,6.9460000038146976,4.96,4.2300000000000004,4.9000000953674316,5.7,5.82,5.1220000190734867,null,45,65,70,75,63.75,null,60,85,80,90,78.75]
["M",13,6.67,6.48,6.9899997711181641,"nc",7.6,6.934999942779541,6.21,6.32,6.9800000190734863,7.74,7.5,6.9500000038146981,4.72,4.0999999999999996,4.9000000953674316,5.92,5.82,5.0920000190734864,75,55,65,70,85,70,75,70,85,80,100,82]
[null,14,6.59,6.52,6.9899997711181641,7.8,7.6,7.0999999542236321,6.13,6.29,6.9899997711181641,7.73,7.45,6.9179999542236335,4.3499999999999996,4.22,4.9000000953674316,6.06,5.82,5.0700000190734862,75,55,65,80,85,72,75,70,85,90,100,84]
[null,15,6.58,6.42,7.179999828338623,7.72,null,6.9749999570846555,5.99,6.23,7.0500001907348633,7.67,7.43,6.8740000381469724,4.5,3.94,4.5100002288818359,5.7,5.84,4.8980000457763673,null,50,65,80,95,72.5,null,65,85,90,110,87.5]
[null,16,6.63,6.42,7.179999828338623,7.72,7.37,7.0639999656677244,5.87,6.18,7.070000171661377,7.64,7.43,6.8380000343322767,4.45,4.22,4.75,5.84,5.98,5.048,null,45,65,80,105,73.75,null,60,85,90,120,88.75]
["A",17,6.1,6.41,7.0999999046325684,"nc",7.37,6.7449999761581418,5.63,6.12,7.059999942779541,7.59,7.43,6.7659999885559072,4.0199999999999996,3.7,4.75,5.5,5.98,4.79,70,45,65,95,105,76,70,60,85,110,120,89]
[null,18,6.41,6.41,7.1599998474121094,7.64,7.49,7.0219999694824224,5.47,6.11,7.0799999237060547,7.57,7.4,6.7259999847412102,3.76,3.97,4.75,5.27,6.13,4.7759999999999998,70,45,65,95,105,76,70,60,85,110,120,89]
[null,19,6.26,6.22,7.1599998474121094,7.64,null,6.8199999618530276,5.26,6.13,7.070000171661377,7.56,7.36,6.6760000343322758,3.64,3.92,4.5300002098083496,5.67,5.88,4.7280000419616695,70,45,65,95,105,76,70,60,85,110,120,89]
[null,20,5.93,6.35,null,7.68,7.42,6.8450000000000006,5.25,6.08,7.0799999237060547,7.52,7.36,6.6579999847412115,3.65,3.61,4.6999998092651367,5.48,5.88,4.6639999618530279,70,75,65,95,105,82,70,75,85,110,120,92]
["M",21,6.1,6.49,7.119999885559082,7.56,7.43,6.9399999771118157,5.23,6.1,7.059999942779541,7.51,7.36,6.6519999885559074,3.9,3.83,4.6999998092651367,5.48,5.88,4.7579999618530273,70,75,65,95,105,82,70,75,85,110,120,92]
[null,22,6.1,null,7.119999885559082,7.45,7.43,7.0249999713897706,5.15,6.03,7.0300002098083496,7.44,7.33,6.5960000419616707,3.94,3.52,4.6999998092651367,5.48,5.82,4.6919999618530275,70,90,65,95,105,85,70,90,85,110,120,95]
[null,23,6.23,6.38,6.9499998092651367,"nc",null,6.5199999364217121,5.18,6.04,6.9699997901916504,7.33,7.29,6.5619999580383297,3.87,4.09,4.3400001525878906,5.22,5.8,4.6640000305175784,75,100,65,115,105,92,75,100,85,130,120,102]
[null,24,6.34,6.25,7.0100002288818359,7.41,7.33,6.868000045776367,5.2,5.99,6.9800000190734863,7.24,7.21,6.524000003814697,4.09,3.66,4.4800000190734863,4.95,5.62,4.5600000038146975,85,100,65,115,105,94,85,100,85,130,120,104]
[null,25,6.34,6.08,7.059999942779541,7.26,7.33,6.8139999885559082,5.21,6,6.929999828338623,7.16,7.2,6.4999999656677243,3.6,3.69,4.7199997901916504,5.03,5.4,4.4879999580383299,85,100,65,115,105,94,85,100,85,130,120,104]
["J",26,6.34,6.07,6.8499999046325684,7.1,7.32,6.735999980926513,5.21,5.99,6.8400001525878906,7.06,7.17,6.4540000305175784,3.77,3.32,4.7199997901916504,5.05,5.83,4.5379999580383297,85,100,65,115,105,94,85,100,85,130,120,104]
[null,27,5.91,6.24,6.9000000953674316,"nc",null,6.3500000317891434,5.21,5.96,6.8600001335144043,7.04,7.14,6.442000026702881,3.84,3.59,4.7199997901916504,5.05,5.78,4.5959999580383304,85,100,65,115,115,96,85,100,85,130,130,106]
[null,28,6.13,6.06,6.929999828338623,"nc",7.3,6.6049999570846554,5.23,5.98,6.8299999237060547,7.04,7.14,6.4439999847412111,4.1100000000000003,3.72,4.7199997901916504,4.71,5.78,4.60799995803833,80,null,65,110,115,92.5,80,null,85,125,130,105]
[null,29,6.26,6,6.880000114440918,7.35,7.33,6.7640000228881831,5.2,6,6.8299999237060547,7.03,7.15,6.4419999847412113,4.08,3.29,4.7199997901916504,4.6100000000000003,5.78,4.4959999580383307,80,100,65,100,115,92,80,100,85,115,130,102]
["J",30,6.11,6.17,7.0500001907348633,7.26,7.34,6.7860000381469714,5.19,5.96,6.8299999237060547,7.05,7.15,6.435999984741211,4.3,3.82,4.7199997901916504,4.79,5.78,4.6819999580383307,70,90,65,90,115,86,70,90,85,105,130,96]
[null,31,6.11,6.02,7.0500001907348633,7.26,null,6.610000047683716,5.17,5.97,6.8299999237060547,6.95,7.15,6.4139999847412117,4.3499999999999996,3.79,4.7199997901916504,4.43,5.78,4.6139999580383302,70,85,65,80,115,83,70,85,85,95,130,93]
[null,32,6.11,6.02,7.0500001907348633,"nc",7.33,6.627500047683716,5.2,5.98,6.8400001525878906,6.96,7.11,6.4180000305175779,4.03,3.78,4.7199997901916504,4.43,5.87,4.565999958038331,65,75,65,80,115,80,65,75,85,95,130,90]
[null,33,6.02,6.22,null,"nc",7.33,{"$f":"AVERAGE(C40:G40)","v":6.5233333333333334},5.25,6.02,6.7899999618530273,6.96,7.11,{"$f":"AVERAGE(I40:M40)","v":6.4259999923706062},4.33,3.78,4.7199997901916504,4.6900000000000004,5.61,{"$f":"AVERAGE(O40:S40)","v":4.6259999580383298},60,75,65,null,115,{"$f":"AVERAGE(U40:Y40)","v":78.75},60,75,85,null,130,{"$f":"AVERAGE(AA40:AE40)","v":87.5}]
[null,34,6.02,6.27,6.880000114440918,6.97,7.28,6.6840000228881831,5.25,6.09,6.8600001335144043,6.94,7.12,6.4520000267028808,3.78,3.78,4.7199997901916504,4.6900000000000004,5.61,4.5159999580383303,60,75,60,80,105,76,60,75,80,95,120,86]
["A",35,6.07,6.31,7.0300002098083496,"nc",7.28,6.6725000524520874,5.35,6.17,6.880000114440918,6.96,7.14,6.5000000228881829,4.0599999999999996,3.93,4.7199997901916504,4.6900000000000004,5.61,4.6019999580383297,55,70,60,60,95,68,55,70,80,75,110,78]
[null,36,6.07,6.38,7.0300002098083496,7.1,7.28,6.7720000419616699,5.45,6.23,6.9499998092651367,6.96,7.2,6.557999961853028,4.16,4.28,4.820000171661377,4.6900000000000004,5.45,4.6800000343322754,45,65,60,60,75,61,45,65,80,75,90,71]
[null,37,6.24,6.42,7.119999885559082,"nc",7.39,6.7924999713897707,5.5,6.32,7.0399999618530273,7,7.26,6.6239999923706048,4.04,4.5199999999999996,4.8600001335144043,4.7300000000000004,5.45,4.7200000267028805,45,65,50,60,65,57,45,65,70,75,80,67]
[null,38,6.34,6.47,null,"nc",7.42,6.7433333333333323,6.64,6.36,7.1100001335144043,7,7.29,6.8800000267028807,4.3,4.5599999999999996,4.8600001335144043,4.7300000000000004,5.45,4.780000026702881,45,65,45,60,65,56,45,65,65,75,80,66]
["S",39,6.28,6.55,7.2300000190734863,"nc",null,6.6866666730244946,5.7,6.49,7.1999998092651367,7.03,7.33,6.7499999618530282,4.38,4.5599999999999996,4.8600001335144043,4.7300000000000004,5.51,4.8080000267028806,45,55,45,55,55,51,45,55,65,70,70,61]
[null,40,6.31,6.64,7.320000171661377,7.18,7.52,6.9940000343322755,5.83,6.57,7.3000001907348633,7.05,7.42,6.8340000381469723,4.6100000000000003,4.62,4.8600001335144043,4.7300000000000004,5.6,4.8840000267028811,45,55,40,45,55,48,45,55,60,60,70,58]
[null,41,6.55,null,7.320000171661377,"nc",7.56,7.1433333905537921,6,6.66,7.380000114440918,7.05,7.5,6.9180000228881839,4.71,4.62,4.9200000762939453,4.7699999999999996,5.6,4.9240000152587893,45,55,40,40,55,47,45,55,60,55,70,57]
[null,42,6.63,null,7.5500001907348633,7.13,7.57,7.2200000476837154,6.12,6.66,7.440000057220459,7.07,7.53,6.9640000114440923,4.76,4.62,5.3499999046325684,5.13,5.62,5.0959999809265133,45,55,40,40,55,47,45,55,60,55,70,57]
["O",43,6.63,6.78,null,7.18,null,6.8633333333333333,6.18,6.69,7.4800000190734863,7.14,7.63,7.024000003814697,4.8499999999999996,4.6100000000000003,5.4899997711181641,5.28,5.65,5.1759999542236326,45,55,40,40,55,47,45,55,60,55,70,57]
[null,44,6.71,null,7.559999942779541,7.25,7.64,7.2899999856948856,6.27,6.74,7.5300002098083496,7.21,7.63,7.0760000419616702,4.8600000000000003,4.6100000000000003,5.4899997711181641,5.28,6.04,5.2559999542236326,45,55,40,40,55,47,45,55,60,55,70,57]
[null,45,6.71,6.92,7.6599998474121094,"nc",7.81,7.2749999618530268,6.3,6.78,7.559999942779541,7.24,7.68,7.1119999885559082,5.1100000000000003,4.7,5.4899997711181641,5.38,6.04,5.3439999542236327,45,null,40,40,80,51.25,45,null,60,55,100,65]
[null,46,6.88,6.92,7.690000057220459,7.4,7.81,7.3400000114440926,6.37,6.84,7.6100001335144043,7.29,7.69,7.16000002670288,5.09,4.7,5.4899997711181641,5.38,6.04,5.3399999542236323,null,55,40,40,90,56.25,null,55,60,55,110,70]
[null,47,6.88,6.93,null,7.48,null,7.0966666666666667,6.38,6.89,7.619999885559082,7.37,7.78,7.2079999771118164,4.9000000000000004,4.3600000000000003,5.2699999809265137,5.65,6.11,5.257999996185303,null,55,null,40,90,61.666666666666664,null,55,null,55,110,73.333333333333329]
["N",48,6.87,6.97,7.7899999618530273,7.51,7.91,7.4099999923706061,6.37,6.92,7.6500000953674316,7.43,7.78,7.2300000190734863,5.0199999999999996,4.42,5.4899997711181641,5.68,6.11,5.3439999542236318,null,55,40,40,90,56.25,null,55,60,55,110,70]
[null,49,6.87,6.97,null,7.65,7.88,7.3425000000000002,6.39,6.95,7.7300000190734863,7.46,7.79,7.2640000038146981,5.2,4.8099999999999996,5.5500001907348633,5.68,5.97,5.442000038146972,45,55,40,40,90,54,45,55,60,55,110,65]
[null,50,6.77,7.03,7.8400001525878906,null,7.88,7.3800000381469726,6.39,6.98,7.75,null,7.83,7.2375000000000007,5.07,5.04,5.5500001907348633,null,6.06,5.4300000476837154,40,55,40,null,90,56.25,55,55,60,null,110,70]
[null,51,6.85,7.03,7.880000114440918,null,null,7.2533333714803057,6.4,6.94,7.75,null,7.83,7.23,5.18,4.68,5.5500001907348633,null,6.33,5.4350000476837153,40,55,40,null,90,56.25,55,55,60,null,110,70]
["D",52,6.91,7.07,7.929999828338623,null,null,7.3033332761128742,6.38,6.98,7.7800002098083496,null,null,7.0466667366027833,4.96,4.8899999999999997,5.5500001907348633,null,null,5.1333333969116213,40,55,null,null,null,47.5,55,55,null,null,null,55]
[null,53,6.91,null,null,null,null,6.91,6.4,null,null,null,null,6.4,4.8099999999999996,null,null,null,null,4.8099999999999996,null,null,null,null,null,{"$error":"#DIV/0!"},null,null,null,null,null,{"$error":"#DIV/0!"}]

{"sheet":"Données-VeauxCharolais-Limousin","index":4,"n_rows":85,"n_cols":22,"rows_kept":85,"cut":false,"hidden":true,"merged":[[5,0,5,5],[5,6,5,11],[4,15,4,17],[4,18,5,21],[5,15,5,17]]}
[]
["POUR MÉMOIRE ONGLET SANS USAGE"]
[]
[]
[2017,2018,2019,2020,2021,"MOYENNE 5 ANS",2017,2018,2019,2020,2021,"MOYENNE 5 ANS",null,"Année","Mois","      VEAUX GRAND NORD R3",null,null,"VEAUX CHÂTEAU GONTIER"]
["CHAROLAIS 60-70KG (Euros/tête)",null,null,null,null,null,"LIMOUSIN 60-70KG (Euros/tête)",null,null,null,null,null,null,null,null,"(Euros/Kg net"]
[null,null,null,null,null,null,null,null,null,null,null,null,null,null,null,"Rose très clair","R.clair","Rosé","N.45-50","CH 60-70","LIM 60-70","LAIT 45-50"]
[375,375,325,300,null,{"$f":"AVERAGE(A8:E8)","v":343.75},375,375,325,300,null,{"$f":"AVERAGE(G8:K8)","v":343.75},null,2021,"J",6.87,6.3724999999999996,4.9725000000000001,41.25,null,null,56.25]
[375,375,325,300,null,343.75,375,375,325,300,null,343.75,null,null,"F",6.85,6.38,4.835,45,null,null,60]
[375,375,325,300,null,343.75,375,375,325,300,null,343.75,null,null,"M",6.6219999999999999,6.3440000000000003,4.3639999999999999,47,null,null,62]
[375,375,325,300,null,343.75,375,375,325,300,null,343.75,null,null,"A",6.4424999999999999,6.2050000000000001,4.0199999999999996,48.75,null,null,63.75]
[375,375,325,300,null,343.75,375,375,325,300,null,343.75,null,null,"M",6.3674999999999997,6.1050000000000004,3.8325,60,null,null,67.5]
[375,375,325,300,null,343.75,375,375,325,300,null,343.75,null,null,"J",6.1950000000000003,6.01,3.6560000000000001,98,null,null,98]
[375,375,325,300,null,{"$f":"AVERAGE(A14:E14)","v":343.75},375,375,325,300,null,343.75,null,null,"J",6.1174999999999997,5.9749999999999996,3.605,96.6666666666667,null,null,96.6666666666667]
[365,375,325,300,null,341.25,365,375,325,300,null,341.25,null,null,"A",6.1325000000000003,6.0149999999999997,3.7825000000000002,77.5,null,null,77.5]
[365,375,325,300,null,341.25,365,375,325,300,null,341.25,null,null,"S",6.4260000000000002,6.3140000000000001,4.37,64,null,null,64]
[365,375,325,300,null,341.25,365,375,325,300,null,341.25,null,null,"O",6.71,6.6449999999999996,4.6174999999999997,55,null,null,55]
[365,375,325,null,null,355,365,375,325,null,null,355,null,null,"N",6.9233333333333302,6.8125,4.5925000000000002,55,null,null,55]
[365,375,325,null,null,355,365,375,325,null,null,355,null,null,"D",7.0140000000000002,6.9539999999999997,4.7679999999999998,55,null,null,55]
[350,365,325,300,null,335,350,365,325,300,null,335,null,null,"moyenne an",6.5558611111111098,6.3443333333333296,4.2846250000000001,61.9305555555556,{"$f":"#DIV/0!","v":{"$error":"#DIV/0!"}},{"$f":"#DIV/0!","v":{"$error":"#DIV/0!"}},67.5555555555556]
[330,365,325,300,null,330,330,365,325,300,null,330,null,2020,"J",6.8520000000000003,6.3940000000000001,5.1159999999999997,55,300,300,55]
[330,365,325,null,null,340,330,365,325,null,null,340,null,null,"F",6.7424999999999997,6.3125,4.8925000000000001,55,300,300,55]
[330,375,320,null,null,341.66666666666669,330,375,320,null,null,341.66666666666669,null,null,"M",6.6725000000000003,6.24,4.8099999999999996,65,300,300,65]
[320,375,320,290,null,326.25,320,375,320,290,null,326.25,null,null,"A",6.4619999999999997,5.8179999999999996,4.2160000000000002,71.6666666666667,293.33333333333297,293.33333333333297,71.6666666666667]
[320,375,320,290,null,326.25,320,375,320,290,null,326.25,null,null,"M",6.0975000000000001,5.2225000000000001,3.7825000000000002,70,290,290,70]
[320,375,320,290,null,326.25,320,375,320,290,null,326.25,null,null,"J",6.3125,5.2,3.8325,82.5,290,290,82.5]
[320,365,320,290,null,323.75,320,365,320,290,null,323.75,null,null,"J",6.1040000000000001,5.2,4.1360000000000001,77,290,290,77]
[320,365,320,290,null,323.75,320,365,320,290,null,323.75,null,null,"A",6.0549999999999997,5.2625000000000002,4.05,60,290,290,60]
[320,365,null,290,null,325,320,365,null,290,null,325,null,null,"S",6.2480000000000002,5.8239999999999998,4.298,45,290,290,45]
[320,365,360,290,null,333.75,320,365,360,290,null,333.75,null,null,"O",6.63,6.1425000000000001,4.7949999999999999,45,290,290,45]
[320,365,360,290,null,333.75,320,365,360,290,null,333.75,null,null,"N",6.835,6.3550000000000004,5.03]
[320,365,360,290,null,333.75,320,365,360,290,null,{"$f":"AVERAGE(G32:K32)","v":333.75},null,null,"D",6.8620000000000001,6.3920000000000003,5.0439999999999996,41.25,290,290,52.5]
[320,365,360,290,null,333.75,320,365,360,290,null,333.75,null,null,"moyenne an",6.4894166666666697,5.86358333333333,4.5002083333333296,60.674242424242401,293.030303030303,293.030303030303,61.696969696969703]
[320,365,350,290,null,331.25,320,365,350,290,null,331.25,null,2019,"J",6.72,6.34,4.468,75,325,325,75]
[310,365,330,290,null,323.75,310,365,330,290,null,323.75,null,null,"F",6.63,6.32,4.42,75,325,325,75]
[310,365,330,290,null,323.75,310,365,330,290,null,323.75,null,null,"M",6.55,6.08,4.3274999999999997,75,325,325,75]
[290,365,330,290,null,318.75,290,365,330,290,null,318.75,null,null,"A",6.1349999999999998,5.77,4.1725000000000003,75,322.5,322.5,75]
[280,365,320,290,null,313.75,280,365,320,290,null,313.75,null,null,"M",6.0380000000000003,5.59,4.0140000000000002,87.5,320,320,87.5]
[280,365,300,290,null,308.75,280,365,300,290,null,308.75,null,null,"J",6.0674999999999999,5.4850000000000003,3.91,112.5,360,360,112.5]
[null,null,300,290,null,295,null,null,300,290,null,295,null,null,"J",5.8940000000000001,5.3940000000000001,3.8460000000000001,81,332,332,81]
[270,365,280,290,null,301.25,270,365,280,290,null,301.25,null,null,"A",5.8550000000000004,5.4074999999999998,3.91,52.5,290,290,52.5]
[270,365,280,290,null,301.25,270,365,280,290,null,301.25,null,null,"S",6.1174999999999997,5.6,3.9575,58.3333333333333,290,290,58.3333333333333]
[270,365,270,290,null,298.75,270,365,270,290,null,298.75,null,null,"O",6.3019999999999996,5.9119999999999999,4.42,57,300,300,57]
[270,355,null,290,null,305,270,355,null,290,null,305,null,null,"N",6.6574999999999998,6.2225000000000001,4.5250000000000004,55,300,300,55]
[260,345,300,290,null,298.75,260,345,300,290,null,298.75,null,null,"D",6.81,6.3425000000000002,4.7,55,300,300,55]
[250,335,300,290,null,293.75,250,335,300,290,null,293.75,null,null,"moyenne an",6.3147083333333303,5.8719583333333301,4.22254166666667,71.5694444444444,315.79166666666703,315.79166666666703,71.5694444444444]
[250,325,300,290,null,291.25,250,325,300,290,null,291.25,null,2018,"J",6.9240000000000004,6.4960000000000004,5.0019999999999998,77,375,375,62]
[250,325,300,290,null,291.25,250,325,300,290,null,291.25,null,null,"F",6.8550000000000004,6.5274999999999999,5.1174999999999997,102.5,375,375,87.5]
[250,325,300,290,null,291.25,250,325,300,290,null,291.25,null,null,"M",6.7575000000000003,6.5,5.12,115,372.5,372.5,100]
[250,325,300,290,null,291.25,250,325,300,290,null,291.25,null,null,"A",6.7275,6.3624999999999998,4.9225000000000003,143.75,370,370,123.75]
[250,325,300,290,null,291.25,250,325,300,290,null,291.25,null,null,"M",6.5579999999999998,6.2039999999999997,4.4660000000000002,155,369,369,130]
[250,null,300,290,null,280,250,null,300,290,null,280,null,null,"J",6.5525000000000002,6.0525000000000002,4.0824999999999996,155,365,365,137.5]
[250,325,300,null,null,291.66666666666669,250,325,300,null,null,291.66666666666669,null,null,"J",6.4474999999999998,6.1349999999999998,3.9474999999999998,137.5,365,365,127.5]
[375,325,300,null,null,333.33333333333331,375,325,300,null,null,333.33333333333331,null,null,"A",6.4260000000000002,6.1059999999999999,4.3339999999999996,81.25,365,365,76.25]
[375,325,300,null,null,333.33333333333331,375,325,300,null,null,333.33333333333331,null,null,"S",6.4950000000000001,6.1224999999999996,4.3425000000000002,55,350,350,50]
[375,325,300,290,null,322.5,375,325,300,290,null,322.5,null,null,"O",6.4219999999999997,6.1760000000000002,4.508,40,325,325,35]
[375,325,300,290,null,322.5,375,325,300,290,null,322.5,null,null,"N",6.4474999999999998,6.2074999999999996,4.3825000000000003,40,325,325,35]
[375,325,300,290,null,322.5,375,325,300,290,null,322.5,null,null,"D",6.7575000000000003,6.2750000000000004,4.5025000000000004,40,325,325,35]
[null,325,null,290,null,307.5,null,325,null,290,null,307.5,null,null,"moyenne an",6.6141666666666703,6.2637083333333301,4.5606249999999999,95.1666666666667,356.79166666666703,356.79166666666703,83.2916666666667]
[null,null,null,null,null,null,null,null,null,null,null,null,null,2017,"J",7.17,6.7525000000000004,4.99,55,375,375,55]
[null,null,null,null,null,null,null,null,null,null,null,null,null,null,"F",7.0650000000000004,6.7350000000000003,5.165,66.25,372.5,372.5,66.25]
[null,null,null,null,null,null,null,null,null,null,null,null,null,null,"M",6.8940000000000001,6.5960000000000001,4.9660000000000002,96,362,362,96]
[null,null,null,null,null,null,null,null,null,null,null,null,null,null,"A",6.7750000000000004,6.4574999999999996,4.7575000000000003,115,327.5,327.5,115]
[null,null,null,null,null,null,null,null,null,null,null,null,null,null,"M",6.5925000000000002,6.2949999999999999,4.55,115,320,320,115]
[null,null,null,null,null,null,null,null,null,null,null,null,null,null,"J",6.4379999999999997,6.0259999999999998,4.3760000000000003,118,320,320,118]
[null,null,null,null,null,null,null,null,null,null,null,null,null,null,"J",6.1,5.7975000000000003,3.7725,98.75,307.5,307.5,98.75]
[null,null,null,null,null,null,null,null,null,null,null,null,null,null,"A",6.0724999999999998,5.8425000000000002,3.7574999999999998,53.3333333333333,276.66666666666703,276.66666666666703,53.3333333333333]
[null,null,null,null,null,null,null,null,null,null,null,null,null,null,"S",6.4480000000000004,5.9219999999999997,3.8860000000000001,73,264,264,73]
[null,null,null,null,null,null,null,null,null,null,null,null,null,null,"O",6.49,6.0750000000000002,4.34,75,250,250,75]
[null,null,null,null,null,null,null,null,null,null,null,null,null,null,"N",6.58,6.2474999999999996,4.55,70,281.25,281.25,67.5]
[null,null,null,null,null,null,null,null,null,null,null,null,null,null,"D",6.7539999999999996,6.4320000000000004,4.798,75,375,375,60]
[null,null,null,null,null,null,null,null,null,null,null,null,null,null,"moyenne an",6.6149166666666703,6.264875,4.492375,84.1944444444444,319.284722222222,319.284722222222,82.7361111111111]
[null,null,null,null,null,null,null,null,null,null,null,null,null,"Moyenne 5 ans","J",{"$f":"AVERAGE(P8,P21,P34,P47,P60)","v":6.9072000000000005},6.4709999999999992,4.9096999999999991,60.65,343.75,343.75,60.65]
[null,null,null,null,null,null,null,null,null,null,null,null,null,null,"F",6.8285,6.4550000000000001,4.8860000000000001,68.75,343.125,343.125,68.75]
[null,null,null,null,null,null,null,null,null,null,null,null,null,null,"M",6.6992000000000003,6.3520000000000003,4.7175000000000002,79.599999999999994,339.875,339.875,79.599999999999994]
[null,null,null,null,null,null,null,null,null,null,null,null,null,null,"A",6.5083999999999991,6.1226000000000003,4.4177,90.833333333333343,328.33333333333326,328.33333333333326,89.833333333333343]
[null,null,null,null,null,null,null,null,null,null,null,null,null,null,"M",6.3307000000000002,5.8833000000000002,4.1290000000000004,97.5,324.75,324.75,94]
[null,null,null,null,null,null,null,null,null,null,null,null,null,null,"J",6.3130999999999995,5.7547000000000006,3.9714,113.2,333.75,333.75,109.7]
[null,null,null,null,null,null,null,null,null,null,null,null,null,null,"J",6.1325999999999992,5.7003000000000004,3.8613999999999997,98.183333333333337,323.625,323.625,96.183333333333337]
[null,null,null,null,null,null,null,null,null,null,null,null,null,null,"A",6.1081999999999992,5.7266999999999992,3.9668000000000001,64.916666666666657,305.41666666666674,305.41666666666674,63.916666666666664]
[null,null,null,null,null,null,null,null,null,null,null,null,null,null,"S",6.3468999999999998,5.9565000000000001,4.1707999999999998,59.066666666666663,298.5,298.5,58.066666666666663]
[null,null,null,null,null,null,null,null,null,null,null,null,null,null,"O",6.5108000000000006,6.1901000000000002,4.5360999999999994,54.4,291.25,291.25,53.4]
[null,null,null,null,null,null,null,null,null,null,null,null,null,null,"N",6.6886666666666654,6.3689999999999998,4.6160000000000005,55,302.08333333333331,302.08333333333331,53.125]
[null,null,null,null,null,null,null,null,null,null,null,null,null,null,"D",6.8394999999999992,6.4791000000000007,4.7625000000000002,53.25,322.5,322.5,51.5]
[null,null,null,null,null,null,null,null,null,null,null,null,null,null,"moyenne an",{"$f":"AVERAGE(P73:P84)","v":6.5178138888888881},6.121691666666667,4.4120750000000006,74.612499999999997,321.41319444444446,321.41319444444446,73.22708333333334]

{"sheet":"MoyQuindHebdoOvins","index":5,"n_rows":56,"n_cols":8,"rows_kept":56,"cut":false,"hidden":true,"merged":[[1,2,1,7]]}
[null,null,2020,2021,2022,2023,2024,"MOYENNE 5 ANS"]
["Année","Sem."]
[]
[null,1,6.78,7.23,7.940000057220459,8.4300003051757813,7.3280000724792469,{"$f":"AVERAGE(C4:G4)","v":7.5416000869750972}]
[null,2,6.64,7.27,7.8000001907348633,8.2799997329711914,7.2279999847412117,7.443599981689454]
[null,3,6.65,7.2,7.7199997901916504,8.2200002670288086,7.1640000114440907,7.3908000137329095]
["J",4,6.53,7.18,7.7100000381469727,8.119999885559082,7.0899999847412118,7.3259999816894537]
[null,5,6.48,7.08,7.690000057220459,8.0299999999999994,7.0080000114440919,7.25760001373291]
[null,6,6.45,6.97,7.5199999809265137,7.97,6.919999996185302,7.1659999954223634]
[null,7,6.42,6.93,7.5100002288818359,7.86,6.8840000457763679,7.1208000549316406]
["F",8,6.39,6.95,7.4200000762939453,7.83,6.870000015258789,7.0920000183105474]
[null,9,6.48,6.99,7.440000057220459,7.84,6.9260000114440912,7.1352000137329101]
[null,10,6.51,7.07,7.5399999618530273,7.93,7.0119999923706047,7.2123999908447258]
[null,11,6.6,7.28,7.630000114440918,8.06,7.1400000228881835,7.3420000274658195]
[null,12,6.65,7.5,7.570000171661377,8.19,7.2340000343322757,7.4288000411987296]
["M",13,6.53,7.65,7.6700000762939453,8.42,7.3020000152587894,7.5144000183105479]
[null,14,6.18,7.53,7.929999828338623,8.5500000000000007,7.3159999656677259,7.5011999588012701]
[null,15,6.2,7.56,8.0699996948242188,8.44,7.3719999389648434,7.5283999267578112]
[null,16,6.3,7.54,8.0699996948242188,8.44,7.4039999389648425,7.5507999267578132]
["A",17,6.37,7.48,8.0699996948242188,8.4700000000000006,7.3899999389648441,7.5559999267578117]
[null,18,6.5,7.42,8.0799999237060547,8.36,7.3759999847412105,7.5471999816894542]
[null,19,6.47,7.47,8.0600004196166992,8.2899999999999991,7.3440000839233388,7.526800100708007]
[null,20,6.46,7.38,8.0600004196166992,8.2899999999999991,7.3120000839233397,7.5004001007080081]
["M",21,6.47,7.31,7.929999828338623,8.24,7.2299999656677247,7.4359999588012702]
[null,22,6.49,7.26,7.9699997901916504,8.19,7.2079999580383305,7.423599949645995]
[null,23,6.56,7.19,7.9200000762939453,8.18,7.1760000152587891,7.4052000183105466]
[null,24,6.58,7.09,7.9499998092651367,8.19,7.1619999618530272,7.3943999542236325]
[null,25,6.61,7.06,8,8.15,7.1519999999999992,7.3944000000000001]
["J",26,6.6,6.98,7.9800000190734863,8.27,7.1520000038146971,7.3964000045776359]
[null,27,6.55,7.02,8.119999885559082,8.2100000000000009,7.1619999771118161,7.41239997253418]
[null,28,6.58,6.99,8.0699996948242188,8.17,7.1339999389648439,7.3887999267578124]
[null,29,6.64,7.06,8.0600004196166992,8.18,7.1660000839233389,7.421200100708008]
["J",30,6.71,7.02,8.0500001907348633,8.1199999999999992,7.1600000381469728,7.4120000457763684]
[null,31,6.77,7.04,8.0100002288818359,8.06,7.1560000457763682,7.4072000549316401]
[null,32,6.8,7.07,8.0200004577636719,8,7.156000091552734,7.4092001098632805]
[null,33,6.83,7.04,8,8.02,7.1599999999999993,{"$f":"AVERAGE(C36:G36)","v":7.4099999999999993}]
[null,34,6.83,7.18,8.0299997329711914,8,7.2059999465942379,7.4491999359130858]
["A",35,6.91,7.25,7.9699997901916504,7.96,7.2359999580383301,7.4651999496459966]
[null,36,6.99,7.29,8.0100002288818359,8,7.2840000457763665,7.5148000549316407]
[null,37,6.98,7.36,8,7.98,7.2939999999999996,7.5227999999999993]
[null,38,6.92,7.37,7.9600000381469727,8.0399999999999991,7.3040000076293952,7.5188000091552736]
["S",39,7,7.44,7.9699997901916504,8.0399999999999991,7.3239999580383301,7.5547999496459965]
[null,40,7,7.46,7.9600000381469727,8.09,7.338000007629395,7.5696000091552733]
[null,41,7.02,7.53,7.9499998092651367,8.1999999999999993,7.3699999618530274,7.6139999542236323]
[null,42,7.03,7.57,7.9600000381469727,8.34,7.4140000076293946,7.6628000091552737]
["O",43,7.02,7.6,8,8.35,7.4320000000000004,7.6804000000000006]
[null,44,7.01,7.75,8.0399999618530273,8.44,7.4859999923706058,7.7451999908447267]
[null,45,7,7.77,8.1499996185302734,8.5299999999999994,7.5399999237060538,7.7979999084472649]
[null,46,7.07,7.84,8.2899999618530273,8.57,7.6279999923706061,7.879599990844727]
[null,47,7.11,7.85,null,8.59,7.5074999999999994,7.7643750000000002]
["N",48,7.2,7.97,8.5200004577636719,8.7200000000000006,7.8060000915527343,8.0432001098632817]
[null,49,7.21,7.96,8.5100002288818359,8.73,7.8160000457763674,8.0452000549316427]
[null,50,7.23,8.0399999999999991,8.5699996948242188,null,7.8799999389648434,7.9299999084472654]
[null,51,7.25,8.06,8.5699996948242188,null,7.9119999389648425,7.9479999084472661]
["D",52,7.3,8.07,8.5600004196166992,null,7.9280000839233393,7.9645001258850101]
[null,53,7.26,null,null,null,7.26,7.26]

{"sheet":"GrosBovinsAnneeEnCours","index":6,"n_rows":127,"n_cols":24,"rows_kept":127,"cut":false,"hidden":false,"merged":[[72,2,72,3],[72,4,72,7],[13,18,13,20],[13,21,13,23],[14,2,14,3],[14,6,14,7],[14,11,14,12],[14,18,15,18],[14,19,15,19],[14,20,15,20],[14,21,15,21],[14,22,15,22],[13,2,13,4],[13,6,13,10],[13,11,13,12],[13,16,15,16],[10,18,10,20],[11,0,12,12],[70,0,71,12],[14,23,15,23],[11,15,11,16],[12,15,12,16],[10,1,10,2],[10,3,10,5]]}
["COTATIONS DES GROS BOVINS"]
["Source : DRAAF Pays de la Loire - SRISE - FranceAgriMer"]
[]
[]
["1 – COTATION REGIONALE GRAND OUEST ENTREE ABATTOIR en €/Kg net"]
[]
["2 – MOYENNE NATIONALE DES BOVINS MAIGRES DESTINES A L'ENGRAISSEMENT CHAROLAIS MALE de 6-12 mois catégorie U (350kg) en €/kg vif"]
[]
["3 – COTATION DES GROS BOVINS VIFS SUR LE MARCHE DE CHOLET (en Euro/Kg Net) – à partir de la ligne 72"]
[]
[null,"Date de mise à jour :",null,"2025-11-20",null,null,null,null,null,null,null,null,null,null,null,null,null,"Date de mie à jour :",{"$f":"D11","v":"2025-11-20"}]
["1 – COTATION REGIONALE ENTREE ABATTOIR GRAND OUEST FRANCEAGRIMER-HEBDOMADAIRE (€/Kg net)",null,null,null,null,null,null,null,null,null,null,null,null,null,null,"2 – COT. HEBDO"]
[null,null,null,null,null,null,null,null,null,null,null,null,null,null,null,"MAIGRE   €/kg vif"]
[null,null,"JEUNES BOVINS",null,null,"BOEUFS","VACHES",null,null,null,null,"GENISSES",null,null,null,"Ref. nationale","Sem.","Nantes","Vache Viande R",null,null,"Vache lait P"]
[null,null,"VIANDE",null,"MIXTE","MIXTE","VIANDE",null,"Blonde","MIXTE","LAIT","VIANDES + 350kg",null,null,null,"Charolais Mâles",null,"Charolais Mâles","Evolution/\nsemaine -1",{"$f":"\"Evolution/ semaine id \" & A17-1","v":"Evolution/ semaine id 2024"},"Evolution/semaine id moy. 5 ans","Evolution/semaine -1",{"$f":"\"Evolution/ semaine id \" & A17-1","v":"Evolution/ semaine id 2024"},"Evolution/semaine id moy. 5 ans"]
["Mois","Semaine","U","R","O","O","U","R","U","O","P","U","R",null,null,"6/12 mois  ( U ) 350 kg",null,"6/12 mois  ( U ) 350 kg"]
[2025,1,5.89,5.72,null,4.79,null,5.59,6.59,4.72,4.25,6.35,5.56,null,null,4.05,1,3.9,{"$f":"(H17-GrosBovins2024!H68)/GrosBovins2024!H68","v":0},{"$f":"(H17-GrosBovins2024!H18)/GrosBovins2024!H18","v":2.3809523809523791E-2},{"$f":"(H17-MoyQuinqHebdoGB!AL5)/MoyQuinqHebdoGB!AL5","v":0.21627502175805041},{"$f":"(K17-GrosBovins2024!K68)/GrosBovins2024!K68","v":2.3584905660376855E-3},{"$f":"(K17-GrosBovins2024!K17)/GrosBovins2024!K17","v":8.1424936386768398E-2},{"$f":"(K17-MoyQuinqHebdoGB!BD5)/MoyQuinqHebdoGB!BD5","v":0.22832369942196534}]
[null,2,5.91,5.73,null,4.8099999999999996,null,5.59,6.67,4.74,4.29,null,5.57,null,null,4.1500000000000004,2,4,{"$f":"(H18-H17)/H17","v":0},{"$f":"(H18-GrosBovins2024!H19)/GrosBovins2024!H19","v":2.3809523809523791E-2},{"$f":"(H18-MoyQuinqHebdoGB!AL6)/MoyQuinqHebdoGB!AL6","v":0.21205550737207279},{"$f":"(K18-K17)/K17","v":9.4117647058823608E-3},{"$f":"(K18-GrosBovins2024!K18)/GrosBovins2024!K18","v":8.060453400503774E-2},{"$f":"(K18-MoyQuinqHebdoGB!BD6)/MoyQuinqHebdoGB!BD6","v":0.2306368330464717}]
[null,3,5.96,5.78,null,4.84,6.08,5.61,6.66,4.7699999999999996,4.33,6.33,5.56,null,null,4.28,3,4.05,{"$f":"(H19-H18)/H18","v":3.5778175313059862E-3},{"$f":"(H19-GrosBovins2024!H20)/GrosBovins2024!H20","v":2.5594149908592427E-2},{"$f":"(H19-MoyQuinqHebdoGB!AL7)/MoyQuinqHebdoGB!AL7","v":0.21586475942782846},{"$f":"(K19-K18)/K18","v":9.3240093240093327E-3},{"$f":"(K19-GrosBovins2024!K19)/GrosBovins2024!K19","v":8.2500000000000018E-2},{"$f":"(K19-MoyQuinqHebdoGB!BD7)/MoyQuinqHebdoGB!BD7","v":0.23502567027952076}]
[null,4,6.02,5.83,null,4.88,null,5.64,6.66,4.8099999999999996,4.3899999999999997,6.32,5.58,null,null,4.3600000000000003,4,4.1500000000000004,{"$f":"(H20-H19)/H19","v":5.3475935828875866E-3},{"$f":"(H20-GrosBovins2024!H21)/GrosBovins2024!H21","v":2.7322404371584601E-2},{"$f":"(H20-MoyQuinqHebdoGB!AL8)/MoyQuinqHebdoGB!AL8","v":0.22130792550887837},1.3856812933025313E-2,{"$f":"(K20-GrosBovins2024!K20)/GrosBovins2024!K20","v":8.395061728395059E-2},{"$f":"(K20-MoyQuinqHebdoGB!BD8)/MoyQuinqHebdoGB!BD8","v":0.24574347332576607}]
["J",5,6.09,5.89,null,4.95,null,5.66,6.69,4.87,4.47,6.39,5.61,null,null,4.41,5,4.2,3.5460992907802237E-3,{"$f":"(H21-GrosBovins2024!H22)/GrosBovins2024!H22","v":2.7223230490018215E-2},{"$f":"(H21-MoyQuinqHebdoGB!AL9)/MoyQuinqHebdoGB!AL9","v":0.21982758620689644},1.8223234624145802E-2,{"$f":"(K21-GrosBovins2024!K21)/GrosBovins2024!K21","v":9.2909535452322722E-2},{"$f":"(K21-MoyQuinqHebdoGB!BD9)/MoyQuinqHebdoGB!BD9","v":0.26128668171557567}]
[null,6,6.15,5.97,null,4.99,null,5.71,6.72,4.92,4.53,null,5.69,null,null,4.49,6,4.3,8.833922261484068E-3,{"$f":"(H22-GrosBovins2024!H23)/GrosBovins2024!H23","v":3.8181818181818178E-2},{"$f":"(H22-MoyQuinqHebdoGB!AL10)/MoyQuinqHebdoGB!AL10","v":0.22637457044673523},1.3422818791946421E-2,{"$f":"(K22-GrosBovins2024!K22)/GrosBovins2024!K22","v":9.6852300242130845E-2},{"$f":"(K22-MoyQuinqHebdoGB!BD10)/MoyQuinqHebdoGB!BD10","v":0.26890756302521035}]
[null,7,6.22,6.03,null,5.04,null,5.72,6.71,4.99,4.6100000000000003,6.47,5.67,null,null,4.6100000000000003,7,4.4000000000000004,1.7513134851137981E-3,{"$f":"(H23-GrosBovins2024!H24)/GrosBovins2024!H24","v":4.1894353369763118E-2},{"$f":"(H23-MoyQuinqHebdoGB!AL11)/MoyQuinqHebdoGB!AL11","v":0.22641509433962267},1.7660044150110389E-2,{"$f":"(K23-GrosBovins2024!K23)/GrosBovins2024!K23","v":0.10817307692307697},{"$f":"(K23-MoyQuinqHebdoGB!BD11)/MoyQuinqHebdoGB!BD11","v":0.27488938053097367}]
[null,8,6.28,6.09,null,5.05,null,5.79,6.78,5.04,4.6900000000000004,6.47,5.75,null,null,4.6900000000000004,8,4.5,1.2237762237762288E-2,{"$f":"(H24-GrosBovins2024!H25)/GrosBovins2024!H25","v":6.0439560439560454E-2},{"$f":"(H24-MoyQuinqHebdoGB!AL12)/MoyQuinqHebdoGB!AL12","v":0.23296422487223153},1.7353579175705004E-2,{"$f":"(K24-GrosBovins2024!K24)/GrosBovins2024!K24","v":0.1274038461538462},{"$f":"(K24-MoyQuinqHebdoGB!BD12)/MoyQuinqHebdoGB!BD12","v":0.27792915531335149}]
["F",9,6.32,6.12,null,5.15,null,5.83,6.84,5.0999999999999996,4.7699999999999996,6.5,5.77,null,null,4.79,9,4.5999999999999996,6.9084628670120956E-3,{"$f":"(H25-GrosBovins2024!H26)/GrosBovins2024!H26","v":6.1930783242258626E-2},{"$f":"(H25-MoyQuinqHebdoGB!AL13)/MoyQuinqHebdoGB!AL13","v":0.23726655348047523},1.7057569296375089E-2,{"$f":"(K25-GrosBovins2024!K25)/GrosBovins2024!K25","v":0.14663461538461525},{"$f":"(K25-MoyQuinqHebdoGB!BD13)/MoyQuinqHebdoGB!BD13","v":0.28640776699029091}]
[null,10,6.34,6.15,null,5.19,6.26,5.86,6.83,5.16,4.84,6.49,5.76,null,null,4.93,10,4.7,5.1457975986278302E-3,{"$f":"(H26-GrosBovins2024!H27)/GrosBovins2024!H27","v":6.9343065693430628E-2},{"$f":"(H26-MoyQuinqHebdoGB!AL14)/MoyQuinqHebdoGB!AL14","v":0.23680878007598161},1.4675052410901529E-2,{"$f":"(K26-GrosBovins2024!K26)/GrosBovins2024!K26","v":0.16346153846153838},{"$f":"(K26-MoyQuinqHebdoGB!BD14)/MoyQuinqHebdoGB!BD14","v":0.29273504273504275}]
[null,11,6.35,6.12,null,5.25,6.33,5.9,6.79,5.23,4.92,6.63,5.83,null,null,5,11,4.8,6.8259385665529063E-3,{"$f":"(H27-GrosBovins2024!H28)/GrosBovins2024!H28","v":7.6642335766423333E-2},{"$f":"(H27-MoyQuinqHebdoGB!AL15)/MoyQuinqHebdoGB!AL15","v":0.24053826745164028},1.6528925619834725E-2,{"$f":"(K27-GrosBovins2024!K27)/GrosBovins2024!K27","v":0.17703349282296657},{"$f":"(K27-MoyQuinqHebdoGB!BD15)/MoyQuinqHebdoGB!BD15","v":0.30365659777424481}]
[null,12,6.34,6.11,null,5.36,null,5.95,6.84,5.31,5.0199999999999996,6.58,5.93,null,null,5.0999999999999996,12,4.9000000000000004,8.4745762711864094E-3,{"$f":"(H28-GrosBovins2024!H29)/GrosBovins2024!H29","v":8.5766423357664184E-2},{"$f":"(H28-MoyQuinqHebdoGB!AL16)/MoyQuinqHebdoGB!AL16","v":0.24737945492662466},2.0325203252032447E-2,{"$f":"(K28-GrosBovins2024!K28)/GrosBovins2024!K28","v":0.20383693045563542},{"$f":"(K28-MoyQuinqHebdoGB!BD16)/MoyQuinqHebdoGB!BD16","v":0.32453825857519764}]
["M",13,6.34,6.12,null,5.44,null,5.99,6.85,5.38,5.12,6.62,5.95,null,null,5.07,13,4.9000000000000004,6.7226890756302577E-3,{"$f":"(H29-GrosBovins2024!H30)/GrosBovins2024!H30","v":9.107468123861566E-2},{"$f":"(H29-MoyQuinqHebdoGB!AL17)/MoyQuinqHebdoGB!AL17","v":0.25787484250315007},1.9920318725099709E-2,{"$f":"(K29-GrosBovins2024!K29)/GrosBovins2024!K29","v":0.22488038277511974},{"$f":"(K29-MoyQuinqHebdoGB!BD17)/MoyQuinqHebdoGB!BD17","v":0.34595162986330186}]
[null,14,6.35,6.15,null,5.54,null,6.05,6.88,5.46,5.21,6.71,5.99,null,null,5.12,14,5,1.0016694490817964E-2,{"$f":"(H30-GrosBovins2024!H31)/GrosBovins2024!H31","v":0.10401459854014587},{"$f":"(H30-MoyQuinqHebdoGB!AL18)/MoyQuinqHebdoGB!AL18","v":0.26887583892617428},1.7578124999999972E-2,{"$f":"(K30-GrosBovins2024!K30)/GrosBovins2024!K30","v":0.24641148325358858},{"$f":"(K30-MoyQuinqHebdoGB!BD18)/MoyQuinqHebdoGB!BD18","v":0.36889122438255384}]
[null,15,6.37,6.17,null,5.6,6.74,6.08,7.01,5.53,5.3,6.79,6.04,null,null,5.16,15,5.0999999999999996,4.9586776859504543E-3,{"$f":"(H31-GrosBovins2024!H32)/GrosBovins2024!H32","v":0.10545454545454547},{"$f":"(H31-MoyQuinqHebdoGB!AL19)/MoyQuinqHebdoGB!AL19","v":0.27784783522488443},{"$f":"(K31-K30)/K30","v":1.7274472168905923E-2},{"$f":"(K31-GrosBovins2024!K31)/GrosBovins2024!K31","v":0.26491646778042943},{"$f":"(K31-MoyQuinqHebdoGB!BD19)/MoyQuinqHebdoGB!BD19","v":0.39327024185068316}]
[null,16,6.4,6.21,null,5.63,6.55,6.14,6.88,5.62,5.4,6.72,6.09,null,null,5.18,16,5.0999999999999996,9.8684210526315142E-3,{"$f":"(H32-GrosBovins2024!H33)/GrosBovins2024!H33","v":0.11839708561020026},{"$f":"(H32-MoyQuinqHebdoGB!AL20)/MoyQuinqHebdoGB!AL20","v":0.28667225481978192},{"$f":"(K32-K31)/K31","v":1.8867924528301987E-2},{"$f":"(K32-GrosBovins2024!K32)/GrosBovins2024!K32","v":0.28571428571428575},{"$f":"(K32-MoyQuinqHebdoGB!BD20)/MoyQuinqHebdoGB!BD20","v":0.41583639223911911}]
["A",17,6.44,6.27,null,5.73,null,6.2,6.91,5.69,5.5,6.75,6.15,null,null,5.25,17,5.15,9.7719869706841198E-3,{"$f":"(H33-GrosBovins2024!H34)/GrosBovins2024!H34","v":0.12727272727272732},{"$f":"(H33-MoyQuinqHebdoGB!AL21)/MoyQuinqHebdoGB!AL21","v":0.29815745393634824},1.8518518518518452E-2,{"$f":"(K33-GrosBovins2024!K33)/GrosBovins2024!K33","v":0.30331753554502378},{"$f":"(K33-MoyQuinqHebdoGB!BD21)/MoyQuinqHebdoGB!BD21","v":0.43378519290928058}]
[null,18,6.47,6.28,null,5.83,null,6.25,7.01,5.78,5.61,6.71,6.19,null,null,5.23,18,5.15,8.0645161290322284E-3,{"$f":"(H34-GrosBovins2024!H35)/GrosBovins2024!H35","v":0.13224637681159429},{"$f":"(H34-MoyQuinqHebdoGB!AL22)/MoyQuinqHebdoGB!AL22","v":0.30371297455152285},2.0000000000000059E-2,{"$f":"(K34-GrosBovins2024!K34)/GrosBovins2024!K34","v":0.32000000000000006},{"$f":"(K34-MoyQuinqHebdoGB!BD22)/MoyQuinqHebdoGB!BD22","v":0.4511122607346093}]
[null,19,6.48,6.3,null,5.94,null,6.32,7.03,5.9,5.7,6.87,6.26,null,null,5.28,19,5.2,1.1200000000000045E-2,{"$f":"(H35-GrosBovins2024!H36)/GrosBovins2024!H36","v":0.14909090909090914},{"$f":"(H35-MoyQuinqHebdoGB!AL23)/MoyQuinqHebdoGB!AL23","v":0.3161182840483131},1.6042780748663076E-2,{"$f":"(K35-GrosBovins2024!K35)/GrosBovins2024!K35","v":0.3286713286713287},{"$f":"(K35-MoyQuinqHebdoGB!BD23)/MoyQuinqHebdoGB!BD23","v":0.46755921730175104}]
[null,20,6.51,6.32,6,6.03,null,6.38,7.11,6,5.81,6.91,6.32,null,null,5.46,20,5.3,9.4936708860758872E-3,{"$f":"(H36-GrosBovins2024!H37)/GrosBovins2024!H37","v":0.15789473684210528},{"$f":"(H36-MoyQuinqHebdoGB!AL24)/MoyQuinqHebdoGB!AL24","v":0.3247508305647841},1.9298245614034988E-2,{"$f":"(K36-GrosBovins2024!K36)/GrosBovins2024!K36","v":0.3418013856812932},{"$f":"(K36-MoyQuinqHebdoGB!BD24)/MoyQuinqHebdoGB!BD24","v":0.48365679264555678}]
[null,21,6.52,6.35,6.06,6.06,null,6.43,7.13,6.04,5.85,6.93,6.37,null,null,5.41,21,5.3,7.8369905956112568E-3,{"$f":"(H37-GrosBovins2024!H38)/GrosBovins2024!H38","v":0.16696914700544463},{"$f":"(H37-MoyQuinqHebdoGB!AL25)/MoyQuinqHebdoGB!AL25","v":0.33181441590720784},6.8846815834767705E-3,{"$f":"(K37-GrosBovins2024!K37)/GrosBovins2024!K37","v":0.35103926096997679},{"$f":"(K37-MoyQuinqHebdoGB!BD25)/MoyQuinqHebdoGB!BD25","v":0.48779247202441517}]
["M",22,6.55,6.37,null,6.08,null,6.49,7.14,6.06,5.87,6.9,6.43,null,null,5.52,22,5.35,9.3312597200622856E-3,{"$f":"(H38-GrosBovins2024!H39)/GrosBovins2024!H39","v":0.17572463768115956},{"$f":"(H38-MoyQuinqHebdoGB!AL26)/MoyQuinqHebdoGB!AL26","v":0.33924886504333496},3.4188034188034982E-3,{"$f":"(K38-GrosBovins2024!K38)/GrosBovins2024!K38","v":0.349425287356322},{"$f":"(K38-MoyQuinqHebdoGB!BD26)/MoyQuinqHebdoGB!BD26","v":0.48232323232323238}]
[null,23,6.56,6.4,null,6.12,null,6.51,7.14,6.1,5.92,6.94,6.48,null,null,5.58,23,5.5,3.0816640986131853E-3,{"$f":"(H39-GrosBovins2024!H40)/GrosBovins2024!H40","v":0.18148820326678766},{"$f":"(H39-MoyQuinqHebdoGB!AL27)/MoyQuinqHebdoGB!AL27","v":0.33620689655172387},8.5178875638841269E-3,{"$f":"(K39-GrosBovins2024!K39)/GrosBovins2024!K39","v":0.35779816513761459},{"$f":"(K39-MoyQuinqHebdoGB!BD27)/MoyQuinqHebdoGB!BD27","v":0.48818501759678223}]
[null,24,6.58,6.42,null,6.19,null,6.56,7.23,6.15,5.92,7.03,6.52,null,null,5.73,24,5.6,7.6804915514592665E-3,{"$f":"(H40-GrosBovins2024!H41)/GrosBovins2024!H41","v":0.19272727272727266},{"$f":"(H40-MoyQuinqHebdoGB!AL28)/MoyQuinqHebdoGB!AL28","v":0.34151329243353806},0,{"$f":"(K40-GrosBovins2024!K40)/GrosBovins2024!K40","v":0.35159817351598177},{"$f":"(K40-MoyQuinqHebdoGB!BD28)/MoyQuinqHebdoGB!BD28","v":0.48370927318295748}]
[null,25,6.59,6.43,null,6.24,null,6.57,7.18,6.16,5.94,7.08,6.56,null,null,5.88,25,5.65,1.5243902439025421E-3,{"$f":"(H41-GrosBovins2024!H42)/GrosBovins2024!H42","v":0.19021739130434798},{"$f":"(H41-MoyQuinqHebdoGB!AL29)/MoyQuinqHebdoGB!AL29","v":0.34631147540983614},3.3783783783784566E-3,{"$f":"(K41-GrosBovins2024!K41)/GrosBovins2024!K41","v":0.3530751708428248},{"$f":"(K41-MoyQuinqHebdoGB!BD29)/MoyQuinqHebdoGB!BD29","v":0.48797595190380771}]
["J",26,6.6,6.45,6.2,6.25,null,6.63,7.23,6.2,5.97,7.1,6.56,null,null,5.85,26,5.7,9.1324200913241414E-3,{"$f":"(H42-GrosBovins2024!H43)/GrosBovins2024!H43","v":0.20326678765880221},{"$f":"(H42-MoyQuinqHebdoGB!AL30)/MoyQuinqHebdoGB!AL30","v":0.35361371988566742},5.0505050505049425E-3,{"$f":"(K42-GrosBovins2024!K42)/GrosBovins2024!K42","v":0.3599088838268793},{"$f":"(K42-MoyQuinqHebdoGB!BD30)/MoyQuinqHebdoGB!BD30","v":0.49699097291875605}]
[null,27,6.61,6.46,6.2,6.26,null,6.65,7.24,6.22,5.98,7.09,6.6,null,null,5.78,27,5.7,3.016591251885439E-3,{"$f":"(H43-GrosBovins2024!H44)/GrosBovins2024!H44","v":0.20689655172413804},{"$f":"(H43-MoyQuinqHebdoGB!AL31)/MoyQuinqHebdoGB!AL31","v":0.35991820040899786},1.6750418760470144E-3,{"$f":"(K43-GrosBovins2024!K43)/GrosBovins2024!K43","v":0.36218678815489769},{"$f":"(K43-MoyQuinqHebdoGB!BD31)/MoyQuinqHebdoGB!BD31","v":0.50251256281407031}]
[null,28,6.61,6.46,6.2,6.26,null,6.65,7.3,6.22,5.99,7.11,6.6,null,null,5.75,28,5.7,0,{"$f":"(H44-GrosBovins2024!H45)/GrosBovins2024!H45","v":0.20909090909090916},{"$f":"(H44-MoyQuinqHebdoGB!AL32)/MoyQuinqHebdoGB!AL32","v":0.36103151862464189},1.6722408026755495E-3,{"$f":"(K44-GrosBovins2024!K44)/GrosBovins2024!K44","v":0.36136363636363628},{"$f":"(K44-MoyQuinqHebdoGB!BD32)/MoyQuinqHebdoGB!BD32","v":0.5065392354124747}]
[null,29,6.6,6.44,null,6.3,null,6.66,7.3,6.22,5.95,7.14,6.61,null,null,5.71,29,5.6,1.5037593984962084E-3,{"$f":"(H45-GrosBovins2024!H46)/GrosBovins2024!H46","v":0.20652173913043489},{"$f":"(H45-MoyQuinqHebdoGB!AL33)/MoyQuinqHebdoGB!AL33","v":0.36140637775960743},-6.6777963272120254E-3,{"$f":"(K45-GrosBovins2024!K45)/GrosBovins2024!K45","v":0.35227272727272718},{"$f":"(K45-MoyQuinqHebdoGB!BD33)/MoyQuinqHebdoGB!BD33","v":0.49572649572649569}]
[null,30,6.59,6.44,null,6.29,null,6.66,7.3,6.22,5.94,7.18,6.6,null,null,5.71,30,5.6,0,{"$f":"(H46-GrosBovins2024!H47)/GrosBovins2024!H47","v":0.2043399638336347},{"$f":"(H46-MoyQuinqHebdoGB!AL34)/MoyQuinqHebdoGB!AL34","v":0.36307818256242302},-1.6806722689075271E-3,{"$f":"(K46-GrosBovins2024!K46)/GrosBovins2024!K46","v":0.34389140271493224},{"$f":"(K46-MoyQuinqHebdoGB!BD34)/MoyQuinqHebdoGB!BD34","v":0.49471565173628623}]
["J",31,6.61,6.44,null,6.29,null,6.69,7.35,6.23,5.95,7.22,6.65,null,null,5.68,31,5.65,4.5045045045045418E-3,{"$f":"(H47-GrosBovins2024!H48)/GrosBovins2024!H48","v":0.2032374100719426},{"$f":"(H47-MoyQuinqHebdoGB!AL35)/MoyQuinqHebdoGB!AL35","v":0.37146371463714617},1.6835016835016474E-3,{"$f":"(K47-GrosBovins2024!K47)/GrosBovins2024!K47","v":0.34311512415349898},{"$f":"(K47-MoyQuinqHebdoGB!BD35)/MoyQuinqHebdoGB!BD35","v":0.49723200805234019}]
[null,32,6.64,6.49,6.25,6.31,null,6.73,7.39,6.29,6,7.21,6.66,null,null,5.65,32,5.65,5.9790732436472392E-3,{"$f":"(H48-GrosBovins2024!H49)/GrosBovins2024!H49","v":0.20178571428571443},{"$f":"(H48-MoyQuinqHebdoGB!AL36)/MoyQuinqHebdoGB!AL36","v":0.37234910277324645},8.4033613445377853E-3,{"$f":"(K48-GrosBovins2024!K48)/GrosBovins2024!K48","v":0.3452914798206278},{"$f":"(K48-MoyQuinqHebdoGB!BD36)/MoyQuinqHebdoGB!BD36","v":0.50526843953838441}]
[null,33,6.72,6.58,6.33,6.37,null,6.8,7.44,6.36,6.11,null,6.75,null,null,5.73,33,5.65,1.0401188707280741E-2,{"$f":"(H49-GrosBovins2024!H50)/GrosBovins2024!H50","v":0.21428571428571433},{"$f":"(H49-MoyQuinqHebdoGB!AL37)/MoyQuinqHebdoGB!AL37","v":0.38211382113821135},1.8333333333333385E-2,{"$f":"(K49-GrosBovins2024!K49)/GrosBovins2024!K49","v":0.35777777777777786},{"$f":"(K49-MoyQuinqHebdoGB!BD37)/MoyQuinqHebdoGB!BD37","v":0.52369077306733181}]
[null,34,6.79,6.64,6.39,6.46,null,6.9,7.52,6.43,6.19,7.33,6.82,null,null,5.91,34,5.65,1.4705882352941256E-2,{"$f":"(H50-GrosBovins2024!H51)/GrosBovins2024!H51","v":0.22994652406417113},{"$f":"(H50-MoyQuinqHebdoGB!AL38)/MoyQuinqHebdoGB!AL38","v":0.39789303079416538},1.3093289689034381E-2,{"$f":"(K50-GrosBovins2024!K50)/GrosBovins2024!K50","v":0.3604395604395606},{"$f":"(K50-MoyQuinqHebdoGB!BD38)/MoyQuinqHebdoGB!BD38","v":0.5336967294350845}]
["A",35,6.87,6.71,6.45,6.52,null,6.97,7.58,6.49,6.25,7.4,6.91,null,null,6,35,5.8,1.0144927536231797E-2,{"$f":"(H51-GrosBovins2024!H52)/GrosBovins2024!H52","v":0.24242424242424232},{"$f":"(H51-MoyQuinqHebdoGB!AL39)/MoyQuinqHebdoGB!AL39","v":0.4058087938684955},9.6930533117931504E-3,{"$f":"(K51-GrosBovins2024!K51)/GrosBovins2024!K51","v":0.37362637362637369},{"$f":"(K51-MoyQuinqHebdoGB!BD39)/MoyQuinqHebdoGB!BD39","v":0.54320987654320996}]
[null,36,6.94,6.76,null,6.58,7.24,7.03,7.63,6.53,6.28,7.42,6.95,null,null,6.09,36,6,8.6083213773314928E-3,{"$f":"(H52-GrosBovins2024!H53)/GrosBovins2024!H53","v":0.26211849192100539},{"$f":"(H52-MoyQuinqHebdoGB!AL40)/MoyQuinqHebdoGB!AL40","v":0.41733870967741965},4.8000000000000395E-3,{"$f":"(K52-GrosBovins2024!K52)/GrosBovins2024!K52","v":0.38938053097345149},{"$f":"(K52-MoyQuinqHebdoGB!BD40)/MoyQuinqHebdoGB!BD40","v":0.5483234714003945}]
[null,37,7.02,6.86,6.57,{"$f":"F54-0.05","v":6.59},null,7.08,7.68,6.57,6.3,7.6,7.05,null,null,6.17,37,6.2,7.1123755334281391E-3,{"$f":"(H53-GrosBovins2024!H54)/GrosBovins2024!H54","v":0.27338129496402885},{"$f":"(H53-MoyQuinqHebdoGB!AL41)/MoyQuinqHebdoGB!AL41","v":0.42914816310052489},3.1847133757961104E-3,{"$f":"(K53-GrosBovins2024!K53)/GrosBovins2024!K53","v":0.40624999999999983},{"$f":"(K53-MoyQuinqHebdoGB!BD41)/MoyQuinqHebdoGB!BD41","v":0.55555555555555558}]
[null,38,7.1,6.94,6.63,6.64,null,7.17,7.71,6.61,6.32,7.61,7.08,null,null,6.25,38,6.4,1.2711864406779641E-2,{"$f":"(H54-GrosBovins2024!H55)/GrosBovins2024!H55","v":0.28725314183123868},{"$f":"(H54-MoyQuinqHebdoGB!AL42)/MoyQuinqHebdoGB!AL42","v":0.44848484848484865},3.1746031746032479E-3,{"$f":"(K54-GrosBovins2024!K54)/GrosBovins2024!K54","v":0.42986425339366524},{"$f":"(K54-MoyQuinqHebdoGB!BD42)/MoyQuinqHebdoGB!BD42","v":0.56590683845391498}]
["S",39,7.19,7,6.66,6.69,null,7.27,7.68,6.66,6.37,{"$f":"L56-0.06","v":7.65},7.21,null,null,6.21,39,6.4,1.3947001394700091E-2,{"$f":"(H55-GrosBovins2024!H56)/GrosBovins2024!H56","v":0.30520646319569106},{"$f":"(H55-MoyQuinqHebdoGB!AL43)/MoyQuinqHebdoGB!AL43","v":0.46809369951534724},7.9113924050632622E-3,{"$f":"(K55-GrosBovins2024!K55)/GrosBovins2024!K55","v":0.46100917431192651},{"$f":"(K55-MoyQuinqHebdoGB!BD43)/MoyQuinqHebdoGB!BD43","v":0.58378915962207845}]
[null,40,7.28,7.12,null,6.73,null,7.34,7.78,6.7,6.42,7.71,7.25,null,null,6.2,40,6.35,9.6286107290234242E-3,{"$f":"(H56-GrosBovins2024!H57)/GrosBovins2024!H57","v":0.31541218637992829},{"$f":"(H56-MoyQuinqHebdoGB!AL44)/MoyQuinqHebdoGB!AL44","v":0.47864625302175651},7.8492935635792495E-3,{"$f":"(K56-GrosBovins2024!K56)/GrosBovins2024!K56","v":0.48611111111111099},{"$f":"(K56-MoyQuinqHebdoGB!BD44)/MoyQuinqHebdoGB!BD44","v":0.60419790104947535}]
[null,41,7.32,7.18,6.77,6.79,null,7.4,7.8,6.74,6.47,7.79,7.32,null,null,6.2,41,6.35,8.1743869209809951E-3,{"$f":"(H57-GrosBovins2024!H58)/GrosBovins2024!H58","v":0.32854578096947934},{"$f":"(H57-MoyQuinqHebdoGB!AL45)/MoyQuinqHebdoGB!AL45","v":0.49133413945989507},7.7881619937694426E-3,{"$f":"(K57-GrosBovins2024!K57)/GrosBovins2024!K57","v":0.51522248243559732},{"$f":"(K57-MoyQuinqHebdoGB!BD45)/MoyQuinqHebdoGB!BD45","v":0.62399598393574307}]
[null,42,7.35,7.21,null,6.85,7.72,7.46,7.92,6.79,6.51,7.8,7.38,null,null,6.18,42,6.35,8.1081081081080548E-3,{"$f":"(H58-GrosBovins2024!H59)/GrosBovins2024!H59","v":0.34900542495479198},{"$f":"(H58-MoyQuinqHebdoGB!AL46)/MoyQuinqHebdoGB!AL46","v":0.50100603621730366},6.1823802163833135E-3,{"$f":"(K58-GrosBovins2024!K58)/GrosBovins2024!K58","v":0.54265402843601895},{"$f":"(K58-MoyQuinqHebdoGB!BD46)/MoyQuinqHebdoGB!BD46","v":0.63979848866498745}]
[null,43,7.39,7.26,null,6.85,7.82,7.5,7.95,6.81,6.52,7.86,7.45,null,null,null,43,6.35,5.3619302949061707E-3,{"$f":"(H59-GrosBovins2024!H60)/GrosBovins2024!H60","v":0.35623869801084984},{"$f":"(H59-MoyQuinqHebdoGB!AL47)/MoyQuinqHebdoGB!AL47","v":0.51209677419354838},1.5360983102918259E-3,{"$f":"(K59-GrosBovins2024!K59)/GrosBovins2024!K59","v":0.55980861244019142},{"$f":"(K59-MoyQuinqHebdoGB!BD47)/MoyQuinqHebdoGB!BD47","v":0.65230613279270133}]
["O",44,7.42,7.27,null,6.79,7.79,7.49,8.01,6.76,6.44,7.91,7.41,null,null,null,44,6.3,-1.3333333333333049E-3,{"$f":"(H60-GrosBovins2024!H61)/GrosBovins2024!H61","v":0.36181818181818187},{"$f":"(H60-MoyQuinqHebdoGB!AL48)/MoyQuinqHebdoGB!AL48","v":0.50947198710197483},-1.2269938650306624E-2,{"$f":"(K60-GrosBovins2024!K60)/GrosBovins2024!K60","v":0.5555555555555558},{"$f":"(K60-MoyQuinqHebdoGB!BD48)/MoyQuinqHebdoGB!BD48","v":0.64453524004085838}]
[null,45,7.43,7.3,6.83,6.78,null,7.5,8.01,6.69,6.37,7.93,7.47,null,null,null,45,6.3,1.3351134846461665E-3,{"$f":"(H61-GrosBovins2024!H62)/GrosBovins2024!H62","v":0.34649910233393172},{"$f":"(H61-MoyQuinqHebdoGB!AL49)/MoyQuinqHebdoGB!AL49","v":0.51392813887767463},-1.0869565217391347E-2,{"$f":"(K61-GrosBovins2024!K61)/GrosBovins2024!K61","v":0.53493975903614444},{"$f":"(K61-MoyQuinqHebdoGB!BD49)/MoyQuinqHebdoGB!BD49","v":0.63753213367609274}]
[null,46,7.45,7.31,null,6.72,null,7.51,8.09,6.65,6.28,7.98,7.43,null,null,null,46,null,1.3333333333333049E-3,{"$f":"(H62-GrosBovins2024!H63)/GrosBovins2024!H63","v":0.35071942446043169},{"$f":"(H62-MoyQuinqHebdoGB!AL50)/MoyQuinqHebdoGB!AL50","v":0.51289282836422223},-1.4128728414442678E-2,{"$f":"(K62-GrosBovins2024!K62)/GrosBovins2024!K62","v":0.50961538461538458},{"$f":"(K62-MoyQuinqHebdoGB!BD50)/MoyQuinqHebdoGB!BD50","v":0.62863070539419075}]
[null,47,null,null,null,null,null,null,null,null,null,null,null,null,null,null,47,null,-1,{"$f":"(H63-GrosBovins2024!H64)/GrosBovins2024!H64","v":-1},{"$f":"(H63-MoyQuinqHebdoGB!AL51)/MoyQuinqHebdoGB!AL51","v":-1},-1,{"$f":"(K63-GrosBovins2024!K63)/GrosBovins2024!K63","v":-1},{"$f":"(K63-MoyQuinqHebdoGB!BD51)/MoyQuinqHebdoGB!BD51","v":-1}]
["N",48,null,null,null,null,null,null,null,null,null,null,null,null,null,null,48,null,{"$error":"#DIV/0!"},{"$f":"(H64-GrosBovins2024!H65)/GrosBovins2024!H65","v":-1},{"$f":"(H64-MoyQuinqHebdoGB!AL52)/MoyQuinqHebdoGB!AL52","v":-1},{"$error":"#DIV/0!"},{"$f":"(K64-GrosBovins2024!K64)/GrosBovins2024!K64","v":-1},{"$f":"(K64-MoyQuinqHebdoGB!BD52)/MoyQuinqHebdoGB!BD52","v":-1}]
[null,49,null,null,null,null,null,null,null,null,null,null,null,null,null,null,49,null,{"$error":"#DIV/0!"},{"$f":"(H65-GrosBovins2024!H66)/GrosBovins2024!H66","v":-1},{"$f":"(H65-MoyQuinqHebdoGB!AL53)/MoyQuinqHebdoGB!AL53","v":-1},{"$error":"#DIV/0!"},{"$f":"(K65-GrosBovins2024!K65)/GrosBovins2024!K65","v":-1},{"$f":"(K65-MoyQuinqHebdoGB!BD53)/MoyQuinqHebdoGB!BD53","v":-1}]
[null,50,null,null,null,null,null,null,null,null,null,null,null,null,null,null,50,null,{"$error":"#DIV/0!"},{"$f":"(H66-GrosBovins2024!H67)/GrosBovins2024!H67","v":-1},{"$f":"(H66-MoyQuinqHebdoGB!AL54)/MoyQuinqHebdoGB!AL54","v":-1},{"$error":"#DIV/0!"},{"$f":"(K66-GrosBovins2024!K66)/GrosBovins2024!K66","v":-1},{"$f":"(K66-MoyQuinqHebdoGB!BD54)/MoyQuinqHebdoGB!BD54","v":-1}]
[null,51,null,null,null,null,null,null,null,null,null,null,null,null,null,null,51,null,{"$error":"#DIV/0!"},{"$f":"(H67-GrosBovins2024!H68)/GrosBovins2024!H68","v":-1},{"$f":"(H67-MoyQuinqHebdoGB!AL55)/MoyQuinqHebdoGB!AL55","v":-1},{"$error":"#DIV/0!"},{"$f":"(K67-GrosBovins2024!K67)/GrosBovins2024!K67","v":-1},{"$f":"(K67-MoyQuinqHebdoGB!BD55)/MoyQuinqHebdoGB!BD55","v":-1}]
["D",52,null,null,null,null,null,null,null,null,null,null,null,null,null,null,52,null,{"$error":"#DIV/0!"},{"$f":"(H68-GrosBovins2024!H69)/GrosBovins2024!H69","v":{"$error":"#DIV/0!"}},{"$f":"(H68-MoyQuinqHebdoGB!AL56)/MoyQuinqHebdoGB!AL56","v":-1},{"$error":"#DIV/0!"},{"$f":"(K68-GrosBovins2024!K68)/GrosBovins2024!K68","v":-1},{"$f":"(K68-MoyQuinqHebdoGB!BD56)/MoyQuinqHebdoGB!BD56","v":-1}]
[]
[]
["3 – COTATION DES GROS BOVINS VIFS SUR LE MARCHE DE CHOLET (en Euro/Kg Net)"]
[]
[null,null,"GENISSES",null,"VACHES",null,null,null,"JEUNES BOVINS","TAUREAUX"]
["semaines","année+mois","Viande, mixte, lait","Viande, mixte, lait","Blonde","Blonde","Mixte","Lait","Viande","Viande, mixte, lait"]
[2025,null,"U","R","U","R","O","P","U","URO"]
[1,202501,null,null,null,null,null,4,5.65]
[2,202501,null,null,6.3,5.7,4.5,4.05,5.8]
[3,202501,null,null,6.35,5.7,4.55,4.0999999999999996,5.85]
[4,202501,null,null,6.35,5.7,4.57,4.1500000000000004,5.88]
[5,202501,null,null,6.4,5.75,4.62,4.2,5.93]
[6,202502,null,null,6.45,5.8,4.6900000000000004,4.2699999999999996,5.98]
[7,202502,null,null,6.45,5.8,4.75,4.3499999999999996,6.03]
[8,202502,null,null,6.45,5.85,4.8,4.45,6.08]
[9,202502,null,null,6.5,5.9,4.9000000000000004,4.55,6.15]
[10,202503,null,null,6.5,5.9,4.97,4.5999999999999996,6.15]
[11,202503,null,null,6.55,5.95,5.05,4.7,6.12]
[12,202503,null,null,6.55,5.95,5.0999999999999996,4.8,6.11]
[13,202503,null,null,6.55,5.95,5.15,4.8499999999999996,6.11]
[14,202504,null,null,6.55,6,5.25,4.95,6.11]
[15,202504,null,null,6.6,6.05,5.3,5,6.2]
[16,202504,null,null,6.6,6.05,5.4,5.15,6.2]
[17,202504,null,null,6.6,6.1,5.45,5.25,6.25]
[18,202505,null,null,6.65,6.1,5.55,5.35,6.28]
[19,202505,null,null,6.7,6.15,5.65,5.45,6.3]
[20,202505,null,null,6.7,6.2,5.7,5.55,6.35]
[21,202505,null,null,6.7,6.25,5.7,5.55,6.35]
[22,202505,null,null,6.7,6.3,5.7,5.55,6.35]
[23,202506,null,null,6.75,6.4,5.8,5.65,6.4]
[24,202506,null,null,6.75,6.4,5.8,5.65,6.4]
[25,202506,null,null,6.9,6.5,5.85,5.65,6.4]
[26,202506,null,null,6.9,6.5,5.85,5.65,6.4]
[27,202507,null,null,6.9,6.5,5.85,5.65,6.4]
[28,202507,null,null,6.9,6.5,5.85,5.65,6.4]
[29,202507,null,null,6.9,6.5,5.85,5.65,6.4]
[30,202507,null,null,6.9,6.5,5.85,5.63,6.4]
[31,202507,null,null,6.9,6.5,5.85,5.63,6.4]
[32,202508,null,null,6.9,6.55,5.9,5.68,6.4]
[33,202508,null,null,6.9,6.55,5.93,5.7,6.45]
[34,202508,null,null,7.1,6.75,6.15,5.9,6.55]
[35,202508,null,null,7.2,6.85,6.25,6,6.62]
[36,202509,null,null,7.25,6.85,6.25,6,6.65]
[37,202509,null,null,7.3,6.9,6.3,6,6.73]
[38,202509,null,null,7.35,6.95,6.3,6.03,6.83]
[39,202509,null,null,7.4,7,6.35,6.1,6.93]
[40,202510,null,null,7.5,7.05,6.4,6.15,7.03]
[41,202510,null,null,7.5,7.1,6.45,6.2,7.05]
[42,202510,null,null,7.6,7.15,6.5,6.25,7.05]
[43,202510,null,null,7.65,7.25,6.55,6.35,7.2]
[44,202510,null,null,null,null,null,null,null,null,"pas d'infos"]
[45,202511,null,null,null,null,null,null,null,null,"pas d'infos"]
[46,202511,null,null,null,null,null,null,null,null,"pas d'infos"]
[47,202511,null,null,null,null,null,null,null,null,"pas d'infos"]
[48,202511]
[49,202512]
[50,202512]
[51,202512]
[52,202512]

{"sheet":"GrosBovins2024","index":7,"n_rows":127,"n_cols":24,"rows_kept":127,"cut":false,"hidden":false,"merged":[[11,2,12,12],[11,15,11,16],[12,15,12,16],[13,2,13,4],[13,6,13,10],[13,11,13,12],[13,16,15,16],[14,23,15,23],[72,2,72,3],[72,4,72,7],[13,18,13,20],[13,21,13,23],[14,2,14,3],[14,6,14,7],[14,11,14,12],[14,18,15,18],[14,19,15,19],[14,20,15,20],[14,21,15,21],[14,22,15,22]]}
["COTATIONS DES GROS BOVINS"]
["Source : DRAAF Pays de la Loire - SRISE - FranceAgriMer"]
[]
[]
["1 – COTATION REGIONALE GRAND OUEST ENTREE ABATTOIR en €/Kg net"]
[]
["2 – MOYENNE NATIONALE DES BOVINS MAIGRES DESTINES A L'ENGRAISSEMENT CHAROLAIS MALE de 6-12 mois catégorie U (350kg) en €/kg vif"]
[]
["3 – COTATION DES GROS BOVINS VIFS SUR LE MARCHE DE CHOLET (en Euro/Kg Net) – à partir de la ligne 72"]
[]
[null,null,{"$f":"P11","v":"Mis à jour : 30/12/2024"},null,null,null,null,null,null,null,null,null,null,null,null,"Mis à jour : 30/12/2024"]
[null,null,"1 – COTATION REGIONALE ENTREE ABATTOIR GRAND OUEST FRANCEAGRIMER-HEBDOMADAIRE (€/Kg net)",null,null,null,null,null,null,null,null,null,null,null,null,"2 – COT. HEBDO"]
[null,null,null,null,null,null,null,null,null,null,null,null,null,null,null,"MAIGRE   €/kg vif"]
["Année","Sem.","JEUNES BOVINS",null,null,"BOEUFS","VACHES",null,null,null,null,"GENISSES",null,null,null,"Ref. nationale","Sem.","Nantes","Vache Viande R",null,null,"Vache lait P"]
[null,null,"VIANDE",null,"MIXTE","MIXTE","VIANDE",null,"Blonde","MIXTE","LAIT","VIANDES + 350kg",null,null,null,"Charolais Mâles",null,"Charolais Mâles","Evolution/semaine -1",{"$f":"\"Evolution/ semaine id \" & A17-1","v":"Evolution/ semaine id 2023"},"Evolution/semaine id moy. 5 ans","Evolution/semaine -1",{"$f":"\"Evolution/ semaine id \" & A17-1","v":"Evolution/ semaine id 2023"},"Evolution/semaine id moy. 5 ans"]
[null,null,"U","R","O","O","U","R","U","O","P","U","R",null,null,"6/12 mois  ( U ) 350 kg",null,"6/12 mois  ( U ) 350 kg"]
[2024,1,5.45,5.28,null,4.5999999999999996,null,5.44,6.39,4.4400000000000004,3.93,6.13,5.43,null,null,3.32,1,3.25,null,{"$f":"(H17-GrosBovins2023!H18)/GrosBovins2023!H18","v":1.8416206261511372E-3},{"$f":"(H17-MoyQuinqHebdoGB!AL5)/MoyQuinqHebdoGB!AL5","v":0.18363794604003489},null,{"$f":"(K17-GrosBovins2023!K17)/GrosBovins2023!K17","v":-0.14379084967320255},{"$f":"(K17-MoyQuinqHebdoGB!BD5)/MoyQuinqHebdoGB!BD5","v":0.13583815028901741}]
[null,2,5.47,5.31,4.8499999999999996,4.59,null,5.46,6.36,4.49,3.97,6.21,5.43,null,null,3.32,2,3.25,{"$f":"(H18-H17)/H17","v":3.6764705882352156E-3},{"$f":"(H18-GrosBovins2023!H19)/GrosBovins2023!H19","v":5.5248618784530844E-3},{"$f":"(H18-MoyQuinqHebdoGB!AL6)/MoyQuinqHebdoGB!AL6","v":0.18386816999132694},{"$f":"(K18-K17)/K17","v":1.0178117048346065E-2},{"$f":"(K18-GrosBovins2023!K18)/GrosBovins2023!K18","v":-0.13695652173913034},{"$f":"(K18-MoyQuinqHebdoGB!BD6)/MoyQuinqHebdoGB!BD6","v":0.13884107860011488}]
[null,3,5.49,5.32,4.88,4.66,5.88,5.46,6.43,4.5,4,6.16,5.45,null,null,3.39,3,3.3,{"$f":"(H19-H18)/H18","v":0},{"$f":"(H19-GrosBovins2023!H20)/GrosBovins2023!H20","v":7.3800738007380141E-3},{"$f":"(H19-MoyQuinqHebdoGB!AL7)/MoyQuinqHebdoGB!AL7","v":0.18335500650195061},{"$f":"(K19-K18)/K18","v":7.5566750629722425E-3},{"$f":"(K19-GrosBovins2023!K19)/GrosBovins2023!K19","v":-0.13232104121475061},{"$f":"(K19-MoyQuinqHebdoGB!BD7)/MoyQuinqHebdoGB!BD7","v":0.14090131203650877}]
["J",4,5.5,5.35,4.95,4.7,5.89,5.47,6.42,4.53,4.05,6.17,5.46,null,null,3.4,4,3.3,{"$f":"(H20-H19)/H19","v":1.8315018315017925E-3},{"$f":"(H20-GrosBovins2023!H21)/GrosBovins2023!H21","v":9.2250922509224762E-3},{"$f":"(H20-MoyQuinqHebdoGB!AL8)/MoyQuinqHebdoGB!AL8","v":0.18449545257687319},1.2499999999999956E-2,{"$f":"(K20-GrosBovins2023!K20)/GrosBovins2023!K20","v":-0.11764705882352942},{"$f":"(K20-MoyQuinqHebdoGB!BD8)/MoyQuinqHebdoGB!BD8","v":0.14926220204313276}]
[null,5,5.53,5.38,4.96,4.6399999999999997,null,5.49,6.46,4.58,4.09,6.17,5.45,null,null,3.42,5,3.35,3.6563071297989877E-3,{"$f":"(H21-GrosBovins2023!H22)/GrosBovins2023!H22","v":1.2915129151291565E-2},{"$f":"(H21-MoyQuinqHebdoGB!AL9)/MoyQuinqHebdoGB!AL9","v":0.1831896551724137},9.8765432098765517E-3,{"$f":"(K21-GrosBovins2023!K21)/GrosBovins2023!K21","v":-0.10307017543859645},{"$f":"(K21-MoyQuinqHebdoGB!BD9)/MoyQuinqHebdoGB!BD9","v":0.15406320541760732}]
[null,6,5.56,5.4,null,4.7300000000000004,null,5.51,6.5,4.6100000000000003,4.13,6.23,5.49,null,null,3.45,6,3.4,3.642987249544549E-3,{"$f":"(H22-GrosBovins2023!H23)/GrosBovins2023!H23","v":1.6605166051660489E-2},{"$f":"(H22-MoyQuinqHebdoGB!AL10)/MoyQuinqHebdoGB!AL10","v":0.18341924398625409},9.7799511002445074E-3,{"$f":"(K22-GrosBovins2023!K22)/GrosBovins2023!K22","v":-9.4298245614035034E-2},{"$f":"(K22-MoyQuinqHebdoGB!BD10)/MoyQuinqHebdoGB!BD10","v":0.15686274509803938}]
[null,7,5.57,5.42,null,4.7,null,5.5,6.47,4.62,4.16,6.2,5.48,null,null,3.49,7,3.45,-1.8148820326678379E-3,{"$f":"(H23-GrosBovins2023!H24)/GrosBovins2023!H24","v":1.102941176470581E-2},{"$f":"(H23-MoyQuinqHebdoGB!AL11)/MoyQuinqHebdoGB!AL11","v":0.179245283018868},7.2639225181598665E-3,{"$f":"(K23-GrosBovins2023!K23)/GrosBovins2023!K23","v":-9.5652173913043384E-2},{"$f":"(K23-MoyQuinqHebdoGB!BD11)/MoyQuinqHebdoGB!BD11","v":0.15044247787610635}]
[null,8,5.58,5.44,4.99,4.74,5.91,5.49,6.46,4.62,4.16,6.16,5.48,null,null,3.53,8,3.5,-1.8181818181817794E-3,{"$f":"(H24-GrosBovins2023!H25)/GrosBovins2023!H25","v":5.49450549450554E-3},{"$f":"(H24-MoyQuinqHebdoGB!AL12)/MoyQuinqHebdoGB!AL12","v":0.16908006814310039},0,{"$f":"(K24-GrosBovins2023!K24)/GrosBovins2023!K24","v":-0.10344827586206887},{"$f":"(K24-MoyQuinqHebdoGB!BD12)/MoyQuinqHebdoGB!BD12","v":0.13351498637602172}]
["F",9,5.58,5.43,null,4.74,null,5.46,6.51,4.66,4.16,6.19,5.48,null,null,3.57,9,3.55,-5.464480874316985E-3,{"$f":"(H25-GrosBovins2023!H26)/GrosBovins2023!H26","v":-3.6496350364964344E-3},{"$f":"(H25-MoyQuinqHebdoGB!AL13)/MoyQuinqHebdoGB!AL13","v":0.15874363327674007},0,{"$f":"(K25-GrosBovins2023!K25)/GrosBovins2023!K25","v":-0.11300639658848619},{"$f":"(K25-MoyQuinqHebdoGB!BD13)/MoyQuinqHebdoGB!BD13","v":0.12189859762675281}]
[null,10,5.58,5.43,null,4.7300000000000004,5.94,5.49,6.47,4.6399999999999997,4.16,6.22,5.48,null,null,3.59,10,3.6,5.49450549450554E-3,{"$f":"(H26-GrosBovins2023!H27)/GrosBovins2023!H27","v":-5.4347826086955367E-3},{"$f":"(H26-MoyQuinqHebdoGB!AL14)/MoyQuinqHebdoGB!AL14","v":0.15871675812579164},0,{"$f":"(K26-GrosBovins2023!K26)/GrosBovins2023!K26","v":-0.12421052631578944},{"$f":"(K26-MoyQuinqHebdoGB!BD14)/MoyQuinqHebdoGB!BD14","v":0.11111111111111122}]
[null,11,5.57,5.4,5.01,4.75,5.97,5.48,6.48,4.63,4.18,6.27,5.48,null,null,3.61,11,3.6,-1.8214936247722745E-3,{"$f":"(H27-GrosBovins2023!H28)/GrosBovins2023!H28","v":-9.0415913200723001E-3},{"$f":"(H27-MoyQuinqHebdoGB!AL15)/MoyQuinqHebdoGB!AL15","v":0.15222876366694726},4.8076923076922047E-3,{"$f":"(K27-GrosBovins2023!K27)/GrosBovins2023!K27","v":-0.12916666666666671},{"$f":"(K27-MoyQuinqHebdoGB!BD15)/MoyQuinqHebdoGB!BD15","v":0.10757816640169574}]
[null,12,5.55,5.39,null,4.76,null,5.48,6.54,4.6399999999999997,4.17,6.46,5.46,null,null,3.65,12,3.65,0,{"$f":"(H28-GrosBovins2023!H29)/GrosBovins2023!H29","v":-3.6363636363635587E-3},{"$f":"(H28-MoyQuinqHebdoGB!AL16)/MoyQuinqHebdoGB!AL16","v":0.14884696016771487},-2.3923444976076047E-3,{"$f":"(K28-GrosBovins2023!K28)/GrosBovins2023!K28","v":-0.13485477178423244},{"$f":"(K28-MoyQuinqHebdoGB!BD16)/MoyQuinqHebdoGB!BD16","v":0.10026385224274391}]
["M",13,5.54,5.36,null,4.78,null,5.48,6.5,4.66,4.18,6.25,5.46,null,null,3.65,13,3.65,0,{"$f":"(H29-GrosBovins2023!H30)/GrosBovins2023!H30","v":-5.4446460980035142E-3},{"$f":"(H29-MoyQuinqHebdoGB!AL17)/MoyQuinqHebdoGB!AL17","v":0.15077698446031099},2.3980815347721313E-3,{"$f":"(K29-GrosBovins2023!K29)/GrosBovins2023!K29","v":-0.13097713097713096},{"$f":"(K29-MoyQuinqHebdoGB!BD17)/MoyQuinqHebdoGB!BD17","v":9.8843322818086207E-2}]
[null,14,5.5,5.33,4.9000000000000004,4.79,null,5.49,6.47,4.66,4.18,6.23,5.43,null,null,3.67,14,3.7,1.8248175182481361E-3,{"$f":"(H30-GrosBovins2023!H31)/GrosBovins2023!H31","v":1.1049723756906169E-2},{"$f":"(H30-MoyQuinqHebdoGB!AL18)/MoyQuinqHebdoGB!AL18","v":0.15142617449664417},0,{"$f":"(K30-GrosBovins2023!K30)/GrosBovins2023!K30","v":-0.12552301255230136},{"$f":"(K30-MoyQuinqHebdoGB!BD18)/MoyQuinqHebdoGB!BD18","v":9.8265895953757135E-2}]
[null,15,5.47,5.28,null,4.7699999999999996,null,5.48,6.5,4.66,4.1900000000000004,6.18,5.48,null,null,3.69,15,3.7,-1.8214936247722745E-3,{"$f":"(H31-GrosBovins2023!H32)/GrosBovins2023!H32","v":5.5045871559633482E-3},{"$f":"(H31-MoyQuinqHebdoGB!AL19)/MoyQuinqHebdoGB!AL19","v":0.1517444304329551},{"$f":"(K31-K30)/K30","v":2.3923444976078172E-3},{"$f":"(K31-GrosBovins2023!K31)/GrosBovins2023!K31","v":-0.11416490486257928},{"$f":"(K31-MoyQuinqHebdoGB!BD19)/MoyQuinqHebdoGB!BD19","v":0.10147213459516288}]
[null,16,5.43,5.25,null,4.74,5.93,5.5,6.58,4.67,4.2,6.17,5.44,null,null,3.74,16,3.75,3.6496350364962722E-3,{"$f":"(H32-GrosBovins2023!H33)/GrosBovins2023!H33","v":1.102941176470581E-2},{"$f":"(H32-MoyQuinqHebdoGB!AL20)/MoyQuinqHebdoGB!AL20","v":0.15255658005029332},{"$f":"(K32-K31)/K31","v":2.386634844868684E-3},{"$f":"(K32-GrosBovins2023!K32)/GrosBovins2023!K32","v":-0.10638297872340426},{"$f":"(K32-MoyQuinqHebdoGB!BD20)/MoyQuinqHebdoGB!BD20","v":0.10120608285264816}]
["A",17,5.4,5.22,null,4.8099999999999996,null,5.49,6.51,4.6900000000000004,4.22,6.25,5.45,null,null,3.76,17,3.75,-1.8181818181817794E-3,{"$f":"(H33-GrosBovins2023!H34)/GrosBovins2023!H34","v":9.1911764705882026E-3},{"$f":"(H33-MoyQuinqHebdoGB!AL21)/MoyQuinqHebdoGB!AL21","v":0.1494974874371858},4.76190476190466E-3,{"$f":"(K33-GrosBovins2023!K33)/GrosBovins2023!K33","v":-9.6359743040685258E-2},{"$f":"(K33-MoyQuinqHebdoGB!BD21)/MoyQuinqHebdoGB!BD21","v":0.10010427528675701}]
[null,18,5.37,5.21,4.82,4.8099999999999996,null,5.5,6.58,4.72,4.25,6.26,5.5,null,null,3.78,18,3.75,1.8214936247722745E-3,{"$f":"(H34-GrosBovins2023!H35)/GrosBovins2023!H35","v":1.102941176470581E-2},{"$f":"(H34-MoyQuinqHebdoGB!AL22)/MoyQuinqHebdoGB!AL22","v":0.1472674176053401},7.1090047393365524E-3,{"$f":"(K34-GrosBovins2023!K34)/GrosBovins2023!K34","v":-8.4051724137930967E-2},{"$f":"(K34-MoyQuinqHebdoGB!BD22)/MoyQuinqHebdoGB!BD22","v":9.9327470253491826E-2}]
[null,19,5.35,5.2,null,4.84,null,5.52,6.56,4.7699999999999996,4.29,6.28,5.5,null,null,3.78,19,3.75,3.6363636363635587E-3,{"$f":"(H35-GrosBovins2023!H36)/GrosBovins2023!H36","v":1.2844036697247594E-2},{"$f":"(H35-MoyQuinqHebdoGB!AL23)/MoyQuinqHebdoGB!AL23","v":0.1495210329029569},9.4117647058823608E-3,{"$f":"(K35-GrosBovins2023!K35)/GrosBovins2023!K35","v":-6.9414316702820014E-2},{"$f":"(K35-MoyQuinqHebdoGB!BD23)/MoyQuinqHebdoGB!BD23","v":0.10453141091658101}]
[null,20,5.36,5.2,null,4.8,null,5.5,6.57,4.76,4.33,6.3,5.49,null,null,3.78,20,3.75,-3.6231884057970243E-3,{"$f":"(H36-GrosBovins2023!H37)/GrosBovins2023!H37","v":9.1743119266054721E-3},{"$f":"(H36-MoyQuinqHebdoGB!AL24)/MoyQuinqHebdoGB!AL24","v":0.14202657807308974},9.3240093240093327E-3,{"$f":"(K36-GrosBovins2023!K36)/GrosBovins2023!K36","v":-6.2770562770562782E-2},{"$f":"(K36-MoyQuinqHebdoGB!BD24)/MoyQuinqHebdoGB!BD24","v":0.10572012257405532}]
[null,21,5.36,5.21,null,4.84,5.88,5.51,6.52,4.76,4.33,6.26,5.5,null,null,3.84,21,3.75,1.8181818181817794E-3,{"$f":"(H37-GrosBovins2023!H38)/GrosBovins2023!H38","v":7.3126142595978131E-3},{"$f":"(H37-MoyQuinqHebdoGB!AL25)/MoyQuinqHebdoGB!AL25","v":0.14125932062966021},0,{"$f":"(K37-GrosBovins2023!K37)/GrosBovins2023!K37","v":-6.479481641468679E-2},{"$f":"(K37-MoyQuinqHebdoGB!BD25)/MoyQuinqHebdoGB!BD25","v":0.10122075279755866}]
["M",22,5.37,5.2,null,4.8600000000000003,null,5.51,6.55,4.78,4.3499999999999996,6.18,5.5,null,null,3.87,22,3.75,0,{"$f":"(H38-GrosBovins2023!H39)/GrosBovins2023!H39","v":3.642987249544549E-3},{"$f":"(H38-MoyQuinqHebdoGB!AL26)/MoyQuinqHebdoGB!AL26","v":0.13702022286421806},4.6189376443417024E-3,{"$f":"(K38-GrosBovins2023!K38)/GrosBovins2023!K38","v":-6.8522483940042886E-2},{"$f":"(K38-MoyQuinqHebdoGB!BD26)/MoyQuinqHebdoGB!BD26","v":9.8484848484848411E-2}]
[null,23,5.37,5.22,null,4.8600000000000003,null,5.52,6.49,4.8,4.3600000000000003,6.28,5.51,null,null,3.88,23,3.75,1.8148820326678379E-3,{"$f":"(H39-GrosBovins2023!H40)/GrosBovins2023!H40","v":3.6363636363635587E-3},{"$f":"(H39-MoyQuinqHebdoGB!AL27)/MoyQuinqHebdoGB!AL27","v":0.13300492610837411},2.2988505747127989E-3,{"$f":"(K39-GrosBovins2023!K39)/GrosBovins2023!K39","v":-7.4309978768577423E-2},{"$f":"(K39-MoyQuinqHebdoGB!BD27)/MoyQuinqHebdoGB!BD27","v":9.6028154851684283E-2}]
[null,24,5.38,5.24,null,4.8600000000000003,5.89,5.51,6.56,4.8,4.38,6.26,5.51,null,null,3.9,24,3.75,-1.8115942028985121E-3,{"$f":"(H40-GrosBovins2023!H41)/GrosBovins2023!H41","v":5.4744525547444087E-3},{"$f":"(H40-MoyQuinqHebdoGB!AL28)/MoyQuinqHebdoGB!AL28","v":0.12678936605316996},4.5871559633026545E-3,{"$f":"(K40-GrosBovins2023!K40)/GrosBovins2023!K40","v":-7.0063694267515936E-2},{"$f":"(K40-MoyQuinqHebdoGB!BD28)/MoyQuinqHebdoGB!BD28","v":9.7744360902255675E-2}]
[null,25,5.38,5.24,null,4.91,null,5.5,6.51,4.8,4.3899999999999997,6.29,5.47,null,null,3.92,25,3.75,-1.8148820326678379E-3,{"$f":"(H41-GrosBovins2023!H42)/GrosBovins2023!H42","v":3.6496350364962722E-3},{"$f":"(H41-MoyQuinqHebdoGB!AL29)/MoyQuinqHebdoGB!AL29","v":0.12704918032786888},2.2831050228310015E-3,{"$f":"(K41-GrosBovins2023!K41)/GrosBovins2023!K41","v":-6.5957446808510747E-2},{"$f":"(K41-MoyQuinqHebdoGB!BD29)/MoyQuinqHebdoGB!BD29","v":9.969939879759511E-2}]
["J",26,5.38,5.23,null,4.8899999999999997,null,5.52,6.5,4.8099999999999996,4.3899999999999997,6.22,5.49,null,null,3.89,26,3.72,3.6363636363635587E-3,{"$f":"(H42-GrosBovins2023!H43)/GrosBovins2023!H43","v":1.0989010989010917E-2},{"$f":"(H42-MoyQuinqHebdoGB!AL30)/MoyQuinqHebdoGB!AL30","v":0.12699060841159635},0,{"$f":"(K42-GrosBovins2023!K42)/GrosBovins2023!K42","v":-5.7939914163090224E-2},{"$f":"(K42-MoyQuinqHebdoGB!BD30)/MoyQuinqHebdoGB!BD30","v":0.10080240722166479}]
[null,27,5.36,5.25,null,4.9000000000000004,null,5.51,6.58,4.8099999999999996,4.3899999999999997,6.2,5.49,null,null,3.85,27,3.72,-1.8115942028985121E-3,{"$f":"(H43-GrosBovins2023!H44)/GrosBovins2023!H44","v":1.2867647058823418E-2},{"$f":"(H43-MoyQuinqHebdoGB!AL31)/MoyQuinqHebdoGB!AL31","v":0.12678936605316957},0,{"$f":"(K43-GrosBovins2023!K43)/GrosBovins2023!K43","v":-4.9783549783549874E-2},{"$f":"(K43-MoyQuinqHebdoGB!BD31)/MoyQuinqHebdoGB!BD31","v":0.10301507537688423}]
[null,28,5.34,5.2,4.88,4.88,5.88,5.51,6.59,4.82,4.4000000000000004,6.23,5.46,null,null,3.82,28,3.72,0,{"$f":"(H44-GrosBovins2023!H45)/GrosBovins2023!H45","v":1.2867647058823418E-2},{"$f":"(H44-MoyQuinqHebdoGB!AL32)/MoyQuinqHebdoGB!AL32","v":0.12771182971756032},2.2779043280183771E-3,{"$f":"(K44-GrosBovins2023!K44)/GrosBovins2023!K44","v":-3.7199124726477004E-2},{"$f":"(K44-MoyQuinqHebdoGB!BD32)/MoyQuinqHebdoGB!BD32","v":0.10663983903420521}]
[null,29,5.32,5.18,null,4.9000000000000004,null,5.5,6.55,4.82,4.4000000000000004,6.27,5.49,null,null,3.83,29,3.75,-1.8148820326678379E-3,{"$f":"(H45-GrosBovins2023!H46)/GrosBovins2023!H46","v":1.4760147601476028E-2},{"$f":"(H45-MoyQuinqHebdoGB!AL33)/MoyQuinqHebdoGB!AL33","v":0.124284546197874},0,{"$f":"(K45-GrosBovins2023!K45)/GrosBovins2023!K45","v":-2.8697571743929336E-2},{"$f":"(K45-MoyQuinqHebdoGB!BD33)/MoyQuinqHebdoGB!BD33","v":0.10608345902463553}]
["J",30,5.31,5.18,4.88,4.93,null,5.52,6.61,4.83,4.42,6.34,5.48,null,null,3.83,30,3.75,3.6363636363635587E-3,{"$f":"(H46-GrosBovins2023!H47)/GrosBovins2023!H47","v":1.4705882352941025E-2},{"$f":"(H46-MoyQuinqHebdoGB!AL34)/MoyQuinqHebdoGB!AL34","v":0.12975849365534148},4.5454545454544481E-3,{"$f":"(K46-GrosBovins2023!K46)/GrosBovins2023!K46","v":-1.7777777777777795E-2},{"$f":"(K46-MoyQuinqHebdoGB!BD34)/MoyQuinqHebdoGB!BD34","v":0.11222949169602434}]
[null,31,5.31,5.19,4.88,4.92,null,5.53,6.5,4.84,4.43,null,5.51,null,null,3.83,31,3.75,1.811594202898673E-3,{"$f":"(H47-GrosBovins2023!H48)/GrosBovins2023!H48","v":1.467889908256882E-2},{"$f":"(H47-MoyQuinqHebdoGB!AL35)/MoyQuinqHebdoGB!AL35","v":0.13366133661336596},2.2624434389139788E-3,{"$f":"(K47-GrosBovins2023!K47)/GrosBovins2023!K47","v":-1.1160714285714444E-2},{"$f":"(K47-MoyQuinqHebdoGB!BD35)/MoyQuinqHebdoGB!BD35","v":0.11474584801207838}]
[null,32,5.33,5.23,4.91,4.9400000000000004,null,5.56,6.55,4.8600000000000003,4.46,6.29,5.52,null,null,3.83,32,3.75,5.4249547920432835E-3,{"$f":"(H48-GrosBovins2023!H49)/GrosBovins2023!H49","v":1.831501831501825E-2},{"$f":"(H48-MoyQuinqHebdoGB!AL36)/MoyQuinqHebdoGB!AL36","v":0.13376835236541593},6.7720090293454287E-3,{"$f":"(K48-GrosBovins2023!K48)/GrosBovins2023!K48","v":-6.6815144766147541E-3},{"$f":"(K48-MoyQuinqHebdoGB!BD36)/MoyQuinqHebdoGB!BD36","v":0.11891620672353242}]
[null,33,5.37,5.26,null,4.97,null,5.6,6.53,4.9000000000000004,4.5,6.33,5.54,null,null,3.83,33,3.75,7.1942446043165541E-3,{"$f":"(H49-GrosBovins2023!H50)/GrosBovins2023!H50","v":1.449275362318842E-2},{"$f":"(H49-MoyQuinqHebdoGB!AL37)/MoyQuinqHebdoGB!AL37","v":0.13821138211382109},8.9686098654708606E-3,{"$f":"(K49-GrosBovins2023!K49)/GrosBovins2023!K49","v":-8.8105726872246774E-3},{"$f":"(K49-MoyQuinqHebdoGB!BD37)/MoyQuinqHebdoGB!BD37","v":0.12219451371571079}]
[null,34,5.41,5.27,4.9400000000000004,4.99,null,5.6,6.56,4.92,4.55,6.29,5.58,null,null,3.82,34,3.75,0,{"$f":"(H50-GrosBovins2023!H51)/GrosBovins2023!H51","v":7.1942446043165541E-3},{"$f":"(H50-MoyQuinqHebdoGB!AL38)/MoyQuinqHebdoGB!AL38","v":0.13452188006482976},1.1111111111111072E-2,{"$f":"(K50-GrosBovins2023!K50)/GrosBovins2023!K50","v":-1.0869565217391266E-2},{"$f":"(K50-MoyQuinqHebdoGB!BD38)/MoyQuinqHebdoGB!BD38","v":0.12735381565906845}]
["A",35,5.42,5.29,4.96,5,null,5.61,6.62,4.9400000000000004,4.55,6.29,5.57,null,null,3.83,35,3.8,1.7857142857144064E-3,{"$f":"(H51-GrosBovins2023!H52)/GrosBovins2023!H52","v":5.37634408602155E-3},{"$f":"(H51-MoyQuinqHebdoGB!AL39)/MoyQuinqHebdoGB!AL39","v":0.13150463896732575},0,{"$f":"(K51-GrosBovins2023!K51)/GrosBovins2023!K51","v":-2.3605150214592342E-2},{"$f":"(K51-MoyQuinqHebdoGB!BD39)/MoyQuinqHebdoGB!BD39","v":0.1234567901234568}]
[null,36,5.44,5.31,4.96,5,null,5.61,6.66,4.9400000000000004,4.5199999999999996,6.29,5.56,null,null,3.83,36,3.8,0,{"$f":"(H52-GrosBovins2023!H53)/GrosBovins2023!H53","v":8.9928057553958114E-3},{"$f":"(H52-MoyQuinqHebdoGB!AL40)/MoyQuinqHebdoGB!AL40","v":0.13104838709677447},-6.593406593406648E-3,{"$f":"(K52-GrosBovins2023!K52)/GrosBovins2023!K52","v":-3.8297872340425657E-2},{"$f":"(K52-MoyQuinqHebdoGB!BD40)/MoyQuinqHebdoGB!BD40","v":0.11439842209072966}]
[null,37,5.45,5.3,4.96,4.95,null,5.57,6.6,4.87,4.4800000000000004,6.29,5.53,null,null,3.87,37,3.85,-7.1301247771836064E-3,{"$f":"(H53-GrosBovins2023!H54)/GrosBovins2023!H54","v":3.6036036036036869E-3},{"$f":"(H53-MoyQuinqHebdoGB!AL41)/MoyQuinqHebdoGB!AL41","v":0.12434396447315313},-8.8495575221237063E-3,{"$f":"(K53-GrosBovins2023!K53)/GrosBovins2023!K53","v":-4.8832271762207967E-2},{"$f":"(K53-MoyQuinqHebdoGB!BD41)/MoyQuinqHebdoGB!BD41","v":0.106172839506173}]
[null,38,5.46,5.32,null,4.93,null,5.56,6.61,4.83,4.42,6.3,5.54,null,null,3.89,38,3.85,-1.7953321364453634E-3,{"$f":"(H54-GrosBovins2023!H55)/GrosBovins2023!H55","v":3.6101083032490204E-3},{"$f":"(H54-MoyQuinqHebdoGB!AL42)/MoyQuinqHebdoGB!AL42","v":0.12323232323232332},-1.3392857142857253E-2,{"$f":"(K54-GrosBovins2023!K54)/GrosBovins2023!K54","v":-5.353319057815846E-2},{"$f":"(K54-MoyQuinqHebdoGB!BD42)/MoyQuinqHebdoGB!BD42","v":9.5143706640237954E-2}]
["S",39,5.47,5.32,4.9400000000000004,4.8600000000000003,null,5.57,6.6,4.78,4.3600000000000003,6.26,5.52,null,null,3.91,39,3.9,1.7985611510792582E-3,{"$f":"(H55-GrosBovins2023!H56)/GrosBovins2023!H56","v":1.7985611510792582E-3},{"$f":"(H55-MoyQuinqHebdoGB!AL43)/MoyQuinqHebdoGB!AL43","v":0.1247980613893377},-1.3574660633484075E-2,{"$f":"(K55-GrosBovins2023!K55)/GrosBovins2023!K55","v":-6.2365591397849467E-2},{"$f":"(K55-MoyQuinqHebdoGB!BD43)/MoyQuinqHebdoGB!BD43","v":8.4037792143212345E-2}]
[null,40,5.51,5.32,4.91,4.8099999999999996,null,5.57,6.56,4.74,4.32,6.29,5.53,null,null,3.96,40,3.9,0,{"$f":"(H56-GrosBovins2023!H57)/GrosBovins2023!H57","v":7.233273056057872E-3},{"$f":"(H56-MoyQuinqHebdoGB!AL44)/MoyQuinqHebdoGB!AL44","v":0.12207896857373082},-9.174311926605512E-3,{"$f":"(K56-GrosBovins2023!K56)/GrosBovins2023!K56","v":-6.0869565217391168E-2},{"$f":"(K56-MoyQuinqHebdoGB!BD44)/MoyQuinqHebdoGB!BD44","v":7.9460269865067601E-2}]
[null,41,5.52,5.36,4.92,4.76,null,5.58,6.58,4.6900000000000004,4.2699999999999996,6.25,5.51,null,null,3.96,41,3.9,1.7953321364452041E-3,{"$f":"(H57-GrosBovins2023!H58)/GrosBovins2023!H58","v":9.0415913200723001E-3},{"$f":"(H57-MoyQuinqHebdoGB!AL45)/MoyQuinqHebdoGB!AL45","v":0.12454655380894787},-1.1574074074074238E-2,{"$f":"(K57-GrosBovins2023!K57)/GrosBovins2023!K57","v":-6.1538461538461597E-2},{"$f":"(K57-MoyQuinqHebdoGB!BD45)/MoyQuinqHebdoGB!BD45","v":7.1787148594377528E-2}]
[null,42,5.56,5.39,4.8899999999999997,4.71,null,5.57,6.65,4.66,4.22,6.3,5.52,null,null,3.97,42,3.9,-1.7921146953404636E-3,{"$f":"(H58-GrosBovins2023!H59)/GrosBovins2023!H59","v":1.0889292196007351E-2},{"$f":"(H58-MoyQuinqHebdoGB!AL46)/MoyQuinqHebdoGB!AL46","v":0.12072434607645867},-1.1709601873536259E-2,{"$f":"(K58-GrosBovins2023!K58)/GrosBovins2023!K58","v":-6.4301552106430168E-2},{"$f":"(K58-MoyQuinqHebdoGB!BD46)/MoyQuinqHebdoGB!BD46","v":6.2972292191435769E-2}]
[null,43,5.59,5.42,4.9000000000000004,4.75,null,5.53,6.62,4.6500000000000004,4.18,6.38,5.49,null,null,3.97,43,3.9,-7.1813285457809758E-3,{"$f":"(H59-GrosBovins2023!H60)/GrosBovins2023!H60","v":3.6297640653358372E-3},{"$f":"(H59-MoyQuinqHebdoGB!AL47)/MoyQuinqHebdoGB!AL47","v":0.11491935483870974},-9.4786729857819999E-3,{"$f":"(K59-GrosBovins2023!K59)/GrosBovins2023!K59","v":-5.8558558558558703E-2},{"$f":"(K59-MoyQuinqHebdoGB!BD47)/MoyQuinqHebdoGB!BD47","v":5.9300557526609107E-2}]
["O",44,5.63,5.46,4.9800000000000004,4.71,null,5.53,6.61,4.62,4.1399999999999997,6.37,5.51,null,null,3.97,44,3.9,0,{"$f":"(H60-GrosBovins2023!H61)/GrosBovins2023!H61","v":9.1240875912408422E-3},{"$f":"(H60-MoyQuinqHebdoGB!AL48)/MoyQuinqHebdoGB!AL48","v":0.11446997178557024},-9.5693779904306303E-3,{"$f":"(K60-GrosBovins2023!K60)/GrosBovins2023!K60","v":-4.827586206896551E-2},{"$f":"(K60-MoyQuinqHebdoGB!BD48)/MoyQuinqHebdoGB!BD48","v":5.7201225740551642E-2}]
[null,45,5.67,5.51,4.9800000000000004,4.6900000000000004,null,5.5,6.63,4.6399999999999997,4.1500000000000004,6.23,5.5,null,null,3.98,45,3.9,-5.4249547920434448E-3,{"$f":"(H61-GrosBovins2023!H62)/GrosBovins2023!H62","v":7.3260073260073329E-3},{"$f":"(H61-MoyQuinqHebdoGB!AL49)/MoyQuinqHebdoGB!AL49","v":0.11021396851029477},2.415458937198231E-3,{"$f":"(K61-GrosBovins2023!K61)/GrosBovins2023!K61","v":-2.5821596244131322E-2},{"$f":"(K61-MoyQuinqHebdoGB!BD49)/MoyQuinqHebdoGB!BD49","v":6.6838046272493748E-2}]
[null,46,5.73,5.58,null,4.71,null,5.57,6.58,4.6399999999999997,4.16,6.43,5.51,null,null,4,46,3.9,1.272727272727278E-2,{"$f":"(H62-GrosBovins2023!H63)/GrosBovins2023!H63","v":2.9574861367837362E-2},{"$f":"(H62-MoyQuinqHebdoGB!AL50)/MoyQuinqHebdoGB!AL50","v":0.12207896857373082},2.4096385542168161E-3,{"$f":"(K62-GrosBovins2023!K62)/GrosBovins2023!K62","v":0},{"$f":"(K62-MoyQuinqHebdoGB!BD50)/MoyQuinqHebdoGB!BD50","v":7.8838174273858863E-2}]
[null,47,5.77,5.62,5.07,4.75,null,5.56,6.61,4.67,4.1900000000000004,6.27,5.55,null,null,4.03,47,3.9,-1.7953321364453634E-3,{"$f":"(H63-GrosBovins2023!H64)/GrosBovins2023!H64","v":3.3457249070631918E-2},{"$f":"(H63-MoyQuinqHebdoGB!AL51)/MoyQuinqHebdoGB!AL51","v":0.12368633791430884},7.2115384615385209E-3,{"$f":"(K63-GrosBovins2023!K63)/GrosBovins2023!K63","v":3.2019704433497734E-2},{"$f":"(K63-MoyQuinqHebdoGB!BD51)/MoyQuinqHebdoGB!BD51","v":9.3423799582463607E-2}]
["N",48,5.83,5.65,null,4.74,null,5.6,6.6,4.67,4.2,6.36,5.56,null,null,4.03,48,3.9,7.1942446043165541E-3,{"$f":"(H64-GrosBovins2023!H65)/GrosBovins2023!H65","v":4.0892193308550137E-2},{"$f":"(H64-MoyQuinqHebdoGB!AL52)/MoyQuinqHebdoGB!AL52","v":0.12903225806451626},2.386634844868684E-3,{"$f":"(K64-GrosBovins2023!K64)/GrosBovins2023!K64","v":6.3291139240506319E-2},{"$f":"(K64-MoyQuinqHebdoGB!BD52)/MoyQuinqHebdoGB!BD52","v":0.10526315789473695}]
[null,49,5.86,5.69,5.03,4.7699999999999996,6.25,5.57,6.63,4.6900000000000004,4.21,6.32,5.54,null,null,4.03,49,3.9,-5.3571428571427436E-3,{"$f":"(H65-GrosBovins2023!H66)/GrosBovins2023!H66","v":3.5315985130111596E-2},{"$f":"(H65-MoyQuinqHebdoGB!AL53)/MoyQuinqHebdoGB!AL53","v":0.12434396447315313},2.38095238095233E-3,{"$f":"(K65-GrosBovins2023!K65)/GrosBovins2023!K65","v":8.5051546391752594E-2},{"$f":"(K65-MoyQuinqHebdoGB!BD53)/MoyQuinqHebdoGB!BD53","v":0.1131676361713379}]
[null,50,5.87,5.69,5.14,4.8,6.65,5.57,6.74,4.6900000000000004,4.21,6.74,5.55,null,null,4.05,50,3.9,0,{"$f":"(H66-GrosBovins2023!H67)/GrosBovins2023!H67","v":3.1481481481481464E-2},{"$f":"(H66-MoyQuinqHebdoGB!AL54)/MoyQuinqHebdoGB!AL54","v":0.15023231801755291},0,{"$f":"(K66-GrosBovins2023!K66)/GrosBovins2023!K66","v":9.6354166666666699E-2},{"$f":"(K66-MoyQuinqHebdoGB!BD54)/MoyQuinqHebdoGB!BD54","v":0.12566844919786088}]
[null,51,5.88,5.66,5.0999999999999996,4.79,null,5.57,6.65,4.68,4.22,6.41,5.58,null,null,4.05,51,3.9,0,{"$f":"(H67-GrosBovins2023!H68)/GrosBovins2023!H68","v":2.5782688766114288E-2},{"$f":"(H67-MoyQuinqHebdoGB!AL55)/MoyQuinqHebdoGB!AL55","v":0.14904589994842704},2.3752969121139636E-3,{"$f":"(K67-GrosBovins2023!K67)/GrosBovins2023!K67","v":9.6103896103896011E-2},{"$f":"(K67-MoyQuinqHebdoGB!BD55)/MoyQuinqHebdoGB!BD55","v":0.13060951105157398}]
["D",52,5.88,5.66,null,null,null,5.59,6.65,4.7,4.24,6.29,5.53,null,null,4.05,52,3.9,3.5906642728904081E-3,{"$f":"(H68-GrosBovins2023!H69)/GrosBovins2023!H69","v":{"$error":"#DIV/0!"}},{"$f":"(H68-MoyQuinqHebdoGB!AL56)/MoyQuinqHebdoGB!AL56","v":0.21083032490974737},4.7393364928911049E-3,{"$f":"(K68-GrosBovins2023!K68)/GrosBovins2023!K68","v":9.5607235142118885E-2},{"$f":"(K68-MoyQuinqHebdoGB!BD56)/MoyQuinqHebdoGB!BD56","v":0.18215613382899642}]
[]
[]
["3 – COTATION DES GROS BOVINS VIFS SUR LE MARCHE DE CHOLET (en Euro/Kg Net)"]
[]
[null,null,"GENISSES",null,"VACHES",null,null,null,"JEUNES BOVINS","TAUREAUX"]
["semaines","année+mois","Viande, mixte, lait","Viande, mixte, lait","Blonde","Blonde","Mixte","Lait","Viande","Viande, mixte, lait"]
[2024,null,"U","R","U","R","O","P","U","URO"]
[1,202401,null,null,6.1,5.55,4.05]
[2,202401,null,null,6.1,5.55,4.2,3.75,5.3]
[3,202401,null,null,6.1,5.55,4.25,3.75,5.34]
[4,202401,null,null,6.1,5.55,4.3,3.8,5.35]
[5,202402,null,null,6.1,5.55,4.3,3.8,5.35]
[6,202402,null,null,6.1,5.55,4.33,3.85,5.38]
[7,202402,null,null,6.1,5.55,4.33,3.85,5.38]
[8,202402,null,null,6.1,5.55,4.3499999999999996,3.9,5.38]
[9,202402,null,null,6.1,5.55,4.3499999999999996,3.9,5.38]
[10,202403,null,null,6.1,5.55,4.3499999999999996,3.9,5.38]
[11,202403,null,null,6.1,5.55,4.3499999999999996,3.9,5.38]
[12,202403,null,null,6.1,5.55,4.3499999999999996,3.9,5.35]
[13,202403,null,null,6.1,5.55,4.3499999999999996,3.9,5.32]
[14,202404,null,null,6.1,5.55,4.3499999999999996,3.9,5.29]
[15,202404,null,null,6.1,5.55,4.3499999999999996,3.9,5.26]
[16,202404,null,null,6.1,5.55,4.3499999999999996,3.9,5.25]
[17,202404,null,null,6.1,5.55,4.3499999999999996,3.93,5.22]
[18,202405,null,null,6.1,5.55,null,3.95,5.2]
[19,202405,null,null,6.1,5.6,4.4000000000000004,4,5.2]
[20,202405,null,null,6.15,5.6,4.45,4.05,5.2]
[21,202405,null,null,6.15,5.6,4.45,4.05,5.2]
[22,202405,null,null,6.15,5.6,4.45,4.05,5.2]
[23,202406,null,null,6.2,5.6,4.47,4.0999999999999996,5.2]
[24,202406,null,null,6.2,5.6,4.5,4.13,5.2]
[25,202406,null,null,6.2,5.6,4.5,4.1500000000000004,5.2]
[26,202406,null,null,6.2,5.6,4.5,4.1500000000000004,5.2]
[27,202407,null,null,6.2,5.6,4.5,4.1500000000000004,5.2]
[28,202407,null,null,6.2,5.6,4.5,4.1500000000000004,5.17]
[29,202407,null,null,6.2,5.6,4.5,4.1500000000000004,5.14]
[30,202407,null,null,6.2,5.6,4.5,4.1500000000000004,5.14]
[31,202408,null,null,6.2,5.6,4.5,4.1500000000000004,5.14]
[32,202408,null,null,6.2,5.6,4.55,4.2,5.17]
[33,202408,null,null,6.2,5.6,4.5999999999999996,4.25,5.2]
[34,202408,null,null,6.2,5.6,4.6500000000000004,4.3,5.25]
[35,202408,null,null,6.2,5.6,4.6500000000000004,4.3,5.25]
[36,202409,null,null,6.25,5.65,4.63,4.3,5.28]
[37,202409,null,null,6.25,5.65,4.5999999999999996,4.25,5.3]
[38,202409,null,null,6.25,5.65,4.55,4.2,5.3]
[39,202409,null,null,6.25,5.65,4.5,4.1500000000000004,5.3]
[40,202410,null,null,6.25,5.65,4.49,4.1399999999999997,5.3]
[41,202410,null,null,6.25,5.65,4.45,4.0999999999999996,5.33]
[42,202410,null,null,6.25,5.65,4.43,4.05,5.37]
[43,202410,null,null,6.25,5.65,4.4000000000000004,4,5.41]
[44,202410,null,null,6.25,5.65,4.38,4,5.46]
[45,202411,null,null,6.25,5.65,4.38,3.97,5.51]
[46,202411,null,null,6.25,5.65,4.38,3.97,5.56]
[47,202411,null,null,6.25,5.65,4.4000000000000004,4,5.61]
[48,202411,null,null,6.25,5.65,4.4000000000000004,4,5.66]
[49,202412,null,null,6.25,5.65,4.4000000000000004,4,5.66]
[50,202412,null,null,6.25,5.65,4.4000000000000004,4,5.66]
[51,202412,null,null,6.25,5.65,4.4000000000000004,4,5.65]
[52,202412,null,null,6.25,5.65,4.4000000000000004,4,5.65]

{"sheet":"GrosBovins2023","index":8,"n_rows":127,"n_cols":24,"rows_kept":127,"cut":false,"hidden":false,"merged":[[11,2,12,12],[11,15,11,16],[12,15,12,16],[13,2,13,4],[13,6,13,10],[13,11,13,12],[13,16,15,16],[14,23,15,23],[72,2,72,3],[72,4,72,7],[13,18,13,20],[13,21,13,23],[14,2,14,3],[14,6,14,7],[14,11,14,12],[14,18,15,18],[14,19,15,19],[14,20,15,20],[14,21,15,21],[14,22,15,22]]}
["COTATIONS DES GROS BOVINS"]
["Source : DRAAF Pays de la Loire - SRISE - FranceAgriMer"]
[]
[]
["1 – COTATION REGIONALE GRAND OUEST ENTREE ABATTOIR en €/Kg net"]
[]
["2 – MOYENNE NATIONALE DES BOVINS MAIGRES DESTINES A L'ENGRAISSEMENT CHAROLAIS MALE de 6-12 mois catégorie U (350kg) en €/kg vif"]
[]
["3 – COTATION DES GROS BOVINS VIFS SUR LE MARCHE DE CHOLET (en Euro/Kg Net) – à partir de la ligne 72"]
[]
[null,null,"Mis à jour : 18/12/2023",null,null,null,null,null,null,null,null,null,null,null,null,"Mis à jour :18/12/2023"]
[null,null,"1 – COTATION REGIONALE ENTREE ABATTOIR GRAND OUEST FRANCEAGRIMER-HEBDOMADAIRE (€/Kg net)",null,null,null,null,null,null,null,null,null,null,null,null,"2 – COT. HEBDO"]
[null,null,null,null,null,null,null,null,null,null,null,null,null,null,null,"MAIGRE   €/kg vif"]
["Année","Sem.","JEUNES BOVINS",null,null,"BOEUFS","VACHES",null,null,null,null,"GENISSES",null,null,null,"Ref. nationale","Sem.",null,"Vache Viande R",null,null,"Vache lait P"]
[null,null,"VIANDE",null,"MIXTE","MIXTE","VIANDE",null,"Blonde","MIXTE","LAIT","VIANDES + 350kg",null,null,null,"Charolais Mâles",null,"nantes","Evolution/semaine -1",{"$f":"\"Evolution/ semaine id \" & A17-1","v":"Evolution/ semaine id 2022"},"Evolution/semaine id moy. 5 ans","Evolution/semaine -1",{"$f":"\"Evolution/ semaine id \" & A17-1","v":"Evolution/ semaine id 2022"},"Evolution/semaine id moy. 5 ans"]
[null,null,"U","R","O","O","U","R","U","O","P","U","R",null,null,"6/12 mois  ( U ) 350 kg"]
[2023,1,5.54,5.4,5.0999999999999996,5.05,5.71,5.41,6.05,4.93,4.59,5.84,5.41,null,null,3.39,1,3.27,{"$f":"(H17-GrosBovins2022!H68)/GrosBovins2022!H68","v":-1.8450184501844625E-3},{"$f":"(H17-GrosBovins2022!H18)/GrosBovins2022!H18","v":0.22675736961451246},{"$f":"(H17-MoyQuinqHebdoGB!AL5)/MoyQuinqHebdoGB!AL5","v":0.17711053089643169},{"$f":"(K17-GrosBovins2022!K68)/GrosBovins2022!K68","v":0},{"$f":"(K17-GrosBovins2022!K17)/GrosBovins2022!K17","v":0.31896551724137928},{"$f":"(K17-MoyQuinqHebdoGB!BD5)/MoyQuinqHebdoGB!BD5","v":0.32658959537572252}]
[null,2,5.54,5.4,5.09,5.03,5.71,5.43,6.13,4.9400000000000004,4.5999999999999996,5.83,5.41,null,null,3.39,2,3.27,{"$f":"(H18-H17)/H17","v":3.6968576709795883E-3},{"$f":"(H18-GrosBovins2022!H19)/GrosBovins2022!H19","v":0.2229729729729728},{"$f":"(H18-MoyQuinqHebdoGB!AL6)/MoyQuinqHebdoGB!AL6","v":0.17736339982653937},{"$f":"(K18-K17)/K17","v":2.1786492374727207E-3},{"$f":"(K18-GrosBovins2022!K18)/GrosBovins2022!K18","v":0.30681818181818171},{"$f":"(K18-MoyQuinqHebdoGB!BD6)/MoyQuinqHebdoGB!BD6","v":0.31956397016637977}]
[null,3,5.55,5.41,5.1100000000000003,5.0199999999999996,5.76,5.43,6.13,4.9400000000000004,4.6100000000000003,5.9,5.42,null,null,3.38,3,3.25,0,{"$f":"(H19-GrosBovins2022!H20)/GrosBovins2022!H20","v":0.2174887892376681},{"$f":"(H19-MoyQuinqHebdoGB!AL7)/MoyQuinqHebdoGB!AL7","v":0.176853055916775},{"$f":"(K19-K18)/K18","v":2.1739130434784079E-3},{"$f":"(K19-GrosBovins2022!K19)/GrosBovins2022!K19","v":0.28412256267409486},{"$f":"(K19-MoyQuinqHebdoGB!BD7)/MoyQuinqHebdoGB!BD7","v":0.31488876212207645}]
["J",4,5.53,5.39,5.0999999999999996,5.0199999999999996,5.7,5.42,6.11,4.93,4.59,5.87,5.42,null,null,3.4,4,3.25,-1.8416206261509737E-3,{"$f":"(H20-GrosBovins2022!H21)/GrosBovins2022!H21","v":0.1991150442477877},{"$f":"(H20-MoyQuinqHebdoGB!AL8)/MoyQuinqHebdoGB!AL8","v":0.17366825465569524},-4.3383947939263472E-3,{"$f":"(K20-GrosBovins2022!K20)/GrosBovins2022!K20","v":0.25753424657534246},{"$f":"(K20-MoyQuinqHebdoGB!BD8)/MoyQuinqHebdoGB!BD8","v":0.30249716231555046}]
[null,5,5.52,5.4,5.07,4.88,5.76,5.42,6.19,4.91,4.5599999999999996,5.9,5.41,null,null,3.43,5,3.3,0,{"$f":"(H21-GrosBovins2022!H22)/GrosBovins2022!H22","v":0.18082788671023967},{"$f":"(H21-MoyQuinqHebdoGB!AL9)/MoyQuinqHebdoGB!AL9","v":0.16810344827586191},-6.5359477124183546E-3,{"$f":"(K21-GrosBovins2022!K21)/GrosBovins2022!K21","v":0.21599999999999989},{"$f":"(K21-MoyQuinqHebdoGB!BD9)/MoyQuinqHebdoGB!BD9","v":0.28668171557562078}]
[null,6,5.52,5.41,null,4.99,5.75,5.42,6.13,4.91,4.5599999999999996,5.92,5.41,null,null,3.44,6,3.33,0,{"$f":"(H22-GrosBovins2022!H23)/GrosBovins2022!H23","v":0.16559139784946225},{"$f":"(H22-MoyQuinqHebdoGB!AL10)/MoyQuinqHebdoGB!AL10","v":0.16408934707903763},0,{"$f":"(K22-GrosBovins2022!K22)/GrosBovins2022!K22","v":0.18749999999999994},{"$f":"(K22-MoyQuinqHebdoGB!BD10)/MoyQuinqHebdoGB!BD10","v":0.27731092436974802}]
[null,7,5.53,5.41,null,5.0199999999999996,5.73,5.42,6.19,4.93,4.5999999999999996,5.84,5.39,null,null,3.43,7,3.3,0,{"$f":"(H23-GrosBovins2022!H24)/GrosBovins2022!H24","v":0.13865546218487398},{"$f":"(H23-MoyQuinqHebdoGB!AL11)/MoyQuinqHebdoGB!AL11","v":0.16209262435677535},8.7719298245614117E-3,{"$f":"(K23-GrosBovins2022!K23)/GrosBovins2022!K23","v":0.16161616161616155},{"$f":"(K23-MoyQuinqHebdoGB!BD11)/MoyQuinqHebdoGB!BD11","v":0.27212389380530977}]
["F",8,5.54,5.42,null,5.07,5.76,5.44,6.19,4.97,4.6399999999999997,5.93,5.43,null,null,3.46,8,3.4,3.690036900369089E-3,{"$f":"(H24-GrosBovins2022!H25)/GrosBovins2022!H25","v":0.13333333333333347},{"$f":"(H24-MoyQuinqHebdoGB!AL12)/MoyQuinqHebdoGB!AL12","v":0.15843270868824524},8.6956521739130523E-3,{"$f":"(K24-GrosBovins2022!K24)/GrosBovins2022!K24","v":0.12077294685990339},{"$f":"(K24-MoyQuinqHebdoGB!BD12)/MoyQuinqHebdoGB!BD12","v":0.26430517711171642}]
[null,9,5.56,5.43,5.1100000000000003,5.08,5.88,5.46,6.2,5,4.6900000000000004,5.91,5.46,null,null,3.47,9,3.42,3.6764705882352156E-3,{"$f":"(H25-GrosBovins2022!H26)/GrosBovins2022!H26","v":0.12577319587628874},{"$f":"(H25-MoyQuinqHebdoGB!AL13)/MoyQuinqHebdoGB!AL13","v":0.15874363327674007},1.0775862068965671E-2,{"$f":"(K25-GrosBovins2022!K25)/GrosBovins2022!K25","v":0.11401425178147279},{"$f":"(K25-MoyQuinqHebdoGB!BD13)/MoyQuinqHebdoGB!BD13","v":0.26483279395900744}]
[null,10,5.57,5.46,5.13,5.1100000000000003,5.8,5.48,6.21,5.04,4.75,5.93,5.47,null,null,3.52,10,3.45,3.6630036630037476E-3,{"$f":"(H26-GrosBovins2022!H27)/GrosBovins2022!H27","v":0.11608961303462327},{"$f":"(H26-MoyQuinqHebdoGB!AL14)/MoyQuinqHebdoGB!AL14","v":0.15660616293794871},1.2793176972281365E-2,{"$f":"(K26-GrosBovins2022!K26)/GrosBovins2022!K26","v":0.11764705882352941},{"$f":"(K26-MoyQuinqHebdoGB!BD14)/MoyQuinqHebdoGB!BD14","v":0.2686965811965813}]
[null,11,5.6,5.47,null,5.12,5.8,5.52,6.21,5.07,4.8,6,5.49,null,null,3.53,11,3.48,7.2992700729925444E-3,{"$f":"(H27-GrosBovins2022!H28)/GrosBovins2022!H28","v":0.11740890688259092},{"$f":"(H27-MoyQuinqHebdoGB!AL15)/MoyQuinqHebdoGB!AL15","v":0.16063919259882262},1.0526315789473648E-2,{"$f":"(K27-GrosBovins2022!K27)/GrosBovins2022!K27","v":0.11888111888111882},{"$f":"(K27-MoyQuinqHebdoGB!BD15)/MoyQuinqHebdoGB!BD15","v":0.27186009538950712}]
[null,12,5.62,5.47,5.16,5.15,null,5.53,6.22,5.08,4.82,6.05,5.49,null,null,3.54,12,3.48,1.811594202898673E-3,{"$f":"(H28-GrosBovins2022!H29)/GrosBovins2022!H29","v":0.10821643286573146},{"$f":"(H28-MoyQuinqHebdoGB!AL16)/MoyQuinqHebdoGB!AL16","v":0.15932914046121588},4.1666666666667629E-3,{"$f":"(K28-GrosBovins2022!K28)/GrosBovins2022!K28","v":0.11059907834101393},{"$f":"(K28-MoyQuinqHebdoGB!BD16)/MoyQuinqHebdoGB!BD16","v":0.27176781002638511}]
["M",13,5.62,5.48,5.17,5.16,6.16,5.5,6.37,5.09,4.8099999999999996,6.12,5.49,null,null,3.55,13,3.48,-5.4249547920434448E-3,{"$f":"(H29-GrosBovins2022!H30)/GrosBovins2022!H30","v":9.7804391217564915E-2},{"$f":"(H29-MoyQuinqHebdoGB!AL17)/MoyQuinqHebdoGB!AL17","v":0.15497690046199086},-2.074688796680638E-3,{"$f":"(K29-GrosBovins2022!K29)/GrosBovins2022!K29","v":9.5671981776765364E-2},{"$f":"(K29-MoyQuinqHebdoGB!BD17)/MoyQuinqHebdoGB!BD17","v":0.26445846477392215}]
[null,14,5.6,5.45,5.14,5.15,5.87,5.51,6.25,5.07,4.78,6.02,5.48,null,null,3.57,14,3.5,1.8181818181817794E-3,{"$f":"(H30-GrosBovins2022!H31)/GrosBovins2022!H31","v":8.8932806324110714E-2},{"$f":"(H30-MoyQuinqHebdoGB!AL18)/MoyQuinqHebdoGB!AL18","v":0.15562080536912731},-6.2370062370061046E-3,{"$f":"(K30-GrosBovins2022!K30)/GrosBovins2022!K30","v":7.6576576576576544E-2},{"$f":"(K30-MoyQuinqHebdoGB!BD18)/MoyQuinqHebdoGB!BD18","v":0.25591171833946408}]
[null,15,5.58,5.44,5.1100000000000003,5.1100000000000003,null,5.43,6.27,5.03,4.7300000000000004,6.02,5.47,null,null,3.57,15,3.5,{"$f":"(H31-H30)/H30","v":-1.4519056261343026E-2},{"$f":"(H31-GrosBovins2022!H32)/GrosBovins2022!H32","v":6.4705882352941196E-2},{"$f":"(H31-MoyQuinqHebdoGB!AL19)/MoyQuinqHebdoGB!AL19","v":0.14123581336696084},-1.0460251046025068E-2,{"$f":"(K31-GrosBovins2022!K31)/GrosBovins2022!K31","v":5.3452115812917637E-2},{"$f":"(K31-MoyQuinqHebdoGB!BD19)/MoyQuinqHebdoGB!BD19","v":0.24342797055730797}]
[null,16,5.57,5.46,5.1100000000000003,5.0999999999999996,null,5.45,6.24,5.01,4.7,5.99,5.47,null,null,3.57,16,3.5,{"$f":"(H32-H31)/H31","v":3.6832412523021109E-3},{"$f":"(H32-GrosBovins2022!H33)/GrosBovins2022!H33","v":6.0311284046692705E-2},{"$f":"(H32-MoyQuinqHebdoGB!AL20)/MoyQuinqHebdoGB!AL20","v":0.14207879295892706},-6.3424947145877897E-3,{"$f":"(K32-GrosBovins2022!K32)/GrosBovins2022!K32","v":3.2967032967033044E-2},{"$f":"(K32-MoyQuinqHebdoGB!BD20)/MoyQuinqHebdoGB!BD20","v":0.23230204509701105}]
["A",17,5.55,5.42,5.09,5.0599999999999996,5.85,5.44,6.22,4.99,4.67,6.05,5.44,null,null,3.57,17,3.5,-1.8348623853210618E-3,{"$f":"(H33-GrosBovins2022!H34)/GrosBovins2022!H34","v":5.0193050193050329E-2},{"$f":"(H33-MoyQuinqHebdoGB!AL21)/MoyQuinqHebdoGB!AL21","v":0.13902847571189272},-6.3829787234043079E-3,{"$f":"(K33-GrosBovins2022!K33)/GrosBovins2022!K33","v":6.465517241379364E-3},{"$f":"(K33-MoyQuinqHebdoGB!BD21)/MoyQuinqHebdoGB!BD21","v":0.21741397288842548}]
[null,18,5.53,5.39,null,5.05,5.85,5.44,6.27,4.97,4.6399999999999997,6.02,5.45,null,null,3.57,18,3.5,0,{"$f":"(H34-GrosBovins2022!H35)/GrosBovins2022!H35","v":4.4145873320537508E-2},{"$f":"(H34-MoyQuinqHebdoGB!AL22)/MoyQuinqHebdoGB!AL22","v":0.13475177304964556},-6.4239828693790687E-3,{"$f":"(K34-GrosBovins2022!K34)/GrosBovins2022!K34","v":-2.109704641350222E-2},{"$f":"(K34-MoyQuinqHebdoGB!BD22)/MoyQuinqHebdoGB!BD22","v":0.20020693222969452}]
[null,19,5.5,5.37,5.05,5.05,5.9,5.44,6.32,4.96,4.6100000000000003,6.07,5.43,null,null,3.57,19,3.5,0,{"$f":"(H35-GrosBovins2022!H36)/GrosBovins2022!H36","v":3.8167938931297746E-2},{"$f":"(H35-MoyQuinqHebdoGB!AL23)/MoyQuinqHebdoGB!AL23","v":0.13286130778842145},-6.4655172413791732E-3,{"$f":"(K35-GrosBovins2022!K35)/GrosBovins2022!K35","v":-3.7578288100208711E-2},{"$f":"(K35-MoyQuinqHebdoGB!BD23)/MoyQuinqHebdoGB!BD23","v":0.18692070030896007}]
[null,20,5.48,5.35,5.0199999999999996,5.0599999999999996,null,5.45,6.29,4.97,4.62,6.09,5.43,null,null,3.59,20,3.5,1.8382352941176078E-3,{"$f":"(H36-GrosBovins2022!H37)/GrosBovins2022!H37","v":3.4155597722960271E-2},{"$f":"(H36-MoyQuinqHebdoGB!AL24)/MoyQuinqHebdoGB!AL24","v":0.13164451827242532},2.1691973969630773E-3,{"$f":"(K36-GrosBovins2022!K36)/GrosBovins2022!K36","v":-4.3478260869565209E-2},{"$f":"(K36-MoyQuinqHebdoGB!BD24)/MoyQuinqHebdoGB!BD24","v":0.17977528089887659}]
["M",21,5.48,5.37,null,5.05,5.81,5.45,6.3,4.97,4.63,6.09,5.45,null,null,3.6,21,3.5,0,{"$f":"(H37-GrosBovins2022!H38)/GrosBovins2022!H38","v":3.4155597722960271E-2},{"$f":"(H37-MoyQuinqHebdoGB!AL25)/MoyQuinqHebdoGB!AL25","v":0.12883181441590719},2.1645021645021181E-3,{"$f":"(K37-GrosBovins2022!K37)/GrosBovins2022!K37","v":-4.338842975206611E-2},{"$f":"(K37-MoyQuinqHebdoGB!BD25)/MoyQuinqHebdoGB!BD25","v":0.17751780264496453}]
[null,22,5.46,5.33,5.03,5.08,null,5.47,6.27,4.9800000000000004,4.67,6.05,5.45,null,null,3.61,22,3.5,3.6697247706421235E-3,{"$f":"(H38-GrosBovins2022!H39)/GrosBovins2022!H39","v":3.4026465028355331E-2},{"$f":"(H38-MoyQuinqHebdoGB!AL26)/MoyQuinqHebdoGB!AL26","v":0.12876599257119287},8.6393088552915841E-3,{"$f":"(K38-GrosBovins2022!K38)/GrosBovins2022!K38","v":-3.9094650205761396E-2},{"$f":"(K38-MoyQuinqHebdoGB!BD26)/MoyQuinqHebdoGB!BD26","v":0.17929292929292928}]
[null,23,5.46,5.33,5.01,5.09,null,5.49,6.29,5.0199999999999996,4.71,6.1,5.48,null,null,3.62,23,3.55,3.6563071297989877E-3,{"$f":"(H39-GrosBovins2022!H40)/GrosBovins2022!H40","v":3.7807183364839354E-2},{"$f":"(H39-MoyQuinqHebdoGB!AL27)/MoyQuinqHebdoGB!AL27","v":0.12684729064039396},8.5653104925053607E-3,{"$f":"(K39-GrosBovins2022!K39)/GrosBovins2022!K39","v":-3.2854209445585245E-2},{"$f":"(K39-MoyQuinqHebdoGB!BD27)/MoyQuinqHebdoGB!BD27","v":0.18401206636500747}]
[null,24,5.45,5.31,5.05,5.09,null,5.5,6.29,5.03,4.71,6.06,5.47,null,null,3.62,24,3.55,1.8214936247722745E-3,{"$f":"(H40-GrosBovins2022!H41)/GrosBovins2022!H41","v":3.9697542533081276E-2},{"$f":"(H40-MoyQuinqHebdoGB!AL28)/MoyQuinqHebdoGB!AL28","v":0.12474437627811889},0,{"$f":"(K40-GrosBovins2022!K40)/GrosBovins2022!K40","v":-3.2854209445585245E-2},{"$f":"(K40-MoyQuinqHebdoGB!BD28)/MoyQuinqHebdoGB!BD28","v":0.18045112781954895}]
[null,25,5.43,5.27,5.04,5.09,null,5.48,6.29,5.0199999999999996,4.7,6.13,5.46,null,null,3.62,25,3.55,-3.6363636363635587E-3,{"$f":"(H41-GrosBovins2022!H42)/GrosBovins2022!H42","v":3.3962264150943514E-2},{"$f":"(H41-MoyQuinqHebdoGB!AL29)/MoyQuinqHebdoGB!AL29","v":0.12295081967213126},-2.1231422505307404E-3,{"$f":"(K41-GrosBovins2022!K41)/GrosBovins2022!K41","v":-3.4907597535934275E-2},{"$f":"(K41-MoyQuinqHebdoGB!BD29)/MoyQuinqHebdoGB!BD29","v":0.17735470941883771}]
["J",26,5.39,5.24,5.0199999999999996,5.05,null,5.48,6.3,4.99,4.66,6.05,5.47,null,null,3.62,26,3.53,0,{"$f":"(H42-GrosBovins2022!H43)/GrosBovins2022!H43","v":3.5916824196597426E-2},{"$f":"(H42-MoyQuinqHebdoGB!AL30)/MoyQuinqHebdoGB!AL30","v":0.11882400979991829},-8.5106382978723475E-3,{"$f":"(K42-GrosBovins2022!K42)/GrosBovins2022!K42","v":-4.5081967213114707E-2},{"$f":"(K42-MoyQuinqHebdoGB!BD30)/MoyQuinqHebdoGB!BD30","v":0.16850551654964885}]
[null,27,5.37,5.21,4.97,5.01,null,5.46,6.24,4.96,4.62,6.09,5.46,null,null,3.61,27,3.5,-3.6496350364964344E-3,{"$f":"(H43-GrosBovins2022!H44)/GrosBovins2022!H44","v":3.4090909090909033E-2},{"$f":"(H43-MoyQuinqHebdoGB!AL31)/MoyQuinqHebdoGB!AL31","v":0.11656441717791398},-8.5836909871244704E-3,{"$f":"(K43-GrosBovins2022!K43)/GrosBovins2022!K43","v":-5.1334702258726897E-2},{"$f":"(K43-MoyQuinqHebdoGB!BD31)/MoyQuinqHebdoGB!BD31","v":0.1608040201005024}]
[null,28,5.33,5.17,4.92,5,null,5.44,6.29,4.93,4.57,6.1,5.42,null,null,3.52,28,3.45,-3.6630036630035849E-3,{"$f":"(H44-GrosBovins2022!H45)/GrosBovins2022!H45","v":2.641509433962275E-2},{"$f":"(H44-MoyQuinqHebdoGB!AL32)/MoyQuinqHebdoGB!AL32","v":0.11338518215309051},-1.0822510822510784E-2,{"$f":"(K44-GrosBovins2022!K44)/GrosBovins2022!K44","v":-6.1601642710472242E-2},{"$f":"(K44-MoyQuinqHebdoGB!BD32)/MoyQuinqHebdoGB!BD32","v":0.14939637826961766}]
[null,29,5.31,5.16,4.9000000000000004,5.01,null,5.44,6.33,4.8899999999999997,4.53,6.01,5.43,null,null,3.5,29,3.45,0,{"$f":"(H45-GrosBovins2022!H46)/GrosBovins2022!H46","v":3.0303030303030328E-2},{"$f":"(H45-MoyQuinqHebdoGB!AL33)/MoyQuinqHebdoGB!AL33","v":0.11201962387571546},-8.7527352297593064E-3,{"$f":"(K45-GrosBovins2022!K45)/GrosBovins2022!K45","v":-7.551020408163267E-2},{"$f":"(K45-MoyQuinqHebdoGB!BD33)/MoyQuinqHebdoGB!BD33","v":0.13876319758672701}]
["J",30,5.29,5.1100000000000003,4.8600000000000003,4.9800000000000004,null,5.42,6.3,4.88,4.5,6.05,5.43,null,null,3.45,30,3.45,-3.6764705882353786E-3,{"$f":"(H46-GrosBovins2022!H47)/GrosBovins2022!H47","v":4.4315992292870816E-2},{"$f":"(H46-MoyQuinqHebdoGB!AL34)/MoyQuinqHebdoGB!AL34","v":0.10929185427752738},-6.6225165562914454E-3,{"$f":"(K46-GrosBovins2022!K46)/GrosBovins2022!K46","v":-7.5975359342915827E-2},{"$f":"(K46-MoyQuinqHebdoGB!BD34)/MoyQuinqHebdoGB!BD34","v":0.13236034222445919}]
[null,31,5.24,5.09,4.84,4.96,null,5.44,6.32,4.8600000000000003,4.4800000000000004,6,5.41,null,null,3.45,31,3.45,3.690036900369089E-3,{"$f":"(H47-GrosBovins2022!H48)/GrosBovins2022!H48","v":3.0303030303030328E-2},{"$f":"(H47-MoyQuinqHebdoGB!AL35)/MoyQuinqHebdoGB!AL35","v":0.11521115211152097},-4.4444444444443499E-3,{"$f":"(K47-GrosBovins2022!K47)/GrosBovins2022!K47","v":-7.8189300411522611E-2},{"$f":"(K47-MoyQuinqHebdoGB!BD35)/MoyQuinqHebdoGB!BD35","v":0.12732762959235033}]
[null,32,5.24,5.0599999999999996,4.83,4.96,5.85,5.45,6.38,4.87,4.49,6.02,5.41,null,null,3.45,32,3.45,1.8382352941176078E-3,{"$f":"(H48-GrosBovins2022!H49)/GrosBovins2022!H49","v":3.0245746691871481E-2},{"$f":"(H48-MoyQuinqHebdoGB!AL36)/MoyQuinqHebdoGB!AL36","v":0.11133768352365421},2.2321428571428093E-3,{"$f":"(K48-GrosBovins2022!K48)/GrosBovins2022!K48","v":-7.6131687242798368E-2},{"$f":"(K48-MoyQuinqHebdoGB!BD36)/MoyQuinqHebdoGB!BD36","v":0.12644254892122442}]
[null,33,5.25,5.07,4.8600000000000003,5.0199999999999996,null,5.46,6.33,4.93,4.54,null,5.46,null,null,3.45,33,3.45,1.8348623853210618E-3,{"$f":"(H49-GrosBovins2022!H50)/GrosBovins2022!H50","v":3.2136105860113409E-2},{"$f":"(H49-MoyQuinqHebdoGB!AL37)/MoyQuinqHebdoGB!AL37","v":0.10975609756097562},1.1135857461024459E-2,{"$f":"(K49-GrosBovins2022!K49)/GrosBovins2022!K49","v":-6.7761806981519526E-2},{"$f":"(K49-MoyQuinqHebdoGB!BD37)/MoyQuinqHebdoGB!BD37","v":0.13216957605985044}]
[null,34,5.27,5.12,4.9000000000000004,5.04,null,5.52,6.37,4.96,4.5999999999999996,6.19,5.46,null,null,3.46,34,3.45,1.0989010989010917E-2,{"$f":"(H50-GrosBovins2022!H51)/GrosBovins2022!H51","v":3.9548022598870053E-2},{"$f":"(H50-MoyQuinqHebdoGB!AL38)/MoyQuinqHebdoGB!AL38","v":0.11831442463533218},1.3215859030836918E-2,{"$f":"(K50-GrosBovins2022!K50)/GrosBovins2022!K50","v":-5.3497942386831414E-2},{"$f":"(K50-MoyQuinqHebdoGB!BD38)/MoyQuinqHebdoGB!BD38","v":0.13974231912784937}]
["A",35,5.3,5.15,4.96,5.07,null,5.56,6.38,4.99,4.66,6.2,5.52,null,null,3.47,35,3.45,7.2463768115942099E-3,{"$f":"(H51-GrosBovins2022!H52)/GrosBovins2022!H52","v":4.5112781954887091E-2},{"$f":"(H51-MoyQuinqHebdoGB!AL39)/MoyQuinqHebdoGB!AL39","v":0.12141992739007672},1.3043478260869674E-2,{"$f":"(K51-GrosBovins2022!K51)/GrosBovins2022!K51","v":-4.1152263374485631E-2},{"$f":"(K51-MoyQuinqHebdoGB!BD39)/MoyQuinqHebdoGB!BD39","v":0.15061728395061738}]
[null,36,5.33,5.2,5.01,5.0999999999999996,null,5.58,6.35,5.03,4.7,6.15,5.53,null,null,3.5,36,3.5,3.5971223021583568E-3,{"$f":"(H52-GrosBovins2022!H53)/GrosBovins2022!H53","v":4.4943820224719142E-2},{"$f":"(H52-MoyQuinqHebdoGB!AL40)/MoyQuinqHebdoGB!AL40","v":0.12500000000000022},8.5836909871244704E-3,{"$f":"(K52-GrosBovins2022!K52)/GrosBovins2022!K52","v":-3.2921810699588501E-2},{"$f":"(K52-MoyQuinqHebdoGB!BD40)/MoyQuinqHebdoGB!BD40","v":0.15877712031558189}]
[null,37,5.38,5.22,5.01,5.09,null,5.56,6.36,5.05,4.71,6.11,5.53,null,null,3.58,37,3.53,-3.5842293906810864E-3,{"$f":"(H53-GrosBovins2022!H54)/GrosBovins2022!H54","v":3.925233644859813E-2},{"$f":"(H53-MoyQuinqHebdoGB!AL41)/MoyQuinqHebdoGB!AL41","v":0.12232539362131609},2.1276595744680396E-3,{"$f":"(K53-GrosBovins2022!K53)/GrosBovins2022!K53","v":-3.2854209445585245E-2},{"$f":"(K53-MoyQuinqHebdoGB!BD41)/MoyQuinqHebdoGB!BD41","v":0.162962962962963}]
[null,38,5.41,5.23,null,5.07,null,5.55,6.4,5.04,4.67,6.21,5.51,null,null,3.59,38,3.53,-1.7985611510790984E-3,{"$f":"(H54-GrosBovins2022!H55)/GrosBovins2022!H55","v":3.7383177570093497E-2},{"$f":"(H54-MoyQuinqHebdoGB!AL42)/MoyQuinqHebdoGB!AL42","v":0.12121212121212134},-8.492569002123149E-3,{"$f":"(K54-GrosBovins2022!K54)/GrosBovins2022!K54","v":-4.6938775510204166E-2},{"$f":"(K54-MoyQuinqHebdoGB!BD42)/MoyQuinqHebdoGB!BD42","v":0.15708622398414282}]
["S",39,5.42,5.26,null,5.0599999999999996,null,5.54,6.34,4.99,4.6500000000000004,6.19,5.53,null,null,3.59,39,3.53,-1.8018018018017634E-3,{"$f":"(H55-GrosBovins2022!H56)/GrosBovins2022!H56","v":2.7829313543599327E-2},{"$f":"(H55-MoyQuinqHebdoGB!AL43)/MoyQuinqHebdoGB!AL43","v":0.1187399030694669},-4.2826552462525858E-3,{"$f":"(K55-GrosBovins2022!K55)/GrosBovins2022!K55","v":-5.2953156822810543E-2},{"$f":"(K55-MoyQuinqHebdoGB!BD43)/MoyQuinqHebdoGB!BD43","v":0.156141223272004}]
[null,40,5.42,5.27,4.9800000000000004,5.05,null,5.56,6.41,4.95,4.5999999999999996,6.18,5.53,null,null,3.56,40,3.45,3.6101083032490204E-3,{"$f":"(H56-GrosBovins2022!H57)/GrosBovins2022!H57","v":2.5830258302582967E-2},{"$f":"(H56-MoyQuinqHebdoGB!AL44)/MoyQuinqHebdoGB!AL44","v":0.12006446414182094},-1.0752688172043163E-2,{"$f":"(K56-GrosBovins2022!K56)/GrosBovins2022!K56","v":-6.3136456211812728E-2},{"$f":"(K56-MoyQuinqHebdoGB!BD44)/MoyQuinqHebdoGB!BD44","v":0.14942528735632182}]
[null,41,5.43,5.27,4.97,5.01,null,5.53,6.36,4.92,4.55,6.17,5.49,null,null,3.49,41,3.38,-5.3956834532372959E-3,{"$f":"(H57-GrosBovins2022!H58)/GrosBovins2022!H58","v":2.0295202952029578E-2},{"$f":"(H57-MoyQuinqHebdoGB!AL45)/MoyQuinqHebdoGB!AL45","v":0.11446997178557024},-1.0869565217391266E-2,{"$f":"(K57-GrosBovins2022!K57)/GrosBovins2022!K57","v":-7.5203252032520346E-2},{"$f":"(K57-MoyQuinqHebdoGB!BD45)/MoyQuinqHebdoGB!BD45","v":0.14206827309236955}]
[null,42,5.42,5.26,4.93,4.9400000000000004,null,5.53,6.39,4.88,4.51,6.19,5.51,null,null,3.49,42,3.38,0,{"$f":"(H58-GrosBovins2022!H59)/GrosBovins2022!H59","v":2.2181146025878024E-2},{"$f":"(H58-MoyQuinqHebdoGB!AL46)/MoyQuinqHebdoGB!AL46","v":0.11267605633802807},-8.7912087912087999E-3,{"$f":"(K58-GrosBovins2022!K58)/GrosBovins2022!K58","v":-8.333333333333337E-2},{"$f":"(K58-MoyQuinqHebdoGB!BD46)/MoyQuinqHebdoGB!BD46","v":0.13602015113350127}]
["O",43,5.4,5.26,4.93,4.93,null,5.51,6.46,4.8499999999999996,4.4400000000000004,6.13,5.49,null,null,3.45,43,3.4,-3.6166365280290162E-3,{"$f":"(H59-GrosBovins2022!H60)/GrosBovins2022!H60","v":1.4732965009208118E-2},{"$f":"(H59-MoyQuinqHebdoGB!AL47)/MoyQuinqHebdoGB!AL47","v":0.11088709677419352},-1.5521064301551974E-2,{"$f":"(K59-GrosBovins2022!K59)/GrosBovins2022!K59","v":-9.2024539877300471E-2},{"$f":"(K59-MoyQuinqHebdoGB!BD47)/MoyQuinqHebdoGB!BD47","v":0.1251900658895084}]
[null,44,5.4,5.25,4.8899999999999997,4.91,null,5.51,6.42,4.78,4.3499999999999996,null,5.51,null,null,3.45,44,3.4,0,{"$f":"(H60-GrosBovins2022!H61)/GrosBovins2022!H61","v":1.6605166051660489E-2},{"$f":"(H60-MoyQuinqHebdoGB!AL48)/MoyQuinqHebdoGB!AL48","v":0.11043933897621908},-2.0270270270270438E-2,{"$f":"(K60-GrosBovins2022!K60)/GrosBovins2022!K60","v":-0.1049382716049384},{"$f":"(K60-MoyQuinqHebdoGB!BD48)/MoyQuinqHebdoGB!BD48","v":0.11082737487231875}]
[null,45,5.39,5.24,4.8499999999999996,4.8499999999999996,null,5.48,6.4,4.71,4.26,6.23,5.44,null,null,3.4,45,3.4,-5.4446460980035142E-3,{"$f":"(H61-GrosBovins2022!H62)/GrosBovins2022!H62","v":1.4814814814814828E-2},{"$f":"(H61-MoyQuinqHebdoGB!AL49)/MoyQuinqHebdoGB!AL49","v":0.10617682680662106},-2.0689655172413762E-2,{"$f":"(K61-GrosBovins2022!K61)/GrosBovins2022!K61","v":-0.11618257261410798},{"$f":"(K61-MoyQuinqHebdoGB!BD49)/MoyQuinqHebdoGB!BD49","v":9.51156812339332E-2}]
[null,46,5.41,5.24,4.8099999999999996,4.6900000000000004,null,5.46,6.43,4.62,4.16,6.14,5.43,null,null,3.35,46,3.35,-3.6496350364964344E-3,{"$f":"(H62-GrosBovins2022!H63)/GrosBovins2022!H63","v":9.242144177449136E-3},{"$f":"(H62-MoyQuinqHebdoGB!AL50)/MoyQuinqHebdoGB!AL50","v":9.991941982272351E-2},-2.3474178403755788E-2,{"$f":"(K62-GrosBovins2022!K62)/GrosBovins2022!K62","v":-0.12605042016806717},{"$f":"(K62-MoyQuinqHebdoGB!BD50)/MoyQuinqHebdoGB!BD50","v":7.8838174273858863E-2}]
[null,47,5.42,5.27,4.76,4.6900000000000004,5.95,5.41,6.4,4.54,4.0599999999999996,6.14,5.41,null,null,3.34,47,3.32,-9.157509157509125E-3,{"$f":"(H63-GrosBovins2022!H64)/GrosBovins2022!H64","v":-1.8450184501844625E-3},{"$f":"(H63-MoyQuinqHebdoGB!AL51)/MoyQuinqHebdoGB!AL51","v":9.3371059013743068E-2},-2.4038461538461665E-2,{"$f":"(K63-GrosBovins2022!K63)/GrosBovins2022!K63","v":-0.13983050847457631},{"$f":"(K63-MoyQuinqHebdoGB!BD51)/MoyQuinqHebdoGB!BD51","v":5.9498956158663824E-2}]
["N",48,5.44,5.25,4.72,4.62,null,5.38,6.37,4.4800000000000004,3.95,6.2,5.41,null,null,3.32,48,3.27,-5.5452865064695468E-3,{"$f":"(H64-GrosBovins2022!H65)/GrosBovins2022!H65","v":-7.3800738007380141E-3},{"$f":"(H64-MoyQuinqHebdoGB!AL52)/MoyQuinqHebdoGB!AL52","v":8.4677419354838884E-2},-2.7093596059113163E-2,{"$f":"(K64-GrosBovins2022!K64)/GrosBovins2022!K64","v":-0.1541755888650963},{"$f":"(K64-MoyQuinqHebdoGB!BD52)/MoyQuinqHebdoGB!BD52","v":3.9473684210526411E-2}]
[null,49,5.44,5.26,4.76,4.46,6.27,5.38,6.53,4.38,3.88,6.31,5.4,null,null,3.27,49,3.27,0,{"$f":"(H65-GrosBovins2022!H66)/GrosBovins2022!H66","v":-5.5452865064695468E-3},{"$f":"(H65-MoyQuinqHebdoGB!AL53)/MoyQuinqHebdoGB!AL53","v":8.5991118288251955E-2},-1.7721518987341842E-2,{"$f":"(K65-GrosBovins2022!K65)/GrosBovins2022!K65","v":-0.16198704103671707},{"$f":"(K65-MoyQuinqHebdoGB!BD53)/MoyQuinqHebdoGB!BD53","v":2.5912215758857712E-2}]
[null,50,5.44,5.26,4.7699999999999996,4.54,6.16,5.38,6.53,4.38,3.84,6.32,5.41,null,null,3.32,50,3.25,0,{"$f":"(H66-GrosBovins2022!H67)/GrosBovins2022!H67","v":-7.3800738007380141E-3},{"$f":"(H66-MoyQuinqHebdoGB!AL54)/MoyQuinqHebdoGB!AL54","v":0.11099638616417132},-1.0309278350515474E-2,{"$f":"(K66-GrosBovins2022!K66)/GrosBovins2022!K66","v":-0.16521739130434779},{"$f":"(K66-MoyQuinqHebdoGB!BD54)/MoyQuinqHebdoGB!BD54","v":2.6737967914438405E-2}]
[null,51,5.44,5.26,4.72,4.5199999999999996,null,5.4,6.36,4.38,3.85,6.11,5.42,null,null,3.32,51,3.25,3.7174721189591939E-3,{"$f":"(H67-GrosBovins2022!H68)/GrosBovins2022!H68","v":-3.6900369003689251E-3},{"$f":"(H67-MoyQuinqHebdoGB!AL55)/MoyQuinqHebdoGB!AL55","v":0.11397627643115012},2.6041666666667268E-3,{"$f":"(K67-GrosBovins2022!K67)/GrosBovins2022!K67","v":-0.15754923413566743},{"$f":"(K67-MoyQuinqHebdoGB!BD55)/MoyQuinqHebdoGB!BD55","v":3.1480241125251218E-2}]
["D",52,5.44,5.28,null,4.5999999999999996,null,5.43,null,4.42,3.87,null,5.41,null,null,3.32,52,3.25,5.5555555555554369E-3,{"$f":"(H68-GrosBovins2022!H69)/GrosBovins2022!H69","v":{"$error":"#DIV/0!"}},{"$f":"(H68-MoyQuinqHebdoGB!AL56)/MoyQuinqHebdoGB!AL56","v":0.17617328519855599},5.1948051948051991E-3,{"$f":"(K68-GrosBovins2022!K68)/GrosBovins2022!K68","v":-0.15686274509803916},{"$f":"(K68-MoyQuinqHebdoGB!BD56)/MoyQuinqHebdoGB!BD56","v":7.8996282527881143E-2}]
[]
[]
["3 – COTATION DES GROS BOVINS VIFS SUR LE MARCHE DE CHOLET (en Euro/Kg Net)"]
[]
[null,null,"GENISSES",null,"VACHES",null,null,null,"JEUNES BOVINS","TAUREAUX"]
["semaines","année+mois","Viande, mixte, lait","Viande, mixte, lait","Blonde","Blonde","Mixte","Lait","Viande","Viande, mixte, lait"]
[2023,null,"U","R","U","R","O","P","U","URO"]
[1,202301,5.54,5.26,5.7,5.3,4.62,4.4000000000000004,5.32]
[2,202301,5.54,5.26,5.7,5.3,4.62,4.4000000000000004,5.32]
[3,202301,5.54,5.26,5.7,5.3,4.62,4.4000000000000004,5.32,4.55]
[4,202301,5.54,5.26,5.7,5.3,4.62,4.4000000000000004,5.32,4.55]
[5,202302,5.54,5.26,5.7,5.3,4.62,4.4000000000000004,5.3]
[6,202302,5.54,5.26,5.7,5.3,4.62,4.38,5.3,4.55]
[7,202302,5.54,5.27,5.7,5.3,4.62,4.38,5.3]
[8,202302,5.54,5.27,5.7,5.3,4.6500000000000004,4.4000000000000004,5.3]
[9,202303,5.56,5.31,5.75,5.35,4.68,4.45,5.3]
[10,202303,5.59,5.32,5.8,5.35,4.7,4.5,5.3]
[11,202303,5.62,5.36,5.85,5.4,4.7699999999999996,4.57,5.36]
[12,202303,5.68,5.41,5.9,5.45,4.8,4.5999999999999996,5.36]
[13,202303,5.68,5.41,5.9,5.45,4.8,4.5999999999999996,5.36]
[14,202304,5.66,5.4,5.9,5.45,4.8,4.57,5.34]
[15,202304,5.65,5.38,5.9,5.45,4.7699999999999996,4.54,5.32]
[16,202304,5.65,5.38,5.9,5.45,4.75,4.5199999999999996,5.3]
[17,202304,5.65,5.38,5.9,5.45,4.7300000000000004,4.5,5.28]
[18,202305,5.63,5.38,5.9,5.45,4.7300000000000004,4.4800000000000004,5.26]
[19,202305,5.63,5.38,5.9,5.45,4.71,4.46,5.26]
[20,202305,5.65,5.38,5.9,5.45,4.71,4.46,5.26]
[21,202305,5.65,5.38,5.9,5.45,4.71,4.46,5.26]
[22,202306,5.65,5.38,5.9,5.45,4.7300000000000004,4.46,5.26]
[23,202306,5.65,5.38,5.9,5.45,4.75,4.5,5.26]
[24,202306,5.7,5.38,5.95,5.45,4.7699999999999996,4.5,5.26]
[25,202306,5.72,5.38,6,5.45,4.7699999999999996,4.49,5.25]
[26,202306,5.72,5.37,6,5.45,4.75,4.4400000000000004,5.2]
[27,202307,null,null,6,5.45,4.7,4.3899999999999997,5.16]
[28,202307,null,null,6,5.45,4.6500000000000004,4.3499999999999996,5.1100000000000003]
[29,202307,null,null,6,5.45,4.62,4.32,5.09]
[30,202307,null,null,6,5.45,4.5999999999999996,4.3,5.0599999999999996]
[31,202308,null,null,6,5.45,4.58,4.28,5.04]
[32,202308,null,null,6,5.45,4.58,4.28,5.04]
[33,202308,null,null,6,5.45,4.58,{"$f":"H109-0.05","v":4.28},5.04]
[34,202308,null,null,6.05,5.5,4.63,4.33,5.04]
[35,202309,null,null,6.1,5.55,4.68,4.38,5.07]
[36,202309,null,null,6.1,5.55,4.7300000000000004,4.43,5.12]
[37,202309,null,null,6.1,5.55,4.78,4.4800000000000004,5.17]
[38,202309,null,null,6.1,5.55,4.75,4.4800000000000004,5.2]
[39,202309,null,null,6.1,5.55,4.72,4.45,5.22]
[40,202310,null,null,6.1,5.55,4.7,4.42,5.22]
[41,202310,null,null,6.1,5.55,4.6500000000000004,4.38,5.22]
[42,202310,null,null,6.1,5.55,4.5999999999999996,4.25,5.22]
[43,202310,null,null,6.1,5.5,4.55,4.3,5.22]
[44,202311,null,null,6.1,5.55,4.5,4.1500000000000004,5.22]
[45,202311,null,null,6.1,5.55,4.47,4.08,5.22]
[46,202311,null,null,6.1,5.55,4.37,3.98,5.22]
[47,202311,null,null,6.1,5.55,4.2699999999999996,3.88,5.22]
[48,202312,null,null,6.1,5.55,4.17,3.78,5.22]
[49,202312,null,null,6.1,5.55,4.07,3.68,5.22]
[50,202312,null,null,6.1,5.55,4.05,3.63,5.22]
[51,202312,null,null,6.1,5.55,4.05,3.63,5.35]
[52,202312,null,null,6.1,5.55]

{"sheet":"GrosBovins2022","index":9,"n_rows":127,"n_cols":24,"rows_kept":127,"cut":false,"hidden":false,"merged":[[14,23,15,23],[72,2,72,3],[72,4,72,7],[13,18,13,20],[13,21,13,23],[14,2,14,3],[14,6,14,7],[14,11,14,12],[14,18,15,18],[14,19,15,19],[14,20,15,20],[14,21,15,21],[14,22,15,22],[11,2,12,12],[11,15,11,16],[12,15,12,16],[13,2,13,4],[13,6,13,10],[13,11,13,12],[13,16,15,16]]}
["COTATIONS DES GROS BOVINS"]
["Source : DRAAF Pays de la Loire - SRISE - FranceAgriMer"]
[]
[]
["1 – COTATION REGIONALE GRAND OUEST ENTREE ABATTOIR en €/Kg net"]
[]
["2 – MOYENNE NATIONALE DES BOVINS MAIGRES DESTINES A L'ENGRAISSEMENT CHAROLAIS MALE de 6-12 mois catégorie U (350kg) en €/kg vif"]
[]
["3 – COTATION DES GROS BOVINS VIFS SUR LE MARCHE DE CHOLET (en Euro/Kg Net) – à partir de la ligne 72"]
[]
[null,null,"Mis à jour : 29/01/2023",null,null,null,null,null,null,null,null,null,null,null,null,"Mis à jour : 29/01/2023"]
[null,null,"1 – COTATION REGIONALE ENTREE ABATTOIR GRAND OUEST FRANCEAGRIMER-HEBDOMADAIRE (€/Kg net)",null,null,null,null,null,null,null,null,null,null,null,null,"2 – COT. HEBDO"]
[null,null,null,null,null,null,null,null,null,null,null,null,null,null,null,"MAIGRE   €/kg vif"]
["Année","Sem.","JEUNES BOVINS",null,null,"BOEUFS","VACHES",null,null,null,null,"GENISSES",null,null,"NANTES","Ref. nationale","Sem.",null,"Vache Viande R",null,null,"Vache lait P"]
[null,null,"VIANDE",null,"MIXTE","MIXTE","VIANDE",null,"Blonde","MIXTE","LAIT","VIANDES + 350kg",null,null,null,"Charolais Mâles",null,null,"Evolution/semaine -1",{"$f":"\"Evolution/ semaine id \" & A17-1","v":"Evolution/ semaine id 2021"},"Evolution/semaine id moy. 5 ans","Evolution/semaine -1",{"$f":"\"Evolution/ semaine id \" & A17-1","v":"Evolution/ semaine id 2021"},"Evolution/semaine id moy. 5 ans"]
[null,null,"U","R","O","O","U","R","U","O","P","U","R",null,null,"6/12 mois  ( U ) 350"]
[2022,1,4.5999999999999996,4.4400000000000004,3.79,3.8,4.88,4.38,5.5,3.76,3.48,5.0999999999999996,4.32,null,null,2.72,1,null,{"$f":"(H17-GrosBovins2021!H68)/GrosBovins2021!H68","v":0},{"$f":"(H17-GrosBovins2021!H17)/GrosBovins2021!H17","v":8.6848635235731914E-2},{"$f":"(H17-MoyQuinqHebdoGB!AL5)/MoyQuinqHebdoGB!AL5","v":-4.6997389033942599E-2},{"$f":"(K17-GrosBovins2021!K68)/GrosBovins2021!K68","v":1.4577259475218606E-2},{"$f":"(K17-GrosBovins2021!K17)/GrosBovins2021!K17","v":0.26086956521739141},{"$f":"(K17-MoyQuinqHebdoGB!BD5)/MoyQuinqHebdoGB!BD5","v":5.7803468208092535E-3}]
[null,2,4.62,4.46,3.82,3.81,4.87,4.41,5.52,3.79,3.52,5.08,4.38,null,2.82,2.78,2,null,{"$f":"(H18-H17)/H17","v":6.8493150684932076E-3},{"$f":"(H18-GrosBovins2021!H18)/GrosBovins2021!H18","v":9.9750623441396596E-2},{"$f":"(H18-MoyQuinqHebdoGB!AL6)/MoyQuinqHebdoGB!AL6","v":-4.3798785776235895E-2},{"$f":"(K18-K17)/K17","v":1.1494252873563229E-2},{"$f":"(K18-GrosBovins2021!K18)/GrosBovins2021!K18","v":0.27075812274368233},{"$f":"(K18-MoyQuinqHebdoGB!BD6)/MoyQuinqHebdoGB!BD6","v":9.7532989099254896E-3}]
[null,3,4.6500000000000004,4.5,3.82,3.85,4.97,4.4400000000000004,5.54,3.82,3.59,5.25,4.4000000000000004,null,2.82,2.79,3,null,6.8027210884354303E-3,{"$f":"(H19-GrosBovins2021!H19)/GrosBovins2021!H19","v":0.10447761194029873},{"$f":"(H19-MoyQuinqHebdoGB!AL7)/MoyQuinqHebdoGB!AL7","v":-3.7711313394018092E-2},{"$f":"(K19-K18)/K18","v":1.9886363636363591E-2},{"$f":"(K19-GrosBovins2021!K19)/GrosBovins2021!K19","v":0.29602888086642593},{"$f":"(K19-MoyQuinqHebdoGB!BD7)/MoyQuinqHebdoGB!BD7","v":2.395892755276658E-2}]
["J",4,4.6900000000000004,4.51,3.87,3.89,4.92,4.46,5.6,3.86,3.65,5.21,4.4400000000000004,null,2.85,2.84,4,null,4.5045045045044082E-3,{"$f":"(H20-GrosBovins2021!H20)/GrosBovins2021!H20","v":0.10669975186104211},{"$f":"(H20-MoyQuinqHebdoGB!AL8)/MoyQuinqHebdoGB!AL8","v":-3.421394543092237E-2},1.6713091922005586E-2,{"$f":"(K20-GrosBovins2021!K20)/GrosBovins2021!K20","v":0.31294964028776984},{"$f":"(K20-MoyQuinqHebdoGB!BD8)/MoyQuinqHebdoGB!BD8","v":3.5754824063564103E-2}]
[null,5,4.7300000000000004,4.57,3.94,3.93,4.9800000000000004,4.5199999999999996,5.54,3.91,3.75,5.24,4.45,null,2.85,2.84,5,null,1.345291479820619E-2,{"$f":"(H21-GrosBovins2021!H21)/GrosBovins2021!H21","v":0.11604938271604932},{"$f":"(H21-MoyQuinqHebdoGB!AL9)/MoyQuinqHebdoGB!AL9","v":-2.5862068965517453E-2},2.7397260273972629E-2,{"$f":"(K21-GrosBovins2021!K21)/GrosBovins2021!K21","v":0.34892086330935262},{"$f":"(K21-MoyQuinqHebdoGB!BD9)/MoyQuinqHebdoGB!BD9","v":5.8126410835214568E-2}]
[null,6,4.8,4.63,4.01,4.05,5.0199999999999996,4.59,5.62,4.01,3.84,5.3,4.51,null,2.85,2.9,6,null,1.5486725663716878E-2,{"$f":"(H22-GrosBovins2021!H22)/GrosBovins2021!H22","v":0.13895781637717111},{"$f":"(H22-MoyQuinqHebdoGB!AL10)/MoyQuinqHebdoGB!AL10","v":-1.4175257731958917E-2},2.3999999999999962E-2,{"$f":"(K22-GrosBovins2021!K22)/GrosBovins2021!K22","v":0.37634408602150532},{"$f":"(K22-MoyQuinqHebdoGB!BD10)/MoyQuinqHebdoGB!BD10","v":7.5630252100840484E-2}]
[null,7,4.8600000000000003,4.71,4.12,4.1399999999999997,5.05,4.6500000000000004,5.63,4.12,3.96,5.24,4.6100000000000003,null,2.88,2.96,7,null,1.3071895424836709E-2,{"$f":"(H23-GrosBovins2021!H23)/GrosBovins2021!H23","v":0.14814814814814828},{"$f":"(H23-MoyQuinqHebdoGB!AL11)/MoyQuinqHebdoGB!AL11","v":-3.0017152658660695E-3},3.1250000000000028E-2,{"$f":"(K23-GrosBovins2021!K23)/GrosBovins2021!K23","v":0.40925266903914587},{"$f":"(K23-MoyQuinqHebdoGB!BD11)/MoyQuinqHebdoGB!BD11","v":9.5132743362831951E-2}]
["F",8,4.9400000000000004,4.76,4.2699999999999996,4.28,5.14,4.76,5.65,4.25,4.1399999999999997,5.34,4.71,null,2.93,3.04,8,null,2.3655913978494501E-2,{"$f":"(H24-GrosBovins2021!H24)/GrosBovins2021!H24","v":0.16953316953316941},{"$f":"(H24-MoyQuinqHebdoGB!AL12)/MoyQuinqHebdoGB!AL12","v":1.3628620102214472E-2},4.5454545454545386E-2,{"$f":"(K24-GrosBovins2021!K24)/GrosBovins2021!K24","v":0.46289752650176663},{"$f":"(K24-MoyQuinqHebdoGB!BD12)/MoyQuinqHebdoGB!BD12","v":0.12806539509536766}]
[null,9,4.9800000000000004,4.82,4.34,4.33,5.0999999999999996,4.8,5.65,4.33,4.21,5.41,4.74,null,2.98,3.13,9,null,8.4033613445378234E-3,{"$f":"(H25-GrosBovins2021!H25)/GrosBovins2021!H25","v":0.17359413202933985},{"$f":"(H25-MoyQuinqHebdoGB!AL13)/MoyQuinqHebdoGB!AL13","v":1.8675721561969266E-2},1.6908212560386545E-2,{"$f":"(K25-GrosBovins2021!K25)/GrosBovins2021!K25","v":0.47202797202797209},{"$f":"(K25-MoyQuinqHebdoGB!BD13)/MoyQuinqHebdoGB!BD13","v":0.13538295577130507}]
[null,10,5.0199999999999996,4.8499999999999996,4.42,4.4000000000000004,5.19,4.8499999999999996,5.68,4.3899999999999997,4.25,5.36,4.78,null,3.05,3.2,10,null,1.041666666666663E-2,{"$f":"(H26-GrosBovins2021!H26)/GrosBovins2021!H26","v":0.18292682926829271},{"$f":"(H26-MoyQuinqHebdoGB!AL14)/MoyQuinqHebdoGB!AL14","v":2.3638666103841306E-2},9.5011876484560661E-3,{"$f":"(K26-GrosBovins2021!K26)/GrosBovins2021!K26","v":0.46551724137931039},{"$f":"(K26-MoyQuinqHebdoGB!BD14)/MoyQuinqHebdoGB!BD14","v":0.13514957264957272}]
[null,11,5.0599999999999996,4.88,4.47,4.5,5.28,4.91,5.71,4.45,4.29,5.46,4.8499999999999996,null,3.15,3.24,11,null,1.237113402061866E-2,{"$f":"(H27-GrosBovins2021!H27)/GrosBovins2021!H27","v":0.20048899755501229},{"$f":"(H27-MoyQuinqHebdoGB!AL15)/MoyQuinqHebdoGB!AL15","v":3.2380151387720948E-2},9.4117647058823608E-3,{"$f":"(K27-GrosBovins2021!K27)/GrosBovins2021!K27","v":0.45918367346938782},{"$f":"(K27-MoyQuinqHebdoGB!BD15)/MoyQuinqHebdoGB!BD15","v":0.13672496025437203}]
[null,12,5.09,4.91,4.51,4.5599999999999996,5.27,4.9400000000000004,5.7,4.5,4.34,5.47,4.88,null,3.2,3.25,12,null,6.1099796334012722E-3,{"$f":"(H28-GrosBovins2021!H28)/GrosBovins2021!H28","v":0.19902912621359228},{"$f":"(H28-MoyQuinqHebdoGB!AL16)/MoyQuinqHebdoGB!AL16","v":3.5639412997903547E-2},1.1655011655011614E-2,{"$f":"(K28-GrosBovins2021!K28)/GrosBovins2021!K28","v":0.47118644067796595},{"$f":"(K28-MoyQuinqHebdoGB!BD16)/MoyQuinqHebdoGB!BD16","v":0.14511873350923465}]
["M",13,5.1100000000000003,4.9400000000000004,4.5599999999999996,4.6100000000000003,5.3,4.99,5.81,4.55,4.3899999999999997,5.58,4.93,null,3.25,3.28,13,null,1.0121457489878506E-2,{"$f":"(H29-GrosBovins2021!H29)/GrosBovins2021!H29","v":0.21707317073170748},{"$f":"(H29-MoyQuinqHebdoGB!AL17)/MoyQuinqHebdoGB!AL17","v":4.7879042419151759E-2},1.1520737327188899E-2,{"$f":"(K29-GrosBovins2021!K29)/GrosBovins2021!K29","v":0.483108108108108},{"$f":"(K29-MoyQuinqHebdoGB!BD17)/MoyQuinqHebdoGB!BD17","v":0.15404837013669817}]
[null,14,5.13,4.9800000000000004,4.6100000000000003,4.6399999999999997,5.59,5.01,5.86,4.5999999999999996,4.4400000000000004,5.67,4.99,null,3.3,3.31,14,null,4.0080160320640429E-3,{"$f":"(H30-GrosBovins2021!H30)/GrosBovins2021!H30","v":0.22493887530562345},{"$f":"(H30-MoyQuinqHebdoGB!AL18)/MoyQuinqHebdoGB!AL18","v":5.0755033557046782E-2},1.1389521640091278E-2,{"$f":"(K30-GrosBovins2021!K30)/GrosBovins2021!K30","v":0.49494949494949497},{"$f":"(K30-MoyQuinqHebdoGB!BD18)/MoyQuinqHebdoGB!BD18","v":0.16657908565423024}]
[null,15,5.17,4.99,4.67,4.6900000000000004,5.38,5.0599999999999996,5.77,4.6399999999999997,4.49,5.59,5.03,null,3.35,3.33,15,null,{"$f":"(H31-H30)/H30","v":9.980039920159646E-3},{"$f":"(H31-GrosBovins2021!H31)/GrosBovins2021!H31","v":0.23414634146341465},{"$f":"(H31-MoyQuinqHebdoGB!AL19)/MoyQuinqHebdoGB!AL19","v":6.3472047078604377E-2},1.1261261261261221E-2,{"$f":"(K31-GrosBovins2021!K31)/GrosBovins2021!K31","v":0.51178451178451179},{"$f":"(K31-MoyQuinqHebdoGB!BD19)/MoyQuinqHebdoGB!BD19","v":0.18033648790746565}]
[null,16,5.21,5.0199999999999996,4.74,4.74,5.4,5.0999999999999996,5.79,4.7,4.55,5.57,5.09,null,3.35,3.35,16,null,{"$f":"(H32-H31)/H31","v":7.9051383399209568E-3},{"$f":"(H32-GrosBovins2021!H32)/GrosBovins2021!H32","v":0.24694376528117354},{"$f":"(H32-MoyQuinqHebdoGB!AL20)/MoyQuinqHebdoGB!AL20","v":6.8734283319362821E-2},1.336302895322931E-2,{"$f":"(K32-GrosBovins2021!K32)/GrosBovins2021!K32","v":0.52684563758389258},{"$f":"(K32-MoyQuinqHebdoGB!BD20)/MoyQuinqHebdoGB!BD20","v":0.19297325642370208}]
["A",17,5.24,5.07,4.78,4.79,5.44,5.14,5.8,4.7699999999999996,4.6399999999999997,5.58,5.12,null,3.4,3.37,17,null,7.8431372549019676E-3,{"$f":"(H33-GrosBovins2021!H33)/GrosBovins2021!H33","v":0.25365853658536586},{"$f":"(H33-MoyQuinqHebdoGB!AL21)/MoyQuinqHebdoGB!AL21","v":7.6214405360133783E-2},1.9780219780219748E-2,{"$f":"(K33-GrosBovins2021!K33)/GrosBovins2021!K33","v":0.55704697986577167},{"$f":"(K33-MoyQuinqHebdoGB!BD21)/MoyQuinqHebdoGB!BD21","v":0.20959332638164752}]
[null,18,5.28,5.12,4.8899999999999997,4.9000000000000004,5.46,5.18,5.83,4.88,4.74,5.65,5.17,null,3.4,3.4,18,null,7.7821011673151821E-3,{"$f":"(H34-GrosBovins2021!H34)/GrosBovins2021!H34","v":0.26341463414634153},{"$f":"(H34-MoyQuinqHebdoGB!AL22)/MoyQuinqHebdoGB!AL22","v":8.0517313308302071E-2},2.155172413793115E-2,{"$f":"(K34-GrosBovins2021!K34)/GrosBovins2021!K34","v":0.58528428093645479},{"$f":"(K34-MoyQuinqHebdoGB!BD22)/MoyQuinqHebdoGB!BD22","v":0.22607346094154152}]
[null,19,5.3,5.15,4.97,4.9800000000000004,5.45,5.21,5.88,4.9400000000000004,4.79,5.68,5.22,null,3.4,3.44,19,null,5.7915057915058398E-3,{"$f":"(H35-GrosBovins2021!H35)/GrosBovins2021!H35","v":0.27696078431372545},{"$f":"(H35-MoyQuinqHebdoGB!AL23)/MoyQuinqHebdoGB!AL23","v":8.4964598084131496E-2},1.0548523206751016E-2,{"$f":"(K35-GrosBovins2021!K35)/GrosBovins2021!K35","v":0.60200668896321063},{"$f":"(K35-MoyQuinqHebdoGB!BD23)/MoyQuinqHebdoGB!BD23","v":0.2332646755921732}]
[null,20,5.31,5.18,4.9800000000000004,5.01,5.53,5.24,5.88,4.9800000000000004,4.83,5.76,5.23,null,3.4,3.44,20,null,5.7581573896353646E-3,{"$f":"(H36-GrosBovins2021!H36)/GrosBovins2021!H36","v":0.28117359413202941},{"$f":"(H36-MoyQuinqHebdoGB!AL24)/MoyQuinqHebdoGB!AL24","v":8.8039867109634629E-2},8.3507306889352897E-3,{"$f":"(K36-GrosBovins2021!K36)/GrosBovins2021!K36","v":0.60465116279069786},{"$f":"(K36-MoyQuinqHebdoGB!BD24)/MoyQuinqHebdoGB!BD24","v":0.2334014300306437}]
["M",21,5.32,5.17,5,5.03,5.56,5.27,5.9,5,4.84,5.74,5.22,null,3.4,3.4,21,null,5.7251908396945342E-3,{"$f":"(H37-GrosBovins2021!H37)/GrosBovins2021!H37","v":0.28850855745721266},{"$f":"(H37-MoyQuinqHebdoGB!AL25)/MoyQuinqHebdoGB!AL25","v":9.1549295774647738E-2},2.0703933747411567E-3,{"$f":"(K37-GrosBovins2021!K37)/GrosBovins2021!K37","v":0.59735973597359737},{"$f":"(K37-MoyQuinqHebdoGB!BD25)/MoyQuinqHebdoGB!BD25","v":0.23092573753814866}]
[null,22,5.33,5.18,5.0199999999999996,5.04,5.65,5.27,5.9,5.0199999999999996,4.8600000000000003,5.8,5.28,null,3.45,3.45,22,null,0,{"$f":"(H38-GrosBovins2021!H38)/GrosBovins2021!H38","v":0.28536585365853662},{"$f":"(H38-MoyQuinqHebdoGB!AL26)/MoyQuinqHebdoGB!AL26","v":8.7494841106066951E-2},4.1322314049587732E-3,{"$f":"(K38-GrosBovins2021!K38)/GrosBovins2021!K38","v":0.58823529411764719},{"$f":"(K38-MoyQuinqHebdoGB!BD26)/MoyQuinqHebdoGB!BD26","v":0.22727272727272738}]
[null,23,5.33,5.2,5.0199999999999996,5.08,5.57,5.29,5.96,5.04,4.87,5.7,5.29,null,3.45,3.47,23,null,3.7950664136623272E-3,{"$f":"(H39-GrosBovins2021!H39)/GrosBovins2021!H39","v":0.28710462287104616},{"$f":"(H39-MoyQuinqHebdoGB!AL27)/MoyQuinqHebdoGB!AL27","v":8.5796387520525291E-2},2.0576131687242358E-3,{"$f":"(K39-GrosBovins2021!K39)/GrosBovins2021!K39","v":0.58116883116883111},{"$f":"(K39-MoyQuinqHebdoGB!BD27)/MoyQuinqHebdoGB!BD27","v":0.22423328305681242}]
[null,24,5.33,5.2,5.03,5.0999999999999996,5.56,5.29,5.95,5.05,4.87,5.74,5.31,null,3.45,3.48,24,null,0,{"$f":"(H40-GrosBovins2021!H40)/GrosBovins2021!H40","v":0.2777777777777779},{"$f":"(H40-MoyQuinqHebdoGB!AL28)/MoyQuinqHebdoGB!AL28","v":8.1799591002045258E-2},0,{"$f":"(K40-GrosBovins2021!K40)/GrosBovins2021!K40","v":0.56591639871382649},{"$f":"(K40-MoyQuinqHebdoGB!BD28)/MoyQuinqHebdoGB!BD28","v":0.22055137844611539}]
[null,25,5.33,5.19,5.03,5.12,5.52,5.29,5.95,5.05,4.87,5.75,5.3,null,3.45,3.48,25,null,0,{"$f":"(H41-GrosBovins2021!H41)/GrosBovins2021!H41","v":0.29024390243902454},{"$f":"(H41-MoyQuinqHebdoGB!AL29)/MoyQuinqHebdoGB!AL29","v":8.4016393442622989E-2},0,{"$f":"(K41-GrosBovins2021!K41)/GrosBovins2021!K41","v":0.5608974358974359},{"$f":"(K41-MoyQuinqHebdoGB!BD29)/MoyQuinqHebdoGB!BD29","v":0.21993987975951906}]
["J",26,5.33,5.2,5.01,5.1100000000000003,5.49,5.3,5.98,5.05,4.88,5.68,5.29,null,3.43,3.48,26,null,1.8903591682419257E-3,{"$f":"(H42-GrosBovins2021!H42)/GrosBovins2021!H42","v":0.28640776699029119},{"$f":"(H42-MoyQuinqHebdoGB!AL30)/MoyQuinqHebdoGB!AL30","v":8.2074316047366105E-2},2.0533880903490323E-3,{"$f":"(K42-GrosBovins2021!K42)/GrosBovins2021!K42","v":0.55414012738853491},{"$f":"(K42-MoyQuinqHebdoGB!BD30)/MoyQuinqHebdoGB!BD30","v":0.22367101303911718}]
[null,27,5.33,5.19,5.05,5.13,5.61,5.29,5.94,5.05,4.87,5.8,5.31,null,3.43,3.46,27,null,-1.8867924528301486E-3,{"$f":"(H43-GrosBovins2021!H43)/GrosBovins2021!H43","v":0.2777777777777779},{"$f":"(H43-MoyQuinqHebdoGB!AL31)/MoyQuinqHebdoGB!AL31","v":8.1799591002044869E-2},-2.0491803278688088E-3,{"$f":"(K43-GrosBovins2021!K43)/GrosBovins2021!K43","v":0.54603174603174609},{"$f":"(K43-MoyQuinqHebdoGB!BD31)/MoyQuinqHebdoGB!BD31","v":0.22361809045226119}]
[null,28,5.31,5.17,5.0599999999999996,5.13,5.57,5.28,5.95,5.0599999999999996,4.87,5.75,5.3,null,3.43,3.46,28,null,-1.8903591682419257E-3,{"$f":"(H44-GrosBovins2021!H44)/GrosBovins2021!H44","v":0.27536231884057988},{"$f":"(H44-MoyQuinqHebdoGB!AL32)/MoyQuinqHebdoGB!AL32","v":8.0638559148587821E-2},0,{"$f":"(K44-GrosBovins2021!K44)/GrosBovins2021!K44","v":0.54113924050632911},{"$f":"(K44-MoyQuinqHebdoGB!BD32)/MoyQuinqHebdoGB!BD32","v":0.22484909456740432}]
[null,29,5.31,5.16,5.04,5.14,5.6,5.3,5.97,5.08,4.9000000000000004,5.78,5.3,null,3.43,3.46,29,null,3.7878787878787069E-3,{"$f":"(H45-GrosBovins2021!H45)/GrosBovins2021!H45","v":0.28329297820823246},{"$f":"(H45-MoyQuinqHebdoGB!AL33)/MoyQuinqHebdoGB!AL33","v":8.3401471790678541E-2},6.1601642710472785E-3,{"$f":"(K45-GrosBovins2021!K45)/GrosBovins2021!K45","v":0.54088050314465408},{"$f":"(K45-MoyQuinqHebdoGB!BD33)/MoyQuinqHebdoGB!BD33","v":0.23177476118652593}]
["J",30,5.3,5.16,5.04,5.13,5.56,5.28,5.86,5.08,4.87,5.69,5.29,null,3.43,3.41,30,null,-3.7735849056602972E-3,{"$f":"(H46-GrosBovins2021!H46)/GrosBovins2021!H46","v":0.27845036319612598},{"$f":"(H46-MoyQuinqHebdoGB!AL34)/MoyQuinqHebdoGB!AL34","v":8.0638559148587627E-2},-6.1224489795918867E-3,{"$f":"(K46-GrosBovins2021!K46)/GrosBovins2021!K46","v":0.52187499999999998},{"$f":"(K46-MoyQuinqHebdoGB!BD34)/MoyQuinqHebdoGB!BD34","v":0.2254655259184703}]
[null,31,5.29,5.16,5.04,5.14,5.5,5.19,5.9,5.07,4.8600000000000003,5.65,5.21,null,3.4,3.39,31,null,-1.7045454545454516E-2,{"$f":"(H47-GrosBovins2021!H47)/GrosBovins2021!H47","v":0.24759615384615391},{"$f":"(H47-MoyQuinqHebdoGB!AL35)/MoyQuinqHebdoGB!AL35","v":6.3960639606395919E-2},-2.0533880903490323E-3,{"$f":"(K47-GrosBovins2021!K47)/GrosBovins2021!K47","v":0.50931677018633537},{"$f":"(K47-MoyQuinqHebdoGB!BD35)/MoyQuinqHebdoGB!BD35","v":0.22294916960241573}]
[null,32,5.28,5.15,5.03,5.14,5.53,5.28,5.92,5.08,4.8600000000000003,5.79,5.29,null,3.35,3.38,32,null,1.7341040462427716E-2,{"$f":"(H48-GrosBovins2021!H48)/GrosBovins2021!H48","v":0.27228915662650599},{"$f":"(H48-MoyQuinqHebdoGB!AL36)/MoyQuinqHebdoGB!AL36","v":7.6672104404567773E-2},0,{"$f":"(K48-GrosBovins2021!K48)/GrosBovins2021!K48","v":0.49538461538461548},{"$f":"(K48-MoyQuinqHebdoGB!BD36)/MoyQuinqHebdoGB!BD36","v":0.21926743602609147}]
[null,33,5.29,5.14,5.0199999999999996,5.14,5.61,5.29,5.95,5.08,4.87,5.75,5.31,null,3.35,3.35,33,null,1.8939393939393534E-3,{"$f":"(H49-GrosBovins2021!H49)/GrosBovins2021!H49","v":0.27163461538461536},{"$f":"(H49-MoyQuinqHebdoGB!AL37)/MoyQuinqHebdoGB!AL37","v":7.5203252032520346E-2},2.0576131687242358E-3,{"$f":"(K49-GrosBovins2021!K49)/GrosBovins2021!K49","v":0.49386503067484677},{"$f":"(K49-MoyQuinqHebdoGB!BD37)/MoyQuinqHebdoGB!BD37","v":0.2144638403990026}]
["A",34,5.3,5.15,5.04,5.13,5.58,5.29,5.95,5.08,4.8600000000000003,5.75,5.3,null,3.35,3.36,34,null,0,{"$f":"(H50-GrosBovins2021!H50)/GrosBovins2021!H50","v":0.26252983293556076},{"$f":"(H50-MoyQuinqHebdoGB!AL38)/MoyQuinqHebdoGB!AL38","v":7.1717990275526763E-2},-2.0533880903490323E-3,{"$f":"(K50-GrosBovins2021!K50)/GrosBovins2021!K50","v":0.47720364741641347},{"$f":"(K50-MoyQuinqHebdoGB!BD38)/MoyQuinqHebdoGB!BD38","v":0.20416253716551061}]
[null,35,5.29,5.16,5.04,5.14,5.59,5.31,5.97,5.08,4.8600000000000003,5.76,5.31,null,3.38,3.36,35,null,3.7807183364838514E-3,{"$f":"(H51-GrosBovins2021!H51)/GrosBovins2021!H51","v":0.26128266033254149},{"$f":"(H51-MoyQuinqHebdoGB!AL39)/MoyQuinqHebdoGB!AL39","v":7.0996369503832257E-2},0,{"$f":"(K51-GrosBovins2021!K51)/GrosBovins2021!K51","v":0.47272727272727288},{"$f":"(K51-MoyQuinqHebdoGB!BD39)/MoyQuinqHebdoGB!BD39","v":0.20000000000000012}]
[null,36,5.29,5.17,5.0599999999999996,5.13,5.6,5.32,5.97,5.0999999999999996,4.8600000000000003,5.73,5.32,null,3.4,3.4,36,null,1.8832391713748918E-3,{"$f":"(H52-GrosBovins2021!H52)/GrosBovins2021!H52","v":0.26365795724465568},{"$f":"(H52-MoyQuinqHebdoGB!AL40)/MoyQuinqHebdoGB!AL40","v":7.2580645161290577E-2},0,{"$f":"(K52-GrosBovins2021!K52)/GrosBovins2021!K52","v":0.46827794561933545},{"$f":"(K52-MoyQuinqHebdoGB!BD40)/MoyQuinqHebdoGB!BD40","v":0.19822485207100599}]
[null,37,5.3,5.18,5.05,5.16,5.61,5.34,6.01,5.1100000000000003,4.87,5.76,5.34,null,3.4,3.4,37,null,3.7593984962405211E-3,{"$f":"(H53-GrosBovins2021!H53)/GrosBovins2021!H53","v":0.26241134751773032},{"$f":"(H53-MoyQuinqHebdoGB!AL41)/MoyQuinqHebdoGB!AL41","v":7.7916834880904354E-2},2.0576131687242358E-3,{"$f":"(K53-GrosBovins2021!K53)/GrosBovins2021!K53","v":0.47129909365558914},{"$f":"(K53-MoyQuinqHebdoGB!BD41)/MoyQuinqHebdoGB!BD41","v":0.20246913580246922}]
[null,38,5.3,5.17,5.0599999999999996,5.15,5.69,5.35,6.01,5.1100000000000003,4.9000000000000004,5.75,5.34,null,3.45,3.42,38,null,1.8726591760299227E-3,{"$f":"(H54-GrosBovins2021!H54)/GrosBovins2021!H54","v":0.27078384798099753},{"$f":"(H54-MoyQuinqHebdoGB!AL42)/MoyQuinqHebdoGB!AL42","v":8.0808080808080898E-2},6.1601642710472785E-3,{"$f":"(K54-GrosBovins2021!K54)/GrosBovins2021!K54","v":0.48036253776435056},{"$f":"(K54-MoyQuinqHebdoGB!BD42)/MoyQuinqHebdoGB!BD42","v":0.2140733399405354}]
["S",39,5.31,5.19,5.07,5.19,5.81,5.35,6.02,5.13,4.91,5.74,5.36,null,3.45,3.43,39,null,0,{"$f":"(H55-GrosBovins2021!H55)/GrosBovins2021!H55","v":0.27078384798099753},{"$f":"(H55-MoyQuinqHebdoGB!AL43)/MoyQuinqHebdoGB!AL43","v":8.0371567043618683E-2},2.0408163265305686E-3,{"$f":"(K55-GrosBovins2021!K55)/GrosBovins2021!K55","v":0.48338368580060426},{"$f":"(K55-MoyQuinqHebdoGB!BD43)/MoyQuinqHebdoGB!BD43","v":0.22078567876678265}]
[null,40,5.32,5.2,5.07,5.19,null,5.39,6,5.13,4.91,5.76,5.37,null,3.45,3.44,40,null,7.4766355140186988E-3,{"$f":"(H56-GrosBovins2021!H56)/GrosBovins2021!H56","v":0.27423167848699742},{"$f":"(H56-MoyQuinqHebdoGB!AL44)/MoyQuinqHebdoGB!AL44","v":8.5817888799355202E-2},0,{"$f":"(K56-GrosBovins2021!K56)/GrosBovins2021!K56","v":0.48787878787878802},{"$f":"(K56-MoyQuinqHebdoGB!BD44)/MoyQuinqHebdoGB!BD44","v":0.22688655672163929}]
[null,41,5.34,5.21,5.08,5.19,5.72,5.42,6.02,5.14,4.92,5.86,5.38,null,3.45,3.44,41,null,5.5658627087198983E-3,{"$f":"(H57-GrosBovins2021!H57)/GrosBovins2021!H57","v":0.28741092636579574},{"$f":"(H57-MoyQuinqHebdoGB!AL45)/MoyQuinqHebdoGB!AL45","v":9.2301491334139313E-2},2.0366598778003638E-3,{"$f":"(K57-GrosBovins2021!K57)/GrosBovins2021!K57","v":0.48640483383685795},{"$f":"(K57-MoyQuinqHebdoGB!BD45)/MoyQuinqHebdoGB!BD45","v":0.2349397590361447}]
[null,42,5.35,5.23,5.0999999999999996,5.2,null,5.42,6.04,5.14,4.92,5.83,5.37,null,3.48,3.49,42,null,0,{"$f":"(H58-GrosBovins2021!H58)/GrosBovins2021!H58","v":0.28132387706855777},{"$f":"(H58-MoyQuinqHebdoGB!AL46)/MoyQuinqHebdoGB!AL46","v":9.0543259557343908E-2},0,{"$f":"(K58-GrosBovins2021!K58)/GrosBovins2021!K58","v":0.47305389221556893},{"$f":"(K58-MoyQuinqHebdoGB!BD46)/MoyQuinqHebdoGB!BD46","v":0.23929471032745597}]
["O",43,5.36,5.25,5.09,5.19,5.66,5.41,6.06,5.13,4.8899999999999997,5.84,5.38,null,3.48,3.49,43,null,-1.8450184501844625E-3,{"$f":"(H59-GrosBovins2021!H59)/GrosBovins2021!H59","v":0.26995305164319261},{"$f":"(H59-MoyQuinqHebdoGB!AL47)/MoyQuinqHebdoGB!AL47","v":9.0725806451612934E-2},-6.0975609756098066E-3,{"$f":"(K59-GrosBovins2021!K59)/GrosBovins2021!K59","v":0.45970149253731329},{"$f":"(K59-MoyQuinqHebdoGB!BD47)/MoyQuinqHebdoGB!BD47","v":0.23922959959452597}]
[null,44,5.38,5.25,null,5.16,null,5.43,6.04,5.09,4.8600000000000003,5.83,5.38,null,3.48,3.49,44,null,3.6968576709795883E-3,{"$f":"(H60-GrosBovins2021!H60)/GrosBovins2021!H60","v":0.27166276346604223},{"$f":"(H60-MoyQuinqHebdoGB!AL48)/MoyQuinqHebdoGB!AL48","v":9.4316807738814804E-2},-6.1349693251532443E-3,{"$f":"(K60-GrosBovins2021!K60)/GrosBovins2021!K60","v":0.43786982248520723},{"$f":"(K60-MoyQuinqHebdoGB!BD48)/MoyQuinqHebdoGB!BD48","v":0.24106230847803906}]
[null,45,5.39,5.27,5.07,5.14,null,5.42,6.11,5.07,4.82,5.88,5.4,null,3.5,3.5,45,null,-1.8416206261509737E-3,{"$f":"(H61-GrosBovins2021!H61)/GrosBovins2021!H61","v":0.25754060324825995},{"$f":"(H61-MoyQuinqHebdoGB!AL49)/MoyQuinqHebdoGB!AL49","v":9.4065401695599557E-2},-8.2304526748971252E-3,{"$f":"(K61-GrosBovins2021!K61)/GrosBovins2021!K61","v":0.41764705882352954},{"$f":"(K61-MoyQuinqHebdoGB!BD49)/MoyQuinqHebdoGB!BD49","v":0.23907455012853487}]
[null,46,5.42,5.3,5.07,5.09,null,5.4,6.06,5.05,4.76,5.84,5.39,null,3.5,3.5,46,null,-3.6900369003689251E-3,{"$f":"(H62-GrosBovins2021!H62)/GrosBovins2021!H62","v":0.25},{"$f":"(H62-MoyQuinqHebdoGB!AL50)/MoyQuinqHebdoGB!AL50","v":8.7832393231265085E-2},-1.2448132780083091E-2,{"$f":"(K62-GrosBovins2021!K62)/GrosBovins2021!K62","v":0.3877551020408162},{"$f":"(K62-MoyQuinqHebdoGB!BD50)/MoyQuinqHebdoGB!BD50","v":0.2344398340248961}]
["N",47,5.46,5.32,5.0999999999999996,5.07,5.8,5.41,6.06,5,4.72,5.88,5.41,null,3.5,3.48,47,null,1.8518518518518122E-3,{"$f":"(H63-GrosBovins2021!H63)/GrosBovins2021!H63","v":0.25231481481481477},{"$f":"(H63-MoyQuinqHebdoGB!AL51)/MoyQuinqHebdoGB!AL51","v":9.3371059013743068E-2},-8.4033613445378234E-3,{"$f":"(K63-GrosBovins2021!K63)/GrosBovins2021!K63","v":0.36811594202898534},{"$f":"(K63-MoyQuinqHebdoGB!BD51)/MoyQuinqHebdoGB!BD51","v":0.23173277661795405}]
[null,48,5.49,5.36,5.0999999999999996,5.07,null,5.42,6.02,4.99,4.67,5.82,5.4,null,3.47,3.47,48,null,1.8484288354897942E-3,{"$f":"(H64-GrosBovins2021!H64)/GrosBovins2021!H64","v":0.24597701149425297},{"$f":"(H64-MoyQuinqHebdoGB!AL52)/MoyQuinqHebdoGB!AL52","v":9.2741935483871163E-2},-1.0593220338983014E-2,{"$f":"(K64-GrosBovins2021!K64)/GrosBovins2021!K64","v":0.35362318840579698},{"$f":"(K64-MoyQuinqHebdoGB!BD52)/MoyQuinqHebdoGB!BD52","v":0.22894736842105268}]
[null,49,5.51,5.37,5.1100000000000003,5.05,6.07,5.42,6.13,4.96,4.63,5.96,5.42,null,3.45,3.46,49,null,0,{"$f":"(H65-GrosBovins2021!H65)/GrosBovins2021!H65","v":0.24597701149425297},{"$f":"(H65-MoyQuinqHebdoGB!AL53)/MoyQuinqHebdoGB!AL53","v":9.4065401695599557E-2},-8.5653104925053607E-3,{"$f":"(K65-GrosBovins2021!K65)/GrosBovins2021!K65","v":0.33815028901734101},{"$f":"(K65-MoyQuinqHebdoGB!BD53)/MoyQuinqHebdoGB!BD53","v":0.22421998942358537}]
[null,50,5.52,5.38,5.1100000000000003,5.01,5.92,5.41,6.15,4.92,4.5999999999999996,6.01,5.4,null,3.27,3.39,50,null,-1.8450184501844625E-3,{"$f":"(H66-GrosBovins2021!H66)/GrosBovins2021!H66","v":0.24367816091954037},{"$f":"(H66-MoyQuinqHebdoGB!AL54)/MoyQuinqHebdoGB!AL54","v":0.11719153329891582},-6.4794816414687362E-3,{"$f":"(K66-GrosBovins2021!K66)/GrosBovins2021!K66","v":0.3450292397660818},{"$f":"(K66-MoyQuinqHebdoGB!BD54)/MoyQuinqHebdoGB!BD54","v":0.22994652406417096}]
[null,51,5.52,5.39,5.0999999999999996,5.0199999999999996,null,5.42,6.18,4.91,4.57,5.92,5.43,null,3.27,3.39,51,null,1.8484288354897942E-3,{"$f":"(H67-GrosBovins2021!H67)/GrosBovins2021!H67","v":0.24311926605504577},{"$f":"(H67-MoyQuinqHebdoGB!AL55)/MoyQuinqHebdoGB!AL55","v":0.11810211449200614},-6.5217391304346443E-3,{"$f":"(K67-GrosBovins2021!K67)/GrosBovins2021!K67","v":0.34017595307917892},{"$f":"(K67-MoyQuinqHebdoGB!BD55)/MoyQuinqHebdoGB!BD55","v":0.22438044206296059}]
["D",52,5.53,5.4,5.07,4.99,null,5.42,6.08,4.91,4.59,5.86,5.43,null,3.27,3.39,52,null,0,{"$f":"(H68-GrosBovins2021!H68)/GrosBovins2021!H68","v":0.23744292237442924},{"$f":"(H68-MoyQuinqHebdoGB!AL56)/MoyQuinqHebdoGB!AL56","v":0.17400722021660658},4.3763676148795561E-3,{"$f":"(K68-GrosBovins2021!K68)/GrosBovins2021!K68","v":0.33819241982507281},{"$f":"(K68-MoyQuinqHebdoGB!BD56)/MoyQuinqHebdoGB!BD56","v":0.2797397769516729}]
[]
[]
["3 – COTATION DES GROS BOVINS VIFS SUR LE MARCHE DE CHOLET (en Euro/Kg Net)"]
[]
[null,null,"GENISSES",null,"VACHES",null,null,null,"JEUNES BOVINS","TAUREAUX"]
["semaines","année+mois","Viande, mixte, lait","Viande, mixte, lait","Blonde","Blonde","Mixte","Lait","Viande","Viande, mixte, lait"]
[2022,null,"U","R","U","R","O","P","U","URO"]
[1,202201,4.71,4.25,5.15,4.25,3.6,3.28,4.45,3.3]
[2,202201,4.74,4.25,5.15,4.25,3.65,3.33,4.5]
[3,202201,4.75,4.3,5.2,4.3,3.7,3.38,4.53,3.4]
[4,202201,4.8,4.3499999999999996,5.25,4.3499999999999996,3.75,3.43,4.58]
[5,202202,4.8499999999999996,4.4000000000000004,5.3,4.4000000000000004,3.8,3.5,4.63,3.5]
[6,202202,null,null,5.3,4.45,3.85,3.55,4.6500000000000004,3.55]
[7,202202,4.88,4.5,5.3,4.45,3.9,3.65,4.68,3.6]
[8,202202,4.92,4.55,5.3,4.5,4.05,3.85,4.71,3.8]
[9,202203,4.97,4.63,5.35,4.5999999999999996,4.2,4,4.75,3.85]
[10,202203,5.0599999999999996,4.7,5.4,4.7,4.3,4.05,4.8,4]
[11,202203,5.0999999999999996,4.75,5.4,4.75,4.3499999999999996,4.05,4.8499999999999996,4.0999999999999996]
[12,202203,5.14,4.8,5.4,4.75,4.4000000000000004,4.0999999999999996,4.88,4.2]
[13,202203,5.15,4.84,5.4,4.8,4.4000000000000004,4.1500000000000004,4.9000000000000004]
[14,202204,5.18,4.8499999999999996,5.4,4.8499999999999996,4.45,4.2,4.95,4.2]
[15,202204]
[16,202204]
[17,202204]
[18,202205]
[19,202205]
[20,202205]
[21,202205]
[22,202206]
[23,202206]
[24,202206]
[25,202206]
[26,202206]
[27,202207]
[28,202207]
[29,202207]
[30,202207]
[31,202208]
[32,202208]
[33,202208]
[34,202208]
[35,202209]
[36,202209]
[37,202209]
[38,202209]
[39,202209]
[40,202210]
[41,202210]
[42,202210]
[43,202210]
[44,202211]
[45,202211]
[46,202211]
[47,202211]
[48,202212]
[49,202212]
[50,202212]
[51,202212]
[52,202212]

{"sheet":"GrosBovins2021","index":10,"n_rows":127,"n_cols":24,"rows_kept":127,"cut":false,"hidden":false,"merged":[[72,2,72,3],[72,4,72,7],[13,2,13,4],[13,6,13,10],[13,11,13,12],[13,16,15,16],[13,18,13,20],[13,21,13,23],[14,2,14,3],[14,6,14,7],[14,11,14,12],[14,18,15,18],[14,19,15,19],[14,20,15,20],[14,21,15,21],[14,22,15,22],[14,23,15,23]]}
["COTATIONS DES GROS BOVINS"]
["Source : DRAAF Pays de la Loire - SRISE - FranceAgriMer",null,null,null,null,null,null,null,null,null,"mise à jour : 7/1/22"]
[]
[]
["1 – COTATION REGIONALE GRAND OUEST ENTREE ABATTOIR en €/Kg net"]
[]
["2 – MOYENNE NATIONALE DES BOVINS MAIGRES DESTINES A L'ENGRAISSEMENT CHAROLAIS MALE de 6-12 mois catégorie U (300kg) en €/kg vif"]
[]
["3 – COTATION DES GROS BOVINS VIFS SUR LE MARCHE DE CHOLET (en Euro/Kg Net) – à partir de la ligne 72"]
[]
[null,null,null,null,null,null,null,null,null,null,null,null,null,null,null,"2 – COT. HEBDO"]
[null,null,null,"1 – COTATION REGIONALE ENTREE ABATTOIR GRAND OUEST FRANCEAGRIMER-HEBDOMADAIRE (€/Kg net)",null,null,null,null,null,null,null,null,null,null,null,"MAIGRE   €/kg vif"]
[null,null,null,null,null,null,null,null,null,null,null,null,null,null,null,"Ref. nationale"]
["Année","Sem.","JEUNES BOVINS",null,null,"BOEUFS","VACHES",null,null,null,null,"GENISSES",null,null,null,"Charolais Mâles","Sem.",null,"Vache Viande R",null,null,"Vache lait P"]
[null,null,"VIANDE",null,"MIXTE","MIXTE","VIANDE",null,"Blonde","MIXTE","LAIT","VIANDES + 350kg",null,null,null,null,null,null,"Evolution/semaine -1","Evolution/ semaine id 2020","Evolution/semaine id moy. 5 ans","Evolution/semaine -1","Evolution/ semaine id 2019","Evolution/semaine id moy. 5 ans"]
[null,null,"U","R","O","O","U","R","U","O","P","U","R",null,null,"6/12 mois  ( U )"]
[2021,1,3.82,3.66,3.39,3.14,4.45,4.03,5.17,3.07,2.76,4.87,4.03,null,null,2.62,1,null,{"$f":"(H17-GrosBovins2020!H68)/GrosBovins2020!H68","v":-4.9382716049381666E-3},{"$f":"(H17-MoyQuinqHebdoGB!AG5)/MoyQuinqHebdoGB!AG5","v":8.3333333333333343E-2},{"$f":"(H17-MoyQuinqHebdoGB!AL5)/MoyQuinqHebdoGB!AL5","v":-0.1231505657093124},{"$f":"(K17-GrosBovins2020!K69)/GrosBovins2020!K69","v":3.6363636363635587E-3},{"$f":"(K17-GrosBovins2020!K17)/GrosBovins2020!K17","v":8.6614173228346358E-2},{"$f":"(K17-MoyQuinqHebdoGB!BD5)/MoyQuinqHebdoGB!BD5","v":-0.20231213872832376}]
[null,2,3.82,3.66,3.37,3.15,4.5599999999999996,4.01,5.2,3.08,2.77,4.88,4.04,null,null,2.62,2,null,{"$f":"(H18-H17)/H17","v":-4.9627791563276579E-3},{"$f":"(H18-GrosBovins2020!H18)/GrosBovins2020!H18","v":6.9333333333333275E-2},{"$f":"(H18-MoyQuinqHebdoGB!AL6)/MoyQuinqHebdoGB!AL6","v":-0.13052905464006945},{"$f":"(K18-K17)/K17","v":3.6231884057971852E-3},{"$f":"(K18-GrosBovins2020!K18)/GrosBovins2020!K18","v":7.7821011673151821E-2},{"$f":"(K18-MoyQuinqHebdoGB!BD6)/MoyQuinqHebdoGB!BD6","v":-0.20539300057372339}]
[null,3,3.83,3.65,3.45,3.15,4.4800000000000004,4.0199999999999996,5.16,3.1,2.77,4.8899999999999997,4.0199999999999996,null,null,2.62,3,null,2.4937655860348597E-3,{"$f":"(H19-GrosBovins2020!H19)/GrosBovins2020!H19","v":8.0645161290322412E-2},{"$f":"(H19-MoyQuinqHebdoGB!AL7)/MoyQuinqHebdoGB!AL7","v":-0.128738621586476},0,{"$f":"(K19-GrosBovins2020!K19)/GrosBovins2020!K19","v":8.2031249999999986E-2},{"$f":"(K19-MoyQuinqHebdoGB!BD7)/MoyQuinqHebdoGB!BD7","v":-0.20992584141471768}]
["J",4,3.84,3.67,3.41,3.17,4.59,4.03,5.17,3.09,2.78,4.7699999999999996,4.0199999999999996,null,null,2.59,4,null,2.4875621890548946E-3,{"$f":"(H20-GrosBovins2020!H20)/GrosBovins2020!H20","v":8.6253369272237271E-2},{"$f":"(H20-MoyQuinqHebdoGB!AL8)/MoyQuinqHebdoGB!AL8","v":-0.1273278475530531},3.6101083032490204E-3,{"$f":"(K20-GrosBovins2020!K20)/GrosBovins2020!K20","v":9.0196078431372548E-2},{"$f":"(K20-MoyQuinqHebdoGB!BD8)/MoyQuinqHebdoGB!BD8","v":-0.21112372304199778}]
[null,5,3.85,3.67,3.43,3.17,4.5199999999999996,4.05,5.21,3.11,2.78,4.84,4,null,null,2.59,5,null,4.9627791563274376E-3,{"$f":"(H21-GrosBovins2020!H21)/GrosBovins2020!H21","v":8.8709677419354732E-2},{"$f":"(H21-MoyQuinqHebdoGB!AL9)/MoyQuinqHebdoGB!AL9","v":-0.12715517241379326},0,{"$f":"(K21-GrosBovins2020!K21)/GrosBovins2020!K21","v":9.4488188976377854E-2},{"$f":"(K21-MoyQuinqHebdoGB!BD9)/MoyQuinqHebdoGB!BD9","v":-0.21557562076749431}]
[null,6,3.86,3.69,3.41,3.19,4.58,4.03,5.21,3.11,2.79,4.92,3.99,null,null,2.59,6,null,-4.9382716049381666E-3,{"$f":"(H22-GrosBovins2020!H22)/GrosBovins2020!H22","v":8.0428954423592561E-2},{"$f":"(H22-MoyQuinqHebdoGB!AL10)/MoyQuinqHebdoGB!AL10","v":-0.13445017182130589},3.5971223021583568E-3,{"$f":"(K22-GrosBovins2020!K22)/GrosBovins2020!K22","v":0.10276679841897243},{"$f":"(K22-MoyQuinqHebdoGB!BD10)/MoyQuinqHebdoGB!BD10","v":-0.21848739495798306}]
[null,7,3.88,3.71,3.43,3.18,4.5199999999999996,4.05,5.2,3.13,2.81,4.79,4,null,null,2.59,7,null,4.9627791563274376E-3,{"$f":"(H23-GrosBovins2020!H23)/GrosBovins2020!H23","v":9.4594594594594489E-2},{"$f":"(H23-MoyQuinqHebdoGB!AL11)/MoyQuinqHebdoGB!AL11","v":-0.13164665523156088},7.1684587813620132E-3,{"$f":"(K23-GrosBovins2020!K23)/GrosBovins2020!K23","v":0.10196078431372559},{"$f":"(K23-MoyQuinqHebdoGB!BD11)/MoyQuinqHebdoGB!BD11","v":-0.22289823008849549}]
["F",8,3.9,3.73,3.45,3.2,4.53,4.07,5.27,3.15,2.83,4.8,3.99,null,null,2.59,8,null,4.938271604938386E-3,{"$f":"(H24-GrosBovins2020!H24)/GrosBovins2020!H24","v":9.4086021505376358E-2},{"$f":"(H24-MoyQuinqHebdoGB!AL12)/MoyQuinqHebdoGB!AL12","v":-0.1333049403747871},7.1174377224199354E-3,{"$f":"(K24-GrosBovins2020!K24)/GrosBovins2020!K24","v":9.6899224806201542E-2},{"$f":"(K24-MoyQuinqHebdoGB!BD12)/MoyQuinqHebdoGB!BD12","v":-0.22888283378746599}]
[null,9,3.91,3.75,3.47,3.23,4.7,4.09,5.29,3.17,2.86,4.95,4.03,null,null,2.62,9,null,4.9140049140048089E-3,{"$f":"(H25-GrosBovins2020!H25)/GrosBovins2020!H25","v":9.0666666666666632E-2},{"$f":"(H25-MoyQuinqHebdoGB!AL13)/MoyQuinqHebdoGB!AL13","v":-0.13200339558573868},1.060070671378085E-2,{"$f":"(K25-GrosBovins2020!K25)/GrosBovins2020!K25","v":9.1603053435114407E-2},{"$f":"(K25-MoyQuinqHebdoGB!BD13)/MoyQuinqHebdoGB!BD13","v":-0.2286947141316075}]
[null,10,3.96,3.78,3.46,3.24,4.7,4.0999999999999996,5.42,3.19,2.9,5.0599999999999996,4.0199999999999996,null,null,2.65,10,null,2.4449877750610726E-3,{"$f":"(H26-GrosBovins2020!H26)/GrosBovins2020!H26","v":8.7533156498673645E-2},{"$f":"(H26-MoyQuinqHebdoGB!AL14)/MoyQuinqHebdoGB!AL14","v":-0.13465597298438159},1.3986013986014E-2,{"$f":"(K26-GrosBovins2020!K26)/GrosBovins2020!K26","v":9.0225563909774348E-2},{"$f":"(K26-MoyQuinqHebdoGB!BD14)/MoyQuinqHebdoGB!BD14","v":-0.2254273504273504}]
[null,11,3.99,3.81,3.48,3.25,4.7300000000000004,4.09,5.35,3.21,2.94,5.0199999999999996,4.01,null,null,2.65,11,null,-2.4390243902438508E-3,{"$f":"(H27-GrosBovins2020!H27)/GrosBovins2020!H27","v":8.2010582010582034E-2},{"$f":"(H27-MoyQuinqHebdoGB!AL15)/MoyQuinqHebdoGB!AL15","v":-0.14003364171572741},1.3793103448275874E-2,{"$f":"(K27-GrosBovins2020!K27)/GrosBovins2020!K27","v":0.10526315789473677},{"$f":"(K27-MoyQuinqHebdoGB!BD15)/MoyQuinqHebdoGB!BD15","v":-0.22098569157392689}]
[null,12,4,3.83,3.46,3.28,4.97,4.12,5.4,3.23,2.95,5.15,4.07,null,null,2.68,12,null,7.3349633251834348E-3,{"$f":"(H28-GrosBovins2020!H28)/GrosBovins2020!H28","v":8.9947089947090025E-2},{"$f":"(H28-MoyQuinqHebdoGB!AL16)/MoyQuinqHebdoGB!AL16","v":-0.1362683438155137},3.4013605442177659E-3,{"$f":"(K28-GrosBovins2020!K28)/GrosBovins2020!K28","v":0.10486891385767799},{"$f":"(K28-MoyQuinqHebdoGB!BD16)/MoyQuinqHebdoGB!BD16","v":-0.22163588390501324}]
["M",13,4.0199999999999996,3.85,3.48,3.31,4.62,4.0999999999999996,5.3,3.25,2.96,4.8899999999999997,4.0599999999999996,null,null,2.7,13,null,-4.8543689320389473E-3,{"$f":"(H29-GrosBovins2020!H29)/GrosBovins2020!H29","v":9.6256684491978453E-2},{"$f":"(H29-MoyQuinqHebdoGB!AL17)/MoyQuinqHebdoGB!AL17","v":-0.13901721965560687},3.3898305084745037E-3,{"$f":"(K29-GrosBovins2020!K29)/GrosBovins2020!K29","v":0.10447761194029843},{"$f":"(K29-MoyQuinqHebdoGB!BD17)/MoyQuinqHebdoGB!BD17","v":-0.22187171398527863}]
[null,14,4.03,3.84,3.48,3.31,4.63,4.09,5.33,3.26,2.97,5.05,4.09,null,null,2.7,14,null,-2.4390243902438508E-3,{"$f":"(H30-GrosBovins2020!H30)/GrosBovins2020!H30","v":9.3582887700534662E-2},{"$f":"(H30-MoyQuinqHebdoGB!AL18)/MoyQuinqHebdoGB!AL18","v":-0.14219798657718136},3.3783783783784566E-3,{"$f":"(K30-GrosBovins2020!K30)/GrosBovins2020!K30","v":0.11654135338345865},{"$f":"(K30-MoyQuinqHebdoGB!BD18)/MoyQuinqHebdoGB!BD18","v":-0.21965317919075139}]
[null,15,4.0199999999999996,3.85,3.49,3.32,4.62,4.0999999999999996,5.39,3.26,2.97,5.07,4.04,null,null,2.72,15,null,2.4449877750610726E-3,{"$f":"(H31-GrosBovins2020!H31)/GrosBovins2020!H31","v":0.10215053763440844},{"$f":"(H31-MoyQuinqHebdoGB!AL19)/MoyQuinqHebdoGB!AL19","v":-0.13829340058848263},0,{"$f":"(K31-GrosBovins2020!K31)/GrosBovins2020!K31","v":0.12500000000000003},{"$f":"(K31-MoyQuinqHebdoGB!BD19)/MoyQuinqHebdoGB!BD19","v":-0.219242902208202}]
[null,16,4.0199999999999996,3.85,3.49,3.32,4.68,4.09,5.4,3.27,2.98,4.96,4.07,null,null,2.72,16,null,-2.4390243902438508E-3,{"$f":"(H32-GrosBovins2020!H32)/GrosBovins2020!H32","v":9.9462365591397747E-2},{"$f":"(H32-MoyQuinqHebdoGB!AL20)/MoyQuinqHebdoGB!AL20","v":-0.14291701592623646},3.3670033670032949E-3,{"$f":"(K32-GrosBovins2020!K32)/GrosBovins2020!K32","v":0.12878787878787873},{"$f":"(K32-MoyQuinqHebdoGB!BD20)/MoyQuinqHebdoGB!BD20","v":-0.21866806502359729}]
["A",17,4.01,3.82,3.47,3.33,4.75,4.0999999999999996,5.36,3.28,2.98,5.04,4.07,null,null,2.75,17,null,2.4449877750610726E-3,{"$f":"(H33-GrosBovins2020!H33)/GrosBovins2020!H33","v":0.105121293800539},{"$f":"(H33-MoyQuinqHebdoGB!AL21)/MoyQuinqHebdoGB!AL21","v":-0.14154103852596334},0,{"$f":"(K33-GrosBovins2020!K33)/GrosBovins2020!K33","v":0.1161048689138577},{"$f":"(K33-MoyQuinqHebdoGB!BD21)/MoyQuinqHebdoGB!BD21","v":-0.22314911366006254}]
[null,18,4.01,3.81,3.48,3.38,4.7,4.0999999999999996,5.44,3.29,2.99,4.9800000000000004,4.03,null,null,2.75,18,null,0,{"$f":"(H34-GrosBovins2020!H34)/GrosBovins2020!H34","v":9.333333333333324E-2},{"$f":"(H34-MoyQuinqHebdoGB!AL22)/MoyQuinqHebdoGB!AL22","v":-0.14476428869420108},3.3557046979866547E-3,{"$f":"(K34-GrosBovins2020!K34)/GrosBovins2020!K34","v":0.1033210332103322},{"$f":"(K34-MoyQuinqHebdoGB!BD22)/MoyQuinqHebdoGB!BD22","v":-0.22659079151577863}]
[null,19,3.99,3.81,3.47,3.43,4.6900000000000004,4.08,5.48,3.3,2.99,5,4.04,null,null,2.75,19,null,-4.8780487804877017E-3,{"$f":"(H35-GrosBovins2020!H35)/GrosBovins2020!H35","v":8.5106382978723485E-2},{"$f":"(H35-MoyQuinqHebdoGB!AL23)/MoyQuinqHebdoGB!AL23","v":-0.15035401915868396},0,{"$f":"(K35-GrosBovins2020!K35)/GrosBovins2020!K35","v":9.1240875912408759E-2},{"$f":"(K35-MoyQuinqHebdoGB!BD23)/MoyQuinqHebdoGB!BD23","v":-0.23017507723995864}]
[null,20,3.99,3.81,3.44,3.4,4.74,4.09,5.43,3.34,3.01,4.99,4.07,null,null,2.75,20,null,2.4509803921568107E-3,{"$f":"(H36-GrosBovins2020!H36)/GrosBovins2020!H36","v":7.6315789473684226E-2},{"$f":"(H36-MoyQuinqHebdoGB!AL24)/MoyQuinqHebdoGB!AL24","v":-0.15074750830564784},6.6889632107021979E-3,{"$f":"(K36-GrosBovins2020!K36)/GrosBovins2020!K36","v":7.885304659498199E-2},{"$f":"(K36-MoyQuinqHebdoGB!BD24)/MoyQuinqHebdoGB!BD24","v":-0.23135852911133806}]
["M",21,3.99,3.81,3.49,3.44,4.68,4.09,5.45,3.35,3.03,5.03,4.07,null,null,2.75,21,null,0,{"$f":"(H37-GrosBovins2020!H37)/GrosBovins2020!H37","v":7.0680628272251314E-2},{"$f":"(H37-MoyQuinqHebdoGB!AL25)/MoyQuinqHebdoGB!AL25","v":-0.1528583264291633},6.6445182724252554E-3,{"$f":"(K37-GrosBovins2020!K37)/GrosBovins2020!K37","v":7.0671378091872697E-2},{"$f":"(K37-MoyQuinqHebdoGB!BD25)/MoyQuinqHebdoGB!BD25","v":-0.22939979654120035}]
[null,22,3.99,3.83,3.47,3.46,4.7,4.0999999999999996,5.42,3.38,3.06,5.04,4.09,null,null,2.75,22,null,2.4449877750610726E-3,{"$f":"(H38-GrosBovins2020!H38)/GrosBovins2020!H38","v":5.6701030927834989E-2},{"$f":"(H38-MoyQuinqHebdoGB!AL26)/MoyQuinqHebdoGB!AL26","v":-0.15394139496491946},9.9009900990099844E-3,{"$f":"(K38-GrosBovins2020!K38)/GrosBovins2020!K38","v":6.9930069930069991E-2},{"$f":"(K38-MoyQuinqHebdoGB!BD26)/MoyQuinqHebdoGB!BD26","v":-0.22727272727272727}]
[null,23,3.99,3.81,3.49,3.47,4.72,4.1100000000000003,5.42,3.4,3.08,5.0999999999999996,4.05,null,null,2.73,23,null,2.4390243902440672E-3,{"$f":"(H39-GrosBovins2020!H39)/GrosBovins2020!H39","v":4.0506329113924086E-2},{"$f":"(H39-MoyQuinqHebdoGB!AL27)/MoyQuinqHebdoGB!AL27","v":-0.15640394088669957},6.5359477124183061E-3,{"$f":"(K39-GrosBovins2020!K39)/GrosBovins2020!K39","v":7.3170731707317055E-2},{"$f":"(K39-MoyQuinqHebdoGB!BD27)/MoyQuinqHebdoGB!BD27","v":-0.22574157868275518}]
[null,24,4,3.84,3.5,3.48,4.7300000000000004,4.1399999999999997,5.36,3.43,3.11,5.0199999999999996,4.1100000000000003,null,null,2.73,24,null,7.2992700729925444E-3,{"$f":"(H40-GrosBovins2020!H40)/GrosBovins2020!H40","v":3.2418952618453838E-2},{"$f":"(H40-MoyQuinqHebdoGB!AL28)/MoyQuinqHebdoGB!AL28","v":-0.15337423312883422},9.7402597402596758E-3,{"$f":"(K40-GrosBovins2020!K40)/GrosBovins2020!K40","v":7.9861111111111105E-2},{"$f":"(K40-MoyQuinqHebdoGB!BD28)/MoyQuinqHebdoGB!BD28","v":-0.22055137844611528}]
[null,25,4.01,3.84,3.47,3.52,4.78,4.0999999999999996,5.45,3.44,3.12,5.09,4.0599999999999996,null,null,2.73,25,null,-9.6618357487922805E-3,{"$f":"(H41-GrosBovins2020!H41)/GrosBovins2020!H41","v":1.736972704714625E-2},{"$f":"(H41-MoyQuinqHebdoGB!AL29)/MoyQuinqHebdoGB!AL29","v":-0.15983606557377056},3.2154340836013607E-3,{"$f":"(K41-GrosBovins2020!K41)/GrosBovins2020!K41","v":8.3333333333333412E-2},{"$f":"(K41-MoyQuinqHebdoGB!BD29)/MoyQuinqHebdoGB!BD29","v":-0.21843687374749496}]
["J",26,4.01,3.82,3.53,3.53,4.68,4.12,5.45,3.46,3.14,5.0599999999999996,4.1100000000000003,null,null,2.73,26,null,4.8780487804879176E-3,{"$f":"(H42-GrosBovins2020!H42)/GrosBovins2020!H42","v":1.2285012285012241E-2},{"$f":"(H42-MoyQuinqHebdoGB!AL30)/MoyQuinqHebdoGB!AL30","v":-0.15884034299714178},6.4102564102564161E-3,{"$f":"(K42-GrosBovins2020!K42)/GrosBovins2020!K42","v":9.4076655052264813E-2},{"$f":"(K42-MoyQuinqHebdoGB!BD30)/MoyQuinqHebdoGB!BD30","v":-0.21263791374122373}]
[null,27,4.01,3.85,3.5,3.55,4.76,4.1399999999999997,5.37,3.46,3.15,4.99,4.08,null,null,2.73,27,null,4.8543689320387313E-3,{"$f":"(H43-GrosBovins2020!H43)/GrosBovins2020!H43","v":2.2222222222222188E-2},{"$f":"(H43-MoyQuinqHebdoGB!AL31)/MoyQuinqHebdoGB!AL31","v":-0.15337423312883453},3.1847133757961104E-3,{"$f":"(K43-GrosBovins2020!K43)/GrosBovins2020!K43","v":9.7560975609756032E-2},{"$f":"(K43-MoyQuinqHebdoGB!BD31)/MoyQuinqHebdoGB!BD31","v":-0.20854271356783929}]
[null,28,4.0199999999999996,3.85,3.51,3.53,4.7699999999999996,4.1399999999999997,5.39,3.48,3.16,5.13,4.13,null,null,2.73,28,null,0,{"$f":"(H44-GrosBovins2020!H44)/GrosBovins2020!H44","v":1.9704433497536967E-2},{"$f":"(H44-MoyQuinqHebdoGB!AL32)/MoyQuinqHebdoGB!AL32","v":-0.15268112975849374},3.1746031746032479E-3,{"$f":"(K44-GrosBovins2020!K44)/GrosBovins2020!K44","v":9.7222222222222307E-2},{"$f":"(K44-MoyQuinqHebdoGB!BD32)/MoyQuinqHebdoGB!BD32","v":-0.20523138832997992}]
[null,29,4.03,3.87,3.5,3.57,4.75,4.13,5.38,3.48,3.18,4.9800000000000004,4.1100000000000003,null,null,2.73,29,null,-2.4154589371980163E-3,{"$f":"(H45-GrosBovins2020!H45)/GrosBovins2020!H45","v":9.7799511002445074E-3},{"$f":"(H45-MoyQuinqHebdoGB!AL33)/MoyQuinqHebdoGB!AL33","v":-0.15576451349141462},6.329113924050638E-3,{"$f":"(K45-GrosBovins2020!K45)/GrosBovins2020!K45","v":0.10416666666666677},{"$f":"(K45-MoyQuinqHebdoGB!BD33)/MoyQuinqHebdoGB!BD33","v":-0.20060331825037708}]
["J",30,4.05,3.9,3.54,3.59,4.7300000000000004,4.13,5.49,3.5,3.2,4.95,4.0999999999999996,null,null,2.73,30,null,0,{"$f":"(H46-GrosBovins2020!H46)/GrosBovins2020!H46","v":1.225490196078427E-2},{"$f":"(H46-MoyQuinqHebdoGB!AL34)/MoyQuinqHebdoGB!AL34","v":-0.15472779369627526},6.2893081761006345E-3,{"$f":"(K46-GrosBovins2020!K46)/GrosBovins2020!K46","v":0.11111111111111122},{"$f":"(K46-MoyQuinqHebdoGB!BD34)/MoyQuinqHebdoGB!BD34","v":-0.19476597886260677}]
[null,31,4.07,3.9,3.54,3.6,4.67,4.16,5.44,3.52,3.22,4.97,4.09,null,null,2.73,31,null,7.2639225181598665E-3,{"$f":"(H47-GrosBovins2020!H47)/GrosBovins2020!H47","v":2.2113022113022077E-2},{"$f":"(H47-MoyQuinqHebdoGB!AL35)/MoyQuinqHebdoGB!AL35","v":-0.14719147191471929},6.2500000000000056E-3,{"$f":"(K47-GrosBovins2020!K47)/GrosBovins2020!K47","v":0.11805555555555566},{"$f":"(K47-MoyQuinqHebdoGB!BD35)/MoyQuinqHebdoGB!BD35","v":-0.18973326623049824}]
[null,32,4.1100000000000003,3.91,3.56,3.61,4.78,4.1500000000000004,5.41,3.53,3.25,5.05,4.1399999999999997,null,null,2.73,32,null,-2.4038461538461024E-3,{"$f":"(H48-GrosBovins2020!H48)/GrosBovins2020!H48","v":1.715686274509811E-2},{"$f":"(H48-MoyQuinqHebdoGB!AL36)/MoyQuinqHebdoGB!AL36","v":-0.15375203915171279},9.3167701863353432E-3,{"$f":"(K48-GrosBovins2020!K48)/GrosBovins2020!K48","v":0.13240418118466896},{"$f":"(K48-MoyQuinqHebdoGB!BD36)/MoyQuinqHebdoGB!BD36","v":-0.18464626191670844}]
[null,33,4.1100000000000003,3.92,3.56,3.63,4.79,4.16,5.48,3.56,3.26,5.07,4.0999999999999996,null,null,2.73,33,null,2.4096385542168161E-3,{"$f":"(H49-GrosBovins2020!H49)/GrosBovins2020!H49","v":1.7114914425427941E-2},{"$f":"(H49-MoyQuinqHebdoGB!AL37)/MoyQuinqHebdoGB!AL37","v":-0.15447154471544711},3.0769230769230114E-3,{"$f":"(K49-GrosBovins2020!K49)/GrosBovins2020!K49","v":0.13194444444444442},{"$f":"(K49-MoyQuinqHebdoGB!BD37)/MoyQuinqHebdoGB!BD37","v":-0.18703241895261846}]
["A",34,4.1399999999999997,3.96,3.6,3.64,4.78,4.1900000000000004,5.43,3.58,3.29,5.13,4.1399999999999997,null,null,2.73,34,null,{"$f":"(H50-H49)/H49","v":7.2115384615385209E-3},{"$f":"(H50-GrosBovins2020!H50)/GrosBovins2020!H50","v":2.6960784313725568E-2},{"$f":"(H50-MoyQuinqHebdoGB!AL38)/MoyQuinqHebdoGB!AL38","v":-0.15113452188006474},{"$f":"(K50-K49)/K49","v":9.2024539877301383E-3},{"$f":"(K50-GrosBovins2020!K50)/GrosBovins2020!K50","v":0.14236111111111116},{"$f":"(K50-MoyQuinqHebdoGB!BD38)/MoyQuinqHebdoGB!BD38","v":-0.184836471754212}]
[null,35,4.1500000000000004,3.98,3.6,3.65,4.8899999999999997,4.21,5.49,3.58,3.3,5.1100000000000003,4.1900000000000004,null,null,2.76,35,null,4.773269689737368E-3,{"$f":"(H51-GrosBovins2020!H51)/GrosBovins2020!H51","v":2.6829268292683006E-2},{"$f":"(H51-MoyQuinqHebdoGB!AL39)/MoyQuinqHebdoGB!AL39","v":-0.1508672851956433},3.0395136778114855E-3,{"$f":"(K51-GrosBovins2020!K51)/GrosBovins2020!K51","v":0.14583333333333331},{"$f":"(K51-MoyQuinqHebdoGB!BD39)/MoyQuinqHebdoGB!BD39","v":-0.1851851851851852}]
[null,36,4.17,4.0199999999999996,3.6,3.66,4.87,4.21,5.44,3.59,3.31,5.13,4.17,null,null,2.76,36,null,0,{"$f":"(H52-GrosBovins2020!H52)/GrosBovins2020!H52","v":3.1862745098039186E-2},{"$f":"(H52-MoyQuinqHebdoGB!AL40)/MoyQuinqHebdoGB!AL40","v":-0.15120967741935468},3.0303030303031006E-3,{"$f":"(K52-GrosBovins2020!K52)/GrosBovins2020!K52","v":0.14532871972318337},{"$f":"(K52-MoyQuinqHebdoGB!BD40)/MoyQuinqHebdoGB!BD40","v":-0.18392504930966469}]
[null,37,4.1900000000000004,4.01,3.61,3.68,4.78,4.2300000000000004,5.43,3.6,3.31,5.04,4.1900000000000004,null,null,2.76,37,null,4.750593824228138E-3,{"$f":"(H53-GrosBovins2020!H53)/GrosBovins2020!H53","v":3.9312039312039346E-2},{"$f":"(H53-MoyQuinqHebdoGB!AL41)/MoyQuinqHebdoGB!AL41","v":-0.14614452967299138},0,{"$f":"(K53-GrosBovins2020!K53)/GrosBovins2020!K53","v":0.14930555555555561},{"$f":"(K53-MoyQuinqHebdoGB!BD41)/MoyQuinqHebdoGB!BD41","v":-0.18271604938271599}]
[null,38,4.2,4.03,3.6,3.66,4.84,4.21,5.5,3.6,3.31,5.0999999999999996,4.16,null,null,2.8,38,null,-4.7281323877069641E-3,{"$f":"(H54-GrosBovins2020!H54)/GrosBovins2020!H54","v":3.1862745098039186E-2},{"$f":"(H54-MoyQuinqHebdoGB!AL42)/MoyQuinqHebdoGB!AL42","v":-0.14949494949494938},0,{"$f":"(K54-GrosBovins2020!K54)/GrosBovins2020!K54","v":0.14930555555555561},{"$f":"(K54-MoyQuinqHebdoGB!BD42)/MoyQuinqHebdoGB!BD42","v":-0.17988107036669962}]
["S",39,4.22,4.05,3.66,3.68,4.8899999999999997,4.21,5.51,3.6,3.31,5.1100000000000003,4.17,null,null,2.8,39,null,0,{"$f":"(H55-GrosBovins2020!H55)/GrosBovins2020!H55","v":2.9339853300733524E-2},{"$f":"(H55-MoyQuinqHebdoGB!AL43)/MoyQuinqHebdoGB!AL43","v":-0.14983844911147012},0,{"$f":"(K55-GrosBovins2020!K55)/GrosBovins2020!K55","v":0.14930555555555561},{"$f":"(K55-MoyQuinqHebdoGB!BD43)/MoyQuinqHebdoGB!BD43","v":-0.17702635504724021}]
[null,40,4.26,4.07,3.62,3.67,4.84,4.2300000000000004,5.43,3.6,3.3,5.1100000000000003,4.16,null,null,2.82,40,null,4.750593824228138E-3,{"$f":"(H56-GrosBovins2020!H56)/GrosBovins2020!H56","v":3.9312039312039346E-2},{"$f":"(H56-MoyQuinqHebdoGB!AL44)/MoyQuinqHebdoGB!AL44","v":-0.14786462530217565},-3.0211480362538463E-3,{"$f":"(K56-GrosBovins2020!K56)/GrosBovins2020!K56","v":0.14583333333333331},{"$f":"(K56-MoyQuinqHebdoGB!BD44)/MoyQuinqHebdoGB!BD44","v":-0.17541229385307347}]
[null,41,4.28,4.0999999999999996,3.65,3.66,4.79,4.21,5.49,3.61,3.31,5.0599999999999996,4.1500000000000004,null,null,2.82,41,null,-4.7281323877069641E-3,{"$f":"(H57-GrosBovins2020!H57)/GrosBovins2020!H57","v":3.4398034398034315E-2},{"$f":"(H57-MoyQuinqHebdoGB!AL45)/MoyQuinqHebdoGB!AL45","v":-0.15155179363160029},3.0303030303031006E-3,{"$f":"(K57-GrosBovins2020!K57)/GrosBovins2020!K57","v":0.15331010452961671},{"$f":"(K57-MoyQuinqHebdoGB!BD45)/MoyQuinqHebdoGB!BD45","v":-0.16917670682730912}]
[null,42,4.32,4.1399999999999997,3.67,3.7,4.92,4.2300000000000004,5.5,3.63,3.34,5.0599999999999996,4.1900000000000004,null,null,2.82,42,null,4.750593824228138E-3,{"$f":"(H58-GrosBovins2020!H58)/GrosBovins2020!H58","v":3.1707317073170926E-2},{"$f":"(H58-MoyQuinqHebdoGB!AL46)/MoyQuinqHebdoGB!AL46","v":-0.14889336016096583},9.0634441087612694E-3,{"$f":"(K58-GrosBovins2020!K58)/GrosBovins2020!K58","v":0.16783216783216784},{"$f":"(K58-MoyQuinqHebdoGB!BD46)/MoyQuinqHebdoGB!BD46","v":-0.15869017632241811}]
["O",43,4.3600000000000003,4.2,3.69,3.7,4.87,4.26,5.48,3.65,3.35,5.14,4.1900000000000004,null,null,2.82,43,null,7.0921985815601317E-3,{"$f":"(H59-GrosBovins2020!H59)/GrosBovins2020!H59","v":4.1564792176039103E-2},{"$f":"(H59-MoyQuinqHebdoGB!AL47)/MoyQuinqHebdoGB!AL47","v":-0.14112903225806456},2.9940119760479733E-3,{"$f":"(K59-GrosBovins2020!K59)/GrosBovins2020!K59","v":0.16724738675958187},{"$f":"(K59-MoyQuinqHebdoGB!BD47)/MoyQuinqHebdoGB!BD47","v":-0.15103902686264573}]
[null,44,4.41,4.25,3.7,3.73,4.95,4.2699999999999996,5.52,3.66,3.38,5.13,4.2300000000000004,null,null,2.82,44,null,2.347417840375537E-3,{"$f":"(H60-GrosBovins2020!H60)/GrosBovins2020!H60","v":4.9140049140048964E-2},{"$f":"(H60-MoyQuinqHebdoGB!AL48)/MoyQuinqHebdoGB!AL48","v":-0.13945989520354715},8.9552238805969565E-3,{"$f":"(K60-GrosBovins2020!K60)/GrosBovins2020!K60","v":0.18596491228070167},{"$f":"(K60-MoyQuinqHebdoGB!BD48)/MoyQuinqHebdoGB!BD48","v":-0.13687436159346264}]
[null,45,4.46,4.29,3.7,3.75,4.8499999999999996,4.3099999999999996,5.56,3.69,3.4,5.18,4.2300000000000004,null,null,2.82,45,null,9.3676814988290485E-3,{"$f":"(H61-GrosBovins2020!H61)/GrosBovins2020!H61","v":6.1576354679802964E-2},{"$f":"(H61-MoyQuinqHebdoGB!AL49)/MoyQuinqHebdoGB!AL49","v":-0.12999596285829637},5.9171597633136145E-3,{"$f":"(K61-GrosBovins2020!K61)/GrosBovins2020!K61","v":0.20567375886524827},{"$f":"(K61-MoyQuinqHebdoGB!BD49)/MoyQuinqHebdoGB!BD49","v":-0.12596401028277629}]
[null,46,4.49,4.34,3.74,3.74,4.8899999999999997,4.32,5.53,3.71,3.43,5.17,4.26,null,null,2.82,46,null,2.3201856148493448E-3,{"$f":"(H62-GrosBovins2020!H62)/GrosBovins2020!H62","v":6.142506142506142E-2},{"$f":"(H62-MoyQuinqHebdoGB!AL50)/MoyQuinqHebdoGB!AL50","v":-0.12973408541498793},8.8235294117647786E-3,{"$f":"(K62-GrosBovins2020!K62)/GrosBovins2020!K62","v":0.23826714801444049},{"$f":"(K62-MoyQuinqHebdoGB!BD50)/MoyQuinqHebdoGB!BD50","v":-0.11047717842323655}]
["N",47,4.53,4.3899999999999997,3.74,3.77,4.84,4.32,5.54,3.73,3.45,5.14,4.28,null,null,2.82,47,null,0,{"$f":"(H63-GrosBovins2020!H63)/GrosBovins2020!H63","v":6.9306930693069368E-2},{"$f":"(H63-MoyQuinqHebdoGB!AL51)/MoyQuinqHebdoGB!AL51","v":-0.12691996766370237},5.8309037900874687E-3,{"$f":"(K63-GrosBovins2020!K63)/GrosBovins2020!K63","v":0.25912408759124084},{"$f":"(K63-MoyQuinqHebdoGB!BD51)/MoyQuinqHebdoGB!BD51","v":-9.9686847599164852E-2}]
[null,48,4.57,4.41,3.74,3.78,4.84,4.3499999999999996,5.47,3.74,3.45,5.22,4.28,null,null,2.82,48,null,6.9444444444442957E-3,{"$f":"(H64-GrosBovins2020!H64)/GrosBovins2020!H64","v":7.4074074074074028E-2},{"$f":"(H64-MoyQuinqHebdoGB!AL52)/MoyQuinqHebdoGB!AL52","v":-0.12298387096774184},0,{"$f":"(K64-GrosBovins2020!K64)/GrosBovins2020!K64","v":0.2637362637362638},{"$f":"(K64-MoyQuinqHebdoGB!BD52)/MoyQuinqHebdoGB!BD52","v":-9.2105263157894648E-2}]
[null,49,4.59,4.4000000000000004,3.76,3.78,5.25,4.3499999999999996,5.62,3.73,3.46,5.24,4.32,null,null,2.79,49,null,0,{"$f":"(H65-GrosBovins2020!H65)/GrosBovins2020!H65","v":7.4074074074074028E-2},{"$f":"(H65-MoyQuinqHebdoGB!AL53)/MoyQuinqHebdoGB!AL53","v":-0.12192167945094876},2.8985507246376192E-3,{"$f":"(K65-GrosBovins2020!K65)/GrosBovins2020!K65","v":0.26739926739926739},{"$f":"(K65-MoyQuinqHebdoGB!BD53)/MoyQuinqHebdoGB!BD53","v":-8.514013749338975E-2}]
[null,50,4.59,4.41,3.78,3.79,4.96,4.3499999999999996,5.58,3.73,3.42,5.28,4.3,null,null,2.79,50,null,0,{"$f":"(H66-GrosBovins2020!H66)/GrosBovins2020!H66","v":7.6732673267326634E-2},{"$f":"(H66-MoyQuinqHebdoGB!AL54)/MoyQuinqHebdoGB!AL54","v":-0.10170366546205484},-1.1560693641618507E-2,{"$f":"(K66-GrosBovins2020!K66)/GrosBovins2020!K66","v":0.25274725274725274},{"$f":"(K66-MoyQuinqHebdoGB!BD54)/MoyQuinqHebdoGB!BD54","v":-8.5561497326203273E-2}]
[null,51,4.59,4.41,3.78,3.79,4.87,4.3600000000000003,5.56,3.73,3.41,5.13,4.29,null,null,2.79,51,null,2.2988505747127989E-3,{"$f":"(H67-GrosBovins2020!H67)/GrosBovins2020!H67","v":7.9207920792079278E-2},{"$f":"(H67-MoyQuinqHebdoGB!AL55)/MoyQuinqHebdoGB!AL55","v":-0.10056730273336767},-2.9239766081870723E-3,{"$f":"(K67-GrosBovins2020!K67)/GrosBovins2020!K67","v":0.24908424908424914},{"$f":"(K67-MoyQuinqHebdoGB!BD55)/MoyQuinqHebdoGB!BD55","v":-8.640321500334891E-2}]
["D",52,4.59,4.42,3.75,3.8,4.88,4.38,5.49,3.74,3.43,5.22,4.34,null,null,"NC",52,null,4.5871559633026545E-3,{"$f":"(H68-GrosBovins2020!H68)/GrosBovins2020!H68","v":8.1481481481481502E-2},{"$f":"(H68-MoyQuinqHebdoGB!AL56)/MoyQuinqHebdoGB!AL56","v":-5.1263537906137122E-2},5.8651026392961929E-3,{"$f":"(K68-GrosBovins2020!K68)/GrosBovins2020!K68","v":0.25182481751824815},{"$f":"(K68-MoyQuinqHebdoGB!BD56)/MoyQuinqHebdoGB!BD56","v":-4.3680297397769415E-2}]
[]
[]
["3 – COTATION DES GROS BOVINS VIFS SUR LE MARCHE DE CHOLET (en Euro/Kg Net)"]
[]
[null,null,"GENISSES",null,"VACHES",null,null,null,"JEUNES BOVINS","TAUREAUX"]
["semaines","année+mois","Viande, mixte, lait","Viande, mixte, lait","Blonde","Blonde","Mixte","Lait","Viande","Viande, mixte, lait"]
[2021,null,"U","R","U","R","O","P","U","URO"]
[1,202101,4.45,4.03,4.8,4.0999999999999996,2.87,2.6,3.64]
[2,202101,4.45,4.03,4.8,4.0999999999999996,2.87,2.6,3.64]
[3,202101,4.45,4.03,4.83,4.0999999999999996,2.87,2.6,3.64,3.05]
[4,202101,4.46,4.03,4.8499999999999996,4.0999999999999996,2.87,2.6,3.66,3.05]
[5,202102,4.45,4.04,4.8499999999999996,4.0999999999999996,2.87,2.6,3.68]
[6,202102,4.45,4.05,4.88,4.1500000000000004,2.87,2.6,3.71]
[7,202102,4.45,4.05,4.9000000000000004,4.1500000000000004,2.9,2.63,3.75,3.05]
[8,202102,4.46,4.0599999999999996,4.95,4.1500000000000004,2.9,2.65,3.77]
[9,202103,4.46,4.0599999999999996,4.97,4.1500000000000004,2.9,2.67,3.8]
[10,202103,4.47,4.0599999999999996,5,4.1500000000000004,2.95,2.72,3.83]
[11,202103,4.49,4.0599999999999996,5,4.1500000000000004,2.98,2.77,3.86]
[12,202103,4.5,4.0599999999999996,5,4.1500000000000004,3,2.79,3.88,3.05]
[13,202103,4.5199999999999996,4.0599999999999996,5.05,4.1500000000000004,3.02,2.8,3.9]
[14,202104,4.5199999999999996,4.09,5.05,4.1500000000000004,3.02,2.8,3.9]
[15,202104,4.53,4.09,5.05,4.1500000000000004,3.02,2.8,3.9,3.08]
[16,202104,4.53,4.09,5.05,4.1500000000000004,3.02,2.8,3.9,3.08]
[17,202104,4.53,4.09,5.05,4.1500000000000004,3.02,2.8,3.88,3.08]
[18,202105,4.53,4.09,5.05,4.1500000000000004,3.02,2.8,3.86]
[19,202105,4.53,4.09,5.05,4.1500000000000004,3.05,2.8,3.86]
[20,202105,4.53,4.0999999999999996,5.0999999999999996,4.1500000000000004,3.05,2.82,3.86]
[21,202105,4.53,4.0999999999999996,5.0999999999999996,4.1500000000000004,3.07,2.85,3.86,3.08]
[22,202106,4.53,4.0999999999999996,5.0999999999999996,4.17,3.1,2.88,3.86,3.1]
[23,202106,4.53,4.0999999999999996,5.0999999999999996,4.17,3.1,2.9,3.86]
[24,202106,4.53,4.0999999999999996,5.0999999999999996,4.17,3.1,2.9,3.86]
[25,202106,4.53,4.0999999999999996,5.0999999999999996,4.17,3.1,2.9,3.86]
[26,202106,4.53,4.0999999999999996,5.0999999999999996,4.17,3.15,2.93,3.86]
[27,202107,4.53,4.0999999999999996,5.0999999999999996,4.17,3.2,2.98,3.88]
[28,202107,4.53,4.0999999999999996,5.0999999999999996,4.17,3.2,2.98,3.9]
[29,202107,4.53,4.0999999999999996,5.0999999999999996,4.17,3.2,2.98,3.9]
[30,202107,4.53,4.0999999999999996,5.0999999999999996,4.17,3.23,3.01,3.93]
[31,202108,null,null,5.0999999999999996,4.17,3.25,3.03,3.96,3.1]
[32,202108,null,null,5.0999999999999996,4.17,3.27,3.05,3.98,3.1]
[33,202108,null,null,5.0999999999999996,4.17,3.3,3.08,4]
[34,202108,4.57,4.1399999999999997,5.15,4.2,3.35,3.12,4.03]
[35,202109,4.57,4.1399999999999997,5.15,4.22,3.38,3.15,4.05,3.15]
[36,202109,4.57,4.1399999999999997,5.15,4.22,3.38,3.15,4.05]
[37,202109,4.58,4.1399999999999997,5.15,4.22,3.4,3.15,4.07]
[38,202109,4.58,4.1399999999999997,5.15,4.22,3.4,3.15,4.0999999999999996]
[39,202109,4.58,4.1399999999999997,5.15,4.22,3.4,3.15,4.0999999999999996]
[40,202110,4.58,4.1399999999999997,5.15,4.22,3.4,3.15,4.12]
[41,202110,4.58,4.1399999999999997,5.15,4.22,3.4,3.15,4.1500000000000004]
[42,202110,4.6100000000000003,4.1399999999999997,5.15,4.22,3.43,3.18,4.18]
[43,202110,4.63,4.16,5.15,4.22,3.45,3.2,4.2]
[44,202111,4.6399999999999997,4.18,5.15,4.25,3.45,3.2,4.25]
[45,202111,4.6500000000000004,4.1900000000000004,5.15,4.25,3.45,3.23,4.3]
[46,202111,4.67,4.21,5.15,4.25,3.48,3.26,4.3499999999999996]
[47,202111,4.68,4.22,5.15,4.25,3.53,3.28,4.4000000000000004]
[48,202112,4.71,4.25,5.15,4.25,3.55,3.28,4.4000000000000004]
[49,202112,4.71,4.25,5.15,4.25,3.58,3.28,4.4000000000000004]
[50,202112,4.71,4.25,5.15,4.25,3.61,3.28,4.4000000000000004,3.3]
[51,202112,4.71,4.25,5.15,4.25,3.6,3.28,4.4000000000000004,3.3]
[52,202112,4.71,4.25,5.15,4.25,3.6,3.28,4.4000000000000004]

{"sheet":"GrosBovins2020","index":11,"n_rows":129,"n_cols":17,"rows_kept":129,"cut":false,"hidden":false,"merged":[[13,16,15,16],[14,2,14,3],[14,6,14,7],[14,11,14,12],[73,2,73,3],[73,4,73,7],[13,2,13,4],[13,6,13,10],[13,11,13,12]]}
["COTATIONS DES GROS BOVINS"]
["Source : DRAAF Pays de la Loire - SRISE - FranceAgriMer",null,null,null,null,null,null,null,null,null,"mise à jour : 06/01/2021"]
[]
[]
["1 – COTATION REGIONALE GRAND OUEST ENTREE ABATTOIR en €/Kg net"]
[]
["2 – MOYENNE NATIONALE DES BOVINS MAIGRES DESTINES A L'ENGRAISSEMENT CHAROLAIS MALE de 6-12 mois catégorie U (300kg) en €/kg vif"]
[]
["3 – OTATION DES GROS BOVINS VIFS SUR LE MARCHE DE CHOLET (en Euro/Kg Net) – à partir de la ligne 72"]
[]
[null,null,null,null,null,null,null,null,null,null,null,null,null,null,null,"2 – COT. HEBDO"]
[null,null,null,"1 – COTATION REGIONALE ENTREE ABATTOIR GRAND OUEST FRANCEAGRIMER-HEBDOMADAIRE (€/Kg net)",null,null,null,null,null,null,null,null,null,null,null,"MAIGRE   €/kg vif"]
[null,null,null,null,null,null,null,null,null,null,null,null,null,null,null,"Ref. nationale"]
["Année","Sem.","JEUNES BOVINS",null,null,"BOEUFS","VACHES",null,null,null,null,"GENISSES",null,null,null,"Charolais Mâles","Sem."]
[null,null,"VIANDE",null,"MIXTE","MIXTE","VIANDE",null,"Blonde","MIXTE","LAIT","VIANDES + 350kg"]
[null,null,"U","R","O","O","U","R","U","O","P","U","R",null,null,"6/12 mois  ( U )"]
[2020,1,4.07,3.9,3.46,3.22,4.42,3.72,5.0999999999999996,3.14,2.54,4.63,3.8,null,null,2.69,1]
[null,2,4.07,3.91,3.51,3.25,4.37,3.75,5.07,3.15,2.57,4.63,3.84,null,null,2.69,2]
[null,3,4.07,3.9,3.49,3.24,4.38,3.72,5.04,3.16,2.56,4.7,3.85,null,null,2.69,3]
[null,4,4.07,3.89,3.52,3.23,4.3600000000000003,3.71,5.05,3.15,2.5499999999999998,4.7,3.81,null,null,2.69,4]
["J",5,4.0599999999999996,3.88,3.52,3.22,4.4400000000000004,3.72,5.0199999999999996,3.14,2.54,4.6399999999999997,3.82,null,null,2.69,5]
[null,6,4.05,3.88,3.51,3.25,4.46,3.73,5.0599999999999996,3.13,2.5299999999999998,4.62,3.81,null,null,2.69,6]
[null,7,4.04,3.85,3.49,3.22,4.46,3.7,5.0199999999999996,3.14,2.5499999999999998,4.6100000000000003,3.81,null,null,2.69,7]
[null,8,4.01,3.84,3.49,3.25,4.4000000000000004,3.72,5,3.16,2.58,4.5999999999999996,3.83,null,null,2.72,8]
["F",9,4,3.84,3.51,3.26,4.42,3.75,5.14,3.16,2.62,4.6900000000000004,3.82,null,null,2.75,9]
[null,10,4,3.82,3.53,3.27,4.4400000000000004,3.77,5.03,3.18,2.66,4.67,3.84,null,null,2.75,10]
[null,11,3.98,3.81,3.5,3.28,4.43,3.78,5.14,3.18,2.66,4.6399999999999997,3.84,null,null,2.78,11]
[null,12,3.96,3.78,3.55,3.27,4.49,3.78,5.12,3.18,2.67,4.6500000000000004,3.85,null,null,2.8,12]
["M",13,3.94,3.77,3.47,3.25,4.4400000000000004,3.74,5.17,3.17,2.68,4.7300000000000004,3.85,null,null,2.8,13]
[null,14,3.9,3.73,3.43,3.19,4.5,3.74,5.17,3.09,2.66,4.78,3.84,null,null,2.82,14]
[null,15,3.88,3.69,3.35,3.08,4.45,3.72,5.0999999999999996,3.04,2.64,4.7,3.82,null,null,2.82,15]
[null,16,3.86,3.71,3.36,3.07,4.51,3.72,5.05,3.01,2.64,4.7699999999999996,3.86,null,null,2.82,16]
[null,17,3.85,3.69,3.34,3.07,4.42,3.71,5.12,3.01,2.67,4.75,3.82,null,null,2.84,17]
["A",18,3.85,3.68,3.37,3.11,4.3899999999999997,3.75,5.0599999999999996,3.03,2.71,4.8099999999999996,3.82,null,null,2.84,18]
[null,19,3.85,3.7,3.34,3.11,4.47,3.76,5.1100000000000003,3.05,2.74,4.68,3.84,null,null,2.84,19]
[null,20,3.84,3.69,3.37,3.14,4.57,3.8,5.12,3.08,2.79,4.71,3.87,null,null,2.84,20]
[null,21,3.84,3.68,3.38,3.16,4.49,3.82,5.08,3.12,2.83,4.76,3.87,null,null,2.84,21]
["M",22,3.85,3.69,3.41,3.2,4.5999999999999996,3.88,5.0999999999999996,3.15,2.86,4.79,3.97,null,null,2.84,22]
[null,23,3.84,3.72,3.37,3.22,4.59,3.95,5.16,3.18,2.87,4.83,3.98,null,null,2.84,23]
[null,24,3.85,3.72,3.39,3.23,4.53,4.01,5.17,3.18,2.88,4.7300000000000004,4.05,null,null,2.84,24]
[null,25,3.85,3.71,3.4,3.23,4.62,4.03,5.16,3.18,2.88,4.8600000000000003,4.07,null,null,2.82,25]
["J",26,3.85,3.72,3.39,3.23,4.5999999999999996,4.07,5.13,3.19,2.87,4.97,4.05,null,null,2.82,26]
[null,27,3.85,3.71,3.4,3.23,4.59,4.05,5.13,3.19,2.87,4.79,4.08,null,null,2.8,27]
[null,28,3.85,3.7,3.37,3.22,4.5599999999999996,4.0599999999999996,5.16,3.19,2.88,4.84,4.09,null,null,2.8,28]
[null,29,3.86,3.69,3.37,3.24,4.53,4.09,5.2,3.2,2.88,4.79,4.0999999999999996,null,null,2.8,29]
[null,30,3.85,3.69,3.38,3.24,4.5199999999999996,4.08,5.19,3.21,2.88,4.87,4.0599999999999996,null,null,2.8,30]
["J",31,3.85,3.68,3.37,3.24,4.5199999999999996,4.07,5.24,3.21,2.88,4.8099999999999996,4.09,null,null,2.77,31]
[null,32,3.83,3.66,3.35,3.24,4.59,4.08,5.13,3.2,2.87,4.93,4.0599999999999996,null,null,2.77,32]
[null,33,3.82,3.66,3.35,3.24,4.46,4.09,5.16,3.21,2.88,4.83,4.03,null,null,2.77,33]
[null,34,3.81,3.66,3.34,3.25,4.57,4.08,5.24,3.21,2.88,4.83,4.03,null,null,2.72,34]
["A",35,3.81,3.65,3.34,3.23,4.5199999999999996,4.0999999999999996,5.23,3.21,2.88,4.88,4.04,null,null,2.69,35]
[null,36,3.8,3.65,3.35,3.24,4.5999999999999996,4.08,5.16,3.21,2.89,4.8499999999999996,4.03,null,null,2.69,36]
[null,37,3.82,3.63,3.36,3.26,4.75,4.07,5.22,3.22,2.88,4.87,4.04,null,null,2.69,37]
[null,38,3.79,3.63,3.33,3.25,4.71,4.08,5.26,3.22,2.88,4.84,4.0199999999999996,null,null,2.69,38]
[null,39,3.79,3.65,3.3,3.24,4.62,4.09,5.14,3.22,2.88,4.84,4.07,null,null,2.67,39]
["S",40,3.8,3.65,3.3,3.25,4.58,4.07,5.19,3.21,2.88,4.9000000000000004,4.04,null,null,2.67,40]
[null,41,3.79,3.62,3.32,3.25,4.57,4.07,5.17,3.21,2.87,4.8499999999999996,4.03,null,null,2.67,41]
[null,42,3.78,3.62,3.33,3.22,4.68,4.0999999999999996,5.14,3.21,2.86,4.8600000000000003,4.0199999999999996,null,null,2.64,42]
[null,43,3.79,3.6,3.35,3.25,4.53,4.09,5.19,3.21,2.87,4.83,4.0199999999999996,null,null,2.62,43]
["O",44,3.8,3.6,3.34,3.24,4.58,4.07,5.22,3.19,2.85,4.8099999999999996,4.01,null,null,2.62,44]
[null,45,3.78,3.61,3.35,3.23,4.53,4.0599999999999996,5.0999999999999996,3.18,2.82,4.91,3.95,null,null,2.62,45]
[null,46,3.77,3.61,3.37,3.19,4.59,4.07,5.2,3.13,2.77,4.8499999999999996,4,null,null,2.62,46]
[null,47,3.78,3.61,3.33,3.15,4.45,4.04,5.24,3.08,2.74,4.8600000000000003,4.01,null,null,2.62,47]
["N",48,3.79,3.62,3.36,3.14,4.5599999999999996,4.05,5.22,3.06,2.73,4.87,4.0199999999999996,null,null,2.62,48]
[null,49,3.8,3.61,3.38,3.13,4.57,4.05,5.22,3.04,2.73,4.84,4.0199999999999996,null,null,2.62,49]
[null,50,3.79,3.62,3.41,3.15,4.79,4.04,5.33,3.04,2.73,5,4.01,null,null,2.62,50]
[null,51,3.8,3.63,3.37,3.13,4.75,4.04,5.24,3.06,2.73,4.9000000000000004,4.03,null,null,2.62,51]
[null,52,3.82,3.65,3.35,3.13,4.5,4.05,5.21,3.07,2.74,4.9400000000000004,3.97,null,null,2.62,52]
["D",53,3.82,3.66,3.37,3.13,4.5599999999999996,4.04,5.19,3.07,2.75,4.8099999999999996,4.03,null,null,2.62,53]
[]
[]
["3 – COTATION DES GROS BOVINS VIFS SUR LE MARCHE DE CHOLET (en Euro/Kg Net)"]
[]
[null,null,"GENISSES",null,"VACHES",null,null,null,"JEUNES BOVINS","TAUREAUX"]
["semaines","année+mois","Viande, mixte, lait","Viande, mixte, lait","Blonde","Blonde","Mixte","Lait","Viande","Viande, mixte, lait"]
[2020,null,"U","R","U","R","O","P","U","URO"]
[1,202001,4.29,3.72,4.7,3.9,3.05,2.4,3.93]
[2,202001,4.29,3.72,4.7,3.9,3.05,2.4,3.93]
[3,202001,4.29,3.74,4.7,3.9,3.05,2.4,3.93]
[4,202001,4.29,3.74,4.7,3.9,3.05,2.38,3.91]
[5,202001,4.29,3.76,4.7,3.92,3.05,2.38,3.89]
[6,202002,4.29,3.77,4.7,3.92,3.05,2.4,3.87]
[7,202002,4.29,3.78,4.7,3.92,3.05,2.4300000000000002,3.87]
[8,202002,4.29,3.8,4.7,3.92,3.08,2.46,3.83]
[9,202002,4.29,3.81,4.7,3.92,3.08,2.4900000000000002,3.82]
[10,202003,4.3,3.82,4.7,3.92,3.08,2.52,3.81]
[11,202003,4.3,3.82,4.7,3.92,3.08,2.52,3.81]
[12,202003]
[13,202003]
[14,202004]
[15,202004]
[16,202004]
[17,202004,4.26,3.78,4.7,3.85,2.87,2.56,3.75,3]
[18,202004,4.26,3.78,4.7,3.85,2.87,2.58,3.75,3.02]
[19,202005]
[20,202005]
[21,202005]
[22,202005]
[23,202006,4.38,3.93,4.75,4.05,3,2.77,3.75]
[24,202006,4.43,4.01,4.8,4.0999999999999996,3,2.77,3.75,3.02]
[25,202006,4.46,4.04,4.8,4.0999999999999996,3,2.77,3.75]
[26,202006,4.46,4.04,4.8,4.0999999999999996,3,2.74,3.75]
[27,202007,4.46,4.04,4.8,4.0999999999999996,3,2.74,3.75]
[28,202007,4.46,4.04,4.8,4.0999999999999996,3,2.74,3.75]
[29,202007,4.46,4.04,4.8,4.0999999999999996,3,2.74,3.75]
[30,202007,4.46,4.04,4.8,4.0999999999999996,3,2.74,3.75]
[31,202007,null,null,4.8,4.0999999999999996,3,2.74,3.75,3.05]
[32,202008,4.46,4.04,4.8,4.0999999999999996,3,2.74,3.72]
[33,202008,4.46,4.04,4.8,4.0999999999999996,3,2.74,3.7]
[34,202008,4.46,4.04,4.8,4.0999999999999996,3,2.74,3.68,3.05]
[35,202008,4.46,4.04,4.8,4.0999999999999996,3,2.74,3.66]
[36,202009,4.46,4.04,4.8,4.0999999999999996,3,2.74,3.66]
[37,202009,4.46,4.04,4.8,4.0999999999999996,3,2.74,3.66]
[38,202009,4.46,4.04,4.8,4.0999999999999996,3,2.74,3.66]
[39,202009,4.46,4.04,4.8,4.0999999999999996,3,2.74,3.66,3.05]
[40,202009,4.46,4.04,4.8,4.0999999999999996,3,2.74,3.66]
[41,202010,4.46,4.04,4.8,4.0999999999999996,3,2.74,3.66]
[42,202010,4.46,4.04,4.8,4.0999999999999996,3,2.74,3.66]
[43,202010,4.46,4.04,4.8,4.0999999999999996,3,2.74,3.66]
[44,202010,4.46,4.04,4.8,4.0999999999999996,3,2.74,3.66]
[45,202011,4.46,4.04,4.8,4.0999999999999996,3,2.71,3.64]
[46,202011,4.46,4.04,4.8,4.0999999999999996,2.95,2.67,3.64,3.05]
[47,202011,4.46,4.04,4.8,4.0999999999999996,2.95,2.65,3.64,3.05]
[48,202011,4.46,4.04,4.8,4.0999999999999996,2.9,2.62,3.64]
[49,202012,4.46,4.04,4.8,4.0999999999999996,2.9,2.6,3.64]
[50,202012,4.46,4.04,4.8,4.0999999999999996,2.87,2.6,3.64]
[51,202012,4.46,4.04,4.8,4.0999999999999996,2.87,2.6,3.64]
[52,202012,4.46,4.03,4.8,4.0999999999999996,2.87,2.6,3.64]
[53,202012,4.46,4.03,4.8,4.0999999999999996,2.87,2.6,3.64]

{"sheet":"GrosBovins2019","index":12,"n_rows":128,"n_cols":16,"rows_kept":128,"cut":false,"hidden":true,"merged":[[73,2,73,3],[73,4,73,7],[13,2,13,4],[13,6,13,10],[13,11,13,12],[14,2,14,3],[14,6,14,7],[14,11,14,12]]}
["COTATIONS DES GROS BOVINS"]
["Source : DRAAF Pays de la Loire - SRISE - FranceAgriMer",null,null,null,null,null,null,null,null,null,"mise à jour : 06/01/2020"]
[]
[]
["1 – COTATION REGIONALE GRAND OUEST ENTREE ABATTOIR en €/Kg net"]
[]
["2 – MOYENNE NATIONALE DES BOVINS MAIGRES DESTINES A L'ENGRAISSEMENT CHAROLAIS MALE de 6-12 mois catégorie U (300kg) en €/kg vif"]
[]
["3 – OTATION DES GROS BOVINS VIFS SUR LE MARCHE DE CHOLET (en Euro/Kg Net) – à partir de la ligne 72"]
[]
[null,null,null,null,null,null,null,null,null,null,null,null,null,null,null,"2 – COT. HEBDO"]
[null,null,null,"1 – COTATION REGIONALE ENTREE ABATTOIR GRAND OUEST FRANCEAGRIMER-HEBDOMADAIRE (€/Kg net)",null,null,null,null,null,null,null,null,null,null,null,"MAIGRE   €/kg vif"]
[null,null,null,null,null,null,null,null,null,null,null,null,null,null,null,"Ref. nationale"]
["Année","Sem.","JEUNES BOVINS",null,null,"BOEUFS","VACHES",null,null,null,null,"GENISSES",null,null,null,"Charolais Mâles"]
[null,null,"VIANDE",null,"MIXTE","MIXTE","VIANDE",null,"Blonde","MIXTE","LAIT","VIANDES + 350kg"]
[null,null,"U","R","O","O","U","R","U","O","P","U","R",null,null,"6/12 mois  ( U )"]
[2019,1,3.99,3.81,3.5,3.3,4.34,3.78,4.95,3.27,2.64,4.5999999999999996,3.86,null,null,2.73]
[null,2,3.99,3.82,3.49,3.34,4.43,3.77,5.03,3.28,2.66,4.6399999999999997,3.89,null,null,2.73]
[null,3,4,3.82,3.49,3.33,4.38,3.77,5.0199999999999996,3.28,2.67,4.6900000000000004,3.86,null,null,2.73]
[null,4,4.01,3.82,3.48,3.34,4.43,3.77,5.1100000000000003,3.28,2.68,4.7300000000000004,3.86,null,null,2.73]
["J",5,4.0199999999999996,3.85,3.52,3.36,4.3600000000000003,3.77,5.03,3.31,2.71,4.6399999999999997,3.89,null,null,2.73]
[null,6,4.0199999999999996,3.84,3.5,3.36,4.4400000000000004,3.79,5.05,3.33,2.72,4.66,3.86,null,null,2.73]
[null,7,4.0199999999999996,3.84,3.49,3.36,4.42,3.79,4.99,3.34,2.74,4.71,3.84,null,null,2.78]
[null,8,4.03,3.86,3.54,3.4,4.5,3.8,5.1100000000000003,3.37,2.76,4.74,3.86,null,null,2.78]
["F",9,4.04,3.86,3.54,3.43,4.5199999999999996,3.81,5.04,3.38,2.78,4.7,3.86,null,null,2.82]
[null,10,4.05,3.86,3.55,3.43,4.46,3.81,5.0199999999999996,3.39,2.79,4.75,3.9,null,null,2.82]
[null,11,4.03,3.85,3.52,3.44,4.62,3.83,5.14,3.42,2.8,4.79,3.87,null,null,2.87]
[null,12,4.0199999999999996,3.84,3.54,3.43,4.5199999999999996,3.84,4.99,3.43,2.81,4.74,3.88,null,null,2.87]
["M",13,4.01,3.81,3.52,3.45,4.5199999999999996,3.85,5.09,3.41,2.81,4.8099999999999996,3.88,null,null,2.87]
[null,14,3.99,3.81,3.54,3.43,4.5599999999999996,3.84,5.04,3.4,2.81,4.87,3.89,null,null,2.87]
[null,15,3.98,3.8,3.5,3.43,5.0599999999999996,3.82,5.2,3.41,2.8,4.9400000000000004,3.89,null,null,2.87]
[null,16,3.97,3.78,3.45,3.43,4.5599999999999996,3.83,5.13,3.42,2.82,4.78,3.9,null,null,2.87]
["A",17,3.97,3.78,3.43,3.45,4.57,3.85,5.12,3.44,2.84,4.8,3.94,null,null,2.87]
[null,18,3.96,3.77,3.44,3.46,4.51,3.84,5.18,3.42,2.86,4.8,3.87,null,null,2.87]
[null,19,3.96,3.77,3.42,3.45,4.63,3.85,5.05,3.43,2.88,4.7699999999999996,3.9]
[null,20,3.96,3.79,3.38,3.47,4.5199999999999996,3.87,5.13,3.45,2.9,4.72,3.93,null,null,2.92]
[null,21,3.97,3.79,3.44,3.47,4.63,3.86,5.08,3.46,2.92,4.82,3.91]
["M",22,3.97,3.79,3.41,3.49,4.59,3.86,5.08,3.46,2.92,4.78,3.88]
[null,23,3.97,3.78,3.38,3.48,4.45,3.86,5.08,3.46,2.92,4.78,3.89]
[null,24,3.96,3.77,3.41,3.44,4.51,3.93,5.09,3.45,2.91,4.75,3.93]
[null,25,3.95,3.77,3.36,3.46,4.4000000000000004,3.83,5.03,3.44,2.89,4.7699999999999996,3.84]
["J",26,3.94,3.75,3.37,3.47,4.54,3.84,5.07,3.43,2.89,4.75,3.89]
[null,27,3.94,3.76,3.33,3.44,4.51,3.84,5.07,3.44,2.89,4.72,3.89]
[null,28,3.93,3.75,3.34,3.44,4.5999999999999996,3.83,5.09,3.43,2.87,4.7,3.9]
[null,29,3.94,3.73,3.35,3.45,4.47,3.82,5.0599999999999996,3.44,2.86,4.8099999999999996,3.87]
[null,30,3.95,3.76,3.35,3.43,4.42,3.77,5.08,3.4,2.84,4.63,3.84,null,null,2.8]
["J",31,3.96,3.78,3.34,3.41,4.5199999999999996,3.79,5.05,3.37,2.8,4.66,3.87,null,null,2.8]
[null,32,3.97,3.78,3.35,3.41,4.43,3.76,5.0199999999999996,3.35,2.77,4.6900000000000004,3.83,null,null,2.8]
[null,33,3.99,3.78,3.33,3.4,4.46,3.75,5.05,3.37,2.77,4.7699999999999996,3.88,null,null,2.8]
[null,34,4,3.82,3.36,3.4,4.45,3.76,5.07,3.39,2.79,4.76,3.83,null,null,2.8]
["A",35,4.01,3.82,3.35,3.43,4.5199999999999996,3.8,5.33,3.37,2.81,4.78,3.87,null,null,2.8]
[null,36,4.0199999999999996,3.82,3.41,3.41,4.5999999999999996,3.81,5.1100000000000003,3.37,2.82,4.8,3.86,null,null,2.8]
[null,37,4.0199999999999996,3.84,3.41,3.4,4.5599999999999996,3.78,5.0999999999999996,3.35,2.82,4.8,3.84,null,null,2.77]
[null,38,4.01,3.82,3.4,3.42,4.67,3.78,5.09,3.34,2.79,4.7699999999999996,3.83,null,null,2.77]
["S",39,3.99,3.8,3.36,3.35,4.5199999999999996,3.76,5.08,3.31,2.75,4.72,3.81,null,null,2.77]
[null,40,3.98,3.8,3.4,3.34,4.63,3.75,5.16,3.28,2.71,4.75,3.83,null,null,2.76]
[null,41,3.97,3.79,3.36,3.3,4.51,3.74,5.05,3.25,2.67,4.6399999999999997,3.86,null,null,2.74]
[null,42,3.97,3.77,3.38,3.28,4.5999999999999996,3.75,5.13,3.23,2.62,4.7300000000000004,3.81,null,null,2.74]
[null,43,3.97,3.78,3.35,3.26,4.43,3.73,5.01,3.2,2.58,4.79,3.83,null,null,2.74]
["O",44,3.98,3.81,3.39,3.24,4.66,3.73,5.09,3.18,2.5499999999999998,4.7300000000000004,3.83,null,null,2.72]
[null,45,4,3.81,3.42,3.23,4.5599999999999996,3.7,5.0199999999999996,3.17,2.54,4.72,3.85,null,null,2.72]
[null,46,4.01,3.84,3.4,3.22,4.6100000000000003,3.73,5.0999999999999996,3.15,2.5299999999999998,4.6900000000000004,3.78,null,null,2.72]
[null,47,4.03,3.85,3.42,3.22,4.4400000000000004,3.72,5.07,3.14,2.52,4.6900000000000004,3.81,null,null,2.69]
["N",48,4.05,3.87,3.44,3.18,4.4400000000000004,3.71,5.0199999999999996,3.12,2.52,4.7300000000000004,3.8,null,null,2.69]
[null,49,4.07,3.9,3.43,3.19,4.54,3.7,5.13,3.12,2.52,4.67,3.84,null,null,2.69]
[null,50,4.08,3.9,3.45,3.2,4.79,3.71,5.19,3.12,2.52,4.84,3.81,null,null,2.69]
[null,51,4.08,3.9,3.46,3.21,4.43,3.71,5.12,3.13,2.5299999999999998,4.75,3.82,null,null,2.69]
["D",52,4.07,3.89,3.45,3.2,4.59,3.71,5.0599999999999996,3.14,2.54,4.74,3.83,null,null,2.69]
[]
[]
[]
["3 – COTATION DES GROS BOVINS VIFS SUR LE MARCHE DE CHOLET (en Euro/Kg Net)"]
[]
[null,null,"GENISSES",null,"VACHES",null,null,null,"JEUNES BOVINS","TAUREAUX"]
["semaines","année+mois","Viande, mixte, lait","Viande, mixte, lait","Blonde","Blonde","Mixte","Lait","Viande","Viande, mixte, lait"]
[2019,null,"U","R","U","R","O","P","U","URO"]
[1,201901,4.3099999999999996,3.72,4.5,3.78,3,2.41,3.8,2.97]
[2,201901,4.3099999999999996,3.72,4.53,3.8,3,2.44,3.8,3]
[3,201901,4.33,3.74,4.55,3.8,3,2.44,3.8,3]
[4,201901,4.34,3.78,4.58,3.85,3.05,2.4700000000000002,3.83,3.05]
[5,201901,4.34,3.78,4.58,3.85,3.05,2.4700000000000002,3.83,3.05]
[6,201902,4.34,3.8,4.58,3.9,3.08,2.5,3.85,3.05]
[7,201902,4.34,3.8,4.58,3.9,3.08,2.5,3.85,3.05]
[8,201902,4.3499999999999996,3.82,4.5999999999999996,3.9,3.1,2.5499999999999998,3.85,3.05]
[9,201902,4.3499999999999996,3.82,4.5999999999999996,3.9,3.1,2.57,3.85,3.05]
[10,201903,4.3499999999999996,3.83,4.63,3.9,3.1,2.59,3.85,3.05]
[11,201903,4.3499999999999996,3.85,4.63,3.9,3.13,2.62,3.85,3.05]
[12,201903,4.3499999999999996,3.85,4.63,3.9,3.13,2.62,3.83,3.05]
[13,201903,4.3499999999999996,3.85,4.63,3.9,3.13,2.62,3.81,3.05]
[14,201904,4.3499999999999996,3.85,4.63,3.9,3.13,2.62,3.8,3.05]
[15,201904,4.3499999999999996,3.85,4.63,3.92,3.13,2.65,3.8,3.05]
[16,201904,4.3600000000000003,3.86,4.68,3.95,3.15,2.68,3.8,3.05]
[17,201904,4.37,3.86,4.68,3.95,3.15,2.7,3.8,3.05]
[18,201905,4.37,3.86,4.68,3.95,3.15,2.72,3.8,3.05]
[19,201905,4.37,3.86,4.68,3.95,3.18,2.75,3.8,3.05]
[20,201905,4.3899999999999997,3.86,4.7,3.95,3.2,2.77,3.8,3.05]
[21,201905,4.3899999999999997,3.86,4.7,3.95,3.2,2.77,3.8,3.05]
[22,201905,4.3899999999999997,3.86,4.7300000000000004,3.95,3.2,2.8,3.8,3.05]
[23,201906,4.3899999999999997,3.86,4.7300000000000004,3.95,3.2,2.8,3.8,3.05]
[24,201906,4.3899999999999997,3.86,4.7300000000000004,3.95,3.2,2.77,3.8,3.05]
[25,201906,4.3899999999999997,3.86,4.7300000000000004,3.95,3.2,2.77,3.8,3.05]
[26,201906,4.3899999999999997,3.86,4.7300000000000004,3.95,3.2,2.77,3.8,3.05]
[27,201907,4.3899999999999997,3.84,4.7300000000000004,3.95,3.2,2.75,3.8,3.05]
[28,201907,4.3899999999999997,3.84,4.7300000000000004,3.95,3.2,2.75,3.8,3.05]
[29,201907,4.3899999999999997,3.83,4.7300000000000004,3.95,3.2,2.72,3.8,3.05]
[30,201907,4.38,3.81,4.7300000000000004,3.95,3.18,2.7,3.82,3.05]
[31,201908,4.38,3.81,4.7300000000000004,3.95,3.18,2.68,3.85,3.05]
[32,201908,4.38,3.81,4.7300000000000004,3.95,3.18,2.68,3.87,3.05]
[33,201908,4.38,3.82,4.75,3.96,3.2,2.7,3.89,3.05]
[34,201908,4.3600000000000003,3.82,4.75,3.96,3.2,2.7,3.91,3.05]
[35,201908,null,null,4.75,3.96,3.2,2.7,3.91,3.05]
[36,201909,4.3600000000000003,3.81,4.75,3.96,3.2,2.7,3.9,3.05]
[37,201909,4.3499999999999996,3.78,4.75,3.95,3.2,2.67,3.88,3.05]
[38,201909,4.33,3.74,4.75,3.95,3.18,2.64,3.86,3.05]
[39,201909,4.33,3.74,4.75,3.95,3.16,2.61,3.84,3.05]
[40,201910,4.32,3.74,4.75,3.95,3.13,2.56,3.82,3]
[41,201910,4.29,3.72,4.72,3.92,3.1,2.65,3.82,3]
[42,201910,4.29,3.72,4.72,3.92,3.1,2.5,3.82,3]
[43,201910,4.29,3.72,4.72,3.92,3.1,2.4500000000000002,3.82]
[44,201910,4.29,3.72,4.72,3.92,3.08,2.4500000000000002,3.85]
[45,201911,4.29,3.72,4.7,3.9,3.05,2.4300000000000002,3.87]
[46,201911,4.29,3.72,4.7,3.9,3.05,2.4300000000000002,3.87]
[47,201911,4.29,3.72,4.7,3.9,3.05,2.4,3.9]
[48,201911,4.29,3.72,4.7,3.9,3.05,2.4,3.93]
[49,201912,4.29,3.72,4.7,3.9,3.05,2.4,3.93]
[50,201912,4.29,3.72,4.7,3.9,3.05,2.4,3.93]
[51,201912,4.29,3.72,4.7,3.9,3.05,2.4,3.93]
[52,201912]

{"sheet":"GrosBovins 2018","index":13,"n_rows":128,"n_cols":16,"rows_kept":128,"cut":false,"hidden":true,"merged":[[73,2,73,3],[73,4,73,7],[13,2,13,4],[13,6,13,10],[13,11,13,12],[14,2,14,3],[14,6,14,7],[14,11,14,12]]}
["COTATIONS DES GROS BOVINS"]
["Source : DRAAF Pays de la Loire - SRISE - FranceAgriMer",null,null,null,null,null,null,null,null,null,"mise à jour : 07/01/2019"]
[]
[]
["1 – COTATION REGIONALE GRAND OUEST ENTREE ABATTOIR en €/Kg net"]
[]
["2 – MOYENNE NATIONALE DES BOVINS MAIGRES DESTINES A L'ENGRAISSEMENT CHAROLAIS MALE de 6-12 mois catégorie U (300kg) en €/kg vif"]
[]
["3 – COTATION DES GROS BOVINS VIFS SUR LE MARCHE DE CHOLET (en Euro/Kg Net) – à partir de la ligne 72"]
[]
[null,null,null,null,null,null,null,null,null,null,null,null,null,null,null,"2- COT. HEBDO"]
["1 – COTATION REGIONALE ENTREE ABATTOIR GRAND OUEST FRANCEAGRIMER-HEBDOMADAIRE (€/Kg net)",null,null,null,null,null,null,null,null,null,null,null,null,null,null,"MAIGRE   €/kg vif"]
[null,null,null,null,null,null,null,null,null,null,null,null,null,null,null,"Ref. nationale"]
["Année","Sem.","JEUNES BOVINS",null,null,"BOEUFS","VACHES",null,null,null,null,"GENISSES",null,null,null,"Charolais Mâles"]
[null,null,"VIANDE",null,"MIXTE","MIXTE","VIANDE",null,"Blonde","MIXTE","LAIT","VIANDES + 350kg"]
[null,null,"U","R","O","O","U","R","U","O","P","U","R",null,null,"6/12 mois  ( U )"]
[2018,1,4.2,3.98,3.62,3.31,4.4000000000000004,3.71,5.05,3.26,2.67,4.8600000000000003,3.78,null,null,2.76]
[null,2,4.18,3.96,3.64,3.3,4.3499999999999996,3.68,5.0199999999999996,3.26,2.7,4.7699999999999996,3.8,null,null,2.78]
[null,3,4.16,3.95,3.63,3.32,4.4400000000000004,3.66,5.09,3.26,2.71,4.6500000000000004,3.8,null,null,2.8]
[null,4,4.13,3.93,3.63,3.3,4.3899999999999997,3.68,5.04,3.24,2.7,4.7300000000000004,3.81,null,null,2.81]
["J",5,4.1100000000000003,3.91,3.66,3.29,4.41,3.67,4.99,3.23,2.7,4.79,3.84,null,null,2.84]
[null,6,4.09,3.87,3.65,3.27,4.38,3.65,4.96,3.23,2.71,4.6900000000000004,3.77,null,null,2.85]
[null,7,4.07,3.86,3.64,3.27,4.3899999999999997,3.63,5.04,3.25,2.74,4.66,3.8,null,null,2.85]
[null,8,4.05,3.85,3.64,3.26,4.34,3.64,4.99,3.28,2.76,4.6399999999999997,3.78,null,null,2.85]
["F",9,4.04,3.84,3.65,3.31,4.41,3.63,5.05,3.29,2.79,4.75,3.74,null,null,2.85]
[null,10,4.0599999999999996,3.88,3.67,3.32,4.4000000000000004,3.68,5.0199999999999996,3.32,2.84,4.66,3.78,null,null,2.86]
[null,11,4.07,3.89,3.68,3.34,4.49,3.68,5.0199999999999996,3.34,2.87,4.8,3.82,null,null,2.9]
[null,12,4.08,3.89,3.68,3.37,4.84,3.69,5.1100000000000003,3.34,2.88,4.91,3.8,null,null,2.9]
["M",13,4.07,3.87,3.65,3.36,4.4400000000000004,3.7,5.03,3.34,2.88,4.7,3.8,null,null,2.9]
[null,14,4.0599999999999996,3.85,3.6,3.35,4.6399999999999997,3.71,5.05,3.31,2.86,4.8099999999999996,3.77,null,null,2.92]
[null,15,4.03,3.81,3.57,3.33,4.45,3.7,5.0199999999999996,3.29,2.83,4.68,3.81,null,null,2.91]
[null,16,3.99,3.79,3.51,3.32,4.45,3.7,5.09,3.29,2.84,4.76,3.8,null,null,2.92]
["A",17,3.96,3.75,3.48,3.31,4.46,3.71,5.04,3.31,2.87,4.76,3.82,null,null,2.92]
[null,18,3.93,3.71,3.47,3.35,4.41,3.71,5.04,3.34,2.9,4.72,3.81,null,null,2.92]
[null,19,3.91,3.71,3.47,3.37,4.4400000000000004,3.72,5.14,3.36,2.94,4.75,3.81,null,null,2.92]
[null,20,3.9,3.72,3.47,3.39,4.4000000000000004,3.71,5.08,3.37,2.96,4.7300000000000004,3.82,null,null,2.96]
[null,21,3.9,3.7,3.46,3.43,4.46,3.76,5.04,3.37,2.96,4.78,3.85,null,null,2.96]
["M",22,3.91,3.71,3.44,3.43,4.37,3.75,5.14,3.38,2.97,4.82,3.82,null,null,2.97]
[null,23,3.89,3.71,3.38,3.42,4.37,3.73,5.04,3.38,2.96,4.74,3.83,null,null,2.97]
[null,24,3.89,3.69,3.36,3.42,4.42,3.73,5.0599999999999996,3.37,2.94,4.7,3.85,null,null,2.97]
[null,25,3.88,3.68,3.32,3.43,4.53,3.73,5.05,3.38,2.94,4.74,3.98,null,null,2.97]
["J",26,3.9,3.69,3.35,3.45,4.54,3.76,5.09,3.4,2.96,4.74,3.85,null,null,2.97]
[null,27,3.89,3.7,3.37,3.44,4.46,3.76,5.09,3.42,2.99,4.8,3.83,null,null,2.98]
[null,28,3.9,3.72,3.38,3.48,4.58,3.78,5.08,3.42,3.01,4.8,3.83,null,null,2.94]
[null,29,3.92,3.73,3.41,3.47,4.53,3.78,5.04,3.44,3.04,4.74,3.87,null,null,2.94]
["J",30,3.93,3.75,3.41,3.49,4.57,3.8,5.07,3.43,3.03,4.76,3.88,null,null,2.94]
[null,31,3.92,3.76,3.39,3.47,4.51,3.77,5.09,3.42,3,4.84,3.86,null,null,2.94]
[null,32,3.91,3.73,3.34,3.44,4.53,3.8,5.09,3.41,2.99,4.6900000000000004,3.89,null,null,2.94]
[null,33,3.9,3.71,3.35,3.44,4.55,3.77,5.17,3.42,2.95,4.68,3.88,null,null,2.99]
[null,34,3.9,3.71,3.34,3.45,4.54,3.81,5.07,3.43,2.96,4.8600000000000003,3.92,null,null,2.92]
["A",35,3.9,3.71,3.4,3.46,4.5599999999999996,3.81,4.9800000000000004,3.41,2.98,4.72,3.88,null,null,2.92]
[null,36,3.91,3.71,3.33,3.47,4.62,3.82,5.12,3.42,2.98,4.8,3.89,null,null,2.89]
[null,37,3.9,3.72,3.35,3.5,4.53,3.82,5.05,3.42,2.98,4.79,3.89,null,null,2.85]
[null,38,3.91,3.71,3.34,3.5,4.62,3.84,5.13,3.43,2.98,4.7,3.87,null,null,2.85]
["S",39,3.91,3.73,3.34,3.49,4.5999999999999996,3.83,5,3.42,2.98,4.75,3.89,null,null,2.83]
[null,40,3.9,3.7,3.35,3.46,4.72,3.82,5.09,3.41,2.95,4.8499999999999996,3.87,null,null,2.83]
[null,41,3.89,3.72,3.36,3.44,4.58,3.8,5.12,3.38,2.9,4.79,3.91,null,null,2.8]
[null,42,3.89,3.7,3.35,3.42,4.47,3.78,5.07,3.34,2.85,4.8099999999999996,3.86,null,null,2.8]
[null,43,3.87,3.68,3.37,3.37,4.6100000000000003,3.76,5.13,3.31,2.78,4.78,3.87,null,null,2.77]
["O",44,3.88,3.68,3.38,3.33,4.49,3.75,5.04,3.27,2.71,4.75,3.84,null,null,2.75]
[null,45,3.87,3.69,3.38,3.29,4.5,3.73,5.0599999999999996,3.25,2.65,4.7,3.84,null,null,2.73]
[null,46,3.9,3.71,3.4,3.27,4.5199999999999996,3.74,4.99,3.23,2.61,4.7699999999999996,3.83,null,null,2.73]
[null,47,3.92,3.72,3.39,3.26,4.5,3.73,5.14,3.19,2.6,4.75,3.8,null,null,2.73]
["N",48,3.94,3.76,3.43,3.26,4.42,3.75,5.0999999999999996,3.2,2.6,4.74,3.81,null,null,2.73]
[null,49,3.97,3.78,3.43,3.26,4.6900000000000004,3.75,5.19,3.21,2.61,4.8099999999999996,3.82,null,null,2.73]
[null,50,3.98,3.78,3.48,3.26,4.8099999999999996,3.75,5.12,3.23,2.6,4.92,3.84,null,null,2.73]
[null,51,3.98,3.79,3.45,3.29,4.41,3.74,5.08,3.24,2.61,4.75,3.87,null,null,2.73]
["D",52,3.98,3.81,3.45,3.3,4.46,3.76,5.07,3.25,2.62,4.7300000000000004,3.85,null,null,2.73]
[]
[]
[]
["3- COTATION DES GROS BOVINS VIFS SUR LE MARCHE DE CHOLET (en Euro/Kg Net)"]
[]
[null,null,"GENISSES",null,"VACHES",null,null,null,"JEUNES BOVINS","TAUREAUX"]
["semaines","année+mois","Viande, mixte, lait","Viande, mixte, lait","Blonde","Blonde","Mixte","Lait","Viande","Viande, mixte, lait"]
[2018,null,"U","R","U","R","O","P","U","URO"]
[1,201801,4.2699999999999996,3.62,4.42,3.65,3.07,2.41,4.03]
[2,201801,4.2699999999999996,3.6,4.42,3.65,3.07,2.41,4.01]
[3,201801,4.2699999999999996,3.6,4.42,3.65,3.07,2.41,4]
[4,201801,4.2699999999999996,3.6,4.42,3.65,3.07,2.41,4]
[5,201801,4.2699999999999996,3.59,4.42,3.65,3.07,2.41,3.98]
[6,201802,4.2699999999999996,3.59,4.42,3.59,3.07,2.41,3.96]
[7,201802,4.2699999999999996,3.6,4.42,3.65,3.1,2.44,3.94]
[8,201802,4.2699999999999996,3.63,4.42,3.67,3.13,2.4700000000000002,3.94]
[9,201802,4.29,3.66,4.42,3.7,3.15,2.5299999999999998,3.94]
[10,201803,4.3,3.7,4.42,3.7,3.2,2.58,3.95]
[11,201803,4.3,3.7,4.42,3.74,3.22,2.58,3.95]
[12,201803,4.3,3.7,4.42,3.74,3.22,2.6,3.95]
[13,201803,4.3,3.7,4.42,3.74,3.22,2.6,3.95]
[14,201804,4.3,3.68,4.4000000000000004,3.74,3.2,2.58,3.93]
[15,201804,4.3,3.68,4.4000000000000004,3.74,3.2,2.58,3.9]
[16,201804,4.3,3.68,4.4000000000000004,3.74,3.2,2.6,3.87]
[17,201804,4.3,3.68,4.4000000000000004,3.74,3.2,2.6,3.84]
[18,201805,4.3,3.71,4.4000000000000004,3.74,3.25,2.65,3.82]
[19,201805,4.33,3.73,4.43,3.76,3.28,2.68,3.82]
[20,201805,4.33,3.73,4.43,3.76,3.3,2.7,3.82]
[21,201805,4.33,3.73,4.43,3.76,3.3,2.7,3.82]
[22,201805,4.33,3.73,4.43,3.76,3.3,2.7,3.82]
[23,201806,4.33,3.72,4.43,3.76,3.28,2.68,3.8]
[24,201806,4.33,3.72,4.43,3.76,3.28,2.68,3.78]
[25,201806,4.33,3.72,4.43,3.76,3.28,2.68,3.78]
[26,201806,4.33,3.74,4.43,3.78,3.3,2.72,3.78]
[27,201807,4.33,3.74,4.43,3.78,3.33,2.76,3.78]
[28,201807,4.33,3.75,4.43,3.78,3.35,2.79,3.8]
[29,201807,4.33,3.75,4.43,3.78,3.35,2.82,3.8]
[30,201807,4.33,3.75,4.43,3.78,3.35,2.82,3.8]
[31,201808,4.33,3.75,4.43,3.78,3.32,2.8,3.8]
[32,201808,4.33,3.75,4.43,3.78,3.32,2.77,3.8]
[33,201808,4.3099999999999996,3.75,4.43,3.78,3.3,2.75,3.8]
[34,201808,4.32,3.76,4.45,3.8,3.3,2.75,3.8]
[35,201808,4.32,3.76,4.45,3.8,3.3,2.75,3.8]
[36,201809,4.32,3.76,4.5,3.8,3.3,2.78,3.8]
[37,201809,4.32,3.76,4.5,3.8,3.3,2.78,3.8]
[38,201809,4.32,3.77,4.53,3.82,3.3,2.78,3.8,3.03]
[39,201809,4.32,3.77,4.53,3.82,3.3,2.78,3.8,3.03]
[40,201810,4.32,3.77,4.53,3.82,3.27,2.75,3.8]
[41,201810,4.32,3.76,4.53,3.8,3.25,2.72,3.78]
[42,201810,4.32,3.73,4.5,3.78,3.2,2.67,3.76,2.97]
[43,201810,4.3099999999999996,3.72,4.5,3.76,3.15,2.6,3.76,2.97]
[44,201810,4.3099999999999996,3.72,4.5,3.76,3.1,2.54,3.76,2.97]
[45,201811,4.3099999999999996,3.72,4.5,3.76,3.05,2.46,3.76,2.97]
[46,201811,4.3099999999999996,3.72,4.5,3.76,3,2.41,3.76,2.97]
[47,201811,4.3099999999999996,3.72,4.5,3.76,3,2.41,3.8,2.97]
[48,201811,4.3099999999999996,3.72,4.5,3.76,3,2.41,3.8,2.97]
[49,201812,4.3099999999999996,3.7,4.5,3.76,3,2.41,3.8,2.97]
[50,201812,4.3099999999999996,3.69,4.5,3.76,3,2.41,3.8,2.97]
[51,201812]
[52,201812]

{"sheet":"GrosBovins2017","index":14,"n_rows":128,"n_cols":16,"rows_kept":128,"cut":false,"hidden":true,"merged":[[73,2,73,3],[73,4,73,7],[13,2,13,4],[13,6,13,10],[13,11,13,12],[14,2,14,3],[14,6,14,7],[14,11,14,12]]}
["COTATIONS DES GROS BOVINS"]
["Source : DRAAF Pays de la Loire - SRISE - FranceAgriMer"]
[]
[]
["1- COTATION REGIONALE GRAND OUEST ENTREE ABATTOIR en €/Kg net"]
[]
["2- MOYENNE NATIONALE DES BOVINS MAIGRES DESTINES A L'ENGRAISSEMENT CHAROLAIS MALE de 6-12 mois catégorie U (300kg)  en €/kg vif"]
[]
["3- COTATION DES GROS BOVINS VIFS SUR LE MARCHE DE CHOLET (en Euro/Kg Net) – à partir de la ligne 72"]
[]
[null,null,null,null,null,null,null,null,null,null,null,null,null,null,null," 2- COT. HEBDO"]
["1- COTATION REGIONALE ENTREE ABATTOIR GRAND OUEST FRANCEAGRIMER-HEBDOMADAIRE (€/Kg net)",null,null,null,null,null,null,null,null,null,null,null,null,null,null,"MAIGRE   €/kg vif"]
[null,null,null,null,null,null,null,null,null,null,null,null,null,null,null,"Ref. nationale"]
["Année","Sem.","JEUNES BOVINS",null,null,"BOEUFS","VACHES",null,null,null,null,"GENISSES",null,null,null,"Charolais Mâles"]
[null,null,"VIANDE",null,"MIXTE","MIXTE","VIANDE",null,"Blonde","MIXTE","LAIT","VIANDES + 350kg"]
[null,null,"U","R","O","O","U","R","U","O","P","U","R",null,null,"6/12 mois  ( U )"]
[2017,1,3.95,3.77,3.18,3.2,4.41,3.74,5.12,3.17,2.6,4.78,3.85,null,null,2.59]
[null,2,3.95,3.75,3.19,3.21,4.42,3.75,5.15,3.18,2.63,4.79,3.84,null,null,2.6]
[null,3,3.93,3.72,3.21,3.22,4.46,3.78,5.0599999999999996,3.19,2.64,4.82,3.83,null,null,2.6]
["J",4,3.92,3.72,3.2,3.22,4.3899999999999997,3.74,5.16,3.2,2.65,4.74,3.86,null,null,2.62]
[null,5,3.92,3.72,3.25,3.23,4.3899999999999997,3.77,5.05,3.23,2.67,4.6900000000000004,3.84,null,null,2.64]
[null,6,3.92,3.72,3.28,3.25,4.5599999999999996,3.77,5.2,3.24,2.69,4.78,3.84,null,null,2.67]
[null,7,3.94,3.74,3.3,3.28,4.58,3.79,5.17,3.26,2.72,4.6900000000000004,3.83,null,null,2.67]
["F",8,3.95,3.74,3.33,3.32,4.53,3.8,5.18,3.28,2.75,4.88,3.82,null,null,2.7]
[null,9,3.96,3.75,3.33,3.32,4.7300000000000004,3.81,5.16,3.3,2.78,4.8099999999999996,3.89,null,null,2.73]
[null,10,3.96,3.76,3.36,3.34,4.47,3.84,5.17,3.33,2.8,4.7699999999999996,3.9,null,null,2.75]
[null,11,3.96,3.77,3.37,3.35,4.55,3.9,5.2,3.34,2.82,4.8499999999999996,3.9,null,null,2.78]
[null,12,3.96,3.76,3.38,3.37,4.5,3.88,5.2,3.35,2.85,4.84,3.92,null,null,2.78]
["M",13,3.96,3.76,3.38,3.37,4.54,3.87,5.23,3.37,2.87,4.92,3.9,null,null,2.79]
[null,14,3.95,3.77,3.41,3.39,4.88,3.84,5.24,3.38,2.88,4.99,3.88,null,null,2.79]
[null,15,3.94,3.76,3.47,3.42,4.62,3.88,5.08,3.4,2.9,5,3.95,null,null,2.78]
[null,16,3.95,3.77,3.42,3.46,4.68,3.89,5.13,3.43,2.91,4.84,3.93,null,null,2.78]
["A",17,3.95,3.77,3.42,3.46,4.43,3.89,5.13,3.43,2.94,4.87,3.94,null,null,2.77]
[null,18,3.94,3.75,3.43,3.46,4.53,3.92,5.2,3.45,2.94,4.83,3.93,null,null,2.8]
[null,19,3.94,3.76,3.43,3.47,4.62,3.92,5.16,3.43,2.94,4.8600000000000003,3.93,null,null,2.8]
[null,20,3.95,3.74,3.43,3.47,4.6100000000000003,3.89,5.18,3.42,2.93,4.76,3.93,null,null,2.82]
["M",21,3.94,3.75,3.4,3.46,4.47,3.94,5.25,3.45,2.94,4.8899999999999997,3.95,null,null,2.83]
[null,22,3.95,3.77,3.4,3.5,4.54,3.96,5.22,3.48,2.95,4.83,3.96,null,null,2.84]
[null,23,3.95,3.77,3.4,3.51,4.54,3.93,5.15,3.47,2.96,4.87,3.96,null,null,2.84]
[null,24,3.96,3.78,3.43,3.49,4.62,3.92,5.16,3.47,2.98,4.8600000000000003,3.95,null,null,2.88]
[null,25,3.97,3.78,3.42,3.49,4.66,3.91,5.12,3.46,2.98,4.88,3.96,null,null,2.88]
["J",26,3.97,3.79,3.42,3.51,4.5599999999999996,3.9,5.16,3.47,2.96,4.8600000000000003,3.93,null,null,2.9]
[null,27,3.96,3.79,3.39,3.5,4.59,3.87,5.16,3.43,2.92,4.93,3.91,null,null,2.89]
[null,28,3.97,3.78,3.36,3.46,4.5599999999999996,3.87,5.16,3.41,2.88,4.93,3.93,null,null,2.88]
[null,29,3.97,3.81,3.38,3.46,4.53,3.85,5.19,3.39,2.86,4.8499999999999996,3.88,null,null,2.88]
["J",30,3.99,3.82,3.4,3.44,4.47,3.83,5.0999999999999996,3.43,2.86,4.74,3.88,null,null,2.88]
[null,31,4.01,3.83,3.43,3.48,4.46,3.84,5.1100000000000003,3.42,2.91,4.8,3.93,null,null,2.75]
[null,32,4.04,3.86,3.45,3.48,4.45,3.86,5.13,3.46,2.93,4.78,3.92,null,null,2.75]
[null,33,4.05,3.88,3.46,3.52,4.49,3.87,5.07,3.46,2.95,4.79,3.95,null,null,2.75]
["A",34,4.05,3.87,3.45,3.52,4.6100000000000003,3.88,5.17,3.47,2.97,4.87,3.88,null,null,2.85]
[null,35,4.07,3.86,3.47,3.5,4.59,3.86,5.14,3.47,2.98,4.8,3.88,null,null,2.85]
[null,36,4.0599999999999996,3.86,3.47,3.52,4.6500000000000004,3.85,5.0999999999999996,3.45,2.97,4.9400000000000004,3.9,null,null,2.83]
[null,37,4.07,3.85,3.48,3.5,4.6100000000000003,3.86,5.12,3.45,2.95,4.8600000000000003,3.93,null,null,2.79]
[null,38,4.07,3.88,3.47,3.48,4.63,3.84,5.09,3.44,2.93,4.8600000000000003,3.91,null,null,2.81]
["S",39,4.08,3.92,3.47,3.48,4.57,3.86,5.16,3.44,2.89,4.8099999999999996,3.94,null,null,2.8]
[null,40,4.09,3.92,3.55,3.46,4.57,3.88,5.15,3.43,2.88,4.8600000000000003,3.9,null,null,2.8]
[null,41,4.1100000000000003,3.94,3.56,3.47,4.41,3.83,5.0999999999999996,3.42,2.89,4.8499999999999996,3.89,null,null,2.79]
[null,42,4.1399999999999997,3.96,3.53,3.46,4.51,3.8,5.1100000000000003,3.44,2.91,4.8899999999999997,3.85,null,null,2.78]
["O",43,4.17,3.99,3.6,3.52,4.57,3.82,5.18,3.46,2.92,4.74,3.9,null,null,2.78]
[null,44,4.18,4.0199999999999996,3.63,3.51,4.63,3.85,5.0999999999999996,3.46,2.92,4.87,3.9,null,null,2.76]
[null,45,4.2,3.99,3.64,3.48,4.51,3.78,5.12,3.43,2.89,4.75,3.86,null,null,2.75]
[null,46,4.2,4.01,3.66,3.46,4.5,3.77,5.08,3.39,2.85,4.79,3.82,null,null,2.75]
["N",47,4.2,4.0199999999999996,3.63,3.43,4.4800000000000004,3.76,5.07,3.36,2.79,4.71,3.87,null,null,2.73]
[null,48,4.22,4.0199999999999996,3.63,3.37,4.45,3.74,5.05,3.31,2.73,4.8499999999999996,3.82,null,null,2.71]
[null,49,4.2300000000000004,4.03,3.65,3.3,4.75,3.76,5.13,3.28,2.7,4.8499999999999996,3.84,null,null,2.71]
[null,50,4.2300000000000004,4.04,3.67,3.29,4.78,3.71,5.14,3.24,2.66,4.84,3.82,null,null,2.72]
[null,51,4.2300000000000004,4.04,3.67,3.29,4.78,3.71,5.14,3.24,2.66,4.84,3.82,null,null,2.74]
["D",52,4.1900000000000004,3.99,3.62,3.28,4.51,3.69,5.05,3.28,2.66,4.8600000000000003,3.84,null,null,2.76]
[]
[]
[]
["3- COTATION DES GROS BOVINS VIFS SUR LE MARCHE DE CHOLET (en Euro/Kg Net)"]
[]
[null,null,"GENISSES",null,"VACHES",null,null,null,"JEUNES BOVINS","TAUREAUX"]
["semaines","année+mois","Viande, mixte, lait","Viande, mixte, lait","Blonde","Blonde","Mixte","Lait","Viande","Viande, mixte, lait"]
[2017,null,"U","R","U","R","O","P","U","URO"]
[1,201701,4.32,3.67,4.47,3.7,3.04,2.38,3.78]
[2,201701,4.32,3.67,4.47,3.7,3.04,2.38,3.78]
[3,201701,4.32,3.67,4.47,3.7,3.04,2.38,3.78]
[4,201701,4.32,3.68,4.47,3.7,3.06,2.38,3.8,2.75]
[5,201702,4.32,3.68,4.47,3.7,3.08,2.4,3.8,2.75]
[6,201702,4.32,3.71,4.47,3.7,3.11,2.4300000000000002,3.82,2.78]
[7,201702,4.34,3.72,4.47,3.7,3.14,2.48,3.84,2.8]
[8,201702,4.34,3.72,4.47,3.7,3.16,2.5,3.84,2.8]
[9,201703,4.34,3.72,4.47,3.7,3.18,2.5299999999999998,3.84,2.8]
[10,201703,4.3499999999999996,3.75,4.47,3.74,3.21,2.58,3.84,2.8]
[11,201703,4.3499999999999996,3.76,4.47,3.74,3.21,2.6,3.84,2.85]
[12,201703,4.3499999999999996,3.79,4.47,3.74,3.23,2.63,3.84,2.9]
[13,201703,4.37,3.79,4.47,3.76,3.23,2.63,3.82,2.9]
[14,201704,4.37,3.79,4.47,3.76,3.23,2.65,3.8,2.9]
[15,201704,4.37,3.79,4.47,3.76,3.25,2.67,3.8,2.9]
[16,201704,4.37,3.81,4.47,3.76,3.3,2.72,3.8,2.9]
[17,201704,4.37,3.81,4.47,3.76,3.3,2.72,3.8,2.9]
[18,201705,4.37,3.81,4.47,3.76,3.3,2.72,3.8,2.9]
[19,201705,4.37,3.8,4.47,3.76,3.3,2.72,3.8,2.9]
[20,201705,4.37,3.8,4.47,3.76,3.3,2.72,3.8,2.9]
[21,201705,4.37,3.82,4.49,3.78,3.3,2.72,3.8,2.9]
[22,201705,4.37,3.82,4.49,3.78,3.3,2.72,3.8,2.9]
[23,201706,4.37,3.82,4.49,3.78,3.3,2.72,3.8,2.9]
[24,201706,4.3499999999999996,3.79,4.49,3.75,3.3,2.72,3.8,2.9]
[25,201706,4.3499999999999996,3.75,4.49,3.75,3.28,2.72,3.8,2.9]
[26,201706,4.34,3.71,4.47,3.73,3.25,2.7,3.8,2.9]
[27,201707,4.33,3.7,4.4400000000000004,3.7,3.22,2.67,3.8,2.85]
[28,201707,4.33,3.7,4.4400000000000004,3.7,3.22,2.65,3.8,2.85]
[29,201707,4.32,3.7,4.4400000000000004,3.7,3.22,2.65,3.8,2.85]
[30,201707,4.3099999999999996,3.7,4.42,3.7,3.25,2.67,3.82,2.85]
[31,201708,4.3099999999999996,3.7,4.42,3.7,3.28,2.67,3.85,2.85]
[32,201708,4.3099999999999996,3.7,4.42,3.7,3.28,2.67,3.85,2.85]
[33,201708,4.3099999999999996,3.71,4.42,3.7,3.3,2.7,3.9,2.85]
[34,201708,4.3099999999999996,3.71,4.42,3.7,3.3,2.7,3.95,2.85]
[35,201708,4.3099999999999996,3.71,4.42,3.7,3.3,2.7,3.95,2.85]
[36,201709,4.3099999999999996,3.7,4.42,3.7,3.3,2.68,3.95,2.85]
[37,201709,4.3099999999999996,3.69,4.42,3.7,3.3,2.66,3.95,2.85]
[38,201709,4.3099999999999996,3.69,4.42,3.7,3.28,2.64,3.95,2.85]
[39,201709,4.3099999999999996,3.69,4.42,3.7,3.26,2.62,3.95,2.85]
[40,201710,4.3099999999999996,3.69,4.42,3.7,3.26,2.62,3.95,2.85]
[41,201710,4.3099999999999996,3.69,4.42,3.7,3.26,2.62,3.95,2.85]
[42,201710,4.3099999999999996,3.69,4.42,3.7,3.3,2.67,3.98,2.85]
[43,201710,4.3099999999999996,3.7,4.42,3.7,3.3,2.67,4.03,2.85]
[44,201711,4.3099999999999996,3.7,4.42,3.7,3.3,2.67,4.05,2.85]
[45,201711,4.3099999999999996,3.7,4.42,3.7,3.25,2.62,4.08,2.85]
[46,201711,4.3099999999999996,3.7,4.42,3.7,3.23,2.6,4.0999999999999996,2.85]
[47,201711,4.3099999999999996,3.67,4.42,3.7,3.2,2.5499999999999998,4.0999999999999996]
[48,201711,4.3099999999999996,3.66,4.42,3.7,3.15,2.5,4.0999999999999996]
[49,201712,4.3,3.64,4.42,3.68,3.1,2.4500000000000002,4.0999999999999996]
[50,201712,4.2699999999999996,3.64,4.42,3.68,3.07,2.41,4.07]
[51,201712]
[52,201712,4.2699999999999996,3.63,4.42,3.68,3.07,2.41,4.05]

{"sheet":"GrosBovins2016","index":15,"n_rows":68,"n_cols":51,"rows_kept":68,"cut":false,"hidden":true,"merged":[[13,43,13,44],[13,45,13,48],[14,2,14,3],[14,6,14,7],[14,11,14,12],[14,19,14,20],[14,23,14,24],[14,28,14,29],[13,2,13,4],[13,6,13,10],[13,19,13,21],[13,23,13,27],[13,33,13,34],[13,35,13,38]]}
["COTATIONS DES GROS BOVINS"]
["Source : DRAAF Pays de la Loire - SRISE - FranceAgriMer",null,null,null,null,null,null,null,null,null,"mise à jour : 13/01/2017"]
[]
[]
["COTATION REGIONALE GRAND OUEST ENTREE ABATTOIR en €/Kg net",null,null,null,null,null,null,null,null,null,null,null,null,null,null,null,null,null,null,null,null,null,null,null,null,null,null,null,null,null,null,"COTATION NATIONALE DES GROS BOVINS VIFS SUR LE MARCHE DE CHOLET (en Euro/Kg Net)"]
[]
["MOYENNE NATIONALE DES BOVINS MAIGRES DESTINES A L'ENGRAISSEMENT CHAROLAIS MALE de 6-12 mois catégorie U (300kg)  en €/kg vif"]
[]
[]
[]
[null,null,null,null,null,null,null,null,null,null,null,null,null,null,null," COT. HEBDO",null,null,null,null,null,null,null,null,null,null,null,null,null,null," COT. HEBDO"]
[null,null,null,"COTATION REGIONALE ENTREE ABATTOIR GRAND OUEST FRANCEAGRIMER-HEBDOMADAIRE (€/Kg net)",null,null,null,null,null,null,null,null,null,null,null,"MAIGRE   €/kg vif",null,null,null,null,"COTATION REGIONALE ENTREE ABATTOIR GRAND OUEST FRANCEAGRIMER-HEBDOMADAIRE (€/Kg net)",null,null,null,null,null,null,null,null,null,"MAIGRE   €/kg vif"]
[null,null,null,null,null,null,null,null,null,null,null,null,null,null,null,"Ref. nationale",null,null,null,null,null,null,null,null,null,null,null,null,null,null,"Ref. nationale"]
["Année","Sem.","JEUNES BOVINS",null,null,"BOEUFS","VACHES",null,null,null,null,"GENISSES",null,null,null,"Charolais Mâles",null,null,null,"JEUNES BOVINS",null,null,"BOEUFS","VACHES",null,null,null,null,"GENISSES",null,"Charolais Mâles",null,null,"GENISSES",null,"VACHES",null,null,null,"JEUNES BOVINS","TAUREAUX",null,null,"GENISSES",null,"VACHES",null,null,null,"JEUNES BOVINS","TAUREAUX"]
[null,null,"VIANDE",null,"MIXTE","MIXTE","VIANDE",null,"Blonde","MIXTE","LAIT","VIANDES + 350kg",null,null,null,null,null,"Année","Mois","VIANDE",null,"MIXTE","MIXTE","VIANDE",null,"Blonde","MIXTE","LAIT","VIANDES + 350kg",null,null,"semaines","année+mois","Viande, mixte, lait","Viande, mixte, lait","Blonde","Blonde","Mixte","Lait","Viande","Viande, mixte, lait",null,"année+mois","Viande, mixte, lait","Viande, mixte, lait","Blonde","Blonde","Mixte","Lait","Viande","Viande, mixte, lait"]
[null,null,"U","R","O","O","U","R","U","O","P","U","R",null,null,"6/12 mois  ( U )",null,null,null,"U","R","O","O","U","R","U","O","P","U","R","6/12 mois  ( U )",2016,null,"U","R","U","R","O","P","U","URO",null,2016,"U","R","U","R","O","P","U","URO"]
[2016,1,3.94,3.76,3.41,3.21,4.55,3.82,5.26,3.18,2.59,4.76,3.89,null,null,2.69,null,2016,"J",{"$f":"IF((C20)>0,AVERAGE(C17:C20),\"\")","v":3.9350000000000001},3.7475000000000001,3.4050000000000002,3.21,4.5225,3.7899999999999996,5.2099999999999991,3.1774999999999998,2.585,4.8049999999999997,3.8774999999999999,{"$f":"IF((P20)>0,AVERAGE(P17:P20),\"\")","v":2.72},1,201601,4.4800000000000004,3.84,4.7300000000000004,3.95,3,2.4,3.82,null,null,"J",{"$f":"IF((AH20)>0,AVERAGE(AH17:AH20),\"\")","v":4.4725000000000001},3.8174999999999999,4.7074999999999996,3.9450000000000003,3,2.4,3.8049999999999997,""]
[null,2,3.95,3.76,3.42,3.21,4.59,3.8,5.21,3.19,2.6,4.87,3.89,null,null,2.72,null,null,"F",{"$f":"IF((C24)>0,AVERAGE(C21:C24),\"\")","v":3.9075000000000002},3.7300000000000004,3.41,3.2250000000000001,4.4375,3.7699999999999996,5.1850000000000005,3.1975000000000002,2.605,4.8224999999999998,3.8474999999999997,{"$f":"IF((P24)>0,AVERAGE(P21:P24),\"\")","v":2.7524999999999999},2,201601,4.4800000000000004,3.82,4.7,3.95,3,2.4,3.8,null,null,"F",{"$f":"IF((AH24)>0,AVERAGE(AH21:AH24),\"\")","v":4.4525000000000006},3.8000000000000003,4.6500000000000004,3.9,3.0199999999999996,2.4250000000000003,3.8,""]
[null,3,3.93,3.74,3.4,3.22,4.5199999999999996,3.77,5.22,3.17,2.57,4.8099999999999996,3.87,null,null,2.73,null,null,"M",{"$f":"IF((C29)>0,AVERAGE(C25:C29),\"\")","v":3.91},3.7320000000000002,3.4299999999999997,3.3220000000000001,4.6340000000000003,3.7939999999999996,5.2859999999999996,3.2880000000000003,2.734,4.8540000000000001,3.8599999999999994,{"$f":"IF((P29)>0,AVERAGE(P25:P29),\"\")","v":2.774},3,201601,4.4800000000000004,3.82,4.7,3.95,3,2.4,3.8,null,null,"M",{"$f":"IF((AH29)>0,AVERAGE(AH25:AH29),\"\")","v":4.4640000000000004},3.8319999999999999,4.6459999999999999,3.9239999999999995,3.1119999999999997,2.5420000000000003,3.786,""]
["J",4,3.92,3.73,3.39,3.2,4.43,3.77,5.15,3.17,2.58,4.78,3.86,null,null,2.74,null,null,"A",{"$f":"IF((C33)>0,AVERAGE(C30:C33),\"\")","v":3.82},3.6425000000000001,3.3474999999999997,3.3024999999999998,4.5225,3.7324999999999999,5.2524999999999995,3.2749999999999999,2.7224999999999997,4.8000000000000007,3.8075000000000001,{"$f":"IF((P33)>0,AVERAGE(P30:P33),\"\")","v":2.7649999999999997},4,201601,4.45,3.79,4.7,3.93,3,2.4,3.8,null,null,"A",{"$f":"IF((AH33)>0,AVERAGE(AH30:AH33),\"\")","v":4.4050000000000002},3.7625000000000002,4.585,3.8874999999999997,3.1,2.5225,3.6524999999999999,""]
[null,5,3.91,3.73,3.4,3.22,4.45,3.76,5.17,3.18,2.58,4.87,3.84,null,null,2.75,null,null,"M",{"$f":"IF((C37)>0,AVERAGE(C34:C37),\"\")","v":3.72},3.5625,3.1975000000000002,3.2749999999999999,4.4325000000000001,3.6950000000000003,5.2149999999999999,3.2624999999999997,2.7250000000000001,4.7874999999999996,3.8024999999999993,{"$f":"IF((P37)>0,AVERAGE(P34:P37),\"\")","v":2.7799999999999994},5,201602,4.45,3.79,4.6500000000000004,3.9,3,2.4,3.8,null,null,"M",{"$f":"IF((AH37)>0,AVERAGE(AH34:AH37),\"\")","v":4.3849999999999998},3.73,4.5599999999999996,3.85,3.165,2.5199999999999996,3.58,""]
[null,6,3.9,3.72,3.41,3.21,4.37,3.78,5.14,3.19,2.59,4.8,3.84,null,null,2.74,null,null,"J",{"$f":"IF((C42)>0,AVERAGE(C38:C42),\"\")","v":3.7359999999999998},3.5760000000000005,3.1320000000000001,3.28,4.3499999999999996,3.6719999999999997,5.2080000000000002,3.25,2.7060000000000004,4.774,3.7659999999999996,{"$f":"IF((P42)>0,AVERAGE(P38:P42),\"\")","v":2.8340000000000001},6,201602,4.45,3.79,4.6500000000000004,3.9,3,2.4,3.8,null,null,"J",{"$f":"IF((AH42)>0,AVERAGE(AH38:AH42),\"\")","v":4.3760000000000003},3.6740000000000004,4.5599999999999996,3.8039999999999998,3.0660000000000003,2.504,3.5880000000000001,""]
[null,7,3.91,3.74,3.41,3.23,4.3899999999999997,3.77,5.19,3.2,2.61,4.78,3.86,null,null,2.76,null,null,"J",{"$f":"IF((C46)>0,AVERAGE(C43:C46),\"\")","v":3.7749999999999999},3.6524999999999999,3.05,3.2825000000000002,4.38,3.6749999999999998,5.1924999999999999,3.2649999999999997,2.7025000000000001,4.7874999999999996,3.75,{"$f":"IF((P46)>0,AVERAGE(P43:P46),\"\")","v":2.8024999999999998},7,201602,4.45,3.81,4.6500000000000004,3.9,3.03,2.4300000000000002,3.8,null,null,"J",{"$f":"IF((AH46)>0,AVERAGE(AH43:AH46),\"\")","v":4.3600000000000003},3.6349999999999998,4.5350000000000001,3.7725,3.0649999999999999,2.5299999999999998,3.6175000000000002,""]
["F",8,3.91,3.73,3.42,3.24,4.54,3.77,5.24,3.22,2.64,4.84,3.85,null,null,2.76,null,null,"A",{"$f":"IF((C50)>0,AVERAGE(C47:C50),\"\")","v":3.82},3.6549999999999994,3.0324999999999998,3.2925,4.4649999999999999,3.665,5.1675000000000004,3.26,2.6924999999999999,4.8075000000000001,3.7550000000000003,{"$f":"IF((P50)>0,AVERAGE(P47:P50),\"\")","v":2.79},8,201602,4.46,3.81,4.6500000000000004,3.9,3.05,2.4700000000000002,3.8,null,null,"A",{"$f":"IF((AH51)>0,AVERAGE(AH47:AH51),\"\")","v":4.3199999999999994},3.6119999999999997,4.5,3.726,3.0439999999999996,2.476,3.65,""]
[null,9,3.92,3.73,3.43,3.28,4.5,3.78,5.27,3.26,2.68,4.8099999999999996,3.85,null,null,2.69,null,null,"S",{"$f":"IF((C55)>0,AVERAGE(C51:C55),\"\")","v":3.7979999999999996},3.6,2.9,3.1339999999999995,4.492,3.6479999999999997,5.1740000000000004,3.1160000000000001,2.528,4.83,3.7300000000000004,{"$f":"IF((P55)>0,AVERAGE(P51:P55),\"\")","v":2.6240000000000001},9,201603,4.4800000000000004,3.83,4.6500000000000004,3.92,3.07,2.5,3.8,null,null,"S",{"$f":"IF((AH55)>0,AVERAGE(AH52:AH55),\"\")","v":4.3099999999999996},3.6,4.5,3.7,2.99,2.3699999999999997,3.65,""]
[null,10,3.92,3.73,3.42,3.29,4.5999999999999996,3.79,5.26,3.27,2.71,4.91,3.89,null,null,2.78,null,null,"O",{"$f":"IF((C59)>0,AVERAGE(C56:C59),\"\")","v":3.79},3.6025,2.9250000000000003,3.1175000000000002,4.4924999999999997,3.6950000000000003,5.1425000000000001,3.0949999999999998,2.52,4.7824999999999998,3.7350000000000003,{"$f":"IF((P59)>0,AVERAGE(P56:P59),\"\")","v":2.54},10,201603,4.4800000000000004,3.84,4.6500000000000004,3.92,3.1,2.5299999999999998,3.8,null,null,"O",{"$f":"IF((AH59)>0,AVERAGE(AH56:AH59),\"\")","v":4.3149999999999995},3.645,4.5,3.7,3.0049999999999999,2.35,3.65,""]
[null,11,3.91,3.75,3.43,3.34,4.88,3.81,5.4,3.29,2.75,4.88,3.87,null,null,2.79,null,null,"N",{"$f":"IF((C63)>0,AVERAGE(C60:C63),\"\")","v":3.8249999999999997},3.6375000000000002,3.0325000000000002,3.1575000000000002,4.5274999999999999,3.7350000000000003,5.15,3.1325000000000003,2.5700000000000003,4.7925000000000004,3.7749999999999999,{"$f":"IF((P63)>0,AVERAGE(P60:P63),\"\")","v":2.5300000000000002},11,201603,4.46,3.84,4.6500000000000004,3.92,3.13,2.56,3.8,null,null,"N",{"$f":"IF((AH64)>0,AVERAGE(AH60:AH64),\"\")","v":4.3239999999999998},3.6620000000000004,4.4819999999999993,3.7,3.0379999999999994,2.3579999999999997,3.7339999999999995,""]
[null,12,3.91,3.72,3.44,3.36,4.6399999999999997,3.8,5.28,3.31,2.76,4.87,3.85,null,null,2.8,null,null,"D",{"$f":"IF((C68)>0,AVERAGE(C64:C68),\"\")","v":3.9200000000000004},3.7340000000000004,3.1139999999999999,3.1559999999999997,4.6040000000000001,3.742,5.1660000000000004,3.1260000000000003,2.54,4.8400000000000007,3.7759999999999998,{"$f":"IF((P68)>0,AVERAGE(P64:P68),\"\")","v":2.5459999999999998},12,201603,4.46,3.84,4.6500000000000004,3.94,3.13,2.56,3.78,null,null,"D",{"$f":"IF((AH68)>0,AVERAGE(AH65:AH68),\"\")","v":4.32},3.66,4.47,3.7,3.01,2.35,3.8,""]
["M",13,3.89,3.73,3.43,3.34,4.55,3.79,5.22,3.31,2.77,4.8,3.84,null,null,2.81,null,null,null,null,null,null,null,null,null,null,null,null,null,null,null,13,201603,4.4400000000000004,3.81,4.63,3.92,3.13,2.56,3.75]
[null,14,3.87,3.7,3.41,3.34,4.58,3.77,5.29,3.31,2.76,4.7699999999999996,3.81,null,null,2.76,null,null,null,null,null,null,null,null,null,null,null,null,null,null,null,14,201604,4.42,3.79,4.5999999999999996,3.92,3.1,2.5499999999999998,3.71]
[null,15,3.84,3.66,3.38,3.32,4.55,3.75,5.27,3.3,2.74,4.78,3.81,null,null,2.77,null,null,null,null,null,null,null,null,null,null,null,null,null,null,null,15,201604,4.41,3.77,4.5999999999999996,3.9,3.1,2.52,3.67]
[null,16,3.8,3.62,3.32,3.29,4.51,3.72,5.22,3.25,2.7,4.83,3.81,null,null,2.76,null,null,null,null,null,null,null,null,null,null,null,null,null,null,null,16,201604,4.41,3.76,4.58,3.88,3.1,2.5099999999999998,3.63]
["A",17,3.77,3.59,3.28,3.26,4.45,3.69,5.23,3.24,2.69,4.82,3.8,null,null,2.77,null,null,null,null,null,null,null,null,null,null,null,null,null,null,null,17,201604,4.38,3.73,4.5599999999999996,3.85,3.1,2.5099999999999998,3.6]
[null,18,3.74,3.57,3.24,3.25,4.4000000000000004,3.68,5.24,3.24,2.69,4.78,3.82,null,null,2.76,null,null,null,null,null,null,null,null,null,null,null,null,null,null,null,18,201605,4.38,3.73,4.5599999999999996,3.85,3.2,2.5099999999999998,3.58]
[null,19,3.71,3.58,3.2,3.27,4.4000000000000004,3.7,5.25,3.27,2.72,4.84,3.8,null,null,2.78,null,null,null,null,null,null,null,null,null,null,null,null,null,null,null,19,201605,4.38,3.73,4.5599999999999996,3.85,3.2,2.5099999999999998,3.58]
[null,20,3.71,3.55,3.18,3.27,4.47,3.7,5.16,3.26,2.74,4.79,3.8,null,null,2.78,null,null,null,null,null,null,null,null,null,null,null,null,null,null,null,20,201605,4.3899999999999997,3.73,4.5599999999999996,3.85,3.13,2.5299999999999998,3.58]
["M",21,3.72,3.55,3.17,3.31,4.46,3.7,5.21,3.28,2.75,4.74,3.79,null,null,2.8,null,null,null,null,null,null,null,null,null,null,null,null,null,null,null,21,201605,4.3899999999999997,3.73,4.5599999999999996,3.85,3.13,2.5299999999999998,3.58]
[null,22,3.72,3.57,3.18,3.3,4.45,3.7,5.19,3.29,2.76,4.76,3.77,null,null,2.82,null,null,null,null,null,null,null,null,null,null,null,null,null,null,null,22,201606,4.3899999999999997,3.7,4.5599999999999996,3.82,3.1,2.5099999999999998,3.58]
[null,23,3.73,3.57,3.17,3.32,4.46,3.68,5.21,3.28,2.74,4.76,3.76,null,null,2.83,null,null,null,null,null,null,null,null,null,null,null,null,null,null,null,23,201606,4.38,3.68,4.5599999999999996,3.8,3.08,2.5099999999999998,3.58]
[null,24,3.75,3.59,3.15,3.29,4.3099999999999996,3.66,5.25,3.24,2.71,4.8,3.74,null,null,2.84,null,null,null,null,null,null,null,null,null,null,null,null,null,null,null,24,201606,4.37,3.67,4.5599999999999996,3.8,3.05,2.5,3.58]
[null,25,3.74,3.56,3.09,3.25,4.25,3.66,5.23,3.22,2.67,4.8499999999999996,3.8,null,null,2.84,null,null,null,null,null,null,null,null,null,null,null,null,null,null,null,25,201606,4.37,3.67,4.5599999999999996,3.8,3.05,2.5,3.6]
["J",26,3.74,3.59,3.07,3.24,4.28,3.66,5.16,3.22,2.65,4.7,3.76,null,null,2.84,null,null,null,null,null,null,null,null,null,null,null,null,null,null,null,26,201606,4.37,3.65,4.5599999999999996,3.8,3.05,2.5,3.6]
[null,27,3.75,3.61,3.04,3.25,4.4400000000000004,3.67,5.28,3.22,2.66,4.84,3.73,null,null,2.84,null,null,null,null,null,null,null,null,null,null,null,null,null,null,null,27,201607,4.3600000000000003,3.64,4.54,3.78,3.05,2.5,3.6]
[null,28,3.76,3.64,3.04,3.26,4.29,3.66,5.19,3.26,2.67,4.79,3.77,null,null,2.84,null,null,null,null,null,null,null,null,null,null,null,null,null,null,null,28,201607,4.3600000000000003,3.64,4.54,3.78,3.07,2.52,3.6]
[null,29,3.78,3.67,3.07,3.29,4.3600000000000003,3.68,5.14,3.28,2.72,4.72,3.74,null,null,2.78,null,null,null,null,null,null,null,null,null,null,null,null,null,null,null,29,201607,4.3600000000000003,3.64,4.54,3.78,3.07,2.5499999999999998,3.62]
["J",30,3.81,3.69,3.05,3.33,4.43,3.69,5.16,3.3,2.76,4.8,3.76,null,null,2.75,null,null,null,null,null,null,null,null,null,null,null,null,null,null,null,30,201607,4.3600000000000003,3.62,4.5199999999999996,3.75,3.07,2.5499999999999998,3.65]
[null,31,3.82,3.69,3.07,3.32,4.51,3.67,5.0999999999999996,3.31,2.75,4.71,3.79,null,null,2.75,null,null,null,null,null,null,null,null,null,null,null,null,null,null,null,31,201608,4.33,3.62,4.5,3.75,3.05,2.52,3.65]
[null,32,3.82,3.67,3.05,3.31,4.5,3.66,5.17,3.27,2.71,4.78,3.74,null,null,2.75,null,null,null,null,null,null,null,null,null,null,null,null,null,null,null,32,201608,4.33,3.62,4.5,3.75,3.05,2.5,3.65]
[null,33,3.82,3.63,3.02,3.28,4.42,3.66,5.19,3.25,2.69,4.8600000000000003,3.75,null,null,2.93,null,null,null,null,null,null,null,null,null,null,null,null,null,null,null,33,201608,4.32,3.61,4.5,3.73,3.05,2.48,3.65]
["A",34,3.82,3.63,2.99,3.26,4.43,3.67,5.21,3.21,2.62,4.88,3.74,null,null,2.73,null,null,null,null,null,null,null,null,null,null,null,null,null,null,null,34,201608,4.3099999999999996,3.61,4.5,3.7,3.05,2.46,3.65]
[null,35,3.81,3.61,2.94,3.19,4.41,3.67,5.13,3.18,2.58,4.79,3.79,null,null,2.69,null,null,null,null,null,null,null,null,null,null,null,null,null,null,null,35,201608,4.3099999999999996,3.6,4.5,3.7,3.02,2.42,3.65]
[null,36,3.8,3.61,2.91,3.15,4.59,3.65,5.17,3.13,2.54,4.91,3.72,null,null,2.66,null,null,null,null,null,null,null,null,null,null,null,null,null,null,null,36,201609,4.3099999999999996,3.6,4.5,3.7,3,2.4,3.65]
[null,37,3.79,3.6,2.87,3.13,4.4400000000000004,3.63,5.23,3.1,2.5299999999999998,4.79,3.73,null,null,2.65,null,null,null,null,null,null,null,null,null,null,null,null,null,null,null,37,201609,4.3099999999999996,3.6,4.5,3.7,3,2.38,3.65]
[null,38,3.8,3.59,2.89,3.11,4.49,3.64,5.22,3.09,2.5,4.8099999999999996,3.72,null,null,2.57,null,null,null,null,null,null,null,null,null,null,null,null,null,null,null,38,201609,4.3099999999999996,3.6,4.5,3.7,2.98,2.35,3.65]
["S",39,3.79,3.59,2.89,3.09,4.53,3.65,5.12,3.08,2.4900000000000002,4.8499999999999996,3.69,null,null,2.5499999999999998,null,null,null,null,null,null,null,null,null,null,null,null,null,null,null,39,201609,4.3099999999999996,3.6,4.5,3.7,2.98,2.35,3.65]
[null,40,3.78,3.6,2.89,3.11,4.54,3.69,5.17,3.09,2.5,4.75,3.76,null,null,2.54,null,null,null,null,null,null,null,null,null,null,null,null,null,null,null,40,201610,4.3099999999999996,3.62,4.5,3.7,2.95,2.35,3.65]
[null,41,3.78,3.59,2.91,3.11,4.43,3.68,5.12,3.08,2.5,4.79,3.73,null,null,2.54,null,null,null,null,null,null,null,null,null,null,null,null,null,null,null,41,201610,4.3099999999999996,3.64,4.5,3.7,3,2.35,3.65]
[null,42,3.8,3.59,2.93,3.11,4.54,3.7,5.18,3.09,2.52,4.79,3.74,null,null,2.5499999999999998,null,null,null,null,null,null,null,null,null,null,null,null,null,null,null,42,201610,4.3099999999999996,3.66,4.5,3.7,3.02,2.35,3.65]
["O",43,3.8,3.63,2.97,3.14,4.46,3.71,5.0999999999999996,3.12,2.56,4.8,3.71,null,null,2.5299999999999998,null,null,null,null,null,null,null,null,null,null,null,null,null,null,null,43,201610,4.33,3.66,4.5,3.7,3.05,2.35,3.65]
[null,44,3.8,3.61,3.02,3.15,4.55,3.73,5.13,3.15,2.57,4.7699999999999996,3.79,null,null,2.52,null,null,null,null,null,null,null,null,null,null,null,null,null,null,null,44,201611,4.33,3.66,4.5,3.7,3.05,2.37,3.67]
[null,45,3.81,3.62,3.02,3.16,4.55,3.74,5.13,3.13,2.59,4.78,3.75,null,null,2.54,null,null,null,null,null,null,null,null,null,null,null,null,null,null,null,45,201611,4.33,3.67,4.5,3.7,3.05,2.37,3.7]
[null,46,3.83,3.65,3.03,3.16,4.4400000000000004,3.73,5.17,3.13,2.57,4.88,3.78,null,null,2.54,null,null,null,null,null,null,null,null,null,null,null,null,null,null,null,46,201611,4.32,3.66,4.47,3.7,3.05,2.35,3.73]
["N",47,3.86,3.67,3.06,3.16,4.57,3.74,5.17,3.12,2.5499999999999998,4.74,3.78,null,null,2.52,null,null,null,null,null,null,null,null,null,null,null,null,null,null,null,47,201611,4.32,3.66,4.47,3.7,3.03,2.35,3.77]
[null,48,3.88,3.7,3.06,3.14,4.49,3.71,5.13,3.11,2.5299999999999998,4.79,3.75,null,null,2.5099999999999998,null,null,null,null,null,null,null,null,null,null,null,null,null,null,null,48,201611,4.32,3.66,4.47,3.7,3.01,2.35,3.8]
[null,49,3.91,3.72,3.09,3.14,4.71,3.76,5.19,3.11,2.52,4.88,3.77,null,null,2.5299999999999998,null,null,null,null,null,null,null,null,null,null,null,null,null,null,null,49,201612,4.32,3.66,4.47,3.7,3.01,2.35,3.8]
[null,50,3.93,3.74,3.12,3.15,4.8,3.74,5.19,3.11,2.5299999999999998,4.99,3.8,null,null,2.5499999999999998,null,null,null,null,null,null,null,null,null,null,null,null,null,null,null,50,201612,4.32,3.66,4.47,3.7,3.01,2.35,3.8]
[null,51,3.94,3.75,3.14,3.17,4.63,3.74,5.18,3.13,2.54,4.6399999999999997,3.74,null,null,2.57,null,null,null,null,null,null,null,null,null,null,null,null,null,null,null,51,201612,4.32,3.66,4.47,3.7,3.01,2.35,3.8]
["D",52,3.94,3.76,3.16,3.18,4.3899999999999997,3.76,5.14,3.17,2.58,4.9000000000000004,3.82,null,null,2.57,null,null,null,null,null,null,null,null,null,null,null,null,null,null,null,52,201612,4.32,3.66,4.47,3.7,3.01,2.35,3.8]

{"sheet":"GraphGrosBovins","index":16,"n_rows":167,"n_cols":16,"rows_kept":167,"cut":false,"hidden":false,"merged":[[152,1,152,2],[152,3,152,6],[134,2,134,4],[134,6,134,10],[134,11,134,12],[135,2,135,3],[135,6,135,7],[135,11,135,12],[51,2,51,4],[151,0,151,8],[52,2,52,12],[53,2,53,4],[53,6,53,10],[53,11,53,12],[54,2,54,3],[54,6,54,7],[54,11,54,12],[51,0,51,1]]}
[]
[]
[]
[]
[]
[]
[]
[]
[]
[]
[]
[]
[]
[]
[]
[]
[]
[]
[]
[]
[]
[]
[]
[]
[]
[]
[]
[]
[]
[]
[]
[]
[]
[]
[]
[]
[]
[]
[]
[]
[]
[]
[]
[]
[]
[]
[]
[]
[]
[]
[]
["Date de la mise à jour :",null,{"$f":"GrosBovinsAnneeEnCours!$D$11","v":"2025-11-20"},null,null,null,null,null,null,null,null,null,null,null,null," COT. HEBDO"]
[null,null,"COTATION REGIONALE ENTREE ABATTOIR GRAND OUEST FRANCEAGRIMER-HEBDOMADAIRE (€/Kg net)",null,null,null,null,null,null,null,null,null,null,null,null,"MAIGRE   €/kg vif"]
[null,null,"JEUNES BOVINS",null,null,"BOEUFS","VACHES",null,null,null,null,"GENISSES",null,null,null,"Ref. nationale"]
["Année","Mois","VIANDE",null,"MIXTE","MIXTE","VIANDE",null,"Blonde","MIXTE","LAIT","VIANDES + 350kg",null,null,null,"Charolais Mâles"]
[null,null,"U","R","O","O","U","R","U","O","P","U","R",null,null,"6/12 mois  ( U ) 350 kg"]
[2025,"J",{"$f":"IF(GrosBovinsAnneeEnCours!C21>0,AVERAGE(GrosBovinsAnneeEnCours!C17:C21),NA())","v":5.9740000000000002},{"$f":"IF(GrosBovinsAnneeEnCours!D21>0,AVERAGE(GrosBovinsAnneeEnCours!D17:D21),NA())","v":5.7900000000000009},{"$f":"IF(GrosBovinsAnneeEnCours!E21>0,AVERAGE(GrosBovinsAnneeEnCours!E17:E21),NA())","v":{"$error":"#N/A"}},{"$f":"IF(GrosBovinsAnneeEnCours!F21>0,AVERAGE(GrosBovinsAnneeEnCours!F17:F21),NA())","v":4.8540000000000001},{"$f":"IF(GrosBovinsAnneeEnCours!G21>0,AVERAGE(GrosBovinsAnneeEnCours!G17:G21),NA())","v":{"$error":"#N/A"}},{"$f":"IF(GrosBovinsAnneeEnCours!H21>0,AVERAGE(GrosBovinsAnneeEnCours!H17:H21),NA())","v":5.6180000000000003},{"$f":"IF(GrosBovinsAnneeEnCours!I21>0,AVERAGE(GrosBovinsAnneeEnCours!I17:I21),NA())","v":6.6540000000000008},{"$f":"IF(GrosBovinsAnneeEnCours!J21>0,AVERAGE(GrosBovinsAnneeEnCours!J17:J21),NA())","v":4.782},{"$f":"IF(GrosBovinsAnneeEnCours!K21>0,AVERAGE(GrosBovinsAnneeEnCours!K17:K21),NA())","v":4.3459999999999992},{"$f":"IF(GrosBovinsAnneeEnCours!L21>0,AVERAGE(GrosBovinsAnneeEnCours!L17:L21),NA())","v":6.3475000000000001},{"$f":"IF(GrosBovinsAnneeEnCours!M21>0,AVERAGE(GrosBovinsAnneeEnCours!M17:M21),NA())","v":5.5759999999999987},null,null,{"$f":"IF(GrosBovinsAnneeEnCours!P20>0,AVERAGE(GrosBovinsAnneeEnCours!P17:P20),NA())","v":4.21}]
[null,"F",{"$f":"IF(GrosBovinsAnneeEnCours!C25>0,AVERAGE(GrosBovinsAnneeEnCours!C22:C25),NA())","v":6.2425000000000006},{"$f":"IF(GrosBovinsAnneeEnCours!D25>0,AVERAGE(GrosBovinsAnneeEnCours!D22:D25),NA())","v":6.0525000000000002},{"$f":"IF(GrosBovinsAnneeEnCours!E25>0,AVERAGE(GrosBovinsAnneeEnCours!E22:E25),NA())","v":{"$error":"#N/A"}},{"$f":"IF(GrosBovinsAnneeEnCours!F25>0,AVERAGE(GrosBovinsAnneeEnCours!F22:F25),NA())","v":5.057500000000001},{"$f":"IF(GrosBovinsAnneeEnCours!G25>0,AVERAGE(GrosBovinsAnneeEnCours!G22:G25),NA())","v":{"$error":"#N/A"}},{"$f":"IF(GrosBovinsAnneeEnCours!H25>0,AVERAGE(GrosBovinsAnneeEnCours!H22:H25),NA())","v":5.7624999999999993},{"$f":"IF(GrosBovinsAnneeEnCours!I25>0,AVERAGE(GrosBovinsAnneeEnCours!I22:I25),NA())","v":6.7625000000000002},{"$f":"IF(GrosBovinsAnneeEnCours!J25>0,AVERAGE(GrosBovinsAnneeEnCours!J22:J25),NA())","v":5.0124999999999993},{"$f":"IF(GrosBovinsAnneeEnCours!K25>0,AVERAGE(GrosBovinsAnneeEnCours!K22:K25),NA())","v":4.6500000000000004},{"$f":"IF(GrosBovinsAnneeEnCours!L25>0,AVERAGE(GrosBovinsAnneeEnCours!L22:L25),NA())","v":6.4799999999999995},{"$f":"IF(GrosBovinsAnneeEnCours!M25>0,AVERAGE(GrosBovinsAnneeEnCours!M22:M25),NA())","v":5.72},null,null,{"$f":"IF(GrosBovinsAnneeEnCours!P25>0,AVERAGE(GrosBovinsAnneeEnCours!P21:P25),NA())","v":4.5980000000000008}]
[null,"M",{"$f":"IF(GrosBovinsAnneeEnCours!C29>0,AVERAGE(GrosBovinsAnneeEnCours!C26:C29),NA())","v":6.3425000000000002},{"$f":"IF(GrosBovinsAnneeEnCours!D29>0,AVERAGE(GrosBovinsAnneeEnCours!D26:D29),NA())","v":6.125},{"$f":"IF(GrosBovinsAnneeEnCours!E29>0,AVERAGE(GrosBovinsAnneeEnCours!E26:E29),NA())","v":{"$error":"#N/A"}},{"$f":"IF(GrosBovinsAnneeEnCours!F29>0,AVERAGE(GrosBovinsAnneeEnCours!F26:F29),NA())","v":5.3100000000000005},{"$f":"IF(GrosBovinsAnneeEnCours!G29>0,AVERAGE(GrosBovinsAnneeEnCours!G26:G29),NA())","v":{"$error":"#N/A"}},{"$f":"IF(GrosBovinsAnneeEnCours!H29>0,AVERAGE(GrosBovinsAnneeEnCours!H26:H29),NA())","v":5.9250000000000007},{"$f":"IF(GrosBovinsAnneeEnCours!I29>0,AVERAGE(GrosBovinsAnneeEnCours!I26:I29),NA())","v":6.8275000000000006},{"$f":"IF(GrosBovinsAnneeEnCours!J29>0,AVERAGE(GrosBovinsAnneeEnCours!J26:J29),NA())","v":5.27},{"$f":"IF(GrosBovinsAnneeEnCours!K29>0,AVERAGE(GrosBovinsAnneeEnCours!K26:K29),NA())","v":4.9749999999999996},{"$f":"IF(GrosBovinsAnneeEnCours!L29>0,AVERAGE(GrosBovinsAnneeEnCours!L26:L29),NA())","v":6.580000000000001},{"$f":"IF(GrosBovinsAnneeEnCours!M29>0,AVERAGE(GrosBovinsAnneeEnCours!M26:M29),NA())","v":5.8674999999999997},null,null,{"$f":"IF(GrosBovinsAnneeEnCours!P29>0,AVERAGE(GrosBovinsAnneeEnCours!P26:P29),NA())","v":5.0250000000000004}]
[null,"A",{"$f":"IF(GrosBovinsAnneeEnCours!C33>0,AVERAGE(GrosBovinsAnneeEnCours!C30:C33),NA())","v":6.39},{"$f":"IF(GrosBovinsAnneeEnCours!D33>0,AVERAGE(GrosBovinsAnneeEnCours!D30:D33),NA())","v":6.2},{"$f":"IF(GrosBovinsAnneeEnCours!E33>0,AVERAGE(GrosBovinsAnneeEnCours!E30:E33),NA())","v":{"$error":"#N/A"}},{"$f":"IF(GrosBovinsAnneeEnCours!F33>0,AVERAGE(GrosBovinsAnneeEnCours!F30:F33),NA())","v":5.625},{"$f":"IF(GrosBovinsAnneeEnCours!G33>0,AVERAGE(GrosBovinsAnneeEnCours!G30:G33),NA())","v":{"$error":"#N/A"}},{"$f":"IF(GrosBovinsAnneeEnCours!H33>0,AVERAGE(GrosBovinsAnneeEnCours!H30:H33),NA())","v":6.1174999999999997},{"$f":"IF(GrosBovinsAnneeEnCours!I33>0,AVERAGE(GrosBovinsAnneeEnCours!I30:I33),NA())","v":6.92},{"$f":"IF(GrosBovinsAnneeEnCours!J33>0,AVERAGE(GrosBovinsAnneeEnCours!J30:J33),NA())","v":5.5750000000000002},{"$f":"IF(GrosBovinsAnneeEnCours!K33>0,AVERAGE(GrosBovinsAnneeEnCours!K30:K33),NA())","v":5.3525},{"$f":"IF(GrosBovinsAnneeEnCours!L33>0,AVERAGE(GrosBovinsAnneeEnCours!L30:L33),NA())","v":6.7424999999999997},{"$f":"IF(GrosBovinsAnneeEnCours!M33>0,AVERAGE(GrosBovinsAnneeEnCours!M30:M33),NA())","v":6.0675000000000008},null,null,{"$f":"IF(GrosBovinsAnneeEnCours!P33>0,AVERAGE(GrosBovinsAnneeEnCours!P30:P33),NA())","v":5.1775000000000002}]
[null,"M",{"$f":"IF(GrosBovinsAnneeEnCours!C38>0,AVERAGE(GrosBovinsAnneeEnCours!C34:C38),NA())","v":6.5060000000000002},{"$f":"IF(GrosBovinsAnneeEnCours!D38>0,AVERAGE(GrosBovinsAnneeEnCours!D34:D38),NA())","v":6.3239999999999998},{"$f":"IF(GrosBovinsAnneeEnCours!E38>0,AVERAGE(GrosBovinsAnneeEnCours!E34:E38),NA())","v":{"$error":"#N/A"}},{"$f":"IF(GrosBovinsAnneeEnCours!F38>0,AVERAGE(GrosBovinsAnneeEnCours!F34:F38),NA())","v":5.9879999999999995},{"$f":"IF(GrosBovinsAnneeEnCours!G38>0,AVERAGE(GrosBovinsAnneeEnCours!G34:G38),NA())","v":{"$error":"#N/A"}},{"$f":"IF(GrosBovinsAnneeEnCours!H38>0,AVERAGE(GrosBovinsAnneeEnCours!H34:H38),NA())","v":6.3739999999999997},{"$f":"IF(GrosBovinsAnneeEnCours!I38>0,AVERAGE(GrosBovinsAnneeEnCours!I34:I38),NA())","v":7.0839999999999987},{"$f":"IF(GrosBovinsAnneeEnCours!J38>0,AVERAGE(GrosBovinsAnneeEnCours!J34:J38),NA())","v":5.9559999999999995},{"$f":"IF(GrosBovinsAnneeEnCours!K38>0,AVERAGE(GrosBovinsAnneeEnCours!K34:K38),NA())","v":5.7679999999999998},{"$f":"IF(GrosBovinsAnneeEnCours!L38>0,AVERAGE(GrosBovinsAnneeEnCours!L34:L38),NA())","v":6.8639999999999999},{"$f":"IF(GrosBovinsAnneeEnCours!M38>0,AVERAGE(GrosBovinsAnneeEnCours!M34:M38),NA())","v":6.3140000000000001},null,null,{"$f":"IF(GrosBovinsAnneeEnCours!P38>0,AVERAGE(GrosBovinsAnneeEnCours!P34:P38),NA())","v":5.3800000000000008}]
[null,"J",{"$f":"IF(GrosBovinsAnneeEnCours!C42>0,AVERAGE(GrosBovinsAnneeEnCours!C39:C42),NA())","v":6.5824999999999996},{"$f":"IF(GrosBovinsAnneeEnCours!D42>0,AVERAGE(GrosBovinsAnneeEnCours!D39:D42),NA())","v":6.4249999999999998},{"$f":"IF(GrosBovinsAnneeEnCours!E42>0,AVERAGE(GrosBovinsAnneeEnCours!E39:E42),NA())","v":6.2},{"$f":"IF(GrosBovinsAnneeEnCours!F42>0,AVERAGE(GrosBovinsAnneeEnCours!F39:F42),NA())","v":6.2},{"$f":"IF(GrosBovinsAnneeEnCours!G42>0,AVERAGE(GrosBovinsAnneeEnCours!G39:G42),NA())","v":{"$error":"#N/A"}},{"$f":"IF(GrosBovinsAnneeEnCours!H42>0,AVERAGE(GrosBovinsAnneeEnCours!H39:H42),NA())","v":6.5674999999999999},{"$f":"IF(GrosBovinsAnneeEnCours!I42>0,AVERAGE(GrosBovinsAnneeEnCours!I39:I42),NA())","v":7.1950000000000003},{"$f":"IF(GrosBovinsAnneeEnCours!J42>0,AVERAGE(GrosBovinsAnneeEnCours!J39:J42),NA())","v":6.1524999999999999},{"$f":"IF(GrosBovinsAnneeEnCours!K42>0,AVERAGE(GrosBovinsAnneeEnCours!K39:K42),NA())","v":5.9375},{"$f":"IF(GrosBovinsAnneeEnCours!L42>0,AVERAGE(GrosBovinsAnneeEnCours!L39:L42),NA())","v":7.0374999999999996},{"$f":"IF(GrosBovinsAnneeEnCours!M42>0,AVERAGE(GrosBovinsAnneeEnCours!M39:M42),NA())","v":6.5299999999999994},null,null,{"$f":"IF(GrosBovinsAnneeEnCours!P42>0,AVERAGE(GrosBovinsAnneeEnCours!P39:P42),NA())","v":5.76}]
[null,"J",{"$f":"IF(GrosBovinsAnneeEnCours!C47>0,AVERAGE(GrosBovinsAnneeEnCours!C43:C47),NA())","v":6.604000000000001},{"$f":"IF(GrosBovinsAnneeEnCours!D47>0,AVERAGE(GrosBovinsAnneeEnCours!D43:D47),NA())","v":6.4480000000000004},{"$f":"IF(GrosBovinsAnneeEnCours!E47>0,AVERAGE(GrosBovinsAnneeEnCours!E43:E47),NA())","v":{"$error":"#N/A"}},{"$f":"IF(GrosBovinsAnneeEnCours!F47>0,AVERAGE(GrosBovinsAnneeEnCours!F43:F47),NA())","v":6.2799999999999994},{"$f":"IF(GrosBovinsAnneeEnCours!G47>0,AVERAGE(GrosBovinsAnneeEnCours!G43:G47),NA())","v":{"$error":"#N/A"}},{"$f":"IF(GrosBovinsAnneeEnCours!H47>0,AVERAGE(GrosBovinsAnneeEnCours!H43:H47),NA())","v":6.6620000000000008},{"$f":"IF(GrosBovinsAnneeEnCours!I47>0,AVERAGE(GrosBovinsAnneeEnCours!I43:I47),NA())","v":7.298},{"$f":"IF(GrosBovinsAnneeEnCours!J47>0,AVERAGE(GrosBovinsAnneeEnCours!J43:J47),NA())","v":6.2219999999999995},{"$f":"IF(GrosBovinsAnneeEnCours!K47>0,AVERAGE(GrosBovinsAnneeEnCours!K43:K47),NA())","v":5.9620000000000006},{"$f":"IF(GrosBovinsAnneeEnCours!L47>0,AVERAGE(GrosBovinsAnneeEnCours!L43:L47),NA())","v":7.1480000000000006},{"$f":"IF(GrosBovinsAnneeEnCours!M47>0,AVERAGE(GrosBovinsAnneeEnCours!M43:M47),NA())","v":6.6119999999999992},null,null,{"$f":"IF(GrosBovinsAnneeEnCours!P46>0,AVERAGE(GrosBovinsAnneeEnCours!P43:P46),NA())","v":5.7375000000000007}]
[null,"A",{"$f":"IF(GrosBovinsAnneeEnCours!C51>0,AVERAGE(GrosBovinsAnneeEnCours!C48:C51),NA())","v":6.7549999999999999},{"$f":"IF(GrosBovinsAnneeEnCours!D51>0,AVERAGE(GrosBovinsAnneeEnCours!D48:D51),NA())","v":6.6050000000000004},{"$f":"IF(GrosBovinsAnneeEnCours!E51>0,AVERAGE(GrosBovinsAnneeEnCours!E48:E51),NA())","v":6.3549999999999995},{"$f":"IF(GrosBovinsAnneeEnCours!F51>0,AVERAGE(GrosBovinsAnneeEnCours!F48:F51),NA())","v":6.415},{"$f":"IF(GrosBovinsAnneeEnCours!G51>0,AVERAGE(GrosBovinsAnneeEnCours!G48:G51),NA())","v":{"$error":"#N/A"}},{"$f":"IF(GrosBovinsAnneeEnCours!H51>0,AVERAGE(GrosBovinsAnneeEnCours!H48:H51),NA())","v":6.85},{"$f":"IF(GrosBovinsAnneeEnCours!I51>0,AVERAGE(GrosBovinsAnneeEnCours!I48:I51),NA())","v":7.4824999999999999},{"$f":"IF(GrosBovinsAnneeEnCours!J51>0,AVERAGE(GrosBovinsAnneeEnCours!J48:J51),NA())","v":6.3925000000000001},{"$f":"IF(GrosBovinsAnneeEnCours!K51>0,AVERAGE(GrosBovinsAnneeEnCours!K48:K51),NA())","v":6.1375000000000002},{"$f":"IF(GrosBovinsAnneeEnCours!L51>0,AVERAGE(GrosBovinsAnneeEnCours!L48:L51),NA())","v":7.3133333333333326},{"$f":"IF(GrosBovinsAnneeEnCours!M51>0,AVERAGE(GrosBovinsAnneeEnCours!M48:M51),NA())","v":6.7850000000000001},null,null,{"$f":"IF(GrosBovinsAnneeEnCours!P51>0,AVERAGE(GrosBovinsAnneeEnCours!P47:P51),NA())","v":5.7940000000000005}]
[null,"S",{"$f":"IF(GrosBovinsAnneeEnCours!C55>0,AVERAGE(GrosBovinsAnneeEnCours!C52:C55),NA())","v":7.0625000000000009},{"$f":"IF(GrosBovinsAnneeEnCours!D55>0,AVERAGE(GrosBovinsAnneeEnCours!D52:D55),NA())","v":6.8900000000000006},{"$f":"IF(GrosBovinsAnneeEnCours!E55>0,AVERAGE(GrosBovinsAnneeEnCours!E52:E55),NA())","v":6.62},{"$f":"IF(GrosBovinsAnneeEnCours!F55>0,AVERAGE(GrosBovinsAnneeEnCours!F52:F55),NA())","v":6.625},{"$f":"IF(GrosBovinsAnneeEnCours!G55>0,AVERAGE(GrosBovinsAnneeEnCours!G52:G55),NA())","v":{"$error":"#N/A"}},{"$f":"IF(GrosBovinsAnneeEnCours!H55>0,AVERAGE(GrosBovinsAnneeEnCours!H52:H55),NA())","v":7.1375000000000002},{"$f":"IF(GrosBovinsAnneeEnCours!I55>0,AVERAGE(GrosBovinsAnneeEnCours!I52:I55),NA())","v":7.6749999999999998},{"$f":"IF(GrosBovinsAnneeEnCours!J55>0,AVERAGE(GrosBovinsAnneeEnCours!J52:J55),NA())","v":6.5925000000000002},{"$f":"IF(GrosBovinsAnneeEnCours!K55>0,AVERAGE(GrosBovinsAnneeEnCours!K52:K55),NA())","v":6.3174999999999999},{"$f":"IF(GrosBovinsAnneeEnCours!L55>0,AVERAGE(GrosBovinsAnneeEnCours!L52:L55),NA())","v":7.57},{"$f":"IF(GrosBovinsAnneeEnCours!M55>0,AVERAGE(GrosBovinsAnneeEnCours!M52:M55),NA())","v":7.0724999999999998},null,null,{"$f":"IF(GrosBovinsAnneeEnCours!P55>0,AVERAGE(GrosBovinsAnneeEnCours!P52:P55),NA())","v":6.18}]
[null,"O",{"$f":"IF(GrosBovinsAnneeEnCours!C60>0,AVERAGE(GrosBovinsAnneeEnCours!C56:C60),NA())","v":7.3520000000000012},{"$f":"IF(GrosBovinsAnneeEnCours!D60>0,AVERAGE(GrosBovinsAnneeEnCours!D56:D60),NA())","v":7.2080000000000011},{"$f":"IF(GrosBovinsAnneeEnCours!E60>0,AVERAGE(GrosBovinsAnneeEnCours!E56:E60),NA())","v":{"$error":"#N/A"}},{"$f":"IF(GrosBovinsAnneeEnCours!F60>0,AVERAGE(GrosBovinsAnneeEnCours!F56:F60),NA())","v":6.8019999999999996},{"$f":"IF(GrosBovinsAnneeEnCours!G60>0,AVERAGE(GrosBovinsAnneeEnCours!G56:G60),NA())","v":7.7766666666666664},{"$f":"IF(GrosBovinsAnneeEnCours!H60>0,AVERAGE(GrosBovinsAnneeEnCours!H56:H60),NA())","v":7.4379999999999997},{"$f":"IF(GrosBovinsAnneeEnCours!I60>0,AVERAGE(GrosBovinsAnneeEnCours!I56:I60),NA())","v":7.8920000000000003},{"$f":"IF(GrosBovinsAnneeEnCours!J60>0,AVERAGE(GrosBovinsAnneeEnCours!J56:J60),NA())","v":6.76},{"$f":"IF(GrosBovinsAnneeEnCours!K60>0,AVERAGE(GrosBovinsAnneeEnCours!K56:K60),NA())","v":6.4719999999999995},{"$f":"IF(GrosBovinsAnneeEnCours!L60>0,AVERAGE(GrosBovinsAnneeEnCours!L56:L60),NA())","v":7.8140000000000001},{"$f":"IF(GrosBovinsAnneeEnCours!M60>0,AVERAGE(GrosBovinsAnneeEnCours!M56:M60),NA())","v":7.3620000000000001},null,null,{"$f":"IF(GrosBovinsAnneeEnCours!P60>0,AVERAGE(GrosBovinsAnneeEnCours!P56:P60),NA())","v":{"$error":"#N/A"}}]
[null,"N",{"$f":"IF(GrosBovinsAnneeEnCours!C64>0,AVERAGE(GrosBovinsAnneeEnCours!C61:C64),NA())","v":{"$error":"#N/A"}},{"$f":"IF(GrosBovinsAnneeEnCours!D64>0,AVERAGE(GrosBovinsAnneeEnCours!D61:D64),NA())","v":{"$error":"#N/A"}},{"$f":"IF(GrosBovinsAnneeEnCours!E64>0,AVERAGE(GrosBovinsAnneeEnCours!E61:E64),NA())","v":{"$error":"#N/A"}},{"$f":"IF(GrosBovinsAnneeEnCours!F64>0,AVERAGE(GrosBovinsAnneeEnCours!F61:F64),NA())","v":{"$error":"#N/A"}},{"$f":"IF(GrosBovinsAnneeEnCours!G64>0,AVERAGE(GrosBovinsAnneeEnCours!G61:G64),NA())","v":{"$error":"#N/A"}},{"$f":"IF(GrosBovinsAnneeEnCours!H64>0,AVERAGE(GrosBovinsAnneeEnCours!H61:H64),NA())","v":{"$error":"#N/A"}},{"$f":"IF(GrosBovinsAnneeEnCours!I64>0,AVERAGE(GrosBovinsAnneeEnCours!I61:I64),NA())","v":{"$error":"#N/A"}},{"$f":"IF(GrosBovinsAnneeEnCours!J64>0,AVERAGE(GrosBovinsAnneeEnCours!J61:J64),NA())","v":{"$error":"#N/A"}},{"$f":"IF(GrosBovinsAnneeEnCours!K64>0,AVERAGE(GrosBovinsAnneeEnCours!K61:K64),NA())","v":{"$error":"#N/A"}},{"$f":"IF(GrosBovinsAnneeEnCours!L64>0,AVERAGE(GrosBovinsAnneeEnCours!L61:L64),NA())","v":{"$error":"#N/A"}},{"$f":"IF(GrosBovinsAnneeEnCours!M64>0,AVERAGE(GrosBovinsAnneeEnCours!M61:M64),NA())","v":{"$error":"#N/A"}},null,null,{"$f":"IF(GrosBovinsAnneeEnCours!P64>0,AVERAGE(GrosBovinsAnneeEnCours!P61:P64),NA())","v":{"$error":"#N/A"}}]
[null,"D",{"$f":"IF(GrosBovinsAnneeEnCours!C68>0,AVERAGE(GrosBovinsAnneeEnCours!C65:C68),NA())","v":{"$error":"#N/A"}},{"$f":"IF(GrosBovinsAnneeEnCours!D68>0,AVERAGE(GrosBovinsAnneeEnCours!D65:D68),NA())","v":{"$error":"#N/A"}},{"$f":"IF(GrosBovinsAnneeEnCours!E68>0,AVERAGE(GrosBovinsAnneeEnCours!E65:E68),NA())","v":{"$error":"#N/A"}},{"$f":"IF(GrosBovinsAnneeEnCours!F68>0,AVERAGE(GrosBovinsAnneeEnCours!F65:F68),NA())","v":{"$error":"#N/A"}},{"$f":"IF(GrosBovinsAnneeEnCours!G68>0,AVERAGE(GrosBovinsAnneeEnCours!G65:G68),NA())","v":{"$error":"#N/A"}},{"$f":"IF(GrosBovinsAnneeEnCours!H68>0,AVERAGE(GrosBovinsAnneeEnCours!H65:H68),NA())","v":{"$error":"#N/A"}},{"$f":"IF(GrosBovinsAnneeEnCours!I68>0,AVERAGE(GrosBovinsAnneeEnCours!I65:I68),NA())","v":{"$error":"#N/A"}},{"$f":"IF(GrosBovinsAnneeEnCours!J68>0,AVERAGE(GrosBovinsAnneeEnCours!J65:J68),NA())","v":{"$error":"#N/A"}},{"$f":"IF(GrosBovinsAnneeEnCours!K68>0,AVERAGE(GrosBovinsAnneeEnCours!K65:K68),NA())","v":{"$error":"#N/A"}},{"$f":"IF(GrosBovinsAnneeEnCours!L68>0,AVERAGE(GrosBovinsAnneeEnCours!L65:L68),NA())","v":{"$error":"#N/A"}},{"$f":"IF(GrosBovinsAnneeEnCours!M68>0,AVERAGE(GrosBovinsAnneeEnCours!M65:M68),NA())","v":{"$error":"#N/A"}},null,null,{"$f":"IF(GrosBovinsAnneeEnCours!P68>0,AVERAGE(GrosBovinsAnneeEnCours!P65:P68),NA())","v":{"$error":"#N/A"}}]
[null,"Moyenne an",{"$f":"SUMIF(C57:C68,\"<>#N/A\",C57:C68)/COUNTIF(C57:C68,\"<>#N/A\")","v":6.5811000000000011},{"$f":"SUMIF(D57:D68,\"<>#N/A\",D57:D68)/COUNTIF(D57:D68,\"<>#N/A\")","v":6.4067499999999997},{"$f":"SUMIF(E57:E68,\"<>#N/A\",E57:E68)/COUNTIF(E57:E68,\"<>#N/A\")","v":6.3916666666666666},{"$f":"SUMIF(F57:F68,\"<>#N/A\",F57:F68)/COUNTIF(F57:F68,\"<>#N/A\")","v":5.9156500000000003},7.7766666666666664,6.4451999999999998,7.1790499999999993,5.8714999999999993,5.591800000000001,6.9896833333333346,6.3906500000000008,null,null,{"$f":"SUMIF(P57:P68,\"<>#N/A\",P57:P68)/COUNTIF(P57:P68,\"<>#N/A\")","v":5.3180000000000005}]
[2024,"J",5.4775,5.3149999999999995,4.8933333333333335,4.6375000000000002,5.8849999999999998,5.4574999999999996,6.4,4.49,3.9874999999999998,6.1675000000000004,5.4424999999999999,null,null,3.3574999999999999]
[null,"F",5.5640000000000001,5.4140000000000006,null,4.7100000000000009,null,5.49,6.4799999999999995,4.6180000000000003,4.1399999999999997,6.19,5.4760000000000009,null,null,3.4919999999999995]
[null,"M",5.56,5.3949999999999996,null,4.7549999999999999,null,5.4825000000000008,6.4974999999999996,4.6425000000000001,4.1724999999999994,6.3,5.4700000000000006,null,null,3.625]
[null,"A",5.4499999999999993,5.27,null,4.7774999999999999,null,5.49,6.5149999999999988,4.67,4.1974999999999998,6.2074999999999996,5.45,null,null,3.7149999999999999]
[null,"M",5.3620000000000001,5.2039999999999997,null,4.83,null,5.508,6.556,4.758,4.3099999999999996,6.2560000000000002,5.4980000000000002,null,null,3.81]
[null,"J",5.3774999999999995,5.2324999999999999,null,4.88,null,5.5125000000000002,6.5150000000000006,4.8024999999999993,4.38,6.2624999999999993,5.4949999999999992,null,null,3.8975]
[null,"J",5.3324999999999996,5.2024999999999997,4.88,4.9024999999999999,null,5.51,6.5824999999999996,4.82,4.4024999999999999,6.26,5.4799999999999995,null,null,3.8325]
[null,"A",5.3680000000000003,5.2480000000000002,4.9225000000000003,4.9640000000000004,null,5.58,6.5519999999999996,4.8920000000000003,4.4980000000000002,6.3,5.5439999999999996,null,null,3.8280000000000003]
[null,"S",5.4550000000000001,5.3125,4.9533333333333331,4.9349999999999996,null,5.5774999999999997,6.6174999999999997,4.8550000000000004,4.4450000000000003,6.2850000000000001,5.5374999999999996,null,null,3.875]
[null,"O",5.5619999999999994,5.3900000000000006,4.92,4.7480000000000002,null,5.556,6.604000000000001,4.6720000000000006,4.226,6.3179999999999996,5.5119999999999987,null,null,3.9660000000000002]
[null,"N",5.75,5.59,null,4.7225000000000001,null,5.5574999999999992,6.6050000000000004,4.6549999999999994,4.1749999999999998,6.3224999999999998,5.5299999999999994,null,null,4.0100000000000007]
[null,"D"]
[null,"Moyenne an",5.4780454545454536,5.3248636363636361,4.9138333333333337,4.8056363636363635,5.8849999999999998,5.5201363636363627,6.5385909090909085,4.7159090909090908,4.2667272727272723,6.2608181818181814,5.4940909090909082,null,null,3.7644090909090906]
[2023,"J",5.54,5.4,5.0999999999999996,5.0299999999999994,5.72,5.4224999999999994,6.1049999999999995,4.9350000000000005,4.5975000000000001,5.86,5.4150000000000009,null,null,3.39]
[null,"F",5.5274999999999999,5.41,null,4.99,5.75,5.4249999999999998,6.1750000000000007,4.93,4.59,5.8975,5.41,null,null,3.4400000000000004]
[null,"M",5.5939999999999994,5.4619999999999997,5.1425000000000001,5.1240000000000006,5.91,5.4980000000000002,6.242,5.0559999999999992,4.774,6.0020000000000007,5.4800000000000013,null,null,3.5219999999999998]
[null,"A",5.5750000000000002,5.4425000000000008,5.1124999999999998,5.1050000000000004,5.8599999999999994,5.4575000000000005,6.2449999999999992,5.0250000000000004,4.7200000000000006,6.0200000000000005,5.4649999999999999,null,null,3.57]
[null,"M",5.4975000000000005,5.37,null,5.0525000000000002,5.8533333333333326,5.4450000000000003,6.2949999999999999,4.9674999999999994,4.625,6.0674999999999999,5.4399999999999995,null,null,3.5825]
[null,"J",5.4380000000000006,5.2959999999999994,5.0299999999999994,5.08,null,5.484,6.2879999999999994,5.008,4.6899999999999995,6.0779999999999994,5.4659999999999993,null,null,3.6180000000000008]
[null,"J",5.3249999999999993,5.1624999999999996,4.9125000000000005,5,null,5.4399999999999995,6.29,4.915,4.5550000000000006,6.0625,5.4349999999999996,null,null,3.5199999999999996]
[null,"A",5.26,5.0980000000000008,4.8780000000000001,5.01,null,5.4859999999999998,6.3559999999999999,4.9219999999999997,4.5540000000000003,6.1025,5.452,null,null,3.4560000000000004]
[null,"S",5.3849999999999998,5.2275,null,5.08,null,5.5575000000000001,6.3624999999999998,5.0274999999999999,4.6825000000000001,6.1650000000000009,5.5250000000000004,null,null,3.5649999999999999]
[null,"O",5.4175000000000004,5.2649999999999997,4.9524999999999997,4.9824999999999999,null,5.5325000000000006,6.4050000000000002,4.9000000000000004,4.5249999999999995,6.1674999999999995,5.5050000000000008,null,null,3.4975000000000005]
[null,"N",5.4119999999999999,5.25,4.8059999999999992,4.7520000000000007,null,5.4479999999999995,6.403999999999999,4.6259999999999994,4.1559999999999997,6.1775000000000002,5.4399999999999995,null,null,3.3719999999999999]
[null,"D"]
[null,"Moyenne an",5.4519545454545453,5.3075909090909086,4.9917499999999997,5.0187272727272729,5.8186666666666662,5.4723636363636352,6.2879545454545456,4.9374545454545453,4.5880909090909086,6.0545454545454538,5.4575454545454543,null,null,3.5030000000000001]
[2022,"J",4.6399999999999997,4.4775,3.8250000000000002,3.8374999999999999,4.91,4.4225000000000003,5.5399999999999991,3.8074999999999997,3.56,5.16,4.3849999999999998,null,null,2.83]
[null,"F",4.8325000000000005,4.6675000000000004,4.085,4.1000000000000005,5.0475000000000003,4.63,5.6099999999999994,4.0724999999999998,3.9225000000000003,5.2799999999999994,4.57,null,null,2.8774999999999999]
[null,"M",5.0519999999999996,4.8800000000000008,4.46,4.4799999999999995,5.2279999999999998,4.8980000000000006,5.7099999999999991,4.444,4.2960000000000003,5.4560000000000004,4.8360000000000003,null,null,3.1259999999999999]
[null,"A",5.1875,5.0150000000000006,4.7,4.7149999999999999,5.4524999999999997,5.0774999999999997,5.8049999999999997,4.6774999999999993,4.53,5.6024999999999991,5.0575000000000001,null,null,3.35]
[null,"M",5.3025000000000002,5.1549999999999994,4.96,4.9800000000000004,5.5,5.2249999999999996,5.8725000000000005,4.95,4.8000000000000007,5.7074999999999996,5.21,null,null,3.4]
[null,"J",5.33,5.194,5.0220000000000002,5.09,5.5579999999999998,5.2879999999999994,5.9479999999999995,5.0419999999999998,4.87,5.734,5.2939999999999996,null,null,3.4460000000000002]
[null,"J",5.3125,5.17,5.0474999999999994,5.1324999999999994,5.585,5.2875000000000005,5.93,5.0674999999999999,4.8775000000000004,5.7550000000000008,5.3,null,null,3.43]
[null,"A",5.29,5.15,5.0324999999999998,5.1374999999999993,5.5549999999999997,5.2625000000000002,5.93,5.0775000000000006,4.8624999999999998,5.7350000000000003,5.2774999999999999,null,null,3.3624999999999998]
[null,"S",5.298,5.1740000000000004,5.0559999999999992,5.1539999999999999,5.66,5.3340000000000005,5.9960000000000004,5.1059999999999999,4.8800000000000008,5.7480000000000002,5.3339999999999996,null,null,3.4159999999999995]
[null,"O",5.3424999999999994,5.2225000000000001,5.085,5.1925000000000008,5.6899999999999995,5.4099999999999993,6.0299999999999994,5.1349999999999998,4.91,5.8225000000000007,5.375,null,null,3.4650000000000003]
[null,"N",5.4124999999999996,5.2850000000000001,5.08,5.1150000000000002,5.8,5.415,6.0674999999999999,5.0525000000000002,4.79,5.8574999999999999,5.3950000000000005,null,null,3.4950000000000001]
[null,"D",5.5140000000000002,5.3125,5.0980000000000008,5.0280000000000005,null,5.418000000000001,6.1119999999999992,4.9380000000000006,4.6120000000000001,5.9139999999999997,5.4159999999999995,null,null,3.3460000000000001]
[null,"Moyenne an",5.2095000000000002,5.0585833333333321,4.7875833333333331,4.8301666666666661,5.4532727272727266,5.1390000000000002,5.8792499999999999,4.7808333333333337,4.5758750000000008,5.6476666666666659,5.1208333333333345,null,null,3.2953333333333332]
[2021,"J",3.8275000000000001,3.66,3.4049999999999998,3.1524999999999999,4.5199999999999996,4.0225,5.1749999999999998,3.085,2.77,4.8525,4.0274999999999999,null,null,2.6124999999999998]
[null,"F",3.8725000000000001,3.7,3.43,3.1850000000000001,4.5374999999999996,4.05,5.2225000000000001,3.125,2.8025000000000002,4.8375000000000004,3.9950000000000001,null,null,2.59]
[null,"M",3.976,3.8039999999999998,3.47,3.262,4.7439999999999998,4.0999999999999996,5.3520000000000003,3.21,2.9220000000000002,5.0140000000000002,4.0380000000000003,null,null,2.66]
[null,"A",4.0199999999999996,3.84,3.4824999999999999,3.32,4.67,4.0949999999999998,5.37,3.2675000000000001,2.9750000000000001,5.03,4.0674999999999999,null,null,2.7225000000000001]
[null,"M",3.9950000000000001,3.81,3.47,3.4125000000000001,4.7024999999999997,4.09,5.45,3.32,3.0049999999999999,5,4.0525000000000002,null,null,2.75]
[null,"J",4,3.8279999999999998,3.492,3.492,4.7220000000000004,4.1139999999999999,5.42,3.4220000000000002,3.1019999999999999,5.0620000000000003,4.0839999999999996,null,null,2.734]
[null,"J",4.0274999999999999,3.8675000000000002,3.5125000000000002,3.56,4.7525000000000004,4.1349999999999998,5.4074999999999998,3.48,3.1724999999999999,5.0125000000000002,4.1050000000000004,null,null,2.73]
[null,"A",4.1074999999999999,3.9224999999999999,3.5649999999999999,3.62,4.7549999999999999,4.165,5.44,3.5474999999999999,3.2549999999999999,5.0549999999999997,4.1174999999999997,null,null,2.73]
[null,"S",4.1859999999999999,4.0179999999999998,3.6139999999999999,3.6659999999999999,4.8540000000000001,4.2140000000000004,5.4740000000000002,3.5939999999999999,3.3079999999999998,5.0979999999999999,4.1760000000000002,null,null,2.7759999999999998]
[null,"O",4.3049999999999997,4.1275000000000004,3.6575000000000002,3.6825000000000001,4.8550000000000004,4.2324999999999999,5.4749999999999996,3.6225000000000001,3.3250000000000002,5.0925000000000002,4.1725000000000003,null,null,2.82]
[null,"N",4.4725000000000001,4.3174999999999999,3.72,3.7475000000000001,4.8825000000000003,4.3049999999999997,5.5374999999999996,3.6974999999999998,3.415,5.1550000000000002,4.25,null,null,2.82]
[null,"D",4.5860000000000003,4.41,3.762,3.7879999999999998,4.96,4.3579999999999997,5.5439999999999996,3.734,3.4340000000000002,5.218,4.306,null,null,2.7974999999999999]
[null,"Moyenne an",4.1146250000000002,3.9420833333333301,3.5483750000000001,3.4906666666666699,4.7462499999999999,4.1567499999999997,5.4056249999999997,3.4254166666666701,3.1238333333333301,5.0355833333333297,4.1159583333333298,null,null,2.7285416666666702]
[2020,"J",4.0679999999999996,3.8959999999999999,3.5,3.2320000000000002,4.3940000000000001,3.7240000000000002,5.056,3.1480000000000001,2.552,4.66,3.8239999999999998,null,null,2.69]
[null,"F",4.0250000000000004,3.8525,3.5,3.2450000000000001,4.4349999999999996,3.7250000000000001,5.0549999999999997,3.1475,2.57,4.63,3.8174999999999999,null,null,2.7124999999999999]
[null,"M",3.97,3.7949999999999999,3.5125000000000002,3.2675000000000001,4.45,3.7675000000000001,5.1150000000000002,3.1775000000000002,2.6675,4.6725000000000003,3.8450000000000002,null,null,2.7825000000000002]
[null,"A",3.8679999999999999,3.7,3.37,3.1040000000000001,4.4539999999999997,3.7280000000000002,5.0999999999999996,3.036,2.6640000000000001,4.7619999999999996,3.8319999999999999,null,null,2.8279999999999998]
[null,"M",3.8450000000000002,3.69,3.375,3.1524999999999999,4.5324999999999998,3.8149999999999999,5.1025,3.1,2.8050000000000002,4.7350000000000003,3.8875000000000002,null,null,2.84]
[null,"J",3.8475000000000001,3.7174999999999998,3.3875000000000002,3.2275,4.585,4.0149999999999997,5.1550000000000002,3.1825000000000001,2.875,4.8475000000000001,4.0374999999999996,null,null,2.83]
[null,"J",3.8519999999999999,3.694,3.3780000000000001,3.234,4.5439999999999996,4.07,5.1840000000000002,3.2,2.8780000000000001,4.82,4.0839999999999996,null,null,2.794]
[null,"A",3.8174999999999999,3.6575000000000002,3.3450000000000002,3.24,4.5350000000000001,4.0875000000000004,5.19,3.2075,2.8774999999999999,4.8674999999999997,4.04,null,null,2.7374999999999998]
[null,"S",3.8,3.6419999999999999,3.3279999999999998,3.2480000000000002,4.6520000000000001,4.0780000000000003,5.194,3.2160000000000002,2.8820000000000001,4.8600000000000003,4.04,null,null,2.6819999999999999]
[null,"O",3.79,3.61,3.335,3.24,4.59,4.0824999999999996,5.18,3.2050000000000001,2.8624999999999998,4.8375000000000004,4.0199999999999996,null,null,2.6375000000000002]
[null,"N",4.1462500000000002,3.9849999999999999,3.5412499999999998,3.46875,4.6937499999999996,4.1900000000000004,5.3574999999999999,3.415,3.0987499999999999,5.0250000000000004,4.1287500000000001,null,null,2.72]
[null,"D",4.1544444444444402,3.97888888888889,3.55,3.4255555555555501,4.7922222222222199,4.1844444444444502,5.3822222222222198,3.35666666666667,3.0444444444444398,5.04,4.1455555555555597,null,null,2.6837499999999999]
[null,"Moyenne an",3.93197453703704,3.7681990740740701,3.4268541666666699,3.2570671296296299,4.5547893518518503,3.9555787037036998,5.1726018518518497,3.1993055555555601,2.8147245370370402,4.8130833333333296,3.9751504629629602,null,null,2.7448125000000001]
[null,null,"JEUNES BOVINS",null,null,"BOEUFS","VACHES",null,null,null,null,"GENISSES",null,null,null,"Charolais Mâles"]
["Année","Mois","VIANDE",null,"MIXTE","MIXTE","VIANDE",null,"Blonde","MIXTE","LAIT","VIANDES + 350kg"]
[null,null,"U","R","O","O","U","R","U","O","P","U","R",null,null,"6/12 mois  ( U )"]
["Moyenne 5 ans","J",{"$f":"IFERROR(AVERAGE(C70,C83,C96,C109,C122),NA())","v":4.7105999999999995},4.5496999999999996,4.1446666666666667,3.9778999999999995,5.0858000000000008,4.6097999999999999,5.6551999999999998,3.8930999999999996,3.4934000000000003,5.34,4.6188000000000002,null,null,{"$f":"IFERROR(AVERAGE(P70,P83,P96,P109,P122),NA())","v":2.976}]
[null,"F",{"$f":"IFERROR(AVERAGE(C71,C84,C97,C110,C123),NA())","v":4.7643000000000004},4.6088000000000005,3.6716666666666669,4.0460000000000003,4.9424999999999999,4.6639999999999997,5.7084999999999999,3.9786000000000001,3.6049999999999995,5.3669999999999991,4.6536999999999997,null,null,3.0224000000000002]
[null,"M",{"$f":"IFERROR(AVERAGE(C72,C85,C98,C111,C124),NA())","v":4.8303999999999991},4.6671999999999993,4.1462500000000002,4.1776999999999997,5.0830000000000002,4.7492000000000001,5.7832999999999997,4.1059999999999999,3.7664,5.4888999999999992,4.7338000000000005,null,null,3.1431]
[null,"A",{"$f":"IFERROR(AVERAGE(C73,C86,C99,C112,C125),NA())","v":4.8200999999999992},4.6535000000000002,4.1662499999999998,4.2042999999999999,5.1091249999999997,4.7696000000000005,5.8069999999999995,4.1352000000000002,3.8173000000000008,5.5244,4.7744,null,null,3.2371000000000003]
[null,"M",{"$f":"IFERROR(AVERAGE(C74,C87,C100,C113,C126),NA())","v":4.8003999999999998},4.6457999999999995,3.9350000000000001,4.2855000000000008,5.1470833333333328,4.8165999999999993,5.8552,4.2191000000000001,3.9089999999999998,5.5531999999999995,4.8175999999999997,null,null,3.2765]
[null,"J",{"$f":"IFERROR(AVERAGE(C75,C88,C101,C114,C127),NA())","v":4.7985999999999995},4.6536,4.2328749999999999,4.3539000000000003,4.955000000000001,4.8827000000000007,5.8651999999999997,4.2914000000000003,3.9834000000000005,5.5968,4.8753000000000002,null,null,3.3051000000000004]
[null,"J",{"$f":"IFERROR(AVERAGE(C76,C89,C102,C115,C128),NA())","v":4.7698999999999998},4.6193,4.3460999999999999,4.3658000000000001,4.9604999999999997,4.8885000000000005,5.8788,4.2965,3.9771000000000001,5.5819999999999999,4.8807999999999998,null,null,3.2612999999999999]
[null,"A",{"$f":"IFERROR(AVERAGE(C77,C90,C103,C116,C129),NA())","v":4.7686000000000002},4.6151999999999997,4.3485999999999994,4.3942999999999994,4.9483333333333333,4.916199999999999,5.8936000000000011,4.3292999999999999,4.0094000000000003,5.6120000000000001,4.8861999999999997,null,null,3.2228000000000003]
[null,"S",{"$f":"IFERROR(AVERAGE(C78,C91,C104,C117,C130),NA())","v":4.8247999999999998},4.6747999999999994,4.2378333333333327,4.4166000000000007,5.0553333333333335,4.9521999999999995,5.9287999999999998,4.3597000000000001,4.0395000000000003,5.6311999999999998,4.9224999999999994,null,null,3.2627999999999995]
[null,"O",{"$f":"IFERROR(AVERAGE(C79,C92,C105,C118,C131),NA())","v":4.8834},4.7230000000000008,4.3899999999999997,4.3691000000000004,5.0449999999999999,4.9626999999999999,5.9388000000000005,4.3069000000000006,3.9697000000000005,5.6475999999999997,4.9169,null,null,3.2772000000000006]
[null,"N",{"$f":"IFERROR(AVERAGE(C80,C93,C106,C119,C132),NA())","v":5.0386499999999996},4.8854999999999995,4.2868124999999999,4.3611500000000003,5.1254166666666672,4.9830999999999994,5.9943,4.2891999999999992,3.9269499999999993,5.7075000000000005,4.9487499999999995,null,null,3.2834000000000003]
[null,"D",{"$f":"IFERROR(AVERAGE(C81,C94,C107,C120,C133),NA())","v":4.7514814814814805},4.5671296296296298,4.1366666666666667,4.0805185185185167,4.8761111111111095,4.6534814814814833,5.6794074074074059,4.0095555555555569,3.6968148148148132,5.3906666666666672,4.6225185185185191,null,null,2.9424166666666665]
[null,"Moyenne an",{"$f":"SUMIF(C138:C149,\"<>#N/A\",C138:C149)/COUNTIF(C138:C149,\"<>#N/A\")","v":4.8134359567901228},4.6552941358024684,4.1702267361111112,4.2527307098765439,5.0277668981481485,4.8206734567901233,5.8323422839506174,{"$f":"SUMIF(J138:J149,\"<>#N/A\",J138:J149)/COUNTIF(J138:J149,\"<>#N/A\")","v":4.1845462962962969},3.8494970679012344,5.536772222222222,4.8042723765432092,null,null,{"$f":"SUMIF(P138:P149,\"<>#N/A\",P138:P149)/COUNTIF(P138:P149,\"<>#N/A\")","v":3.1841763888888885}]
[]
["COTATION DES GROS BOVINS VIFS SUR LE MARCHE DE CHOLET (en Euro/Kg Net)"]
[null,"GENISSES",null,"VACHES",null,null,null,"JEUNES BOVINS","TAUREAUX"]
["année+mois","Viande, mixte, lait","Viande, mixte, lait","Blonde","Blonde","Mixte","Lait","Viande","Viande, mixte, lait"]
[2025,"U","R","U","R","O","P","U","URO"]
["J",{"$f":"IF((GrosBovinsAnneeEnCours!C79)>0,AVERAGE(GrosBovinsAnneeEnCours!C76:C79),\"\")","v":""},{"$f":"IF((GrosBovinsAnneeEnCours!D79)>0,AVERAGE(GrosBovinsAnneeEnCours!D76:D79),\"\")","v":""},{"$f":"IF((GrosBovinsAnneeEnCours!E80)>0,AVERAGE(GrosBovinsAnneeEnCours!E76:E80),\"\")","v":6.35},{"$f":"IF((GrosBovinsAnneeEnCours!F80)>0,AVERAGE(GrosBovinsAnneeEnCours!F76:F80),\"\")","v":5.7125000000000004},{"$f":"IF((GrosBovinsAnneeEnCours!G80)>0,AVERAGE(GrosBovinsAnneeEnCours!G76:G80),\"\")","v":4.5600000000000005},{"$f":"IF((GrosBovinsAnneeEnCours!H80)>0,AVERAGE(GrosBovinsAnneeEnCours!H76:H80),\"\")","v":4.0999999999999996},{"$f":"IF((GrosBovinsAnneeEnCours!I80)>0,AVERAGE(GrosBovinsAnneeEnCours!I76:I80),\"\")","v":5.8219999999999992},{"$f":"IF((GrosBovinsAnneeEnCours!J79)>0,AVERAGE(GrosBovinsAnneeEnCours!J76:J79),\"\")","v":""}]
["F",{"$f":"IF((GrosBovinsAnneeEnCours!C84)>0,AVERAGE(GrosBovinsAnneeEnCours!C80:C84),\"\")","v":""},{"$f":"IF((GrosBovinsAnneeEnCours!D84)>0,AVERAGE(GrosBovinsAnneeEnCours!D80:D84),\"\")","v":""},{"$f":"IF((GrosBovinsAnneeEnCours!E84)>0,AVERAGE(GrosBovinsAnneeEnCours!E81:E84),\"\")","v":6.4625000000000004},{"$f":"IF((GrosBovinsAnneeEnCours!F84)>0,AVERAGE(GrosBovinsAnneeEnCours!F81:F84),\"\")","v":5.8375000000000004},{"$f":"IF((GrosBovinsAnneeEnCours!G84)>0,AVERAGE(GrosBovinsAnneeEnCours!G81:G84),\"\")","v":4.7850000000000001},{"$f":"IF((GrosBovinsAnneeEnCours!H84)>0,AVERAGE(GrosBovinsAnneeEnCours!H81:H84),\"\")","v":4.4050000000000002},{"$f":"IF((GrosBovinsAnneeEnCours!I84)>0,AVERAGE(GrosBovinsAnneeEnCours!I81:I84),\"\")","v":6.0600000000000005},{"$f":"IF((GrosBovinsAnneeEnCours!J84)>0,AVERAGE(GrosBovinsAnneeEnCours!J80:J84),\"\")","v":""}]
["M",{"$f":"IF((GrosBovinsAnneeEnCours!C88)>0,AVERAGE(GrosBovinsAnneeEnCours!C85:C88),\"\")","v":""},{"$f":"IF((GrosBovinsAnneeEnCours!D88)>0,AVERAGE(GrosBovinsAnneeEnCours!D85:D88),\"\")","v":""},{"$f":"IF((GrosBovinsAnneeEnCours!E88)>0,AVERAGE(GrosBovinsAnneeEnCours!E85:E88),\"\")","v":6.5375000000000005},{"$f":"IF((GrosBovinsAnneeEnCours!F88)>0,AVERAGE(GrosBovinsAnneeEnCours!F85:F88),\"\")","v":5.9375},{"$f":"IF((GrosBovinsAnneeEnCours!G88)>0,AVERAGE(GrosBovinsAnneeEnCours!G85:G88),\"\")","v":5.0674999999999999},{"$f":"IF((GrosBovinsAnneeEnCours!H88)>0,AVERAGE(GrosBovinsAnneeEnCours!H85:H88),\"\")","v":4.7375000000000007},{"$f":"IF((GrosBovinsAnneeEnCours!I88)>0,AVERAGE(GrosBovinsAnneeEnCours!I85:I88),\"\")","v":6.1224999999999996},{"$f":"IF((GrosBovinsAnneeEnCours!J88)>0,AVERAGE(GrosBovinsAnneeEnCours!J85:J88),\"\")","v":""}]
["A",{"$f":"IF((GrosBovinsAnneeEnCours!C92)>0,AVERAGE(GrosBovinsAnneeEnCours!C89:C92),\"\")","v":""},{"$f":"IF((GrosBovinsAnneeEnCours!D92)>0,AVERAGE(GrosBovinsAnneeEnCours!D89:D92),\"\")","v":""},{"$f":"IF((GrosBovinsAnneeEnCours!E92)>0,AVERAGE(GrosBovinsAnneeEnCours!E89:E92),\"\")","v":6.5875000000000004},{"$f":"IF((GrosBovinsAnneeEnCours!F92)>0,AVERAGE(GrosBovinsAnneeEnCours!F89:F92),\"\")","v":6.0500000000000007},{"$f":"IF((GrosBovinsAnneeEnCours!G92)>0,AVERAGE(GrosBovinsAnneeEnCours!G89:G92),\"\")","v":5.3500000000000005},{"$f":"IF((GrosBovinsAnneeEnCours!H92)>0,AVERAGE(GrosBovinsAnneeEnCours!H89:H92),\"\")","v":5.0875000000000004},{"$f":"IF((GrosBovinsAnneeEnCours!I92)>0,AVERAGE(GrosBovinsAnneeEnCours!I89:I92),\"\")","v":6.19},{"$f":"IF((GrosBovinsAnneeEnCours!J92)>0,AVERAGE(GrosBovinsAnneeEnCours!J89:J92),\"\")","v":""}]
["M",{"$f":"IF((GrosBovinsAnneeEnCours!C97)>0,AVERAGE(GrosBovinsAnneeEnCours!C93:C97),\"\")","v":""},{"$f":"IF((GrosBovinsAnneeEnCours!D97)>0,AVERAGE(GrosBovinsAnneeEnCours!D93:D97),\"\")","v":""},{"$f":"IF((GrosBovinsAnneeEnCours!E97)>0,AVERAGE(GrosBovinsAnneeEnCours!E93:E97),\"\")","v":6.69},{"$f":"IF((GrosBovinsAnneeEnCours!F97)>0,AVERAGE(GrosBovinsAnneeEnCours!F93:F97),\"\")","v":6.2},{"$f":"IF((GrosBovinsAnneeEnCours!G97)>0,AVERAGE(GrosBovinsAnneeEnCours!G93:G97),\"\")","v":5.6599999999999993},{"$f":"IF((GrosBovinsAnneeEnCours!H97)>0,AVERAGE(GrosBovinsAnneeEnCours!H93:H97),\"\")","v":5.49},{"$f":"IF((GrosBovinsAnneeEnCours!I97)>0,AVERAGE(GrosBovinsAnneeEnCours!I93:I97),\"\")","v":6.3260000000000005},{"$f":"IF((GrosBovinsAnneeEnCours!J97)>0,AVERAGE(GrosBovinsAnneeEnCours!J93:J97),\"\")","v":""}]
["J",{"$f":"IF((GrosBovinsAnneeEnCours!C101)>0,AVERAGE(GrosBovinsAnneeEnCours!C98:C101),\"\")","v":""},{"$f":"IF((GrosBovinsAnneeEnCours!D101)>0,AVERAGE(GrosBovinsAnneeEnCours!D98:D101),\"\")","v":""},{"$f":"IF((GrosBovinsAnneeEnCours!E101)>0,AVERAGE(GrosBovinsAnneeEnCours!E98:E101),\"\")","v":6.8249999999999993},{"$f":"IF((GrosBovinsAnneeEnCours!F101)>0,AVERAGE(GrosBovinsAnneeEnCours!F98:F101),\"\")","v":6.45},{"$f":"IF((GrosBovinsAnneeEnCours!G101)>0,AVERAGE(GrosBovinsAnneeEnCours!G98:G101),\"\")","v":5.8249999999999993},{"$f":"IF((GrosBovinsAnneeEnCours!H101)>0,AVERAGE(GrosBovinsAnneeEnCours!H98:H101),\"\")","v":5.65},{"$f":"IF((GrosBovinsAnneeEnCours!I101)>0,AVERAGE(GrosBovinsAnneeEnCours!I98:I101),\"\")","v":6.4},{"$f":"IF((GrosBovinsAnneeEnCours!J101)>0,AVERAGE(GrosBovinsAnneeEnCours!J98:J101),\"\")","v":""}]
["J",{"$f":"IF((GrosBovinsAnneeEnCours!C105)>0,AVERAGE(GrosBovinsAnneeEnCours!C102:C105),\"\")","v":""},{"$f":"IF((GrosBovinsAnneeEnCours!D105)>0,AVERAGE(GrosBovinsAnneeEnCours!D102:D105),\"\")","v":""},{"$f":"IF((GrosBovinsAnneeEnCours!E106)>0,AVERAGE(GrosBovinsAnneeEnCours!E102:E106),\"\")","v":6.9},{"$f":"IF((GrosBovinsAnneeEnCours!F106)>0,AVERAGE(GrosBovinsAnneeEnCours!F102:F106),\"\")","v":6.5},{"$f":"IF((GrosBovinsAnneeEnCours!G106)>0,AVERAGE(GrosBovinsAnneeEnCours!G102:G106),\"\")","v":5.85},{"$f":"IF((GrosBovinsAnneeEnCours!H106)>0,AVERAGE(GrosBovinsAnneeEnCours!H102:H106),\"\")","v":5.6420000000000003},{"$f":"IF((GrosBovinsAnneeEnCours!I106)>0,AVERAGE(GrosBovinsAnneeEnCours!I102:I106),\"\")","v":6.4},{"$f":"IF((GrosBovinsAnneeEnCours!J105)>0,AVERAGE(GrosBovinsAnneeEnCours!J102:J105),\"\")","v":""}]
["A",{"$f":"IF((GrosBovinsAnneeEnCours!C110)>0,AVERAGE(GrosBovinsAnneeEnCours!C106:C110),\"\")","v":""},{"$f":"IF((GrosBovinsAnneeEnCours!D110)>0,AVERAGE(GrosBovinsAnneeEnCours!D106:D110),\"\")","v":""},{"$f":"IF((GrosBovinsAnneeEnCours!E110)>0,AVERAGE(GrosBovinsAnneeEnCours!E107:E110),\"\")","v":7.0249999999999995},{"$f":"IF((GrosBovinsAnneeEnCours!F110)>0,AVERAGE(GrosBovinsAnneeEnCours!F107:F110),\"\")","v":6.6750000000000007},{"$f":"IF((GrosBovinsAnneeEnCours!G110)>0,AVERAGE(GrosBovinsAnneeEnCours!G107:G110),\"\")","v":6.0575000000000001},{"$f":"IF((GrosBovinsAnneeEnCours!H110)>0,AVERAGE(GrosBovinsAnneeEnCours!H107:H110),\"\")","v":5.82},{"$f":"IF((GrosBovinsAnneeEnCours!I110)>0,AVERAGE(GrosBovinsAnneeEnCours!I107:I110),\"\")","v":6.5050000000000008},{"$f":"IF((GrosBovinsAnneeEnCours!J110)>0,AVERAGE(GrosBovinsAnneeEnCours!J106:J110),\"\")","v":""}]
["S",{"$f":"IF((GrosBovinsAnneeEnCours!C114)>0,AVERAGE(GrosBovinsAnneeEnCours!C111:C114),\"\")","v":""},{"$f":"IF((GrosBovinsAnneeEnCours!D114)>0,AVERAGE(GrosBovinsAnneeEnCours!D111:D114),\"\")","v":""},{"$f":"IF((GrosBovinsAnneeEnCours!E114)>0,AVERAGE(GrosBovinsAnneeEnCours!E111:E114),\"\")","v":7.3249999999999993},{"$f":"IF((GrosBovinsAnneeEnCours!F114)>0,AVERAGE(GrosBovinsAnneeEnCours!F111:F114),\"\")","v":6.9249999999999998},{"$f":"IF((GrosBovinsAnneeEnCours!G114)>0,AVERAGE(GrosBovinsAnneeEnCours!G111:G114),\"\")","v":6.3000000000000007},{"$f":"IF((GrosBovinsAnneeEnCours!H114)>0,AVERAGE(GrosBovinsAnneeEnCours!H111:H114),\"\")","v":6.0325000000000006},{"$f":"IF((GrosBovinsAnneeEnCours!I114)>0,AVERAGE(GrosBovinsAnneeEnCours!I111:I114),\"\")","v":6.7850000000000001},{"$f":"IF((GrosBovinsAnneeEnCours!J114)>0,AVERAGE(GrosBovinsAnneeEnCours!J111:J114),\"\")","v":""}]
["O",{"$f":"IF((GrosBovinsAnneeEnCours!C119)>0,AVERAGE(GrosBovinsAnneeEnCours!C115:C119),\"\")","v":""},{"$f":"IF((GrosBovinsAnneeEnCours!D119)>0,AVERAGE(GrosBovinsAnneeEnCours!D115:D119),\"\")","v":""},{"$f":"IF((GrosBovinsAnneeEnCours!E119)>0,AVERAGE(GrosBovinsAnneeEnCours!E115:E119),\"\")","v":""},{"$f":"IF((GrosBovinsAnneeEnCours!F119)>0,AVERAGE(GrosBovinsAnneeEnCours!F115:F119),\"\")","v":""},{"$f":"IF((GrosBovinsAnneeEnCours!G119)>0,AVERAGE(GrosBovinsAnneeEnCours!G115:G119),\"\")","v":""},{"$f":"IF((GrosBovinsAnneeEnCours!H119)>0,AVERAGE(GrosBovinsAnneeEnCours!H115:H119),\"\")","v":""},{"$f":"IF((GrosBovinsAnneeEnCours!I119)>0,AVERAGE(GrosBovinsAnneeEnCours!I115:I119),\"\")","v":""},{"$f":"IF((GrosBovinsAnneeEnCours!J119)>0,AVERAGE(GrosBovinsAnneeEnCours!J115:J119),\"\")","v":""}]
["N",{"$f":"IF((GrosBovinsAnneeEnCours!C123)>0,AVERAGE(GrosBovinsAnneeEnCours!C120:C123),\"\")","v":""},{"$f":"IF((GrosBovinsAnneeEnCours!D123)>0,AVERAGE(GrosBovinsAnneeEnCours!D120:D123),\"\")","v":""},{"$f":"IF((GrosBovinsAnneeEnCours!E123)>0,AVERAGE(GrosBovinsAnneeEnCours!E120:E123),\"\")","v":""},{"$f":"IF((GrosBovinsAnneeEnCours!F123)>0,AVERAGE(GrosBovinsAnneeEnCours!F120:F123),\"\")","v":""},{"$f":"IF((GrosBovinsAnneeEnCours!G123)>0,AVERAGE(GrosBovinsAnneeEnCours!G120:G123),\"\")","v":""},{"$f":"IF((GrosBovinsAnneeEnCours!H123)>0,AVERAGE(GrosBovinsAnneeEnCours!H120:H123),\"\")","v":""},{"$f":"IF((GrosBovinsAnneeEnCours!I123)>0,AVERAGE(GrosBovinsAnneeEnCours!I120:I123),\"\")","v":""},{"$f":"IF((GrosBovinsAnneeEnCours!J123)>0,AVERAGE(GrosBovinsAnneeEnCours!J120:J123),\"\")","v":""}]
["D",{"$f":"IF((GrosBovinsAnneeEnCours!C127)>0,AVERAGE(GrosBovinsAnneeEnCours!C124:C127),\"\")","v":""},{"$f":"IF((GrosBovinsAnneeEnCours!D127)>0,AVERAGE(GrosBovinsAnneeEnCours!D124:D127),\"\")","v":""},{"$f":"IF((GrosBovinsAnneeEnCours!E127)>0,AVERAGE(GrosBovinsAnneeEnCours!E124:E127),\"\")","v":""},{"$f":"IF((GrosBovinsAnneeEnCours!F127)>0,AVERAGE(GrosBovinsAnneeEnCours!F124:F127),\"\")","v":""},{"$f":"IF((GrosBovinsAnneeEnCours!G127)>0,AVERAGE(GrosBovinsAnneeEnCours!G124:G127),\"\")","v":""},{"$f":"IF((GrosBovinsAnneeEnCours!H127)>0,AVERAGE(GrosBovinsAnneeEnCours!H124:H127),\"\")","v":""},{"$f":"IF((GrosBovinsAnneeEnCours!I127)>0,AVERAGE(GrosBovinsAnneeEnCours!I124:I127),\"\")","v":""},{"$f":"IF((GrosBovinsAnneeEnCours!J127)>0,AVERAGE(GrosBovinsAnneeEnCours!J124:J127),\"\")","v":""}]

{"sheet":"VeauxAnneeEnCours","index":17,"n_rows":68,"n_cols":11,"rows_kept":68,"cut":false,"hidden":false,"merged":[[8,5,8,6],[8,3,8,4],[10,0,10,10],[9,0,9,10],[12,0,14,0],[12,1,14,1],[11,5,11,6],[11,8,12,10],[12,2,12,4],[13,2,13,4],[13,8,14,8],[13,9,14,9],[13,10,14,10]]}
["COTATIONS REGIONALES DES VEAUX"]
["Source : DRAAF Pays de la Loire - SRISE - FranceAgriMer"]
[]
["Veaux de boucherie entrée abattoir région Grand Nord"]
["Prix \"entrée abattoir\" HT exprimé en Euro/Kg de carcasse (cinquième quartier compris)"]
[]
["Marché de Château Gontier (marché de référence pour les petits veaux) : cotation des veaux destinés à l'engraissement"]
[]
[null,null,null,"Date de la mise à jour :",null,"2025-11-20"]
["COTATION DES VEAUX - HEBDOMADAIRE (Euros/Kg net)"]
["COTATION DES VEAUX DE 14 JOURS A 4 SEMAINES SUR LES MARCHES DE REFERENCE"]
[null,null,null,null,null,"CHÂTEAU GONTIER VIF",null,null,"Veau Rosé R. clair"]
["Année","Sem.","VEAUX GRAND NORD R",null,null,"NORMAND","LAITIERS"]
[null,null,"(Euros/Kg net)",null,null,"45 à 50 Kg","45-50KG",null,"Evolution/\nsemaine -1",{"$f":"\"Evolution/ semaine id \" & A16-1","v":"Evolution/ semaine id 2024"},"Evolution/semaine id moy. 5 ans"]
[null,null,"Rose très clair","R.clair","Rosé","(Euros/tête)","(Euros/tête)"]
[2025,1,null,7.81,6.33,null,null,null,null,{"$f":"(D16-Veaux2024!D16)/Veaux2024!D16","v":4.4117647058823414E-2},{"$f":"(D16-MoyQuinqHebdoVeaux!L12)/MoyQuinqHebdoVeaux!L10","v":5.1612903225806495E-3}]
[null,2,8.01,7.83,6.33,120,140,null,{"$f":"(D17-D16)/D16","v":2.5608194622279722E-3},{"$f":"(D17-Veaux2024!D17)/Veaux2024!D17","v":4.539385847797061E-2},{"$f":"(D17-MoyQuinqHebdoVeaux!L13)/MoyQuinqHebdoVeaux!L11","v":7.7220077409634628E-3}]
[null,3,8.01,7.85,6.33,120,140,null,{"$f":"(D18-D17)/D17","v":2.5542784163473274E-3},{"$f":"(D18-Veaux2024!D18)/Veaux2024!D18","v":4.5272969374167756E-2},{"$f":"(D18-MoyQuinqHebdoVeaux!L14)/MoyQuinqHebdoVeaux!L12","v":1.1583011583011565E-2}]
[null,4,8.01,7.85,6.33,160,180,null,0,{"$f":"(D19-Veaux2024!D19)/Veaux2024!D19","v":4.5272969374167756E-2},{"$f":"(D19-MoyQuinqHebdoVeaux!L15)/MoyQuinqHebdoVeaux!L13","v":1.1583011583011565E-2}]
["J",5,8.0299999999999994,7.85,6.33,160,180,null,0,{"$f":"(D20-Veaux2024!D20)/Veaux2024!D20","v":4.388297872340427E-2},{"$f":"(D20-MoyQuinqHebdoVeaux!L16)/MoyQuinqHebdoVeaux!L14","v":1.417525773195869E-2}]
[null,6,8.0299999999999994,7.87,6.38,160,180,null,2.5477707006370015E-3,{"$f":"(D21-Veaux2024!D21)/Veaux2024!D21","v":4.7936085219707103E-2},{"$f":"(D21-MoyQuinqHebdoVeaux!L17)/MoyQuinqHebdoVeaux!L15","v":1.6752577319587614E-2}]
[null,7,8.08,7.88,6.38,170,190,null,1.2706480304955257E-3,{"$f":"(D22-Veaux2024!D22)/Veaux2024!D22","v":4.3708609271523188E-2},{"$f":"(D22-MoyQuinqHebdoVeaux!L18)/MoyQuinqHebdoVeaux!L16","v":1.808785529715758E-2}]
[null,8,null,7.88,6.3,170,190,null,0,{"$f":"(D23-Veaux2024!D23)/Veaux2024!D23","v":4.3708609271523188E-2},{"$f":"(D23-MoyQuinqHebdoVeaux!L19)/MoyQuinqHebdoVeaux!L17","v":1.937984496124024E-2}]
["F",9,null,7.88,6.3,170,190,null,0,{"$f":"(D24-Veaux2024!D24)/Veaux2024!D24","v":5.3475935828876928E-2},{"$f":"(D24-MoyQuinqHebdoVeaux!L20)/MoyQuinqHebdoVeaux!L18","v":1.808785529715758E-2}]
[null,10,7.95,7.88,6.3,170,190,null,0,{"$f":"(D25-Veaux2024!D25)/Veaux2024!D25","v":5.7718120805369089E-2},{"$f":"(D25-MoyQuinqHebdoVeaux!L21)/MoyQuinqHebdoVeaux!L19","v":1.9404915912030977E-2}]
[null,11,null,7.91,6.21,180,200,null,3.8071065989848034E-3,{"$f":"(D26-Veaux2024!D26)/Veaux2024!D26","v":5.4666666666666683E-2},{"$f":"(D26-MoyQuinqHebdoVeaux!L22)/MoyQuinqHebdoVeaux!L20","v":3.1007751937984523E-2}]
[null,12,8.02,7.94,6.23,185,215,null,3.7926675094817003E-3,{"$f":"(D27-Veaux2024!D27)/Veaux2024!D27","v":5.8666666666666721E-2},{"$f":"(D27-MoyQuinqHebdoVeaux!L23)/MoyQuinqHebdoVeaux!L21","v":3.8809831824062183E-2}]
["M",13,null,7.98,6.23,185,215,null,5.0377833753148657E-3,{"$f":"(D28-Veaux2024!D28)/Veaux2024!D28","v":6.4000000000000057E-2},{"$f":"(D28-MoyQuinqHebdoVeaux!L24)/MoyQuinqHebdoVeaux!L22","v":5.0847457627118717E-2}]
[null,14,8.0500000000000007,7.99,6.23,185,215,null,1.2531328320801738E-3,{"$f":"(D29-Veaux2024!D29)/Veaux2024!D29","v":7.2483221476510068E-2},{"$f":"(D29-MoyQuinqHebdoVeaux!L25)/MoyQuinqHebdoVeaux!L23","v":5.4973821989528791E-2}]
[null,15,null,8.02,6.25,185,215,null,3.7546933667083051E-3,{"$f":"(D30-Veaux2024!D30)/Veaux2024!D30","v":7.9407806191117078E-2},{"$f":"(D30-MoyQuinqHebdoVeaux!L26)/MoyQuinqHebdoVeaux!L24","v":6.0606060606060601E-2}]
[null,16,8.06,8.0399999999999991,6.54,195,225,null,2.4937655860348597E-3,{"$f":"(D31-Veaux2024!D31)/Veaux2024!D31","v":8.2099596231493877E-2},{"$f":"(D31-MoyQuinqHebdoVeaux!L27)/MoyQuinqHebdoVeaux!L25","v":6.8692206076618176E-2}]
["A",17,null,8.0399999999999991,6.53,205,235,null,0,{"$f":"(D32-Veaux2024!D32)/Veaux2024!D32","v":8.2099596231493877E-2},{"$f":"(D32-MoyQuinqHebdoVeaux!L28)/MoyQuinqHebdoVeaux!L26","v":7.0105820105820019E-2}]
[null,18,8.06,8.0500000000000007,6.53,215,245,null,1.2437810945275577E-3,{"$f":"(D33-Veaux2024!D33)/Veaux2024!D33","v":8.7837837837837884E-2},{"$f":"(D33-MoyQuinqHebdoVeaux!L29)/MoyQuinqHebdoVeaux!L27","v":8.1117021276595785E-2}]
[null,19,null,7.98,6.73,220,250,null,-8.6956521739130783E-3,{"$f":"(D34-Veaux2024!D34)/Veaux2024!D34","v":8.4239130434782622E-2},{"$f":"(D34-MoyQuinqHebdoVeaux!L30)/MoyQuinqHebdoVeaux!L28","v":8.6551264980026688E-2}]
[null,20,null,7.96,6.61,250,270,null,-2.5062656641604585E-3,{"$f":"(D35-Veaux2024!D35)/Veaux2024!D35","v":8.1521739130434728E-2},{"$f":"(D35-MoyQuinqHebdoVeaux!L31)/MoyQuinqHebdoVeaux!L29","v":9.6774193548387052E-2}]
[null,21,8,7.94,6.61,250,270,null,-2.512562814070298E-3,{"$f":"(D36-Veaux2024!D36)/Veaux2024!D36","v":7.880434782608696E-2},{"$f":"(D36-MoyQuinqHebdoVeaux!L32)/MoyQuinqHebdoVeaux!L30","v":0.10641200545702595}]
["M",22,8,7.89,6.55,250,270,null,-6.2972292191436664E-3,{"$f":"(D37-Veaux2024!D37)/Veaux2024!D37","v":7.6398362892223681E-2},{"$f":"(D37-MoyQuinqHebdoVeaux!L33)/MoyQuinqHebdoVeaux!L31","v":0.11464088397790057}]
[null,23,null,7.89,{"$f":"E39+0.17","v":6.57},300,300,null,0,{"$f":"(D38-Veaux2024!D38)/Veaux2024!D38","v":8.2304526748971138E-2},{"$f":"(D38-MoyQuinqHebdoVeaux!L34)/MoyQuinqHebdoVeaux!L32","v":0.11871508379888263}]
[null,24,8.09,7.87,6.4,280,300,null,-2.5348542458808079E-3,{"$f":"(D39-Veaux2024!D39)/Veaux2024!D39","v":9.1539528432732331E-2},{"$f":"(D39-MoyQuinqHebdoVeaux!L35)/MoyQuinqHebdoVeaux!L33","v":0.11756373937677056}]
[null,25,null,7.86,6.4,280,300,null,-1.2706480304955257E-3,{"$f":"(D40-Veaux2024!D40)/Veaux2024!D40","v":9.1666666666666688E-2},{"$f":"(D40-MoyQuinqHebdoVeaux!L36)/MoyQuinqHebdoVeaux!L34","v":0.11789772727272728}]
["J",26,8.07,7.85,6.4,280,320,null,-1.2722646310433427E-3,{"$f":"(D41-Veaux2024!D41)/Veaux2024!D41","v":9.4839609483960904E-2},{"$f":"(D41-MoyQuinqHebdoVeaux!L37)/MoyQuinqHebdoVeaux!L35","v":0.1136363636363636}]
[null,27,8.07,7.87,6.4,280,330,null,2.5477707006370015E-3,{"$f":"(D42-Veaux2024!D42)/Veaux2024!D42","v":0.10224089635854348},{"$f":"(D42-MoyQuinqHebdoVeaux!L38)/MoyQuinqHebdoVeaux!L36","v":0.13086770981507823}]
[null,28,null,7.87,6.4,280,330,null,0,{"$f":"(D43-Veaux2024!D43)/Veaux2024!D43","v":0.10224089635854348},{"$f":"(D43-MoyQuinqHebdoVeaux!L39)/MoyQuinqHebdoVeaux!L37","v":0.12907801418439718}]
[null,29,8.14,7.86,6.41,280,330,null,-1.2706480304955257E-3,{"$f":"(D44-Veaux2024!D44)/Veaux2024!D44","v":9.9300699300699291E-2},{"$f":"(D44-MoyQuinqHebdoVeaux!L40)/MoyQuinqHebdoVeaux!L38","v":0.1294964028776979}]
[null,30,null,7.86,6.52,280,330,null,0,{"$f":"(D45-Veaux2024!D45)/Veaux2024!D45","v":9.9300699300699291E-2},{"$f":"(D45-MoyQuinqHebdoVeaux!L41)/MoyQuinqHebdoVeaux!L39","v":0.13218390804597699}]
["J",31,null,7.89,6.52,260,310,null,3.8167938931296893E-3,{"$f":"(D46-Veaux2024!D46)/Veaux2024!D46","v":0.1034965034965034},{"$f":"(D46-MoyQuinqHebdoVeaux!L42)/MoyQuinqHebdoVeaux!L40","v":0.13362068965517238}]
[null,32,7.95,7.89,6.52,230,280,null,0,{"$f":"(D47-Veaux2024!D47)/Veaux2024!D47","v":0.10970464135021088},{"$f":"(D47-MoyQuinqHebdoVeaux!L43)/MoyQuinqHebdoVeaux!L41","v":0.13400576368876077}]
[null,33,null,7.89,6.52,230,280,null,0,{"$f":"(D48-Veaux2024!D48)/Veaux2024!D48","v":0.10970464135021088},{"$f":"(D48-MoyQuinqHebdoVeaux!L44)/MoyQuinqHebdoVeaux!L42","v":0.12787356321839075}]
[null,34,null,7.91,6.52,230,280,null,{"$f":"(D49-D48)/D48","v":2.5348542458809207E-3},{"$f":"(D49-Veaux2024!D49)/Veaux2024!D49","v":0.11095505617977529},{"$f":"(D49-MoyQuinqHebdoVeaux!L45)/MoyQuinqHebdoVeaux!L43","v":0.13074712643678163}]
["A",35,8.08,7.98,6.46,320,320,null,8.8495575221239301E-3,{"$f":"(D50-Veaux2024!D50)/Veaux2024!D50","v":0.11764705882352952},{"$f":"(D50-MoyQuinqHebdoVeaux!L46)/MoyQuinqHebdoVeaux!L44","v":0.13571428571428573}]
[null,36,null,8.11,6.64,320,320,null,1.6290726817042481E-2,{"$f":"(D51-Veaux2024!D51)/Veaux2024!D51","v":0.12638888888888877},{"$f":"(D51-MoyQuinqHebdoVeaux!L47)/MoyQuinqHebdoVeaux!L45","v":0.15142857142857138}]
[null,37,8.44,8.2200000000000006,6.64,320,320,null,1.3563501849568584E-2,{"$f":"(D52-Veaux2024!D52)/Veaux2024!D52","v":0.1322314049586778},{"$f":"(D52-MoyQuinqHebdoVeaux!L48)/MoyQuinqHebdoVeaux!L46","v":0.16642958748221917}]
[null,38,8.58,8.32,6.68,320,320,null,1.2165450121654457E-2,{"$f":"(D53-Veaux2024!D53)/Veaux2024!D53","v":0.14128943758573392},{"$f":"(D53-MoyQuinqHebdoVeaux!L49)/MoyQuinqHebdoVeaux!L47","v":0.1773049645390071}]
["S",39,8.58,8.4,6.89,325,325,null,9.6153846153846229E-3,{"$f":"(D54-Veaux2024!D54)/Veaux2024!D54","v":0.14597544338335611},{"$f":"(D54-MoyQuinqHebdoVeaux!L50)/MoyQuinqHebdoVeaux!L48","v":0.17872340425531924}]
[null,40,null,8.5500000000000007,7.04,335,335,null,1.7857142857142898E-2,{"$f":"(D55-Veaux2024!D55)/Veaux2024!D55","v":0.1522911051212939},{"$f":"(D55-MoyQuinqHebdoVeaux!L51)/MoyQuinqHebdoVeaux!L49","v":0.18953323903818964}]
[null,41,8.77,8.6199999999999992,7.2,340,340,null,8.187134502923802E-3,{"$f":"(D56-Veaux2024!D56)/Veaux2024!D56","v":0.14933333333333323},{"$f":"(D56-MoyQuinqHebdoVeaux!L52)/MoyQuinqHebdoVeaux!L50","v":0.19327731092436962}]
[null,42,null,8.7100000000000009,7.34,290,290,null,1.0440835266821536E-2,{"$f":"(D57-Veaux2024!D57)/Veaux2024!D57","v":0.15670650730411695},{"$f":"(D57-MoyQuinqHebdoVeaux!L53)/MoyQuinqHebdoVeaux!L51","v":0.1969486823855757}]
[null,43,8.7899999999999991,8.77,7.58,240,240,null,6.8886337543052484E-3,{"$f":"(D58-Veaux2024!D58)/Veaux2024!D58","v":0.14941022280471819},{"$f":"(D58-MoyQuinqHebdoVeaux!L54)/MoyQuinqHebdoVeaux!L52","v":0.19337016574585628}]
["O",44,null,8.85,7.62,190,190,null,9.1220068415051401E-3,{"$f":"(D59-Veaux2024!D59)/Veaux2024!D59","v":0.15989515072083876},{"$f":"(D59-MoyQuinqHebdoVeaux!L55)/MoyQuinqHebdoVeaux!L53","v":0.19478737997256515}]
[null,45,null,8.9700000000000006,7.73,190,190,null,1.3559322033898417E-2,{"$f":"(D60-Veaux2024!D60)/Veaux2024!D60","v":0.16796875000000014},{"$f":"(D60-MoyQuinqHebdoVeaux!L56)/MoyQuinqHebdoVeaux!L54","v":0.20488466757123483}]
[null,46,null,9,7.73,190,190,null,3.344481605351099E-3,{"$f":"(D61-Veaux2024!D61)/Veaux2024!D61","v":0.17035110533159942},{"$f":"(D61-MoyQuinqHebdoVeaux!L57)/MoyQuinqHebdoVeaux!L55","v":1.2113055181695829}]
[null,47,null,null,null,null,null,null,-1,{"$f":"(D62-Veaux2024!D62)/Veaux2024!D62","v":-1},{"$f":"(D62-MoyQuinqHebdoVeaux!L58)/MoyQuinqHebdoVeaux!L56","v":0}]
["N",48,null,null,null,null,null,null,{"$error":"#DIV/0!"},{"$f":"(D63-Veaux2024!D63)/Veaux2024!D63","v":-1},{"$f":"(D63-MoyQuinqHebdoVeaux!L59)/MoyQuinqHebdoVeaux!L57","v":{"$error":"#DIV/0!"}}]
[null,49,null,null,null,null,null,null,{"$error":"#DIV/0!"},{"$f":"(D64-Veaux2024!D64)/Veaux2024!D64","v":-1},{"$f":"(D64-MoyQuinqHebdoVeaux!L60)/MoyQuinqHebdoVeaux!L58","v":{"$error":"#DIV/0!"}}]
[null,50,null,null,null,null,null,null,{"$error":"#DIV/0!"},{"$f":"(D65-Veaux2024!D65)/Veaux2024!D65","v":-1},{"$f":"(D65-MoyQuinqHebdoVeaux!L61)/MoyQuinqHebdoVeaux!L59","v":{"$error":"#DIV/0!"}}]
[null,51,null,null,null,null,null,null,{"$error":"#DIV/0!"},{"$f":"(D66-Veaux2024!D66)/Veaux2024!D66","v":-1},{"$f":"(D66-MoyQuinqHebdoVeaux!L62)/MoyQuinqHebdoVeaux!L60","v":{"$error":"#DIV/0!"}}]
["D",52,null,null,null,null,null,null,{"$error":"#DIV/0!"},{"$f":"(D67-Veaux2024!D67)/Veaux2024!D67","v":-1},{"$f":"(D67-MoyQuinqHebdoVeaux!L63)/MoyQuinqHebdoVeaux!L61","v":{"$error":"#DIV/0!"}}]
[null,null,null,null,null,null,null,null,{"$error":"#DIV/0!"},{"$f":"(D68-Veaux2024!D68)/Veaux2024!D68","v":{"$error":"#DIV/0!"}},{"$f":"(D68-MoyQuinqHebdoVeaux!L64)/MoyQuinqHebdoVeaux!L62","v":{"$error":"#DIV/0!"}}]

{"sheet":"Veaux2024","index":18,"n_rows":68,"n_cols":11,"rows_kept":68,"cut":false,"hidden":false,"merged":[[11,5,11,6],[11,8,12,10],[12,2,12,4],[13,2,13,4],[13,8,14,8],[13,9,14,9],[13,10,14,10]]}
["COTATIONS REGIONALES DES VEAUX"]
["Source : DRAAF Pays de la Loire - SRISE - FranceAgriMer"]
[]
["Veaux de boucherie entrée abattoir région Grand Nord"]
["Prix \"entrée abattoir\" HT exprimé en Euro/Kg de carcasse (cinquième quartier compris)"]
[]
["Marché de Château Gontier (marché de référence pour les petits veaux) : cotation des veaux destinés à l'engraissement"]
[]
[null,null,null,null,null,null,"Mis à jour : 30/12 /2024"]
["COTATION DES VEAUX - HEBDOMADAIRE (Euros/Kg net)",null,null,null,null,{"$f":"\"A PARTIR DE JANVIER \"&A16","v":"A PARTIR DE JANVIER 2024"}]
[null,null,null,null,null,"COTATION DES VEAUX DE 14 JOURS A 4 SEMAINES SUR LES MARCHES DE REFERENCE"]
[null,null,null,null,null,"CHÂTEAU GONTIER VIF",null,null,"Veau Rosé R. clair"]
["Année","Sem.","VEAUX GRAND NORD R",null,null,"NORMAND","LAITIERS"]
[null,null,"(Euros/Kg net",null,null,"45 à 50 Kg","45-50KG",null,"Evolution/semaine -1",{"$f":"\"Evolution/ semaine id \" & A16-1","v":"Evolution/ semaine id 2023"},"Evolution/semaine id moy. 5 ans"]
[null,null,"Rose très clair","R.clair","Rosé","(Euros/tête)","(Euros/tête)"]
[2024,1,null,7.48,5.6,40,55,null,null,{"$f":"(D16-Veaux2023!D16)/Veaux2023!D16","v":-3.4838709677419297E-2},{"$f":"(D16-MoyQuinqHebdoVeaux!N8)/MoyQuinqHebdoVeaux!N8","v":7.0406416833538377E-2}]
[null,2,7.59,7.49,5.6,40,55,null,{"$f":"(D17-D16)/D16","v":1.3368983957218966E-3},{"$f":"(D17-Veaux2023!D17)/Veaux2023!D17","v":-3.4793842901824364E-2},{"$f":"(D17-MoyQuinqHebdoVeaux!N9)/MoyQuinqHebdoVeaux!N9","v":7.061176998615834E-2}]
[null,3,null,7.51,5.6,40,55,null,{"$f":"(D18-D17)/D17","v":2.670226969292333E-3},{"$f":"(D18-Veaux2023!D18)/Veaux2023!D18","v":-3.0967741935483899E-2},{"$f":"(D18-MoyQuinqHebdoVeaux!N10)/MoyQuinqHebdoVeaux!N10","v":7.3163766924542503E-2}]
["J",4,7.53,7.51,5.6,40,55,null,0,{"$f":"(D19-Veaux2023!D19)/Veaux2023!D19","v":-3.3462031089414604E-2},{"$f":"(D19-MoyQuinqHebdoVeaux!N11)/MoyQuinqHebdoVeaux!N11","v":7.255070622765189E-2}]
[null,5,7.53,7.52,5.54,45,60,null,1.3315579227696122E-3,{"$f":"(D20-Veaux2023!D20)/Veaux2023!D20","v":-3.2175032175032175E-2},{"$f":"(D20-MoyQuinqHebdoVeaux!N12)/MoyQuinqHebdoVeaux!N12","v":7.5207318214703792E-2}]
[null,6,7.69,7.51,5.68,45,60,null,-1.329787234042525E-3,{"$f":"(D21-Veaux2023!D21)/Veaux2023!D21","v":-3.3462033462033434E-2},{"$f":"(D21-MoyQuinqHebdoVeaux!N13)/MoyQuinqHebdoVeaux!N13","v":7.6239607261730888E-2}]
[null,7,7.66,7.55,5.68,45,60,null,5.3262316910785666E-3,{"$f":"(D22-Veaux2023!D22)/Veaux2023!D22","v":-2.706185567010309E-2},{"$f":"(D22-MoyQuinqHebdoVeaux!N14)/MoyQuinqHebdoVeaux!N14","v":8.1661895255514177E-2}]
[null,8,7.66,7.55,5.59,55,70,null,0,{"$f":"(D23-Veaux2023!D23)/Veaux2023!D23","v":-2.706185567010309E-2},{"$f":"(D23-MoyQuinqHebdoVeaux!N15)/MoyQuinqHebdoVeaux!N15","v":8.2282107132612858E-2}]
["F",9,null,7.48,5.67,55,70,null,-9.2715231788078681E-3,{"$f":"(D24-Veaux2023!D24)/Veaux2023!D24","v":-3.3591731266149845E-2},{"$f":"(D24-MoyQuinqHebdoVeaux!N16)/MoyQuinqHebdoVeaux!N16","v":7.471264780142603E-2}]
[null,10,7.6,7.45,5.88,65,80,null,-4.0106951871658088E-3,{"$f":"(D25-Veaux2023!D25)/Veaux2023!D25","v":-3.7467700258397935E-2},{"$f":"(D25-MoyQuinqHebdoVeaux!N17)/MoyQuinqHebdoVeaux!N17","v":7.4415917408422239E-2}]
[null,11,7.6,7.5,5.88,65,80,null,6.7114093959731299E-3,{"$f":"(D26-Veaux2023!D26)/Veaux2023!D26","v":-3.1007751937984523E-2},{"$f":"(D26-MoyQuinqHebdoVeaux!N18)/MoyQuinqHebdoVeaux!N18","v":7.8515966769297563E-2}]
[null,12,7.58,7.5,5.82,75,90,null,0,{"$f":"(D27-Veaux2023!D27)/Veaux2023!D27","v":-2.975420439844766E-2},{"$f":"(D27-MoyQuinqHebdoVeaux!N19)/MoyQuinqHebdoVeaux!N19","v":7.9758133584948057E-2}]
["M",13,7.6,7.5,5.82,85,100,null,0,{"$f":"(D28-Veaux2023!D28)/Veaux2023!D28","v":-3.1007751937984523E-2},{"$f":"(D28-MoyQuinqHebdoVeaux!N20)/MoyQuinqHebdoVeaux!N20","v":7.9136690055168254E-2}]
[null,14,7.6,7.45,5.82,85,100,null,-6.6666666666666428E-3,{"$f":"(D29-Veaux2023!D29)/Veaux2023!D29","v":-3.6222509702457988E-2},{"$f":"(D29-MoyQuinqHebdoVeaux!N21)/MoyQuinqHebdoVeaux!N21","v":7.6900845518445796E-2}]
[null,15,null,7.43,5.84,95,110,null,-2.6845637583893236E-3,{"$f":"(D30-Veaux2023!D30)/Veaux2023!D30","v":-3.1290743155149965E-2},{"$f":"(D30-MoyQuinqHebdoVeaux!N22)/MoyQuinqHebdoVeaux!N22","v":8.0884486291464802E-2}]
[null,16,7.37,7.43,5.98,105,120,null,0,{"$f":"(D31-Veaux2023!D31)/Veaux2023!D31","v":-2.7486910994764396E-2},{"$f":"(D31-MoyQuinqHebdoVeaux!N23)/MoyQuinqHebdoVeaux!N23","v":8.6575016480755426E-2}]
["A",17,7.37,7.43,5.98,105,120,null,0,{"$f":"(D32-Veaux2023!D32)/Veaux2023!D32","v":-2.1080368906455881E-2},{"$f":"(D32-MoyQuinqHebdoVeaux!N24)/MoyQuinqHebdoVeaux!N24","v":9.813774941873929E-2}]
[null,18,7.49,7.4,6.13,105,120,null,-4.0376850605651901E-3,{"$f":"(D33-Veaux2023!D33)/Veaux2023!D33","v":-2.2457067371202104E-2},{"$f":"(D33-MoyQuinqHebdoVeaux!N25)/MoyQuinqHebdoVeaux!N25","v":0.1002081499833252}]
[null,19,null,7.36,5.88,105,120,null,-5.40540540540541E-3,{"$f":"(D34-Veaux2023!D34)/Veaux2023!D34","v":-2.6455026455026363E-2},{"$f":"(D34-MoyQuinqHebdoVeaux!N26)/MoyQuinqHebdoVeaux!N26","v":0.10245655514532022}]
[null,20,7.42,7.36,5.88,105,120,null,0,{"$f":"(D35-Veaux2023!D35)/Veaux2023!D35","v":-2.1276595744680753E-2},{"$f":"(D35-MoyQuinqHebdoVeaux!N27)/MoyQuinqHebdoVeaux!N27","v":0.10543707072208333}]
[null,21,7.43,7.36,5.88,105,120,null,0,{"$f":"(D36-Veaux2023!D36)/Veaux2023!D36","v":-1.9973368841544537E-2},{"$f":"(D36-MoyQuinqHebdoVeaux!N28)/MoyQuinqHebdoVeaux!N28","v":0.1064341570448189}]
["M",22,7.43,7.33,5.82,105,120,null,-4.0760869565217728E-3,{"$f":"(D37-Veaux2023!D37)/Veaux2023!D37","v":-1.4784946236559182E-2},{"$f":"(D37-MoyQuinqHebdoVeaux!N29)/MoyQuinqHebdoVeaux!N29","v":0.11127955630213059}]
[null,23,null,7.29,5.8,105,120,null,-5.4570259208731285E-3,{"$f":"(D38-Veaux2023!D38)/Veaux2023!D38","v":-5.4570259208731285E-3},{"$f":"(D38-MoyQuinqHebdoVeaux!N30)/MoyQuinqHebdoVeaux!N30","v":0.11094179314492125}]
[null,24,7.33,7.21,5.62,105,120,null,-1.0973936899862835E-2,{"$f":"(D39-Veaux2023!D39)/Veaux2023!D39","v":-4.1436464088398135E-3},{"$f":"(D39-MoyQuinqHebdoVeaux!N31)/MoyQuinqHebdoVeaux!N31","v":0.10515021394607399}]
[null,25,7.33,7.2,5.4,105,120,null,-1.3869625520110662E-3,{"$f":"(D40-Veaux2023!D40)/Veaux2023!D40","v":5.5865921787709542E-3},{"$f":"(D40-MoyQuinqHebdoVeaux!N32)/MoyQuinqHebdoVeaux!N32","v":0.10769231354301509}]
["J",26,7.32,7.17,5.83,105,120,null,-4.1666666666667013E-3,{"$f":"(D41-Veaux2023!D41)/Veaux2023!D41","v":1.5580736543909394E-2},{"$f":"(D41-MoyQuinqHebdoVeaux!N33)/MoyQuinqHebdoVeaux!N33","v":0.11093894733449543}]
[null,27,null,7.14,5.78,115,130,null,-4.1841004184100762E-3,{"$f":"(D42-Veaux2023!D42)/Veaux2023!D42","v":1.4204545454545404E-2},{"$f":"(D42-MoyQuinqHebdoVeaux!N34)/MoyQuinqHebdoVeaux!N34","v":0.10835143905678719}]
[null,28,7.3,7.14,5.78,115,130,null,0,{"$f":"(D43-Veaux2023!D43)/Veaux2023!D43","v":1.4204545454545404E-2},{"$f":"(D43-MoyQuinqHebdoVeaux!N35)/MoyQuinqHebdoVeaux!N35","v":0.10800745141322959}]
[null,29,7.33,7.15,5.78,115,130,null,1.4005602240897304E-3,{"$f":"(D44-Veaux2023!D44)/Veaux2023!D44","v":1.7069701280227612E-2},{"$f":"(D44-MoyQuinqHebdoVeaux!N36)/MoyQuinqHebdoVeaux!N36","v":0.10990375922629421}]
["J",30,7.34,7.15,5.78,115,130,null,0,{"$f":"(D45-Veaux2023!D45)/Veaux2023!D45","v":1.4184397163120643E-2},{"$f":"(D45-MoyQuinqHebdoVeaux!N37)/MoyQuinqHebdoVeaux!N37","v":0.1109384737339304}]
[null,31,null,7.15,5.78,115,130,null,0,{"$f":"(D46-Veaux2023!D46)/Veaux2023!D46","v":2.8776978417266213E-2},{"$f":"(D46-MoyQuinqHebdoVeaux!N38)/MoyQuinqHebdoVeaux!N38","v":0.11474898924379781}]
[null,32,7.33,7.11,5.87,115,130,null,-5.5944055944055987E-3,{"$f":"(D47-Veaux2023!D47)/Veaux2023!D47","v":2.1551724137931084E-2},{"$f":"(D47-MoyQuinqHebdoVeaux!N39)/MoyQuinqHebdoVeaux!N39","v":0.10782174605670986}]
[null,33,7.33,7.11,5.61,115,130,null,0,{"$f":"(D48-Veaux2023!D48)/Veaux2023!D48","v":2.1551724137931084E-2},{"$f":"(D48-MoyQuinqHebdoVeaux!N40)/MoyQuinqHebdoVeaux!N40","v":0.1064425783444579}]
[null,34,7.28,7.12,5.61,105,120,null,1.4064697609001105E-3,{"$f":"(D49-Veaux2023!D49)/Veaux2023!D49","v":2.5936599423631083E-2},{"$f":"(D49-MoyQuinqHebdoVeaux!N41)/MoyQuinqHebdoVeaux!N41","v":0.10353378340552838}]
["A",35,7.28,7.14,5.61,95,110,null,2.8089887640448839E-3,{"$f":"(D50-Veaux2023!D50)/Veaux2023!D50","v":2.5862068965517199E-2},{"$f":"(D50-MoyQuinqHebdoVeaux!N42)/MoyQuinqHebdoVeaux!N42","v":9.8461534593570946E-2}]
[null,36,7.28,7.2,5.45,75,90,null,8.4033613445378859E-3,{"$f":"(D51-Veaux2023!D51)/Veaux2023!D51","v":3.4482758620689689E-2},{"$f":"(D51-MoyQuinqHebdoVeaux!N43)/MoyQuinqHebdoVeaux!N43","v":9.7895706294815019E-2}]
[null,37,7.39,7.26,5.45,65,80,null,8.3333333333332794E-3,{"$f":"(D52-Veaux2023!D52)/Veaux2023!D52","v":3.7142857142857109E-2},{"$f":"(D52-MoyQuinqHebdoVeaux!N44)/MoyQuinqHebdoVeaux!N44","v":9.6014494015991478E-2}]
[null,38,7.42,7.29,5.45,65,80,null,4.1322314049587125E-3,{"$f":"(D53-Veaux2023!D53)/Veaux2023!D53","v":4.1428571428571433E-2},{"$f":"(D53-MoyQuinqHebdoVeaux!N45)/MoyQuinqHebdoVeaux!N45","v":5.9593019143286928E-2}]
["S",39,null,7.33,5.51,55,70,null,5.4869684499314177E-3,{"$f":"(D54-Veaux2023!D54)/Veaux2023!D54","v":4.2674253200568966E-2},{"$f":"(D54-MoyQuinqHebdoVeaux!N46)/MoyQuinqHebdoVeaux!N46","v":8.5925932062931254E-2}]
[null,40,7.52,7.42,5.6,55,70,null,1.2278308321964511E-2,{"$f":"(D55-Veaux2023!D55)/Veaux2023!D55","v":5.2482269503546113E-2},{"$f":"(D55-MoyQuinqHebdoVeaux!N47)/MoyQuinqHebdoVeaux!N47","v":8.574772586801456E-2}]
[null,41,7.56,7.5,5.6,55,70,null,1.0781671159029659E-2,{"$f":"(D56-Veaux2023!D56)/Veaux2023!D56","v":6.3829787234042576E-2},{"$f":"(D56-MoyQuinqHebdoVeaux!N48)/MoyQuinqHebdoVeaux!N48","v":8.4128357211082791E-2}]
[null,42,7.57,7.53,5.62,55,70,null,4.000000000000033E-3,{"$f":"(D57-Veaux2023!D57)/Veaux2023!D57","v":6.5063649222065062E-2},{"$f":"(D57-MoyQuinqHebdoVeaux!N49)/MoyQuinqHebdoVeaux!N49","v":8.1275127459188384E-2}]
[null,43,null,7.63,5.65,55,70,null,1.3280212483399686E-2,{"$f":"(D58-Veaux2023!D58)/Veaux2023!D58","v":6.8627450980392191E-2},{"$f":"(D58-MoyQuinqHebdoVeaux!N50)/MoyQuinqHebdoVeaux!N50","v":8.6275625833739683E-2}]
["O",44,7.64,7.63,6.04,55,70,null,0,{"$f":"(D59-Veaux2023!D59)/Veaux2023!D59","v":5.8252427184466007E-2},{"$f":"(D59-MoyQuinqHebdoVeaux!N51)/MoyQuinqHebdoVeaux!N51","v":7.8292814408286102E-2}]
[null,45,7.81,7.68,6.04,80,100,null,6.5530799475753375E-3,{"$f":"(D60-Veaux2023!D60)/Veaux2023!D60","v":6.0773480662983353E-2},{"$f":"(D60-MoyQuinqHebdoVeaux!N52)/MoyQuinqHebdoVeaux!N52","v":7.986501861052786E-2}]
[null,46,7.81,7.69,6.04,90,110,null,1.3020833333334213E-3,{"$f":"(D61-Veaux2023!D61)/Veaux2023!D61","v":5.4869684499314175E-2},{"$f":"(D61-MoyQuinqHebdoVeaux!N53)/MoyQuinqHebdoVeaux!N53","v":7.4022342363199808E-2}]
[null,47,null,7.78,6.11,90,110,null,1.1703511053315976E-2,{"$f":"(D62-Veaux2023!D62)/Veaux2023!D62","v":5.5630936227951171E-2},{"$f":"(D62-MoyQuinqHebdoVeaux!N54)/MoyQuinqHebdoVeaux!N54","v":7.9356274237583915E-2}]
["N",48,7.91,7.78,6.11,90,110,null,0,{"$f":"(D63-Veaux2023!D63)/Veaux2023!D63","v":4.7106325706594961E-2},{"$f":"(D63-MoyQuinqHebdoVeaux!N55)/MoyQuinqHebdoVeaux!N55","v":7.6071919706162824E-2}]
[null,49,7.88,7.79,5.97,90,110,null,1.2853470437017721E-3,{"$f":"(D64-Veaux2023!D64)/Veaux2023!D64","v":4.423592493297588E-2},{"$f":"(D64-MoyQuinqHebdoVeaux!N56)/MoyQuinqHebdoVeaux!N56","v":7.2411893709949396E-2}]
[null,50,7.88,7.83,6.06,90,110,null,5.1347881899871679E-3,{"$f":"(D65-Veaux2023!D65)/Veaux2023!D65","v":4.959785522788205E-2},{"$f":"(D65-MoyQuinqHebdoVeaux!N57)/MoyQuinqHebdoVeaux!N57","v":8.1865284974093164E-2}]
[null,51,null,7.83,6.33,90,110,null,0,{"$f":"(D66-Veaux2023!D66)/Veaux2023!D66","v":4.6791443850267331E-2},{"$f":"(D66-MoyQuinqHebdoVeaux!N58)/MoyQuinqHebdoVeaux!N58","v":8.2987551867219858E-2}]
["D",52,8.01,7.81,6.33,90,110,null,-2.554278416347441E-3,{"$f":"(D67-Veaux2023!D67)/Veaux2023!D67","v":4.4117647058823414E-2},{"$f":"(D67-MoyQuinqHebdoVeaux!N59)/MoyQuinqHebdoVeaux!N59","v":0.10832543838524444}]
[null,53,null,null,null,null,null,null,-1,{"$f":"(D68-Veaux2023!D68)/Veaux2023!D68","v":{"$error":"#DIV/0!"}},{"$f":"(D68-MoyQuinqHebdoVeaux!N60)/MoyQuinqHebdoVeaux!N60","v":-1}]

{"sheet":"Veaux2023","index":19,"n_rows":68,"n_cols":11,"rows_kept":68,"cut":false,"hidden":false,"merged":[[11,5,11,6],[11,8,12,10],[12,2,12,4],[13,2,13,4],[13,8,14,8],[13,9,14,9],[13,10,14,10]]}
["COTATIONS REGIONALES DES VEAUX"]
["Source : DRAAF Pays de la Loire - SRISE - FranceAgriMer"]
[]
["Veaux de boucherie entrée abattoir région Grand Nord"]
["Prix \"entrée abattoir\" HT exprimé en Euro/Kg de carcasse (cinquième quartier compris)"]
[]
["Marché de Château Gontier (marché de référence pour les petits veaux) : cotation des veaux destinés à l'engraissement"]
[]
[null,null,null,null,null,null,"Mis à jour : 18/12/2023"]
["COTATION DES VEAUX - HEBDOMADAIRE (Euros/Kg net)",null,null,null,null,{"$f":"\"A PARTIR DE JANVIER \"&A16","v":"A PARTIR DE JANVIER 2023"}]
[null,null,null,null,null,"COTATION DES VEAUX DE 14 JOURS A 4 SEMAINES SUR LES MARCHES DE REFERENCE"]
[null,null,"Mis à jour 18/12/2023",null,null,"CHÂTEAU GONTIER VIF",null,null,"Veau Rosé R. clair"]
["Année","Sem.","VEAUX GRAND NORD R",null,null,"NORMAND","LAITIERS"]
[null,null,"(Euros/Kg net",null,null,"45 à 50 Kg","45-50KG",null,"Evolution/semaine -1",{"$f":"\"Evolution/ semaine id \" & A16-1","v":"Evolution/ semaine id 2022"},"Evolution/semaine id moy. 5 ans"]
[null,null,"Rose très clair","R.clair","Rosé","(Euros/tête)","(Euros/tête)"]
[2023,1,7.9499998092651367,7.75,5.5100002288818359,40,60,null,null,{"$f":"(D16-Veaux2022!D16)/Veaux2022!D16","v":0.11510794427193688},{"$f":"(D16-MoyQuinqHebdoVeaux!J12)/MoyQuinqHebdoVeaux!J10","v":0.2135007849293564}]
[null,2,7.9899997711181641,7.7600002288818359,5.3899998664855957,60,70,null,{"$f":"(D17-D16)/D16","v":1.2903521137852822E-3},{"$f":"(D17-Veaux2022!D17)/Veaux2022!D17","v":0.11494255551007942},{"$f":"(D17-MoyQuinqHebdoVeaux!J13)/MoyQuinqHebdoVeaux!J11","v":0.21821039699871833}]
[null,3,7.9899997711181641,7.75,5.380000114440918,60,70,null,-1.2886892508863887E-3,{"$f":"(D18-Veaux2022!D18)/Veaux2022!D18","v":0.11510794427193688},{"$f":"(D18-MoyQuinqHebdoVeaux!J14)/MoyQuinqHebdoVeaux!J12","v":0.21283255086071995}]
["J",4,7.880000114440918,7.7699999809265137,5.2100000381469727,60,70,null,2.5806427001953125E-3,{"$f":"(D19-Veaux2022!D19)/Veaux2022!D19","v":0.11798563944825205},{"$f":"(D19-MoyQuinqHebdoVeaux!J15)/MoyQuinqHebdoVeaux!J13","v":0.21978021678595189}]
[null,5,"nc",7.77,5.81,70,80,null,2.4547600963475149E-9,{"$f":"(D20-Veaux2022!D20)/Veaux2022!D20","v":0.12283235756281634},{"$f":"(D20-MoyQuinqHebdoVeaux!J16)/MoyQuinqHebdoVeaux!J14","v":0.21596244131455397}]
[null,6,7.84,7.77,5.81,70,80,null,0,{"$f":"(D21-Veaux2022!D21)/Veaux2022!D21","v":0.12608694095767828},{"$f":"(D21-MoyQuinqHebdoVeaux!J17)/MoyQuinqHebdoVeaux!J15","v":0.22291993720565148}]
[null,7,7.84,7.76,5.81,70,80,null,-1.2870012870012596E-3,{"$f":"(D22-Veaux2022!D22)/Veaux2022!D22","v":0.12626997828349273},{"$f":"(D22-MoyQuinqHebdoVeaux!J18)/MoyQuinqHebdoVeaux!J16","v":0.217527386541471}]
["F",8,7.84,7.76,5.81,70,80,null,0,{"$f":"(D23-Veaux2022!D23)/Veaux2022!D23","v":0.12463766561539044},{"$f":"(D23-MoyQuinqHebdoVeaux!J19)/MoyQuinqHebdoVeaux!J17","v":0.23149606299212597}]
[null,9,7.74,7.74,5.43,70,80,null,-2.5773195876288113E-3,{"$f":"(D24-Veaux2022!D24)/Veaux2022!D24","v":0.12336722060750442},{"$f":"(D24-MoyQuinqHebdoVeaux!J20)/MoyQuinqHebdoVeaux!J18","v":0.22291993720565148}]
[null,10,7.74,7.74,5.93,70,80,null,0,{"$f":"(D25-Veaux2022!D25)/Veaux2022!D25","v":0.12827986142250533},{"$f":"(D25-MoyQuinqHebdoVeaux!J21)/MoyQuinqHebdoVeaux!J19","v":0.23052464228934819}]
[null,11,7.84,7.74,5.77,70,80,null,0,{"$f":"(D26-Veaux2022!D26)/Veaux2022!D26","v":0.12011579897483463},{"$f":"(D26-MoyQuinqHebdoVeaux!J22)/MoyQuinqHebdoVeaux!J20","v":0.23892405063291136}]
[null,12,7.75,7.73,5.7,70,80,null,-1.2919896640826599E-3,{"$f":"(D27-Veaux2022!D27)/Veaux2022!D27","v":0.10744985370731673},{"$f":"(D27-MoyQuinqHebdoVeaux!J23)/MoyQuinqHebdoVeaux!J21","v":0.24642289348171711}]
["M",13,"nc",7.74,5.92,70,80,null,1.2936610608020422E-3,{"$f":"(D28-Veaux2022!D28)/Veaux2022!D28","v":0.10888251845984881},{"$f":"(D28-MoyQuinqHebdoVeaux!J24)/MoyQuinqHebdoVeaux!J22","v":0.26003210272873195}]
[null,14,7.8,7.73,6.06,80,90,null,-1.2919896640826599E-3,{"$f":"(D29-Veaux2022!D29)/Veaux2022!D29","v":0.10586555838519882},{"$f":"(D29-MoyQuinqHebdoVeaux!J25)/MoyQuinqHebdoVeaux!J23","v":0.26213592233009714}]
[null,15,7.72,7.67,5.7,80,90,null,-7.7619663648124827E-3,{"$f":"(D30-Veaux2022!D30)/Veaux2022!D30","v":8.7943232977488808E-2},{"$f":"(D30-MoyQuinqHebdoVeaux!J26)/MoyQuinqHebdoVeaux!J24","v":0.25163398692810457}]
[null,16,7.72,7.64,5.84,80,90,null,-3.9113428943937743E-3,{"$f":"(D31-Veaux2022!D31)/Veaux2022!D31","v":8.0622321711299003E-2},{"$f":"(D31-MoyQuinqHebdoVeaux!J27)/MoyQuinqHebdoVeaux!J25","v":0.25531914893617014}]
["A",17,"nc",7.59,5.5,95,110,null,-6.5445026178010245E-3,{"$f":"(D32-Veaux2022!D32)/Veaux2022!D32","v":7.5070830243066031E-2},{"$f":"(D32-MoyQuinqHebdoVeaux!J28)/MoyQuinqHebdoVeaux!J26","v":0.24306688417618275}]
[null,18,7.64,7.57,5.27,95,110,null,-2.6350461133069266E-3,{"$f":"(D33-Veaux2022!D33)/Veaux2022!D33","v":6.9209051069799035E-2},{"$f":"(D33-MoyQuinqHebdoVeaux!J29)/MoyQuinqHebdoVeaux!J27","v":0.25328947368421051}]
[null,19,7.64,7.56,5.67,95,110,null,-1.3210039630119782E-3,{"$f":"(D34-Veaux2022!D34)/Veaux2022!D34","v":6.9306904730028845E-2},{"$f":"(D34-MoyQuinqHebdoVeaux!J30)/MoyQuinqHebdoVeaux!J28","v":0.24918032786885241}]
[null,20,7.68,7.52,5.48,95,110,null,-5.2910052910052959E-3,{"$f":"(D35-Veaux2022!D35)/Veaux2022!D35","v":6.2146904101042004E-2},{"$f":"(D35-MoyQuinqHebdoVeaux!J31)/MoyQuinqHebdoVeaux!J29","v":0.25373134328358199}]
["M",21,7.56,7.51,5.48,95,110,null,-1.329787234042525E-3,{"$f":"(D36-Veaux2022!D36)/Veaux2022!D36","v":6.3739385392019218E-2},{"$f":"(D36-MoyQuinqHebdoVeaux!J32)/MoyQuinqHebdoVeaux!J30","v":0.24999999999999997}]
[null,22,7.45,7.44,5.48,95,110,null,-9.320905459387404E-3,{"$f":"(D37-Veaux2022!D37)/Veaux2022!D37","v":5.8321447788808545E-2},{"$f":"(D37-MoyQuinqHebdoVeaux!J33)/MoyQuinqHebdoVeaux!J31","v":0.24207011686143576}]
[null,23,"nc",7.33,5.22,115,130,null,-1.4784946236559182E-2,{"$f":"(D38-Veaux2022!D38)/Veaux2022!D38","v":5.164995992036478E-2},{"$f":"(D38-MoyQuinqHebdoVeaux!J34)/MoyQuinqHebdoVeaux!J32","v":0.22833333333333336}]
[null,24,7.41,7.24,4.95,115,130,null,-1.2278308321964511E-2,{"$f":"(D39-Veaux2022!D39)/Veaux2022!D39","v":3.7249280833243588E-2},{"$f":"(D39-MoyQuinqHebdoVeaux!J35)/MoyQuinqHebdoVeaux!J33","v":0.2103505843071786}]
[null,25,7.26,7.16,5.03,115,130,null,-1.1049723756906087E-2,{"$f":"(D40-Veaux2022!D40)/Veaux2022!D40","v":3.3189058781912931E-2},{"$f":"(D40-MoyQuinqHebdoVeaux!J36)/MoyQuinqHebdoVeaux!J34","v":0.1946308724832215}]
["J",26,7.1,7.06,5.05,115,130,null,-1.3966480446927448E-2,{"$f":"(D41-Veaux2022!D41)/Veaux2022!D41","v":3.2163719664373515E-2},{"$f":"(D41-MoyQuinqHebdoVeaux!J37)/MoyQuinqHebdoVeaux!J35","v":0.18394648829431431}]
[null,27,"nc",7.04,5.05,115,130,null,-2.8328611898016396E-3,{"$f":"(D42-Veaux2022!D42)/Veaux2022!D42","v":2.6239047081968659E-2},{"$f":"(D42-MoyQuinqHebdoVeaux!J38)/MoyQuinqHebdoVeaux!J36","v":0.17833333333333337}]
[null,28,"nc",7.04,4.71,110,125,null,0,{"$f":"(D43-Veaux2022!D43)/Veaux2022!D43","v":3.0746717223972726E-2},{"$f":"(D43-MoyQuinqHebdoVeaux!J39)/MoyQuinqHebdoVeaux!J37","v":0.17785234899328853}]
[null,29,7.35,7.03,4.6100000000000003,100,115,null,-1.4204545454545151E-3,{"$f":"(D44-Veaux2022!D44)/Veaux2022!D44","v":2.9282588364279612E-2},{"$f":"(D44-MoyQuinqHebdoVeaux!J40)/MoyQuinqHebdoVeaux!J38","v":0.16917922948073713}]
["J",30,7.26,7.05,4.79,90,105,null,2.8449502133712054E-3,{"$f":"(D45-Veaux2022!D45)/Veaux2022!D45","v":3.2210846083665839E-2},{"$f":"(D45-MoyQuinqHebdoVeaux!J41)/MoyQuinqHebdoVeaux!J39","v":0.16053511705685616}]
[null,31,7.26,6.95,4.43,80,95,null,-1.4184397163120517E-2,{"$f":"(D46-Veaux2022!D46)/Veaux2022!D46","v":1.7569557486734458E-2},{"$f":"(D46-MoyQuinqHebdoVeaux!J42)/MoyQuinqHebdoVeaux!J40","v":0.1295681063122924}]
[null,32,"nc",6.96,4.43,80,95,null,1.4388489208632786E-3,{"$f":"(D47-Veaux2022!D47)/Veaux2022!D47","v":1.7543836949580741E-2},{"$f":"(D47-MoyQuinqHebdoVeaux!J43)/MoyQuinqHebdoVeaux!J41","v":0.11986863711001634}]
[null,33,"nc",6.96,4.6900000000000004,null,null,null,0,{"$f":"(D48-Veaux2022!D48)/Veaux2022!D48","v":2.5036824610022341E-2},{"$f":"(D48-MoyQuinqHebdoVeaux!J44)/MoyQuinqHebdoVeaux!J42","v":0.10372771474878439}]
[null,34,6.97,6.94,4.6900000000000004,80,95,null,-2.8735632183907434E-3,{"$f":"(D49-Veaux2022!D49)/Veaux2022!D49","v":1.1661787890463474E-2},{"$f":"(D49-MoyQuinqHebdoVeaux!J45)/MoyQuinqHebdoVeaux!J43","v":9.3097913322632425E-2}]
["A",35,"nc",6.96,4.6900000000000004,60,75,null,2.8818443804033964E-3,{"$f":"(D50-Veaux2022!D50)/Veaux2022!D50","v":1.1627890149473194E-2},{"$f":"(D50-MoyQuinqHebdoVeaux!J46)/MoyQuinqHebdoVeaux!J44","v":7.4367088607594889E-2}]
[null,36,7.1,6.96,4.6900000000000004,60,75,null,0,{"$f":"(D51-Veaux2022!D51)/Veaux2022!D51","v":1.4388764042168546E-3},{"$f":"(D51-MoyQuinqHebdoVeaux!J47)/MoyQuinqHebdoVeaux!J45","v":6.1320754716981077E-2}]
[null,37,"nc",7,4.7300000000000004,60,75,null,5.7471264367816143E-3,{"$f":"(D52-Veaux2022!D52)/Veaux2022!D52","v":-5.6818127940016054E-3},{"$f":"(D52-MoyQuinqHebdoVeaux!J48)/MoyQuinqHebdoVeaux!J46","v":5.2388289676425247E-2}]
[null,38,"nc",7,4.7300000000000004,60,75,null,0,{"$f":"(D53-Veaux2022!D53)/Veaux2022!D53","v":-1.5471185857774702E-2},{"$f":"(D53-MoyQuinqHebdoVeaux!J49)/MoyQuinqHebdoVeaux!J47","v":5.1750380517503781E-2}]
["S",39,"nc",7.03,4.7300000000000004,55,70,null,4.2857142857143215E-3,{"$f":"(D54-Veaux2022!D54)/Veaux2022!D54","v":-2.3611085245637996E-2},{"$f":"(D54-MoyQuinqHebdoVeaux!J50)/MoyQuinqHebdoVeaux!J48","v":5.1051051051051032E-2}]
[null,40,7.18,7.05,4.7300000000000004,45,60,null,2.8449502133712054E-3,{"$f":"(D55-Veaux2022!D55)/Veaux2022!D55","v":-3.4246600575731888E-2},{"$f":"(D55-MoyQuinqHebdoVeaux!J51)/MoyQuinqHebdoVeaux!J49","v":4.654654654654649E-2}]
[null,41,"nc",7.05,4.7699999999999996,40,55,null,0,{"$f":"(D56-Veaux2022!D56)/Veaux2022!D56","v":-4.4715461967972853E-2},{"$f":"(D56-MoyQuinqHebdoVeaux!J52)/MoyQuinqHebdoVeaux!J50","v":4.035874439461877E-2}]
[null,42,7.13,7.07,5.13,40,55,null,2.8368794326241792E-3,{"$f":"(D57-Veaux2022!D57)/Veaux2022!D57","v":-4.9731190104142092E-2},{"$f":"(D57-MoyQuinqHebdoVeaux!J53)/MoyQuinqHebdoVeaux!J51","v":3.4124629080118755E-2}]
["O",43,7.18,7.14,5.28,40,55,null,9.9009900990098144E-3,{"$f":"(D58-Veaux2022!D58)/Veaux2022!D58","v":-4.5454547888570847E-2},{"$f":"(D58-MoyQuinqHebdoVeaux!J54)/MoyQuinqHebdoVeaux!J52","v":3.687315634218289E-2}]
[null,44,7.25,7.21,5.28,40,55,null,9.8039215686274907E-3,{"$f":"(D59-Veaux2022!D59)/Veaux2022!D59","v":-4.2496706625788284E-2},{"$f":"(D59-MoyQuinqHebdoVeaux!J55)/MoyQuinqHebdoVeaux!J53","v":4.2397660818713455E-2}]
[null,45,"nc",7.24,5.38,40,55,null,4.1608876560333217E-3,{"$f":"(D60-Veaux2022!D60)/Veaux2022!D60","v":-4.2328035079572807E-2},{"$f":"(D60-MoyQuinqHebdoVeaux!J56)/MoyQuinqHebdoVeaux!J54","v":4.2089985486211907E-2}]
[null,46,7.4,7.29,5.38,40,55,null,6.9060773480662738E-3,{"$f":"(D61-Veaux2022!D61)/Veaux2022!D61","v":-4.2049951103827872E-2},{"$f":"(D61-MoyQuinqHebdoVeaux!J57)/MoyQuinqHebdoVeaux!J55","v":4.4797687861271619E-2}]
[null,47,7.48,7.37,5.65,40,55,null,1.0973936899862835E-2,{"$f":"(D62-Veaux2022!D62)/Veaux2022!D62","v":-3.2808384424370549E-2},{"$f":"(D62-MoyQuinqHebdoVeaux!J58)/MoyQuinqHebdoVeaux!J56","v":6.1870503597122262E-2}]
["N",48,7.51,7.43,5.68,40,55,null,8.1411126187245064E-3,{"$f":"(D63-Veaux2022!D63)/Veaux2022!D63","v":-2.8758182042462478E-2},{"$f":"(D63-MoyQuinqHebdoVeaux!J59)/MoyQuinqHebdoVeaux!J57","v":6.4469914040114512E-2}]
[null,49,7.65,7.46,5.68,40,55,null,4.0376850605653098E-3,{"$f":"(D64-Veaux2022!D64)/Veaux2022!D64","v":-3.4928851022932909E-2},{"$f":"(D64-MoyQuinqHebdoVeaux!J60)/MoyQuinqHebdoVeaux!J58","v":1.0749279538904899}]
[null,50,7.65,7.46,5.68,40,55,null,0,{"$f":"(D65-Veaux2022!D65)/Veaux2022!D65","v":-3.741935483870968E-2},{"$f":"(D65-MoyQuinqHebdoVeaux!J61)/MoyQuinqHebdoVeaux!J59","v":1.0687679083094554}]
[null,51,7.64,7.48,5.56,40,55,null,2.6809651474531452E-3,{"$f":"(D66-Veaux2022!D66)/Veaux2022!D66","v":-3.4838709677419297E-2},{"$f":"(D66-MoyQuinqHebdoVeaux!J62)/MoyQuinqHebdoVeaux!J60","v":{"$error":"#DIV/0!"}}]
["D",52,null,7.48,5.6,40,55,null,0,{"$f":"(D67-Veaux2022!D67)/Veaux2022!D67","v":-3.8560437238823582E-2},{"$f":"(D67-MoyQuinqHebdoVeaux!J63)/MoyQuinqHebdoVeaux!J61","v":{"$error":"#DIV/0!"}}]
[null,53,null,null,null,null,null,null,-1,{"$f":"(D68-Veaux2022!D68)/Veaux2022!D68","v":{"$error":"#DIV/0!"}},{"$f":"(D68-MoyQuinqHebdoVeaux!J64)/MoyQuinqHebdoVeaux!J62","v":{"$error":"#DIV/0!"}}]

{"sheet":"Veaux2022","index":20,"n_rows":68,"n_cols":11,"rows_kept":68,"cut":false,"hidden":false,"merged":[[11,5,11,6],[11,8,12,10],[12,2,12,4],[13,2,13,4],[13,8,14,8],[13,9,14,9],[13,10,14,10]]}
["COTATIONS REGIONALES DES VEAUX"]
["Source : DRAAF Pays de la Loire - SRISE - FranceAgriMer"]
[]
["Veaux de boucherie entrée abattoir région Grand Nord"]
["Prix \"entrée abattoir\" HT exprimé en Euro/Kg de carcasse (cinquième quartier compris)"]
[]
["Marché de Château Gontier (marché de référence pour les petits veaux) : cotation des veaux destinés à l'engraissement"]
[]
[]
["COTATION DES VEAUX - HEBDOMADAIRE (Euros/Kg net)",null,null,null,null,{"$f":"\"A PARTIR DE JANVIER \"&A16","v":"A PARTIR DE JANVIER 2022"},"Mis à jour : 29/01/2023"]
[null,null,null,null,null,"COTATION DES VEAUX DE 14 JOURS A 4 SEMAINES SUR LES MARCHES DE REFERENCE"]
[null,null,"Mis à jour : 29/01/2023",null,null,"CHÂTEAU GONTIER VIF",null,null,"Veau Rosé R. clair"]
["Année","Sem.","VEAUX GRAND NORD R",null,null,"NORMAND","LAITIERS"]
[null,null,"(Euros/Kg net",null,null,"45 à 50 Kg","45-50KG",null,"Evolution/semaine -1",{"$f":"\"Evolution/ semaine id \" & A16-1","v":"Evolution/ semaine id 2021"},"Evolution/semaine id moy. 5 ans"]
[null,null,"Rose très clair","R.clair","Rosé","(Euros/tête)","(Euros/tête)"]
[2022,1,6.9600000381469727,6.9499998092651367,4.9600000381469727,35,55,null,{"$f":"(D16-Veaux2021!D68)/Veaux2021!D68","v":{"$error":"#DIV/0!"}},{"$f":"(D16-Veaux2021!D16)/Veaux2021!D16","v":8.76369028583939E-2},{"$f":"(D16-MoyQuinqHebdoVeaux!N8)/MoyQuinqHebdoVeaux!N8","v":-5.437915397156449E-3}]
[null,2,7.1500000953674316,6.9600000381469727,4.929999828338623,35,55,null,{"$f":"(D17-D16)/D16","v":1.4388818929900544E-3},{"$f":"(D17-Veaux2021!D17)/Veaux2021!D17","v":9.4339628639461048E-2},{"$f":"(D17-MoyQuinqHebdoVeaux!N9)/MoyQuinqHebdoVeaux!N9","v":-5.1457997404192593E-3}]
[null,3,7.1500000953674316,6.9499998092651367,4.5999999046325684,35,55,null,-1.43681448664164E-3,{"$f":"(D18-Veaux2021!D18)/Veaux2021!D18","v":9.1051775394840911E-2},{"$f":"(D18-MoyQuinqHebdoVeaux!N10)/MoyQuinqHebdoVeaux!N10","v":-6.859124442632987E-3}]
["J",4,7.1500000953674316,6.9499998092651367,4.8499999046325684,35,55,null,0,{"$f":"(D19-Veaux2021!D19)/Veaux2021!D19","v":9.1051775394840911E-2},{"$f":"(D19-MoyQuinqHebdoVeaux!N11)/MoyQuinqHebdoVeaux!N11","v":-7.4264708775807608E-3}]
[null,5,7.1100001335144043,6.9200000762939453,4.940000057220459,35,55,null,-4.3165084596402956E-3,{"$f":"(D20-Veaux2021!D20)/Veaux2021!D20","v":8.2942108966188685E-2},{"$f":"(D20-MoyQuinqHebdoVeaux!N12)/MoyQuinqHebdoVeaux!N12","v":-1.0580488819473537E-2}]
[null,6,7.0999999046325684,6.9000000953674316,5.0900001525878906,45,65,null,-2.8901706222559469E-3,{"$f":"(D21-Veaux2021!D21)/Veaux2021!D21","v":8.320252674527967E-2},{"$f":"(D21-MoyQuinqHebdoVeaux!N13)/MoyQuinqHebdoVeaux!N13","v":-1.117797699811578E-2}]
[null,7,7.0999999046325684,6.8899998664855957,5.0799999237060547,45,65,null,-1.4493085135679866E-3,{"$f":"(D22-Veaux2021!D22)/Veaux2021!D22","v":7.8247240451579977E-2},{"$f":"(D22-MoyQuinqHebdoVeaux!N14)/MoyQuinqHebdoVeaux!N14","v":-1.2893998159861024E-2}]
["F",8,7.1599998474121094,6.9000000953674316,5.1599998474121094,45,65,null,1.4514120574194997E-3,{"$f":"(D23-Veaux2021!D23)/Veaux2021!D23","v":8.320252674527967E-2},{"$f":"(D23-MoyQuinqHebdoVeaux!N15)/MoyQuinqHebdoVeaux!N15","v":-1.0894484446424662E-2}]
[null,9,7.1599998474121094,6.8899998664855957,5.2300000190734863,55,75,null,-1.4493085135679866E-3,{"$f":"(D24-Veaux2021!D24)/Veaux2021!D24","v":7.8247240451579977E-2},{"$f":"(D24-MoyQuinqHebdoVeaux!N16)/MoyQuinqHebdoVeaux!N16","v":-1.0057486649437709E-2}]
[null,10,null,6.8600001335144043,5.2300000190734863,65,85,null,-4.3540977579863823E-3,{"$f":"(D25-Veaux2021!D25)/Veaux2021!D25","v":8.031498165581176E-2},{"$f":"(D25-MoyQuinqHebdoVeaux!N17)/MoyQuinqHebdoVeaux!N17","v":-1.0672035319224484E-2}]
[null,11,null,6.9099998474121094,5.2300000190734863,65,85,null,7.2885878898795347E-3,{"$f":"(D26-Veaux2021!D26)/Veaux2021!D26","v":8.4772346532513226E-2},{"$f":"(D26-MoyQuinqHebdoVeaux!N18)/MoyQuinqHebdoVeaux!N18","v":-6.3273112256840352E-3}]
[null,12,6.9899997711181641,6.9800000190734863,4.9000000953674316,65,85,null,1.0130271086415869E-2,{"$f":"(D27-Veaux2021!D27)/Veaux2021!D27","v":0.10969793625969575},{"$f":"(D27-MoyQuinqHebdoVeaux!N19)/MoyQuinqHebdoVeaux!N19","v":4.8949057356919264E-3}]
["M",13,6.9899997711181641,6.9800000190734863,4.9000000953674316,65,85,null,0,{"$f":"(D28-Veaux2021!D28)/Veaux2021!D28","v":0.10443038276479209},{"$f":"(D28-MoyQuinqHebdoVeaux!N20)/MoyQuinqHebdoVeaux!N20","v":4.3165489557297739E-3}]
[null,14,6.9899997711181641,6.9899997711181641,4.9000000953674316,65,85,null,1.4326292288470632E-3,{"$f":"(D29-Veaux2021!D29)/Veaux2021!D29","v":0.11128772195837267},{"$f":"(D29-MoyQuinqHebdoVeaux!N21)/MoyQuinqHebdoVeaux!N21","v":1.0407605864549436E-2}]
[null,15,7.179999828338623,7.0500001907348633,4.5100002288818359,65,85,null,8.5837512991937016E-3,{"$f":"(D30-Veaux2021!D30)/Veaux2021!D30","v":0.13162121841651089},{"$f":"(D30-MoyQuinqHebdoVeaux!N22)/MoyQuinqHebdoVeaux!N22","v":2.5603746233806447E-2}]
[null,16,7.179999828338623,7.070000171661377,4.75,65,85,null,2.8368766504145238E-3,{"$f":"(D31-Veaux2021!D31)/Veaux2021!D31","v":0.14401297276074065},{"$f":"(D31-MoyQuinqHebdoVeaux!N23)/MoyQuinqHebdoVeaux!N23","v":3.3928069050054466E-2}]
["A",17,7.0999999046325684,7.059999942779541,4.75,65,85,null,-1.4144594963264318E-3,{"$f":"(D32-Veaux2021!D32)/Veaux2021!D32","v":0.15359476189208185},{"$f":"(D32-MoyQuinqHebdoVeaux!N24)/MoyQuinqHebdoVeaux!N24","v":4.3452550210007213E-2}]
[null,18,7.1599998474121094,7.0799999237060547,4.75,65,85,null,2.832858511134722E-3,{"$f":"(D33-Veaux2021!D33)/Veaux2021!D33","v":0.15875612499280758},{"$f":"(D33-MoyQuinqHebdoVeaux!N25)/MoyQuinqHebdoVeaux!N25","v":5.2631569992259673E-2}]
[null,19,7.1599998474121094,7.070000171661377,4.5300002098083496,65,85,null,-1.4123943718128353E-3,{"$f":"(D34-Veaux2021!D34)/Veaux2021!D34","v":0.15334423681262269},{"$f":"(D34-MoyQuinqHebdoVeaux!N26)/MoyQuinqHebdoVeaux!N26","v":5.9017395941117372E-2}]
[null,20,null,7.0799999237060547,4.6999998092651367,65,85,null,1.4143920511854664E-3,{"$f":"(D35-Veaux2021!D35)/Veaux2021!D35","v":0.16447367166218002},{"$f":"(D35-MoyQuinqHebdoVeaux!N27)/MoyQuinqHebdoVeaux!N27","v":6.3382388094319869E-2}]
["M",21,7.119999885559082,7.059999942779541,4.6999998092651367,65,85,null,-2.8248560935074983E-3,{"$f":"(D36-Veaux2021!D36)/Veaux2021!D36","v":0.15737703979992482},{"$f":"(D36-MoyQuinqHebdoVeaux!N28)/MoyQuinqHebdoVeaux!N28","v":6.1334930085020486E-2}]
[null,22,7.119999885559082,7.0300002098083496,4.6999998092651367,65,85,null,-4.2492539963648254E-3,{"$f":"(D37-Veaux2021!D37)/Veaux2021!D37","v":0.16583751406440286},{"$f":"(D37-MoyQuinqHebdoVeaux!N29)/MoyQuinqHebdoVeaux!N29","v":6.5797478029973752E-2}]
[null,23,6.9499998092651367,6.9699997901916504,4.3400001525878906,65,85,null,-8.5349100748227345E-3,{"$f":"(D38-Veaux2021!D38)/Veaux2021!D38","v":0.1539734751972931},{"$f":"(D38-MoyQuinqHebdoVeaux!N30)/MoyQuinqHebdoVeaux!N30","v":6.2176140622117557E-2}]
[null,24,7.0100002288818359,6.9800000190734863,4.4800000190734863,65,85,null,1.4347531108836614E-3,{"$f":"(D39-Veaux2021!D39)/Veaux2021!D39","v":0.16527546228271889},{"$f":"(D39-MoyQuinqHebdoVeaux!N31)/MoyQuinqHebdoVeaux!N31","v":6.9895771764585848E-2}]
[null,25,7.059999942779541,6.929999828338623,4.7199997901916504,65,85,null,-7.1633510885720916E-3,{"$f":"(D40-Veaux2021!D40)/Veaux2021!D40","v":0.15499997138977051},{"$f":"(D40-MoyQuinqHebdoVeaux!N32)/MoyQuinqHebdoVeaux!N32","v":6.6153825375709241E-2}]
["J",26,6.8499999046325684,6.8400001525878906,4.7199997901916504,65,85,null,-1.2986966519493937E-2,{"$f":"(D41-Veaux2021!D41)/Veaux2021!D41","v":0.14190319742702678},{"$f":"(D41-MoyQuinqHebdoVeaux!N33)/MoyQuinqHebdoVeaux!N33","v":5.9807889718797684E-2}]
[null,27,6.9000000953674316,6.8600001335144043,4.7199997901916504,65,85,null,2.9239737544372348E-3,{"$f":"(D42-Veaux2021!D42)/Veaux2021!D42","v":0.15100673381114166},{"$f":"(D42-MoyQuinqHebdoVeaux!N34)/MoyQuinqHebdoVeaux!N34","v":6.4886697466448554E-2}]
[null,28,6.929999828338623,6.8299999237060547,4.7199997901916504,65,85,null,-4.3732083417584991E-3,{"$f":"(D43-Veaux2021!D43)/Veaux2021!D43","v":0.14214045546923984},{"$f":"(D43-MoyQuinqHebdoVeaux!N35)/MoyQuinqHebdoVeaux!N35","v":5.990067347592417E-2}]
[null,29,6.880000114440918,6.8299999237060547,4.7199997901916504,65,85,null,0,{"$f":"(D44-Veaux2021!D44)/Veaux2021!D44","v":0.13833332061767578},{"$f":"(D44-MoyQuinqHebdoVeaux!N36)/MoyQuinqHebdoVeaux!N36","v":6.0229732984147188E-2}]
["J",30,7.0500001907348633,6.8299999237060547,4.7199997901916504,65,85,null,0,{"$f":"(D45-Veaux2021!D45)/Veaux2021!D45","v":0.14597314156141858},{"$f":"(D45-MoyQuinqHebdoVeaux!N37)/MoyQuinqHebdoVeaux!N37","v":6.1218138579701417E-2}]
[null,31,7.0500001907348633,6.8299999237060547,4.7199997901916504,65,85,null,0,{"$f":"(D46-Veaux2021!D46)/Veaux2021!D46","v":0.14405358856047823},{"$f":"(D46-MoyQuinqHebdoVeaux!N38)/MoyQuinqHebdoVeaux!N38","v":6.485811349462102E-2}]
[null,32,7.0500001907348633,6.8400001525878906,4.7199997901916504,65,85,null,1.4641623709432886E-3,{"$f":"(D47-Veaux2021!D47)/Veaux2021!D47","v":0.14381273454646992},{"$f":"(D47-MoyQuinqHebdoVeaux!N39)/MoyQuinqHebdoVeaux!N39","v":6.5752589601698802E-2}]
[null,33,null,6.7899999618530273,4.7199997901916504,65,85,null,-7.3099692426097217E-3,{"$f":"(D48-Veaux2021!D48)/Veaux2021!D48","v":0.1279069704074797},{"$f":"(D48-MoyQuinqHebdoVeaux!N40)/MoyQuinqHebdoVeaux!N40","v":5.6644875492466114E-2}]
["A",34,6.880000114440918,6.8600001335144043,4.7199997901916504,60,80,null,1.030930368993309E-2,{"$f":"(D49-Veaux2021!D49)/Veaux2021!D49","v":0.12643680353274292},{"$f":"(D49-MoyQuinqHebdoVeaux!N41)/MoyQuinqHebdoVeaux!N41","v":6.3236222120727562E-2}]
[null,35,7.0300002098083496,6.880000114440918,4.7199997901916504,60,80,null,2.9154490579095084E-3,{"$f":"(D50-Veaux2021!D50)/Veaux2021!D50","v":0.11507295209739353},{"$f":"(D50-MoyQuinqHebdoVeaux!N42)/MoyQuinqHebdoVeaux!N42","v":5.8461552340716365E-2}]
[null,36,7.0300002098083496,6.9499998092651367,4.820000171661377,60,80,null,1.0174374078467156E-2,{"$f":"(D51-Veaux2021!D51)/Veaux2021!D51","v":0.11556979281944402},{"$f":"(D51-MoyQuinqHebdoVeaux!N43)/MoyQuinqHebdoVeaux!N43","v":5.9774298519719E-2}]
[null,37,7.119999885559082,7.0399999618530273,4.8600001335144043,50,70,null,1.2949662598250755E-2,{"$f":"(D52-Veaux2021!D52)/Veaux2021!D52","v":0.11392404459699795},{"$f":"(D52-MoyQuinqHebdoVeaux!N44)/MoyQuinqHebdoVeaux!N44","v":6.2801927832361604E-2}]
[null,38,null,7.1100001335144043,4.8600001335144043,45,65,null,9.9432062557784327E-3,{"$f":"(D53-Veaux2021!D53)/Veaux2021!D53","v":0.1179245492947176},{"$f":"(D53-MoyQuinqHebdoVeaux!N45)/MoyQuinqHebdoVeaux!N45","v":3.3430247953319725E-2}]
["S",39,7.2300000190734863,7.1999998092651367,4.8600001335144043,45,65,null,1.2658182005721911E-2,{"$f":"(D54-Veaux2021!D54)/Veaux2021!D54","v":0.10939904611173136},{"$f":"(D54-MoyQuinqHebdoVeaux!N46)/MoyQuinqHebdoVeaux!N46","v":6.6666644437813199E-2}]
[null,40,7.320000171661377,7.3000001907348633,4.8600001335144043,40,60,null,1.3888942238726675E-2,{"$f":"(D55-Veaux2021!D55)/Veaux2021!D55","v":0.11111114014229269},{"$f":"(D55-MoyQuinqHebdoVeaux!N47)/MoyQuinqHebdoVeaux!N47","v":6.8188491364750733E-2}]
[null,41,7.320000171661377,7.380000114440918,4.9200000762939453,40,60,null,1.0958893372028993E-2,{"$f":"(D56-Veaux2021!D56)/Veaux2021!D56","v":0.1081081252914291},{"$f":"(D56-MoyQuinqHebdoVeaux!N48)/MoyQuinqHebdoVeaux!N48","v":6.6782320038191387E-2}]
[null,42,7.5500001907348633,7.440000057220459,5.3499999046325684,40,60,null,8.1300734212910505E-3,{"$f":"(D57-Veaux2021!D57)/Veaux2021!D57","v":0.11711712570877759},{"$f":"(D57-MoyQuinqHebdoVeaux!N49)/MoyQuinqHebdoVeaux!N49","v":6.8351528574690623E-2}]
["O",43,null,7.4800000190734863,5.4899997711181641,40,60,null,5.376338917391232E-3,{"$f":"(D58-Veaux2021!D58)/Veaux2021!D58","v":0.11808669941307712},{"$f":"(D58-MoyQuinqHebdoVeaux!N50)/MoyQuinqHebdoVeaux!N50","v":6.4920275485640389E-2}]
[null,44,7.559999942779541,7.5300002098083496,5.4899997711181641,40,60,null,6.6845174608778377E-3,{"$f":"(D59-Veaux2021!D59)/Veaux2021!D59","v":0.11721071362141681},{"$f":"(D59-MoyQuinqHebdoVeaux!N51)/MoyQuinqHebdoVeaux!N51","v":6.4160566019558357E-2}]
[null,45,7.6599998474121094,7.559999942779541,5.4899997711181641,40,60,null,3.9840281720197913E-3,{"$f":"(D60-Veaux2021!D60)/Veaux2021!D60","v":0.11504423934801486},{"$f":"(D60-MoyQuinqHebdoVeaux!N52)/MoyQuinqHebdoVeaux!N52","v":6.2992119649117037E-2}]
[null,46,7.690000057220459,7.6100001335144043,5.4899997711181641,40,60,null,6.6137818932945659E-3,{"$f":"(D61-Veaux2021!D61)/Veaux2021!D61","v":0.11257311893485446},{"$f":"(D61-MoyQuinqHebdoVeaux!N53)/MoyQuinqHebdoVeaux!N53","v":6.2849176694590808E-2}]
["N",47,null,7.619999885559082,5.2699999809265137,null,null,null,1.3140278408983036E-3,{"$f":"(D62-Veaux2021!D62)/Veaux2021!D62","v":0.10595063651075216},{"$f":"(D62-MoyQuinqHebdoVeaux!N54)/MoyQuinqHebdoVeaux!N54","v":5.7158700021576643E-2}]
[null,48,7.7899999618530273,7.6500000953674316,5.4899997711181641,40,60,null,3.9370354670482362E-3,{"$f":"(D63-Veaux2021!D63)/Veaux2021!D63","v":0.10549134326118956},{"$f":"(D63-MoyQuinqHebdoVeaux!N55)/MoyQuinqHebdoVeaux!N55","v":5.809129670621601E-2}]
[null,49,null,7.7300000190734863,5.5500001907348633,40,60,null,1.04575062364378E-2,{"$f":"(D64-Veaux2021!D64)/Veaux2021!D64","v":0.11223021857172462},{"$f":"(D64-MoyQuinqHebdoVeaux!N56)/MoyQuinqHebdoVeaux!N56","v":6.4151984445769236E-2}]
[null,50,7.8400001525878906,7.75,5.5500001907348633,40,60,null,2.5873196477573693E-3,{"$f":"(D65-Veaux2021!D65)/Veaux2021!D65","v":0.11031518624641827},{"$f":"(D65-MoyQuinqHebdoVeaux!N57)/MoyQuinqHebdoVeaux!N57","v":7.0811744386873821E-2}]
[null,51,7.880000114440918,7.75,5.5500001907348633,40,60,null,0,{"$f":"(D66-Veaux2021!D66)/Veaux2021!D66","v":0.11671469740634},{"$f":"(D66-MoyQuinqHebdoVeaux!N58)/MoyQuinqHebdoVeaux!N58","v":7.1922544951590534E-2}]
["D",52,7.929999828338623,7.7800002098083496,5.5500001907348633,null,null,null,3.8709948139805947E-3,{"$f":"(D67-Veaux2021!D67)/Veaux2021!D67","v":0.11461321057426205},{"$f":"(D67-MoyQuinqHebdoVeaux!N59)/MoyQuinqHebdoVeaux!N59","v":0.10406813612972256}]
[null,53,null,null,null,null,null,null,-1,{"$f":"(D68-Veaux2021!D68)/Veaux2021!D68","v":{"$error":"#DIV/0!"}},{"$f":"(D68-MoyQuinqHebdoVeaux!N60)/MoyQuinqHebdoVeaux!N60","v":-1}]

{"sheet":"Veaux2021","index":21,"n_rows":68,"n_cols":13,"rows_kept":68,"cut":false,"hidden":false,"merged":[[11,5,11,8],[11,10,12,12],[12,2,12,4],[13,2,13,4],[13,10,14,10],[13,11,14,11],[13,12,14,12]]}
["COTATIONS REGIONALES DES VEAUX"]
["Source : DRAAF Pays de la Loire - SRISE - FranceAgriMer",null,null,null,null,null,null,null,"2022-01-07"]
[]
["Veaux de boucherie entrée abattoir région Grand Nord"]
["Prix \"entrée abattoir\" HT exprimé en Euro/Kg de carcasse (cinquième quartier compris)"]
[]
["Marché de Château Gontier (marché de référence pour les petits veaux) : cotation des veaux destinés à l'engraissement"]
[]
[]
["COTATION DES VEAUX - HEBDOMADAIRE (Euros/Kg net)"]
[]
[null,null,null,null,null,"CHÂTEAU GONTIER VIF",null,null,null,null,"Veau Rosé R. clair"]
["Année","Sem.","VEAUX GRAND NORD R",null,null,"NORMAND","CHAROLAIS","LIMOUSIN","LAITIERS"]
[null,null,"(Euros/Kg net",null,null,"45 à 50 Kg","60-70KG","60-70KG","45-50KG",null,"Evolution/semaine -1","Evolution/ semaine id 2020","Evolution/semaine id moy. 5 ans"]
[null,null,"Rose très clair","R.clair","Rosé","(Euros/tête)","(Euros/tête)","(Euros/tête)","(Euros/tête)"]
[2021,1,6.91,6.39,4.96,40,null,null,55,null,{"$f":"(D16-Veaux2020!D68)/Veaux2020!D68","v":-1.5625000000001055E-3},{"$f":"(D16-Veaux2020!D16)/Veaux2020!D16","v":3.1397174254316441E-3},{"$f":"(D16-MoyQuinqHebdoVeaux!N8)/MoyQuinqHebdoVeaux!N8","v":-8.5575266902899794E-2}]
[null,2,6.86,6.36,5.03,40,null,null,55,null,{"$f":"(D17-D16)/D16","v":-4.6948356807510741E-3},{"$f":"(D17-Veaux2020!D17)/Veaux2020!D17","v":-7.8003120124804717E-3},{"$f":"(D17-MoyQuinqHebdoVeaux!N9)/MoyQuinqHebdoVeaux!N9","v":-9.0909097848869538E-2}]
[null,3,6.86,6.37,4.95,40,null,null,55,null,1.5723270440251237E-3,{"$f":"(D18-Veaux2020!D18)/Veaux2020!D18","v":-6.2402496099844048E-3},{"$f":"(D18-MoyQuinqHebdoVeaux!N10)/MoyQuinqHebdoVeaux!N10","v":-8.9739920731113698E-2}]
["J",4,6.85,6.37,4.95,45,null,null,60,null,0,{"$f":"(D19-Veaux2020!D19)/Veaux2020!D19","v":-6.2402496099844048E-3},{"$f":"(D19-MoyQuinqHebdoVeaux!N11)/MoyQuinqHebdoVeaux!N11","v":-9.0259920283602815E-2}]
[null,5,6.85,6.39,5.0199999999999996,45,null,null,60,null,3.1397174254316441E-3,{"$f":"(D20-Veaux2020!D20)/Veaux2020!D20","v":3.1397174254316441E-3},{"$f":"(D20-MoyQuinqHebdoVeaux!N12)/MoyQuinqHebdoVeaux!N12","v":-8.6359738910643982E-2}]
[null,6,6.85,6.37,4.6399999999999997,45,null,null,60,null,-3.1298904538340491E-3,{"$f":"(D21-Veaux2020!D21)/Veaux2020!D21","v":4.7318611987382094E-3},{"$f":"(D21-MoyQuinqHebdoVeaux!N13)/MoyQuinqHebdoVeaux!N13","v":-8.7130985584923298E-2}]
[null,7,6.85,6.39,4.8499999999999996,45,null,null,60,null,3.1397174254316441E-3,{"$f":"(D22-Veaux2020!D22)/Veaux2020!D22","v":1.2678288431061819E-2},{"$f":"(D22-MoyQuinqHebdoVeaux!N14)/MoyQuinqHebdoVeaux!N14","v":-8.4527217128114507E-2}]
["F",8,6.85,6.37,4.83,45,null,null,60,null,-3.1298904538340491E-3,{"$f":"(D23-Veaux2020!D23)/Veaux2020!D23","v":1.1111111111111157E-2},{"$f":"(D23-MoyQuinqHebdoVeaux!N15)/MoyQuinqHebdoVeaux!N15","v":-8.6869268551689513E-2}]
[null,9,6.72,6.39,4.87,45,null,null,60,null,3.1397174254316441E-3,{"$f":"(D24-Veaux2020!D24)/Veaux2020!D24","v":1.4285714285714263E-2},{"$f":"(D24-MoyQuinqHebdoVeaux!N16)/MoyQuinqHebdoVeaux!N16","v":-8.1896548201723054E-2}]
[null,10,6.72,6.35,4.51,45,null,null,60,null,-6.2597809076682378E-3,{"$f":"(D25-Veaux2020!D25)/Veaux2020!D25","v":1.2759170653907508E-2},{"$f":"(D25-MoyQuinqHebdoVeaux!N17)/MoyQuinqHebdoVeaux!N17","v":-8.4222674423693869E-2}]
[null,11,6.66,6.37,4.1100000000000003,45,null,null,60,null,3.1496062992126712E-3,{"$f":"(D26-Veaux2020!D26)/Veaux2020!D26","v":1.9200000000000016E-2},{"$f":"(D26-MoyQuinqHebdoVeaux!N18)/MoyQuinqHebdoVeaux!N18","v":-8.3980438890609924E-2}]
[null,12,6.53,6.29,4.2300000000000004,45,null,null,60,null,-1.2558869701726856E-2,{"$f":"(D27-Veaux2020!D27)/Veaux2020!D27","v":9.6308186195826016E-3},{"$f":"(D27-MoyQuinqHebdoVeaux!N19)/MoyQuinqHebdoVeaux!N19","v":-9.4442845300090228E-2}]
["M",13,6.48,6.32,4.0999999999999996,55,null,null,70,null,4.7694753577106914E-3,{"$f":"(D28-Veaux2020!D28)/Veaux2020!D28","v":1.7713365539452547E-2},{"$f":"(D28-MoyQuinqHebdoVeaux!N20)/MoyQuinqHebdoVeaux!N20","v":-9.0647482513511513E-2}]
[null,14,6.52,6.29,4.22,55,null,null,70,null,-4.7468354430380139E-3,{"$f":"(D29-Veaux2020!D29)/Veaux2020!D29","v":2.6101141924959239E-2},{"$f":"(D29-MoyQuinqHebdoVeaux!N21)/MoyQuinqHebdoVeaux!N21","v":-9.0777675394493426E-2}]
[null,15,6.42,6.23,3.94,50,null,null,65,null,-9.5389507154212422E-3,{"$f":"(D30-Veaux2020!D30)/Veaux2020!D30","v":4.0066777963272154E-2},{"$f":"(D30-MoyQuinqHebdoVeaux!N22)/MoyQuinqHebdoVeaux!N22","v":-9.3686359408367906E-2}]
[null,16,6.42,6.18,4.22,45,null,null,60,null,-8.0256821829856675E-3,{"$f":"(D31-Veaux2020!D31)/Veaux2020!D31","v":5.2810902896081702E-2},{"$f":"(D31-MoyQuinqHebdoVeaux!N23)/MoyQuinqHebdoVeaux!N23","v":-9.6226971487070184E-2}]
["A",17,6.41,6.12,3.7,45,null,null,60,null,-9.7087378640776066E-3,{"$f":"(D32-Veaux2020!D32)/Veaux2020!D32","v":8.7033747779751369E-2},{"$f":"(D32-MoyQuinqHebdoVeaux!N24)/MoyQuinqHebdoVeaux!N24","v":-9.5477385404753062E-2}]
[null,18,6.41,6.11,3.97,45,null,null,60,null,-1.6339869281045403E-3,{"$f":"(D33-Veaux2020!D33)/Veaux2020!D33","v":0.11700182815356501},{"$f":"(D33-MoyQuinqHebdoVeaux!N25)/MoyQuinqHebdoVeaux!N25","v":-9.1584892378632848E-2}]
[null,19,6.22,6.13,3.92,45,null,null,60,null,3.2733224222585224E-3,{"$f":"(D34-Veaux2020!D34)/Veaux2020!D34","v":0.16539923954372626},{"$f":"(D34-MoyQuinqHebdoVeaux!N26)/MoyQuinqHebdoVeaux!N26","v":-8.1785505021628735E-2}]
[null,20,6.35,6.08,3.61,75,null,null,75,null,-8.1566068515497268E-3,{"$f":"(D35-Veaux2020!D35)/Veaux2020!D35","v":0.15809523809523812},{"$f":"(D35-MoyQuinqHebdoVeaux!N27)/MoyQuinqHebdoVeaux!N27","v":-8.6812854620887711E-2}]
["M",21,6.49,6.1,3.83,75,null,null,75,null,3.2894736842104563E-3,{"$f":"(D36-Veaux2020!D36)/Veaux2020!D36","v":0.16634799235181627},{"$f":"(D36-MoyQuinqHebdoVeaux!N28)/MoyQuinqHebdoVeaux!N28","v":-8.2982560057962687E-2}]
[null,22,null,6.03,3.52,90,null,null,90,null,-1.1475409836065476E-2,{"$f":"(D37-Veaux2020!D37)/Veaux2020!D37","v":0.17087378640776696},{"$f":"(D37-MoyQuinqHebdoVeaux!N29)/MoyQuinqHebdoVeaux!N29","v":-8.5809587380375502E-2}]
[null,23,6.38,6.04,4.09,100,null,null,100,null,1.6583747927031154E-3,{"$f":"(D38-Veaux2020!D38)/Veaux2020!D38","v":0.16602316602316611},{"$f":"(D38-MoyQuinqHebdoVeaux!N30)/MoyQuinqHebdoVeaux!N30","v":-7.9548912126841648E-2}]
[null,24,6.25,5.99,3.66,100,null,null,100,null,-8.2781456953642096E-3,{"$f":"(D39-Veaux2020!D39)/Veaux2020!D39","v":0.15192307692307694},{"$f":"(D39-MoyQuinqHebdoVeaux!N31)/MoyQuinqHebdoVeaux!N31","v":-8.1851625306937098E-2}]
[null,25,6.08,6,3.69,100,null,null,100,null,1.6694490818029693E-3,{"$f":"(D40-Veaux2020!D40)/Veaux2020!D40","v":0.15163147792706336},{"$f":"(D40-MoyQuinqHebdoVeaux!N32)/MoyQuinqHebdoVeaux!N32","v":-7.6923072047487454E-2}]
["J",26,6.07,5.99,3.32,100,null,null,100,null,-1.6666666666666312E-3,{"$f":"(D41-Veaux2020!D41)/Veaux2020!D41","v":0.14971209213051828},{"$f":"(D41-MoyQuinqHebdoVeaux!N33)/MoyQuinqHebdoVeaux!N33","v":-7.1893403830735295E-2}]
[null,27,6.24,5.96,3.59,100,null,null,100,null,-5.0083472454090566E-3,{"$f":"(D42-Veaux2020!D42)/Veaux2020!D42","v":0.14395393474088292},{"$f":"(D42-MoyQuinqHebdoVeaux!N34)/MoyQuinqHebdoVeaux!N34","v":-7.4821487846155194E-2}]
[null,28,6.06,5.98,3.72,null,null,null,null,null,3.3557046979866547E-3,{"$f":"(D43-Veaux2020!D43)/Veaux2020!D43","v":0.14340344168260036},{"$f":"(D43-MoyQuinqHebdoVeaux!N35)/MoyQuinqHebdoVeaux!N35","v":-7.2004963662308991E-2}]
[null,29,6,6,3.29,100,null,null,100,null,3.344481605351099E-3,{"$f":"(D44-Veaux2020!D44)/Veaux2020!D44","v":0.1538461538461538},{"$f":"(D44-MoyQuinqHebdoVeaux!N36)/MoyQuinqHebdoVeaux!N36","v":-6.8612230019893014E-2}]
["J",30,6.17,5.96,3.82,90,null,null,90,null,-6.6666666666666723E-3,{"$f":"(D45-Veaux2020!D45)/Veaux2020!D45","v":0.14836223506743729},{"$f":"(D45-MoyQuinqHebdoVeaux!N37)/MoyQuinqHebdoVeaux!N37","v":-7.3958978537870659E-2}]
[null,31,6.02,5.97,3.79,85,null,null,85,null,1.6778523489932528E-3,{"$f":"(D46-Veaux2020!D46)/Veaux2020!D46","v":0.15473887814313342},{"$f":"(D46-MoyQuinqHebdoVeaux!N38)/MoyQuinqHebdoVeaux!N38","v":-6.9223571218815061E-2}]
[null,32,6.02,5.98,3.78,75,null,null,75,null,1.6750418760470144E-3,{"$f":"(D47-Veaux2020!D47)/Veaux2020!D47","v":0.15000000000000005},{"$f":"(D47-MoyQuinqHebdoVeaux!N39)/MoyQuinqHebdoVeaux!N39","v":-6.8245563794778474E-2}]
[null,33,6.22,6.02,3.78,75,null,null,75,null,6.6889632107021979E-3,{"$f":"(D48-Veaux2020!D48)/Veaux2020!D48","v":0.14666666666666658},{"$f":"(D48-MoyQuinqHebdoVeaux!N40)/MoyQuinqHebdoVeaux!N40","v":-6.3180826774453469E-2}]
["A",34,6.27,6.09,3.78,75,null,null,75,null,{"$f":"(D49-D48)/D48","v":1.1627906976744234E-2},{"$f":"(D49-Veaux2020!D49)/Veaux2020!D49","v":0.15999999999999998},{"$f":"(D49-MoyQuinqHebdoVeaux!N41)/MoyQuinqHebdoVeaux!N41","v":-5.610663750847366E-2}]
[null,35,6.31,6.17,3.93,70,null,null,70,null,1.3136288998357976E-2,{"$f":"(D50-Veaux2020!D50)/Veaux2020!D50","v":0.15327102803738324},{"$f":"(D50-MoyQuinqHebdoVeaux!N42)/MoyQuinqHebdoVeaux!N42","v":-5.0769234111718069E-2}]
[null,36,6.38,6.23,4.28,65,null,null,65,null,9.724473257698622E-3,{"$f":"(D51-Veaux2020!D51)/Veaux2020!D51","v":0.14311926605504591},{"$f":"(D51-MoyQuinqHebdoVeaux!N43)/MoyQuinqHebdoVeaux!N43","v":-5.0015243025458629E-2}]
[null,37,6.42,6.32,4.5199999999999996,65,null,null,65,null,1.4446227929373973E-2,{"$f":"(D52-Veaux2020!D52)/Veaux2020!D52","v":0.14909090909090914},{"$f":"(D52-MoyQuinqHebdoVeaux!N44)/MoyQuinqHebdoVeaux!N44","v":-4.5893718707842063E-2}]
[null,38,6.47,6.36,4.5599999999999996,65,null,null,65,null,6.329113924050638E-3,{"$f":"(D53-Veaux2020!D53)/Veaux2020!D53","v":-4.2168674698795088E-2},{"$f":"(D53-MoyQuinqHebdoVeaux!N45)/MoyQuinqHebdoVeaux!N45","v":-7.5581398936720834E-2}]
["S",39,6.55,6.49,4.5599999999999996,55,null,null,55,null,2.0440251572327026E-2,{"$f":"(D54-Veaux2020!D54)/Veaux2020!D54","v":0.13859649122807019},{"$f":"(D54-MoyQuinqHebdoVeaux!N46)/MoyQuinqHebdoVeaux!N46","v":-3.8518513084798908E-2}]
[null,40,6.64,6.57,4.62,55,null,null,55,null,1.2326656394453015E-2,{"$f":"(D55-Veaux2020!D55)/Veaux2020!D55","v":0.12692967409948547},{"$f":"(D55-MoyQuinqHebdoVeaux!N47)/MoyQuinqHebdoVeaux!N47","v":-3.8630382890450669E-2}]
[null,41,null,6.66,4.62,55,null,null,55,null,1.369863013698628E-2,{"$f":"(D56-Veaux2020!D56)/Veaux2020!D56","v":0.11000000000000003},{"$f":"(D56-MoyQuinqHebdoVeaux!N48)/MoyQuinqHebdoVeaux!N48","v":-3.7294018796558463E-2}]
[null,42,null,6.66,4.62,55,null,null,55,null,0,{"$f":"(D57-Veaux2020!D57)/Veaux2020!D57","v":8.8235294117647065E-2},{"$f":"(D57-MoyQuinqHebdoVeaux!N49)/MoyQuinqHebdoVeaux!N49","v":-4.3653074518168057E-2}]
["O",43,6.78,6.69,4.6100000000000003,55,null,null,55,null,4.5045045045045418E-3,{"$f":"(D58-Veaux2020!D58)/Veaux2020!D58","v":8.252427184466031E-2},{"$f":"(D58-MoyQuinqHebdoVeaux!N50)/MoyQuinqHebdoVeaux!N50","v":-4.7551253364650201E-2}]
[null,44,null,6.74,4.6100000000000003,55,null,null,55,null,7.4738415545590161E-3,{"$f":"(D59-Veaux2020!D59)/Veaux2020!D59","v":7.4960127591706643E-2},{"$f":"(D59-MoyQuinqHebdoVeaux!N51)/MoyQuinqHebdoVeaux!N51","v":-4.7484460142614857E-2}]
[null,45,6.92,6.78,4.7,null,null,null,null,null,5.9347181008902131E-3,{"$f":"(D60-Veaux2020!D60)/Veaux2020!D60","v":7.6190476190476267E-2},{"$f":"(D60-MoyQuinqHebdoVeaux!N52)/MoyQuinqHebdoVeaux!N52","v":-4.6681663257893309E-2}]
[null,46,6.92,6.84,4.7,55,null,null,55,null,8.8495575221238364E-3,{"$f":"(D61-Veaux2020!D61)/Veaux2020!D61","v":7.3783359497645168E-2},{"$f":"(D61-MoyQuinqHebdoVeaux!N53)/MoyQuinqHebdoVeaux!N53","v":-4.4692740992940683E-2}]
["N",47,6.93,6.89,4.3600000000000003,55,null,null,55,null,7.3099415204678107E-3,{"$f":"(D62-Veaux2020!D62)/Veaux2020!D62","v":7.9937304075235083E-2},{"$f":"(D62-MoyQuinqHebdoVeaux!N54)/MoyQuinqHebdoVeaux!N54","v":-4.4117644023527948E-2}]
[null,48,6.97,6.92,4.42,55,null,null,55,null,4.3541364296081639E-3,{"$f":"(D63-Veaux2020!D63)/Veaux2020!D63","v":8.6342229199372025E-2},{"$f":"(D63-MoyQuinqHebdoVeaux!N55)/MoyQuinqHebdoVeaux!N55","v":-4.2876904323053161E-2}]
[null,49,6.97,6.95,4.8099999999999996,55,null,null,55,null,4.3352601156069724E-3,{"$f":"(D64-Veaux2020!D64)/Veaux2020!D64","v":8.7636932707355328E-2},{"$f":"(D64-MoyQuinqHebdoVeaux!N56)/MoyQuinqHebdoVeaux!N56","v":-4.3226872749146543E-2}]
[null,50,7.03,6.98,5.04,55,null,null,55,null,4.3165467625899635E-3,{"$f":"(D65-Veaux2020!D65)/Veaux2020!D65","v":9.2331768388106542E-2},{"$f":"(D65-MoyQuinqHebdoVeaux!N57)/MoyQuinqHebdoVeaux!N57","v":-3.5578583765112297E-2}]
[null,51,7.03,6.94,4.68,55,null,null,55,null,-5.7306590257879706E-3,{"$f":"(D66-Veaux2020!D66)/Veaux2020!D66","v":8.4375000000000006E-2},{"$f":"(D66-MoyQuinqHebdoVeaux!N58)/MoyQuinqHebdoVeaux!N58","v":-4.0110650069156296E-2}]
["D",52,7.07,6.98,4.8899999999999997,55,null,null,55,null,5.7636887608069213E-3,{"$f":"(D67-Veaux2020!D67)/Veaux2020!D67","v":9.4043887147335511E-2},{"$f":"(D67-MoyQuinqHebdoVeaux!N59)/MoyQuinqHebdoVeaux!N59","v":-9.4607477683729783E-3}]
["D",53]

{"sheet":"Veaux2020","index":22,"n_rows":68,"n_cols":9,"rows_kept":68,"cut":false,"hidden":false,"merged":[[11,5,11,8],[12,2,12,4],[13,2,13,4]]}
["COTATIONS REGIONALES DES VEAUX"]
["Source : DRAAF Pays de la Loire - SRISE - FranceAgriMer",null,null,null,null,null,null,null,"MAJ : 06/01/2021"]
[]
["Veaux de boucherie entrée abattoir région Grand Nord"]
["Prix \"entrée abattoir\" HT exprimé en Euro/Kg de carcasse (cinquième quartier compris)"]
[]
["Marché de Château Gontier (marché de référence pour les petits veaux) : cotation des veaux destinés à l'engraissement"]
[]
[]
["COTATION DES VEAUX - HEBDOMADAIRE (Euros/Kg net)"]
[]
[null,null,null,null,null,"CHÂTEAU GONTIER VIF"]
["Année","Sem.","      VEAUX GRAND NORD R",null,null,"NORMAND","CHAROLAIS","LIMOUSIN","LAITIERS"]
[null,null,"(Euros/Kg net",null,null,"45 à 50 Kg","60-70KG","60-70KG","45-50KG"]
[null,null,"Rose très clair","R.clair","Rosé","(Euros/tête)","(Euros/tête)","(Euros/tête)","(Euros/tête)"]
[2020,1,6.77,6.37,4.93,55,300,300,55]
[null,2,6.95,6.41,5.26,55,300,300,55]
[null,3,6.91,6.41,5.17,55,300,300,55]
[null,4,6.86,6.41,5.04,55,300,300,55]
["J",5,6.77,6.37,5.18,55,300,300,55]
[null,6,6.78,6.34,5.32,55,300,300,55]
[null,7,6.8,6.31,4.9400000000000004,55,300,300,55]
[null,8,6.65,6.3,4.5599999999999996,55,300,300,55]
["F",9,6.74,6.3,4.75,55,300,300,55]
[null,10,6.74,6.27,4.9800000000000004,55,300,300,55]
[null,11,6.69,6.25,4.58]
[null,12,6.59,6.23,4.96]
["M",13,6.67,6.21,4.72,75,300,300,75]
[null,14,6.59,6.13,4.3499999999999996,75,300,300,75]
[null,15,6.58,5.99,4.5]
[null,16,6.63,5.87,4.45]
[null,17,6.1,5.63,4.0199999999999996,70,290,290,70]
["A",18,6.41,5.47,3.76,70,290,290,70]
[null,19,6.26,5.26,3.64,70,290,290,70]
[null,20,5.93,5.25,3.65,70,290,290,70]
[null,21,6.1,5.23,3.9,70,290,290,70]
["M",22,6.1,5.15,3.94,70,290,290,70]
[null,23,6.23,5.18,3.87,75,290,290,75]
[null,24,6.34,5.2,4.09,85,290,290,85]
[null,25,6.34,5.21,3.6,85,290,290,85]
["J",26,6.34,5.21,3.77,85,290,290,85]
[null,27,5.91,5.21,3.84,85,290,290,85]
[null,28,6.13,5.23,4.1100000000000003,80,290,290,80]
[null,29,6.26,5.2,4.08,80,290,290,80]
[null,30,6.11,5.19,4.3,70,290,290,70]
["J",31,6.11,5.17,4.3499999999999996,70,290,290,70]
[null,32,6.11,5.2,4.03,65,290,290,65]
[null,33,6.02,5.25,4.33,60,290,290,60]
[null,34,6.02,5.25,3.78,60,290,290,60]
["A",35,6.07,5.35,4.0599999999999996,55,290,290,55]
[null,36,6.07,5.45,4.16,45,290,290,45]
[null,37,6.24,5.5,4.04,45,290,290,45]
[null,38,6.34,6.64,4.3,45,290,290,45]
[null,39,6.28,5.7,4.38,45,290,290,45]
["S",40,6.31,5.83,4.6100000000000003,45,290,290,45]
[null,41,6.55,6,4.71,45,290,290,45]
[null,42,6.63,6.12,4.76,45,290,290,45]
[null,43,6.63,6.18,4.8499999999999996,45,290,290,45]
["O",44,6.71,6.27,4.8600000000000003,45,290,290,45]
[null,45,6.71,6.3,5.1100000000000003,45,290,290,45]
[null,46,6.88,6.37,5.09]
[null,47,6.88,6.38,4.9000000000000004]
["N",48,6.87,6.37,5.0199999999999996]
[null,49,6.87,6.39,5.2,45,290,290,45]
[null,50,6.77,6.39,5.07,40,290,290,55]
[null,51,6.85,6.4,5.18,40,290,290,55]
[null,52,6.91,6.38,4.96,40,290,290,55]
["D",53,6.91,6.4,4.8099999999999996]

{"sheet":"Veaux2019","index":23,"n_rows":67,"n_cols":9,"rows_kept":67,"cut":false,"hidden":true,"merged":[[11,5,11,8],[12,2,12,4],[13,2,13,4]]}
["COTATIONS REGIONALES DES VEAUX"]
["Source : DRAAF Pays de la Loire - SRISE - FranceAgriMer",null,null,null,null,null,null,null,"MAJ : 18/12/2019"]
[]
["Veaux de boucherie entrée abattoir région Grand Nord"]
["Prix \"entrée abattoir\" HT exprimé en Euro/Kg de carcasse (cinquième quartier compris)"]
[]
["Marché de Château Gontier (marché de référence pour les petits veaux) : cotation des veaux destinés à l'engraissement"]
[]
[]
["COTATION DES VEAUX - HEBDOMADAIRE (Euros/Kg net)"]
[]
[null,null,null,null,null,"CHÂTEAU GONTIER VIF"]
["Année","Sem.","      VEAUX GRAND NORD R",null,null,"NORMAND","CHAROLAIS","LIMOUSIN","LAITIERS"]
[null,null,"(Euros/Kg net",null,null,"45 à 50 Kg","60-70KG","60-70KG","45-50KG"]
[null,null,"Rose très clair","R.clair","Rosé","(Euros/tête)","(Euros/tête)","(Euros/tête)","(Euros/tête)"]
[2019,1,6.7,6.25,4.4000000000000004,75,325,325,75]
[null,2,6.82,6.36,4.4400000000000004,75,325,325,75]
[null,3,6.63,6.32,4.55,75,325,325,75]
[null,4,6.73,6.34,4.47,75,325,325,75]
["J",5,6.72,6.43,4.4800000000000004,75,325,325,75]
[null,6,6.56,6.34,4.3899999999999997,75,325,325,75]
[null,7,6.7,6.38,4.32,75,325,325,75]
[null,8,6.68,6.32,4.4800000000000004,75,325,325,75]
["F",9,6.58,6.24,4.49,75,325,325,75]
[null,10,6.6,6.17,4.32,75,325,325,75]
[null,11,6.49,6.09,4.45,75,325,325,75]
[null,12,6.63,6.08,4.33,75,325,325,75]
["M",13,6.48,5.98,4.21,75,325,325,75]
[null,14,6.36,5.94,4.29,75,325,325,75]
[null,15,6.24,5.78,4.08,75,325,325,75]
[null,16,6.01,5.73,4.3499999999999996,75,320,320,75]
["A",17,5.93,5.63,3.97,75,320,320,75]
[null,18,5.94,5.61,4.22,95,320,320,95]
[null,19,5.94,5.6,4.05,95,320,320,95]
[null,20,5.98,5.55,3.93,80,320,320,80]
[null,21,6.08,5.6,3.92,80,320,320,80]
["M",22,6.25,5.59,3.95]
[null,23,6.12,5.52,3.86,100,360,360,100]
[null,24,6.27,5.48,4.04,110,360,360,110]
[null,25,6.13,5.48,3.49,120,360,360,120]
["J",26,5.75,5.46,3.88,120,360,360,120]
[null,27,5.92,5.47,3.89,110,350,350,110]
[null,28,5.89,5.42,4.1100000000000003,90,330,330,90]
[null,29,5.91,5.4,3.87,70,330,330,70]
[null,30,5.96,5.33,3.53,70,330,330,70]
["J",31,5.79,5.35,3.83,65,320,320,65]
[null,32,5.66,5.36,3.93,55,300,300,55]
[null,33,5.89,5.41,4.08,55,300,300,55]
[null,34,5.89,5.42,3.89,50,280,280,50]
["A",35,5.98,5.44,3.74,50,280,280,50]
[null,36,6.06,5.51,3.8,45,270,270,45]
[null,37,6.12,5.56,3.94]
[null,38,6.04,5.63,4.09,65,300,300,65]
["S",39,6.25,5.7,4,65,300,300,65]
[null,40,6.32,5.77,4.2699999999999996,60,300,300,60]
[null,41,6.31,5.85,4.33,60,300,300,60]
[null,42,6.15,5.9,4.51,55,300,300,55]
[null,43,6.35,5.97,4.37,55,300,300,55]
["O",44,6.38,6.07,4.62,55,300,300,55]
[null,45,6.51,6.12,4.6399999999999997,55,300,300,55]
[null,46,6.67,6.21,4.46,55,300,300,55]
[null,47,6.77,6.27,4.51,55,300,300,55]
["N",48,6.68,6.29,4.49,55,300,300,55]
[null,49,6.8,6.31,4.43,55,300,300,55]
[null,50,6.85,6.33,4.45,55,300,300,55]
[null,51,6.84,6.34,4.8,55,300,300,55]
["D",52,6.75,6.39,5.12]

{"sheet":"Veaux2018","index":24,"n_rows":67,"n_cols":10,"rows_kept":67,"cut":false,"hidden":true,"merged":[[11,5,11,8],[12,2,12,4],[13,2,13,4]]}
["COTATIONS REGIONALES DES VEAUX"]
["Source : DRAAF Pays de la Loire - SRISE - FranceAgriMer",null,null,null,null,null,null,null,"MAJ","2019-01-07"]
[]
["Veaux de boucherie entrée abattoir région Nord"]
["Prix \"entrée abattoir\" HT exprimé en Euro/Kg de carcasse (cinquième quartier compris)"]
[]
["Marché de Château Gontier (marché de référence pour les petits veaux) : cotation des veaux destinés à l'engraissement"]
[]
[]
["COTATION DES VEAUX - HEBDOMADAIRE (Euros/Kg net)"]
[]
[null,null,null,null,null,"CHÂTEAU GONTIER VIF"]
["Année","Sem.","      VEAUX GRAND NORD R",null,null,"NORMAND","CHAROLAIS","LIMOUSIN","LAITIERS"]
[null,null,"(Euros/Kg net",null,null,"45 à 50 Kg","60-70KG","60-70KG","45-50KG"]
[null,null,"Rose très clair","R.clair","Rosé","(Euros/tête)","(Euros/tête)","(Euros/tête)","(Euros/tête)"]
[2018,1,6.9,6.49,5.12,75,375,375,60]
[null,2,6.9,6.46,5.07,75,375,375,60]
[null,3,6.9,6.46,4.88,75,375,375,60]
[null,4,6.95,6.5,4.9000000000000004,75,375,375,60]
["J",5,6.97,6.57,5.04,85,375,375,70]
[null,6,6.93,6.58,5.07,95,375,375,80]
[null,7,6.81,6.53,5.19,105,375,375,90]
[null,8,6.86,6.5,5.12,105,375,375,90]
["F",9,6.82,6.5,5.09,105,375,375,90]
[null,10,6.79,6.49,5.2,105,375,375,90]
[null,11,6.81,6.52,5.07,115,375,375,100]
[null,12,6.7,6.51,5.16,120,375,375,105]
["M",13,6.73,6.48,5.05,120,365,365,105]
[null,14,6.61,6.43,5.04,130,365,365,115]
[null,15,6.75,6.38,4.92,140,365,365,125]
[null,16,6.82,6.34,4.8899999999999997,150,375,375,125]
["A",17,6.73,6.3,4.84,155,375,375,130]
[null,18,6.6,6.29,4.71,155,375,375,130]
[null,19,6.45,6.21,4.47,155,375,375,130]
[null,20,6.49,6.18,4.32,155,365,365,130]
[null,21,6.62,6.18,4.46,155,365,365,130]
[null,22,6.63,6.16,4.37,155,365,365,130]
["M",23,6.65,6.07,4.3,155,365,365,130]
[null,24,6.66,6.03,4.18,155,365,365,140]
[null,25,6.63,6.11,4.09,155,365,365,140]
[null,26,6.27,6,3.76,155,365,365,140]
["J",27,6.27,6.14,3.93,155,365,365,140]
[null,28,6.66,6.09,3.82,145,365,365,130]
[null,29,6.68,6.12,3.84,135,365,365,130]
["J",30,6.18,6.19,4.2,115,365,365,110]
[null,31,6.32,6.2,4.26,95,365,365,90]
[null,32,6.25,6.11,4.29,90,365,365,85]
[null,33,6.48,6.11,4.41]
[null,34,6.6,6.05,4.33,70,365,365,65]
["A",35,6.48,6.06,4.38,70,365,365,65]
[null,36,6.44,6.08,4.3,70,365,365,65]
[null,37,6.47,6.09,4.32,60,355,355,55]
[null,38,6.42,6.12,4.2699999999999996,50,345,345,45]
["S",39,6.65,6.2,4.4800000000000004,40,335,335,35]
[null,40,6.34,6.19,4.51,40,325,325,35]
[null,41,6.36,6.2,4.68,40,325,325,35]
[null,42,6.34,6.17,4.5999999999999996,40,325,325,35]
[null,43,6.4,6.18,4.4400000000000004,40,325,325,35]
["O",44,6.52,6.19,4.28,40,325,325,35]
[null,45,6.44,6.22,4.4800000000000004]
[null,46,6.43,6.24,4.33,40,325,325,35]
[null,47,6.31,6.26,4.6100000000000003,40,325,325,35]
["N",48,6.52,6.26,4.3499999999999996,40,325,325,35]
[null,49,6.71,6.26,4.4800000000000004,40,325,325,35]
[null,50,6.69,6.27,4.57,40,325,325,35]
[null,51,6.9,6.28,4.53,40,325,325,35]
["D",52,6.73,6.29,4.43,40,325,325,35]

{"sheet":"Veaux2017","index":25,"n_rows":67,"n_cols":12,"rows_kept":67,"cut":false,"hidden":true,"merged":[[11,7,11,11],[13,2,13,6]]}
["COTATIONS REGIONALES DES VEAUX"]
["Source : DRAAF Pays de la Loire - SRISE - FranceAgriMer"]
[]
["Veaux de boucherie entrée abattoir région Nord"]
["Prix \"entrée abattoir\" HT exprimé en Euro/Kg de carcasse (cinquième quartier compris)"]
[]
["Marché de Château Gontier (marché de référence pour les petits veaux) : cotation des veaux destinés à l'engraissement"]
[]
[]
["COTATION DES VEAUX - HEBDOMADAIRE (Euros/Kg net)"]
[]
[null,null,null,null,null,null,null,"CHÂTEAU GONTIER VIF"]
["Année","Sem.","      VEAUX GRAND NORD R",null,null,null,null,"NORMAND","FRISON","CHAROLAIS","LIMOUSIN","LAITIERS"]
[null,null,"(Euros/Kg net",null,null,null,null,"45 à 50 Kg","40 à 45 Kg","60-70KG","60-70KG","45-50KG"]
[null,null,"Blanc","Rose très clair","R.clair","Rosé","Rouge","(Euros/tête)","(Euros/tête)","(Euros/tête)","(Euros/tête)","(Euros/tête)"]
[2017,1,null,7.04,6.72,4.95,null,55,null,375,375,55]
[null,2,null,7.22,6.72,4.92,null,55,null,375,375,55]
[null,3,null,7.15,6.78,5.04,null,55,null,375,375,55]
["J",4,null,7.27,6.79,5.05,null,55,null,375,375,55]
[null,5,null,7.07,6.75,5.03,null,65,null,375,375,65]
[null,6,null,7.03,6.77,5.3,null,65,null,375,375,65]
[null,7,null,7.09,6.71,5.16,null,65,null,375,375,65]
["F",8,null,7.07,6.71,5.17,null,70,null,365,365,70]
[null,9,null,6.96,6.66,5.03,null,80,null,365,365,80]
[null,10,null,6.92,6.61,5.17,null,85,null,365,365,85]
[null,11,null,6.96,6.62,4.74,null,95,null,365,365,95]
[null,12,null,6.84,6.56,4.95,null,105,null,365,365,105]
["M",13,null,6.79,6.53,4.9400000000000004,null,115,null,350,350,115]
[null,14,null,6.83,6.49,4.8600000000000003,null,115,null,330,330,115]
[null,15,null,6.77,6.48,4.7300000000000004,null,115,null,330,330,115]
[null,16,null,6.7,6.44,4.78,null,115,null,330,330,115]
["A",17,null,6.8,6.42,4.66,null,115,null,320,320,115]
[null,18,null,6.65,6.35,4.43,null,115,null,320,320,115]
[null,19,null,6.6,6.37,4.5999999999999996,null,115,null,320,320,115]
[null,20,null,6.55,6.3,4.5199999999999996,null,115,null,320,320,115]
["M",21,null,6.57,6.16,4.6500000000000004,null,115,null,320,320,115]
[null,22,null,6.55,6.08,4.57,null,115,null,320,320,115]
[null,23,null,6.23,6.02,4.4000000000000004,null,115,null,320,320,115]
[null,24,null,6.62,6.05,4.3899999999999997,null,120,null,320,320,120]
[null,25,null,6.47,6.03,4.33,null,120,null,320,320,120]
["J",26,null,6.32,5.95,4.1900000000000004,null,120,null,320,320,120]
[null,27,null,6.04,5.83,4.07,null,120,null,320,320,120]
[null,28,null,6.3,5.85,3.59,null,110,null,310,310,110]
[null,29,null,6.01,5.74,3.63,null,90,null,310,310,90]
["J",30,null,6.05,5.77,3.8,null,75,null,290,290,75]
[null,31,null,6.16,5.86,3.63,null,60,null,280,280,60]
[null,32,null,5.91,5.85,3.8,null,55,null,280,280,55]
[null,33,null,6.12,5.78,3.81]
["A",34,null,6.1,5.88,3.79,null,45,null,270,270,45]
[null,35,null,6.5,5.9,3.67,null,45,null,270,270,45]
[null,36,null,6.59,5.91,3.72,null,85,null,270,270,85]
[null,37,null,6.3,5.87,3.9,null,85,null,270,270,85]
[null,38,null,6.32,5.9,4.01,null,75,null,260,260,75]
["S",39,null,6.53,6.03,4.13,null,75,null,250,250,75]
[null,40,null,6.55,6,4.28,null,75,null,250,250,75]
[null,41,null,6.62,6.08,4.3,null,75,null,250,250,75]
[null,42,null,6.42,6.1,4.4400000000000004,null,75,null,250,250,75]
["O",43,null,6.37,6.12,4.34,null,75,null,250,250,75]
[null,44,null,6.58,6.15,4.4800000000000004,null,75,null,250,250,75]
[null,45,null,6.59,6.22,4.49,null,65,null,250,250,65]
[null,46,null,6.55,6.27,4.5,null,65,null,250,250,65]
["N",47,null,6.6,6.35,4.7300000000000004,null,75,null,375,375,65]
[null,48,null,6.7,6.36,4.71,null,75,null,375,375,60]
[null,49,null,6.57,6.39,4.76,null,75,null,375,375,60]
[null,50,null,6.82,6.47,4.83,null,75,null,375,375,60]
[null,51,null,6.82,6.47,4.83,null,75,null,375,375,60]
["D",52,null,6.86,6.47,4.8600000000000003]

{"sheet":"Veaux2016","index":26,"n_rows":67,"n_cols":59,"rows_kept":67,"cut":false,"hidden":true,"merged":[[13,49,13,52],[13,53,13,56],[13,57,13,58],[13,2,13,6],[13,28,13,31],[13,32,13,35],[13,36,13,39],[13,40,13,41],[13,45,13,48],[11,7,11,11],[11,15,11,19],[11,45,11,58],[12,15,12,19],[12,20,12,24],[12,45,12,58]]}
["COTATIONS REGIONALES DES VEAUX"]
["Source : DRAAF Pays de la Loire - SRISE - FranceAgriMer",null,null,null,null,null,null,null,null,null,null,null,"mise à jour : 13/01/2017",null,null,null,null,null,null,null,null,null,null,null,null,null,"COTATION DES VEAUX DE BOUCHERIE ENTREE-ABATTOIR"]
[]
["Veaux de boucherie entrée abattoir région Grand Nord",null,null,null,null,null,null,null,null,null,null,null,null,null,null,null,null,null,null,null,null,null,null,null,null,null,"Prix \"entrée-abattoir\" HT exprimé en Euro/kg de carcasse (cinquième quartier inclus), frais de transport inclus"]
["Prix \"entrée abattoir\" HT exprimé en Euro/Kg de carcasse (cinquième quartier compris)",null,null,null,null,null,null,null,null,null,null,null,null,null,null,null,null,null,null,null,null,null,null,null,null,null,"Région NORD"]
[]
["Marché de Château Gontier (marché de référence pour les petits veaux) : cotation des veaux destinés à l'engraissement"]
[]
[]
["COTATION DES VEAUX - HEBDOMADAIRE (Euros/Kg net)",null,null,null,null,null,null,null,null,null,null,null,null,null,"COTATION DES VEAUX - MOYENNES MENSUELLES"]
[]
[null,null,null,null,null,null,null,"CHÂTEAU GONTIER VIF",null,null,null,null,null,null,null,"Euros/Kg net",null,null,null,null,null,null,null,null,null,null,null,null,null,null,null,null,null,null,null,null,null,null,null,null,null,null,null,null,null,"Euros/Kg net"]
["Année","Sem.","      VEAUX GRAND NORD R",null,null,null,null,"NORMAND","FRISON","CHAROLAIS","LIMOUSIN","LAITIERS",null,"Année","Mois","      VEAUX grand Nord R",null,null,null,null,"VEAUX CHÂTEAU GONTIER",null,null,null,null,null,null,null,null,null,null,null,null,null,null,null,null,null,null,null,null,null,null,"Année","Mois","      VEAUX grand Nord"]
[null,null,"(Euros/Kg net",null,null,null,null,"45 à 50 Kg","40 à 45 Kg","60-70KG","60-70KG","45-50KG",null,null,null,null,null,null,null,null,null,null,null,null,null,null,"date","AnnéeMois","Rosé très clair",null,null,null,"Rosé clair",null,null,null,"Rosé",null,null,null,"Rouge",null,null,null,null,"Rosé très clair",null,null,null,"Rosé clair",null,null,null,"Rosé",null,null,null,"Rouge"]
[null,null,"Blanc","Rose très clair","R.clair","Rosé","Rouge","(Euros/tête)","(Euros/tête)","(Euros/tête)","(Euros/tête)","(Euros/tête)",null,null,null,"Blanc","Rose très clair","R.clair","Rosé","Rouge","N.45-50","F.40-45","CH 60-70","LIM 60-70","LAIT 45-50",null,null,null,"U","R","O","P","U","R","O","P","U","R","O","P","R","O",null,null,null,"U","R","O","P","U","R","O","P","U","R","O","P","R","O"]
[2016,1,null,7,6.81,5.51,null,70,null,375,375,70,null,2016,"J",{"$f":"IF((C19)>0,AVERAGE(C16:C19),\"\")","v":""},7.0350000000000001,6.8925000000000001,5.3725000000000005,"",70,"",375,375,70,null,null,201601,null,7,6.27,4.3899999999999997,7.55,6.81,5.92,4.37,6.03,5.51,4.3099999999999996,4.18,4.67,3.47,null,2016,"J",{"$f":"IF((AC19)>0,AVERAGE(AC16:AC19),\"\")","v":7.87},7.0350000000000001,6.1425000000000001,4.3299999999999992,7.5149999999999997,6.8925000000000001,5.9749999999999996,4.2249999999999996,5.7100000000000009,5.3725000000000005,4.26,3.9725000000000001,"",3.5700000000000003]
[null,2,null,6.99,6.87,5.31,null,70,null,375,375,70,null,null,"F",{"$f":"IF((C23)>0,AVERAGE(C20:C23),\"\")","v":""},6.9849999999999994,6.8925000000000001,5.2774999999999999,"",83.75,"",385,385,85,null,null,201601,null,6.99,6.01,null,7.39,6.87,5.94,4.24,5.25,5.31,3.98,3.74,null,2.99,null,null,"F",{"$f":"IF((AC23)>0,AVERAGE(AC20:AC23),\"\")","v":7.5574999999999992},6.9849999999999994,6.1824999999999992,"",7.5475000000000003,6.8925000000000001,6.0449999999999999,4.3774999999999995,5.6366666666666667,5.2774999999999999,4.1775000000000002,3.8650000000000002,"",3.6166666666666667]
[null,3,null,7.1,6.99,5.44,null,70,null,375,375,70,null,null,"M",{"$f":"IF((C28)>0,AVERAGE(C24:C28),\"\")","v":""},7.0140000000000002,6.85,5.1420000000000003,"","","","","","",null,null,201601,7.84,7.1,6.25,4.21,7.55,6.99,6.03,4.38,6.03,5.44,4.3899999999999997,4.22,4.55,3.84,null,null,"M",{"$f":"IF((AC28)>0,AVERAGE(AC24:AC28),\"\")","v":7.8100000000000005},7.0140000000000002,6.2,4.3839999999999995,7.5860000000000003,6.85,6.0520000000000005,4.4020000000000001,5.5860000000000003,5.1420000000000003,4.2939999999999987,3.7960000000000003,"",3.3840000000000003]
["J",4,null,7.05,6.9,5.23,null,70,null,375,375,70,null,null,"A",{"$f":"IF((C32)>0,AVERAGE(C29:C32),\"\")","v":""},6.7725,6.625,4.7549999999999999,"","","","","","",null,null,201601,7.9,7.05,6.04,4.3899999999999997,7.57,6.9,6.01,3.91,5.53,5.23,4.3600000000000003,3.75,null,3.98,null,null,"A",{"$f":"IF((AC32)>0,AVERAGE(AC29:AC32),\"\")","v":7.3525000000000009},6.7725,6.1725000000000003,4.0350000000000001,7.3,6.625,5.835,4.6425000000000001,4.9450000000000003,4.7549999999999999,3.9899999999999998,2.9775,3.53,3.2875000000000005]
[null,5,null,6.97,6.9,5.35,null,80,null,385,385,80,null,null,"M",{"$f":"IF((C36)>0,AVERAGE(C33:C36),\"\")","v":""},6.4549999999999992,6.4050000000000002,4.6875,"","","","","","",null,null,201602,7.37,6.97,6.22,4.25,7.55,6.9,6.03,4.5199999999999996,null,5.35,4.17,4.21,null,3.76,null,null,"M",{"$f":"IF((AC36)>0,AVERAGE(AC33:AC36),\"\")","v":6.87},6.4549999999999992,5.9149999999999991,3.8625000000000003,7.0025000000000004,6.4050000000000002,5.5674999999999999,4.2350000000000003,4.8975,4.6875,3.9175,2.8775000000000004,"",3.0225]
[null,6,null,7.06,6.9,5.29,null,85,null,385,385,85,null,null,"J",{"$f":"IF((C41)>0,AVERAGE(C37:C41),\"\")","v":""},6.3520000000000003,6.2099999999999991,4.4420000000000002,"",145,"",382.5,382.5,145,null,null,201602,7.72,7.06,6.09,null,7.46,6.9,6.02,4.49,5.65,5.29,4.18,3.76,null,null,null,null,"J",{"$f":"IF((AC41)>0,AVERAGE(AC37:AC41),\"\")","v":7.1350000000000007},6.3520000000000003,5.7460000000000004,3.8224999999999998,6.88,6.2099999999999991,5.42,4.0640000000000009,4.76,4.4420000000000002,3.55,2.4340000000000002,"",2.9380000000000002]
[null,7,null,6.91,6.88,5.29,null,85,null,385,385,85,null,null,"J",{"$f":"IF((C45)>0,AVERAGE(C42:C45),\"\")","v":""},6.3850000000000007,6.2724999999999991,4.5,"",125,"",355,355,125,null,null,201602,7.6,6.91,6.29,3.94,7.54,6.88,6.07,4.17,5.54,5.29,4.21,3.77,null,3.77,null,null,"J",{"$f":"IF((AC45)>0,AVERAGE(AC42:AC45),\"\")","v":""},6.3850000000000007,5.62,"",7.1349999999999998,6.2724999999999991,5.3925000000000001,3.9725000000000006,4.5974999999999993,4.5,3.5475000000000003,2.44,"",2.7574999999999998]
["F",8,null,7,6.89,5.18,null,85,null,385,385,90,null,null,"A",{"$f":"IF((C49)>0,AVERAGE(C46:C49),\"\")","v":""},6.2750000000000004,6.2050000000000001,4.3624999999999998,"",95,"",345,345,95,null,null,201602,7.54,7,6.13,null,7.64,6.89,6.06,4.33,5.72,5.18,4.1500000000000004,3.72,null,3.32,null,null,"A",{"$f":"IF((AC50)>0,AVERAGE(AC46:AC50),\"\")","v":7.2825000000000006},6.5200000000000005,5.65,"",7.0540000000000003,6.2140000000000004,5.3980000000000006,4.0140000000000002,4.8660000000000014,4.4019999999999992,3.54,2.73,3.3650000000000002,2.9180000000000001]
[null,9,null,7.15,6.92,5.27,null,null,null,null,null,null,null,null,"S",{"$f":"IF((C54)>0,AVERAGE(C50:C54),\"\")","v":""},6.5780000000000003,6.258,4.3340000000000005,"",81,"",339,339,81,null,null,201603,8.1300000000000008,7.15,6.19,4.4800000000000004,7.6,6.92,6.11,4.53,5.39,5.27,4.22,3.77,null,3.39,null,null,"S",{"$f":"IF((AC54)>0,AVERAGE(AC51:AC54),\"\")","v":7.4049999999999994},6.5975000000000001,5.8625000000000007,"",7.0949999999999998,6.26,5.3674999999999997,4.0575000000000001,4.7650000000000006,4.2775000000000007,3.5725000000000002,2.7324999999999999,3.1566666666666663,3.1875]
[null,10,null,7.05,6.84,5.12,null,95,null,385,385,95,null,null,"O",{"$f":"IF((C58)>0,AVERAGE(C55:C58),\"\")","v":""},6.5975000000000001,6.2724999999999991,4.3825000000000003,"",61.25,"",307.5,307.5,61.25,null,null,201603,7.6,7.05,6.12,4.92,7.54,6.84,6.05,4.54,5.65,5.12,4.25,3.95,null,3.49,null,null,"O",{"$f":"IF((AC58)>0,AVERAGE(AC55:AC58),\"\")","v":7.3999999999999995},6.5975000000000001,5.8574999999999999,3.99,7.0550000000000006,6.2724999999999991,5.41,4.2450000000000001,4.7699999999999996,4.3825000000000003,3.6425000000000001,2.6774999999999998,"",3.1349999999999998]
[null,11,null,7.03,6.85,5.13,null,95,null,385,385,95,null,null,"N",{"$f":"IF((C62)>0,AVERAGE(C59:C62),\"\")","v":""},6.6974999999999998,6.35,4.6875,"",56.25,"",297.5,297.5,56.25,null,null,201603,7.64,7.03,6.16,4.3,7.5,6.85,6.07,4.25,5.68,5.13,4.3600000000000003,3.82,null,3.44,null,null,"N",{"$f":"IF((AC63)>0,AVERAGE(AC59:AC63),\"\")","v":7.5739999999999998},6.74,5.6919999999999993,4.242,7.2140000000000004,6.3559999999999999,5.5239999999999991,4.3819999999999997,5.5200000000000005,4.71,3.8380000000000001,2.8779999999999997,3.7249999999999996,3.3759999999999999]
[null,12,null,6.98,6.83,5.03,null,null,null,null,null,null,null,null,"D",{"$f":"IF((C67)>0,AVERAGE(C63:C67),\"\")","v":""},6.8579999999999997,6.5199999999999987,4.8420000000000005,"",55,"",295,295,55,null,null,201603,7.82,6.98,6.36,4.22,7.42,6.83,6.03,4.46,5.12,5.03,4.33,3.84,null,3.34,null,null,"D",{"$f":"IF((AC67)>0,AVERAGE(AC64:AC67),\"\")","v":7.5975000000000001},6.8450000000000006,5.9125000000000005,"",7.3550000000000004,6.5549999999999997,5.6775000000000002,4.5600000000000005,5.4674999999999994,4.8525,4.0825000000000005,2.9575,"",3.51]
["M",13,null,6.86,6.81,5.16,null,null,null,null,null,null,null,null,null,null,null,null,null,null,null,null,null,null,null,null,null,201603,7.86,6.86,6.17,4,7.87,6.81,6,4.2300000000000004,6.09,5.16,4.3099999999999996,3.6,null,3.26]
[null,14,null,6.82,6.7,4.88,null,null,null,null,null,null,null,null,null,null,null,null,null,null,null,null,null,null,null,null,null,201604,7.4,6.82,6.12,4.2699999999999996,7.4,6.7,5.96,4.7300000000000004,5.19,4.88,4.28,3.06,null,3.72]
[null,15,null,6.78,6.66,5.01,null,null,null,null,null,null,null,null,null,null,null,null,null,null,null,null,null,null,null,null,null,201604,7.27,6.78,6.18,4.2,7.32,6.66,5.88,4.6900000000000004,5.14,5.01,4.17,2.91,null,3.16]
[null,16,null,6.81,6.59,4.45,null,null,null,null,null,null,null,null,null,null,null,null,null,null,null,null,null,null,null,null,null,201604,7.5,6.81,6.26,3.67,7.25,6.59,5.78,4.5599999999999996,4.82,4.45,3.82,3,null,3.31]
["A",17,null,6.68,6.55,4.68,null,null,null,null,null,null,null,null,null,null,null,null,null,null,null,null,null,null,null,null,null,201604,7.24,6.68,6.13,4,7.23,6.55,5.72,4.59,4.63,4.68,3.69,2.94,3.53,2.96]
[null,18,null,6.73,6.54,4.67,null,null,null,null,null,null,null,null,null,null,null,null,null,null,null,null,null,null,null,null,null,201605,7.11,6.73,6.14,4.4000000000000004,7.2,6.54,5.65,4.38,4.99,4.67,3.89,2.76,null,2.93]
[null,19,null,6.54,6.38,4.68,null,null,null,null,null,null,null,null,null,null,null,null,null,null,null,null,null,null,null,null,null,201605,7.47,6.54,5.86,3.97,6.99,6.38,5.58,4.37,4.99,4.68,4,2.97,null,2.86]
[null,20,null,6.42,6.42,4.68,null,null,null,null,null,null,null,null,null,null,null,null,null,null,null,null,null,null,null,null,20,201605,6.69,6.42,5.83,3.55,7.01,6.42,5.54,4.24,4.55,4.68,3.94,2.97,null,3.17]
["M",21,null,6.13,6.28,4.72,null,null,null,null,null,null,null,null,null,null,null,null,null,null,null,null,null,null,null,null,21,201605,6.21,6.13,5.83,3.53,6.81,6.28,5.5,3.95,5.0599999999999996,4.72,3.84,2.81,null,3.13]
[null,22,null,6.21,6.18,4.6100000000000003,null,null,null,null,null,null,null,null,null,null,null,null,null,null,null,null,null,null,null,null,22,201606,null,6.21,5.71,null,6.84,6.18,5.44,4.1900000000000004,5.18,4.6100000000000003,3.88,2.97,null,2.84]
[null,23,null,6.46,6.17,3.99,null,145,null,385,385,145,null,null,null,null,null,null,null,null,null,null,null,null,null,null,23,201606,7.39,6.46,5.55,4.08,6.59,6.17,5.42,4.12,3.77,3.99,3.36,2.42,null,2.83]
[null,24,null,6.33,6.24,4.5199999999999996,null,145,null,385,385,145,null,null,null,null,null,null,null,null,null,null,null,null,null,null,24,201606,6.84,6.33,5.59,3.82,6.8,6.24,5.44,4.04,4.67,4.5199999999999996,3.56,2.13,null,3.01]
[null,25,null,6.39,6.2,4.53,null,145,null,385,385,145,null,null,null,null,null,null,null,null,null,null,null,null,null,null,25,201606,7.19,6.39,5.85,3.69,7.13,6.2,5.44,3.99,4.93,4.53,3.54,2.48,null,3.37]
["J",26,null,6.37,6.26,4.5599999999999996,null,145,null,375,375,145,null,null,null,null,null,null,null,null,null,null,null,null,null,null,26,201606,7.12,6.37,6.03,3.7,7.04,6.26,5.36,3.98,5.25,4.5599999999999996,3.41,2.17,null,2.64]
[null,27,null,6.5,6.32,4.5999999999999996,null,145,null,365,365,145,null,null,null,null,null,null,null,null,null,null,null,null,null,null,27,201607,7.14,6.5,5.77,3.5,7.1,6.32,5.36,4.09,4.8899999999999997,4.5999999999999996,3.78,2.46,null,2.76]
[null,28,null,6.37,6.25,4.75,null,135,null,365,365,135,null,null,null,null,null,null,null,null,null,null,null,null,null,null,28,201607,null,6.37,5.39,3.86,7.06,6.25,5.4,4.12,4.5999999999999996,4.75,3.54,2.42,null,2.76]
[null,29,null,6.15,6.26,4.2300000000000004,null,120,null,345,345,120,null,null,null,null,null,null,null,null,null,null,null,null,null,null,29,201607,null,6.15,5.59,null,7.22,6.26,5.38,3.87,4.1100000000000003,4.2300000000000004,3.41,2.48,null,2.92]
["J",30,null,6.52,6.26,4.42,null,100,null,345,345,100,null,null,null,null,null,null,null,null,null,null,null,null,null,null,30,201607,null,6.52,5.73,null,7.16,6.26,5.43,3.81,4.79,4.42,3.46,2.4,null,2.59]
[null,31,null,6.69,6.17,4.42,null,100,null,345,345,100,null,null,null,null,null,null,null,null,null,null,null,null,null,null,31,201608,null,6.69,5.59,3.92,7.09,6.17,5.39,4.05,4.6900000000000004,4.42,3.69,2.9,2.87,2.94]
[null,32,null,5.56,6.24,4.5,null,100,null,345,345,100,null,null,null,null,null,null,null,null,null,null,null,null,null,null,32,201608,7.28,6.56,5.51,4.1100000000000003,7.08,6.24,5.43,3.99,5.23,4.5,3.59,2.48,null,2.87]
[null,33,null,6.49,6.16,4.21,null,95,null,345,345,95,null,null,null,null,null,null,null,null,null,null,null,null,null,null,33,201608,7.24,6.49,5.67,null,6.95,6.16,5.38,3.95,4.12,4.21,3.49,2.52,null,2.73]
["A",34,null,6.36,6.25,4.32,null,85,null,345,345,85,null,null,null,null,null,null,null,null,null,null,null,null,null,null,34,201608,7.44,6.36,5.77,3.78,7.09,6.25,5.37,4.03,5.14,4.32,3.37,2.74,null,2.85]
[null,35,null,6.5,6.25,4.5599999999999996,null,85,null,345,345,85,null,null,null,null,null,null,null,null,null,null,null,null,null,null,35,201608,7.17,6.5,5.71,null,7.06,6.25,5.42,4.05,5.15,4.5599999999999996,3.56,3.01,3.86,3.2]
[null,36,null,6.61,6.25,4.4000000000000004,null,85,null,345,345,85,null,null,null,null,null,null,null,null,null,null,null,null,null,null,36,201609,null,6.61,5.84,3.66,7.07,6.25,5.4,4.07,4.9000000000000004,4.4000000000000004,3.46,2.78,null,3.11]
[null,37,null,6.5,6.25,4.13,null,85,null,345,345,85,null,null,null,null,null,null,null,null,null,null,null,null,null,null,37,201609,null,6.5,5.85,3.75,7.17,6.25,5.37,4.05,4.17,4.13,3.67,2.72,3.11,3.25]
[null,38,null,6.66,6.31,4.28,null,80,null,335,335,80,null,null,null,null,null,null,null,null,null,null,null,null,null,null,38,201609,7.34,6.66,6.02,3.79,7.12,6.31,5.36,4.07,4.67,4.28,3.67,2.68,3.26,3.27]
["S",39,null,6.62,6.23,4.3,null,70,null,325,325,70,null,null,null,null,null,null,null,null,null,null,null,null,null,null,39,201609,7.47,6.62,5.74,null,7.02,6.23,5.34,4.04,5.32,4.3,3.49,2.75,3.1,3.12]
[null,40,null,6.69,6.27,4.16,null,65,null,315,315,65,null,null,null,null,null,null,null,null,null,null,null,null,null,null,40,201610,7.29,6.69,5.58,3.98,6.98,6.27,5.36,4.22,4.82,4.16,3.6,2.5299999999999998,3.11,3]
[null,41,null,6.52,6.27,4.45,null,60,null,305,305,60,null,null,null,null,null,null,null,null,null,null,null,null,null,null,41,201610,7.38,6.52,5.65,3.87,7.03,6.27,5.4,4.24,4.8,4.45,3.71,2.66,null,3.1]
[null,42,null,6.52,6.26,4.5,null,60,null,305,305,60,null,null,null,null,null,null,null,null,null,null,null,null,null,null,42,201610,7.39,6.52,5.64,3.99,7.08,6.26,5.43,4.26,4.22,4.5,3.53,2.76,null,3.25]
["O",43,null,6.66,6.29,4.42,null,60,null,305,305,60,null,null,null,null,null,null,null,null,null,null,null,null,null,null,43,201610,7.54,6.66,6.56,4.12,7.13,6.29,5.45,4.26,5.24,4.42,3.73,2.76,null,3.19]
[null,44,null,6.71,6.31,4.6500000000000004,null,60,null,305,305,60,null,null,null,null,null,null,null,null,null,null,null,null,null,null,44,201611,7.44,6.71,5.72,3.98,7.22,6.31,5.47,4.33,5.27,4.6500000000000004,3.77,2.85,null,3.35]
[null,45,null,6.76,6.39,4.82,null,55,null,295,295,55,null,null,null,"pas de cotation",null,null,null,null,null,null,null,null,null,null,45,201611,7.26,6.76,5.63,4.26,7.1,6.39,5.49,4.2699999999999996,5.17,4.82,3.89,2.91,3.54,3.37]
[null,46,null,6.65,6.35,4.57,null,55,null,295,295,55,null,null,null,null,null,null,null,null,null,null,null,null,null,null,46,201611,7.69,6.65,5.71,4.16,7.19,6.35,5.52,4.4000000000000004,5.7,4.57,3.76,2.83,3.74,3.34]
["N",47,null,6.67,6.35,4.71,null,55,null,295,295,55,null,null,null,null,null,null,null,null,null,null,null,null,null,null,47,201611,7.68,6.67,5.72,4.3899999999999997,7.22,6.35,5.54,4.4400000000000004,5.79,4.71,3.88,2.95,3.82,3.43]
[null,48,null,6.91,6.38,4.8,null,55,null,295,295,55,null,null,null,null,null,null,null,null,null,null,null,null,null,null,48,201611,7.8,6.91,5.68,4.42,7.34,6.38,5.6,4.47,5.67,4.8,3.89,2.85,3.8,3.39]
[null,49,null,6.67,6.43,4.7,null,55,null,295,295,55,null,null,null,null,null,null,null,null,null,null,null,null,null,null,49,201612,7.54,6.67,5.95,4.37,7.41,6.43,5.63,4.5199999999999996,5.33,4.7,3.95,2.89,3.66,3.52]
[null,50,null,6.75,6.47,4.78,null,55,null,295,295,55,null,null,null,null,null,null,null,null,null,null,null,null,null,null,50,201612,7.53,6.75,5.88,4.46,7.33,6.47,5.69,4.55,5.55,4.78,4.03,2.81,3.71,3.39]
[null,51,null,6.93,6.63,5.0199999999999996,null,55,null,295,295,55,null,null,null,null,null,null,null,null,null,null,null,null,null,null,51,201612,7.63,6.93,5.86,4.55,7.36,6.63,5.7,4.43,5.56,5.0199999999999996,4.1900000000000004,3.11,3.84,3.42]
[null,52,null,7.03,6.69,4.91,null,55,null,295,295,55,null,null,null,null,null,null,null,null,null,null,null,null,null,null,52,201612,7.69,7.03,5.96,null,7.32,6.69,5.69,4.74,5.43,4.91,4.16,3.02,null,3.71]

{"sheet":"GraphVeaux","index":27,"n_rows":134,"n_cols":7,"rows_kept":134,"cut":false,"hidden":false,"merged":[[40,2,40,4],[41,2,41,4],[40,5,41,6],[37,4,37,6]]}
[]
[]
[]
[]
[]
[]
[]
[]
[]
[]
[]
[]
[]
[]
[]
[]
[]
[]
[]
[]
[]
[]
[]
[]
[]
[]
[]
[]
[]
[]
[]
[]
[]
[]
[]
[]
[null,"COTATION DES VEAUX - MOYENNES MENSUELLES"]
["Source : DRAAF Pays de la Loire - SRISE - FranceAgriMer",null,null,null,{"$f":"VeauxAnneeEnCours!E9","v":"00:00:00"}]
[]
[]
["Année","Mois","      VEAUX GRAND NORD R3",null,null,"VEAUX CHÂTEAU GONTIER"]
[null,null,"(Euros/Kg net"]
[null,null,"Rose très clair","R.clair","Rosé","N.45-50","LAIT 45-50"]
[2025,"J",{"$f":"IF((VeauxAnneeEnCours!C20)>0,AVERAGE(VeauxAnneeEnCours!C16:C20),NA())","v":8.0150000000000006},{"$f":"IF((VeauxAnneeEnCours!D20)>0,AVERAGE(VeauxAnneeEnCours!D16:D20),NA())","v":7.838000000000001},{"$f":"IF((VeauxAnneeEnCours!E20)>0,AVERAGE(VeauxAnneeEnCours!E16:E20),NA())","v":6.33},{"$f":"IF((VeauxAnneeEnCours!F20)>0,AVERAGE(VeauxAnneeEnCours!F16:F20),NA())","v":140},{"$f":"IF((VeauxAnneeEnCours!G20)>0,AVERAGE(VeauxAnneeEnCours!G16:G20),NA())","v":160}]
[null,"F",{"$f":"IF((VeauxAnneeEnCours!C24)>0,AVERAGE(VeauxAnneeEnCours!C21:C24),NA())","v":{"$error":"#N/A"}},{"$f":"IF((VeauxAnneeEnCours!D24)>0,AVERAGE(VeauxAnneeEnCours!D21:D24),NA())","v":7.8774999999999995},{"$f":"IF((VeauxAnneeEnCours!E24)>0,AVERAGE(VeauxAnneeEnCours!E21:E24),NA())","v":6.34},{"$f":"IF((VeauxAnneeEnCours!F24)>0,AVERAGE(VeauxAnneeEnCours!F21:F24),NA())","v":167.5},{"$f":"IF((VeauxAnneeEnCours!G24)>0,AVERAGE(VeauxAnneeEnCours!G21:G24),NA())","v":187.5}]
[null,"M",{"$f":"IF((VeauxAnneeEnCours!C28)>0,AVERAGE(VeauxAnneeEnCours!C25:C28),NA())","v":{"$error":"#N/A"}},{"$f":"IF((VeauxAnneeEnCours!D28)>0,AVERAGE(VeauxAnneeEnCours!D25:D28),NA())","v":7.9275000000000002},{"$f":"IF((VeauxAnneeEnCours!E28)>0,AVERAGE(VeauxAnneeEnCours!E25:E28),NA())","v":6.2425000000000006},{"$f":"IF((VeauxAnneeEnCours!F28)>0,AVERAGE(VeauxAnneeEnCours!F25:F28),NA())","v":180},{"$f":"IF((VeauxAnneeEnCours!G28)>0,AVERAGE(VeauxAnneeEnCours!G25:G28),NA())","v":205}]
[null,"A",{"$f":"IF((VeauxAnneeEnCours!C32)>0,AVERAGE(VeauxAnneeEnCours!C29:C32),NA())","v":{"$error":"#N/A"}},{"$f":"IF((VeauxAnneeEnCours!D32)>0,AVERAGE(VeauxAnneeEnCours!D29:D32),NA())","v":8.0224999999999991},{"$f":"IF((VeauxAnneeEnCours!E32)>0,AVERAGE(VeauxAnneeEnCours!E29:E32),NA())","v":6.3875000000000002},{"$f":"IF((VeauxAnneeEnCours!F32)>0,AVERAGE(VeauxAnneeEnCours!F29:F32),NA())","v":192.5},{"$f":"IF((VeauxAnneeEnCours!G32)>0,AVERAGE(VeauxAnneeEnCours!G29:G32),NA())","v":222.5}]
[null,"M",{"$f":"IF((VeauxAnneeEnCours!C37)>0,AVERAGE(VeauxAnneeEnCours!C33:C37),NA())","v":8.0200000000000014},{"$f":"IF((VeauxAnneeEnCours!D37)>0,AVERAGE(VeauxAnneeEnCours!D33:D37),NA())","v":7.9640000000000004},{"$f":"IF((VeauxAnneeEnCours!E37)>0,AVERAGE(VeauxAnneeEnCours!E33:E37),NA())","v":6.6059999999999999},{"$f":"IF((VeauxAnneeEnCours!F37)>0,AVERAGE(VeauxAnneeEnCours!F33:F37),NA())","v":237},{"$f":"IF((VeauxAnneeEnCours!G37)>0,AVERAGE(VeauxAnneeEnCours!G33:G37),NA())","v":261}]
[null,"J",{"$f":"IF((VeauxAnneeEnCours!C41)>0,AVERAGE(VeauxAnneeEnCours!C38:C41),NA())","v":8.08},{"$f":"IF((VeauxAnneeEnCours!D41)>0,AVERAGE(VeauxAnneeEnCours!D38:D41),NA())","v":7.8674999999999997},{"$f":"IF((VeauxAnneeEnCours!E41)>0,AVERAGE(VeauxAnneeEnCours!E38:E41),NA())","v":6.4425000000000008},{"$f":"IF((VeauxAnneeEnCours!F41)>0,AVERAGE(VeauxAnneeEnCours!F38:F41),NA())","v":285},{"$f":"IF((VeauxAnneeEnCours!G41)>0,AVERAGE(VeauxAnneeEnCours!G38:G41),NA())","v":305}]
[null,"J",{"$f":"IF((VeauxAnneeEnCours!C46)>0,AVERAGE(VeauxAnneeEnCours!C42:C46),NA())","v":{"$error":"#N/A"}},{"$f":"IF((VeauxAnneeEnCours!D46)>0,AVERAGE(VeauxAnneeEnCours!D42:D46),NA())","v":7.87},{"$f":"IF((VeauxAnneeEnCours!E46)>0,AVERAGE(VeauxAnneeEnCours!E42:E46),NA())","v":6.45},{"$f":"IF((VeauxAnneeEnCours!F46)>0,AVERAGE(VeauxAnneeEnCours!F42:F46),NA())","v":276},{"$f":"IF((VeauxAnneeEnCours!G46)>0,AVERAGE(VeauxAnneeEnCours!G42:G46),NA())","v":326}]
[null,"A",{"$f":"IF((VeauxAnneeEnCours!C50)>0,AVERAGE(VeauxAnneeEnCours!C47:C50),NA())","v":8.0150000000000006},{"$f":"IF((VeauxAnneeEnCours!D50)>0,AVERAGE(VeauxAnneeEnCours!D47:D50),NA())","v":7.9174999999999995},{"$f":"IF((VeauxAnneeEnCours!E50)>0,AVERAGE(VeauxAnneeEnCours!E47:E50),NA())","v":6.5049999999999999},{"$f":"IF((VeauxAnneeEnCours!F50)>0,AVERAGE(VeauxAnneeEnCours!F47:F50),NA())","v":252.5},{"$f":"IF((VeauxAnneeEnCours!G50)>0,AVERAGE(VeauxAnneeEnCours!G47:G50),NA())","v":290}]
[null,"S",{"$f":"IF((VeauxAnneeEnCours!C54)>0,AVERAGE(VeauxAnneeEnCours!C51:C54),NA())","v":8.5333333333333332},{"$f":"IF((VeauxAnneeEnCours!D54)>0,AVERAGE(VeauxAnneeEnCours!D51:D54),NA())","v":8.2624999999999993},{"$f":"IF((VeauxAnneeEnCours!E54)>0,AVERAGE(VeauxAnneeEnCours!E51:E54),NA())","v":6.7125000000000004},{"$f":"IF((VeauxAnneeEnCours!F54)>0,AVERAGE(VeauxAnneeEnCours!F51:F54),NA())","v":321.25},{"$f":"IF((VeauxAnneeEnCours!G54)>0,AVERAGE(VeauxAnneeEnCours!G51:G54),NA())","v":321.25}]
[null,"O",{"$f":"IF((VeauxAnneeEnCours!C59)>0,AVERAGE(VeauxAnneeEnCours!C55:C59),NA())","v":{"$error":"#N/A"}},{"$f":"IF((VeauxAnneeEnCours!D59)>0,AVERAGE(VeauxAnneeEnCours!D55:D59),NA())","v":8.7000000000000011},{"$f":"IF((VeauxAnneeEnCours!E59)>0,AVERAGE(VeauxAnneeEnCours!E55:E59),NA())","v":7.355999999999999},{"$f":"IF((VeauxAnneeEnCours!F59)>0,AVERAGE(VeauxAnneeEnCours!F55:F59),NA())","v":279},{"$f":"IF((VeauxAnneeEnCours!G59)>0,AVERAGE(VeauxAnneeEnCours!G55:G59),NA())","v":279}]
[null,"N",{"$f":"IF((VeauxAnneeEnCours!C63)>0,AVERAGE(VeauxAnneeEnCours!C60:C63),NA())","v":{"$error":"#N/A"}},{"$f":"IF((VeauxAnneeEnCours!D63)>0,AVERAGE(VeauxAnneeEnCours!D60:D63),NA())","v":{"$error":"#N/A"}},{"$f":"IF((VeauxAnneeEnCours!E63)>0,AVERAGE(VeauxAnneeEnCours!E60:E63),NA())","v":{"$error":"#N/A"}},{"$f":"IF((VeauxAnneeEnCours!F63)>0,AVERAGE(VeauxAnneeEnCours!F60:F63),NA())","v":{"$error":"#N/A"}},{"$f":"IF((VeauxAnneeEnCours!G63)>0,AVERAGE(VeauxAnneeEnCours!G60:G63),NA())","v":{"$error":"#N/A"}}]
[null,"D",{"$f":"IF((VeauxAnneeEnCours!C67)>0,AVERAGE(VeauxAnneeEnCours!C64:C67),NA())","v":{"$error":"#N/A"}},{"$f":"IF((VeauxAnneeEnCours!D67)>0,AVERAGE(VeauxAnneeEnCours!D64:D67),NA())","v":{"$error":"#N/A"}},{"$f":"IF((VeauxAnneeEnCours!E67)>0,AVERAGE(VeauxAnneeEnCours!E64:E67),NA())","v":{"$error":"#N/A"}},{"$f":"IF((VeauxAnneeEnCours!F67)>0,AVERAGE(VeauxAnneeEnCours!F64:F67),NA())","v":{"$error":"#N/A"}},{"$f":"IF((VeauxAnneeEnCours!G67)>0,AVERAGE(VeauxAnneeEnCours!G64:G67),NA())","v":{"$error":"#N/A"}}]
[null,"Moyenne an",{"$f":"SUMIF(C44:C55,\"<>#N/A\",C44:C55)/COUNTIF(C44:C55,\"<>#N/A\")","v":8.1326666666666672},{"$f":"SUMIF(D44:D55,\"<>#N/A\",D44:D55)/COUNTIF(D44:D55,\"<>#N/A\")","v":8.0246999999999993},{"$f":"SUMIF(E44:E55,\"<>#N/A\",E44:E55)/COUNTIF(E44:E55,\"<>#N/A\")","v":6.5372000000000003},{"$f":"SUMIF(F44:F55,\"<>#N/A\",F44:F55)/COUNTIF(F44:F55,\"<>#N/A\")","v":233.07499999999999},{"$f":"SUMIF(G44:G55,\"<>#N/A\",G44:G55)/COUNTIF(G44:G55,\"<>#N/A\")","v":255.72499999999999}]
[2024,"J",7.5600000000000005,7.4975000000000005,5.6,40,55]
[null,"F",null,7.5220000000000002,5.6319999999999997,49,64]
[null,"M",7.5950000000000006,7.4874999999999998,5.85,72.5,87.5]
[null,"A",7.4466666666666663,7.4349999999999996,5.9050000000000002,97.5,112.5]
[null,"M",7.4424999999999999,7.3620000000000001,5.9180000000000001,105,120]
[null,"J",7.3266666666666671,7.2174999999999994,5.6624999999999996,105,120]
[null,"J",7.3233333333333333,7.1449999999999996,5.78,115,130]
[null,"A",7.3050000000000006,7.1260000000000003,5.6959999999999997,109,124]
[null,"S",null,7.27,5.4649999999999999,65,80]
[null,"O",7.5724999999999998,7.5419999999999998,5.702,55,70]
[null,"N",7.8433333333333337,7.7325000000000008,6.0750000000000002,87.5,107.5]
[null,"D"]
[null,"Moyenne an",7.490555555555555,7.3942727272727273,5.7532272727272726,81.86363636363636,97.318181818181813]
[2023,"J",7.9524998664855957,7.7575000524520874,5.3725000619888306,55,67.5]
[null,"F",7.84,7.7649999999999988,5.81,70,80]
[null,"M",7.7675000000000001,7.7379999999999995,5.75,70,80]
[null,"A",7.7466666666666661,7.6574999999999998,5.7750000000000004,83.75,95]
[null,"M",7.63,7.5399999999999991,5.4750000000000005,95,110]
[null,"J",7.3049999999999997,7.2459999999999996,5.1459999999999999,111,126]
[null,"J",7.3049999999999997,7.04,4.79,103.75,118.75]
[null,"A",7.1150000000000002,6.9525000000000006,4.5600000000000005,80,95]
[null,"S",7.1,6.99,4.7140000000000004,59,74]
[null,"O",7.1633333333333331,7.0775000000000006,4.9775,41.25,56.25]
[null,"N",7.3766666666666678,7.2774999999999999,5.4224999999999994,40,55]
[null,"D"]
[null,"moyenne an",7.4819696848320234,7.3674090956774627,5.2538636419989846,73.522727272727266,87.045454545454547]
[2022,"J",7.1025000810623169,6.9524998664855957,4.8349999189376831,35,55]
[null,"F",7.1174999475479126,6.9025000333786011,5.0674999952316284,42.5,62.5]
[null,"M",7.0466664632161455,6.9239999771118166,5.0980000495910645,63,83]
[null,"A",7.1124998331069946,7.0425000190734863,4.7275000810623169,65,85]
[null,"M",7.1466665267944336,7.0724999904632568,4.6699999570846558,65,85]
[null,"J",6.9979999542236326,6.95,4.5919999122619632,65,85]
[null,"J",6.940000057220459,6.8374999761581421,4.7199997901916504,65,85]
[null,"A",6.9933334986368818,6.8300000429153442,4.7199997901916504,63.75,83.75]
[null,"S",7.1025000810623169,7.0359999656677248,4.8240000724792482,52,72]
[null,"O",null,7.4000000953674316,5.1549999713897705,40,60]
[null,"N",null,7.5800000429153442,5.4349998235702515]
[null,"D",7.8600000143051147,7.7320000648498537,5.5380001068115234]
[null,"moyenne an",7.141966645717619,7.1049583395322173,4.9484999557336176,55.625,75.625]
[2021,"J",6.87,6.3724999999999996,4.9725000000000001,41.25,56.25]
[null,"F",6.85,6.38,4.835,45,60]
[null,"M",6.6219999999999999,6.3440000000000003,4.3639999999999999,47,62]
[null,"A",6.4424999999999999,6.2050000000000001,4.0199999999999996,48.75,63.75]
[null,"M",6.3674999999999997,6.1050000000000004,3.8325,60,67.5]
[null,"J",6.1950000000000003,6.01,3.6560000000000001,98,98]
[null,"J",6.1174999999999997,5.9749999999999996,3.605,96.6666666666667,96.6666666666667]
[null,"A",6.1325000000000003,6.0149999999999997,3.7825000000000002,77.5,77.5]
[null,"S",6.4260000000000002,6.3140000000000001,4.37,64,64]
[null,"O",6.71,6.6449999999999996,4.6174999999999997,55,55]
[null,"N",6.9233333333333302,6.8125,4.5925000000000002,55,55]
[null,"D",7.0140000000000002,6.9539999999999997,4.7679999999999998,55,55]
[null,"moyenne an",6.5558611111111098,6.3443333333333296,4.2846250000000001,61.9305555555556,67.5555555555556]
[2020,"J",6.8520000000000003,6.3940000000000001,5.1159999999999997,55,55]
[null,"F",6.7424999999999997,6.3125,4.8925000000000001,55,55]
[null,"M",6.6725000000000003,6.24,4.8099999999999996,65,65]
[null,"A",6.4619999999999997,5.8179999999999996,4.2160000000000002,71.6666666666667,71.6666666666667]
[null,"M",6.0975000000000001,5.2225000000000001,3.7825000000000002,70,70]
[null,"J",6.3125,5.2,3.8325,82.5,82.5]
[null,"J",6.1040000000000001,5.2,4.1360000000000001,77,77]
[null,"A",6.0549999999999997,5.2625000000000002,4.05,60,60]
[null,"S",6.2480000000000002,5.8239999999999998,4.298,45,45]
[null,"O",6.63,6.1425000000000001,4.7949999999999999,45,45]
[null,"N",6.835,6.3550000000000004,5.03]
[null,"D",6.8620000000000001,6.3920000000000003,5.0439999999999996,41.25,52.5]
[null,"moyenne an",6.4894166666666697,5.86358333333333,4.5002083333333296,60.674242424242401,61.696969696969703]
["Moyenne 5 ans","J",{"$f":"IFERROR(AVERAGE(C70,C83,C96,C109,C57),NA())","v":7.2673999895095829},6.9947999837875372,5.1791999961853019,45.25,57.75]
[null,"F",7.1374999868869775,6.9764000066757204,5.2473999990463254,52.3,64.3]
[null,"M",7.1407332926432288,6.9466999954223621,5.1744000099182133,63.5,75.5]
[null,"A",7.0420666332880657,6.8316000038146969,4.9287000162124635,73.333333333333343,85.583333333333343]
[null,"M",6.9368333053588866,6.660399998092652,4.7355999914169313,79,90.5]
[null,"J",6.8274333241780596,6.5247000000000002,4.5777999824523929,92.3,102.3]
[null,"J",6.7579666781107575,6.4394999952316283,4.6061999580383297,91.483333333333334,101.48333333333333]
[null,"A",6.7201666997273763,6.4372000085830692,4.5616999580383304,78.05,88.05]
[null,"S",6.7191250202655795,6.6867999931335449,4.7342000144958494,57,67]
[null,"O",7.0189583333333339,6.961400019073487,5.0493999942779535,47.25,57.25]
[null,"N",7.2445833333333329,7.1515000085830689,5.3109999647140507,60.833333333333336,72.5]
[null,"D",7.2453333381017044,7.0260000216166176,5.1166667022705079,48.125,53.75]
[null,"Moyenne :",{"$f":"SUMIF(C122:C133,\"<>#N/A\",C122:C133)/COUNTIF(C122:C133,\"<>#N/A\")","v":7.0048416612280739},{"$f":"SUMIF(D122:D133,\"<>#N/A\",D122:D133)/COUNTIF(D122:D133,\"<>#N/A\")","v":6.803083336167866},4.9351888822555541,65.702083333333334,76.330555555555549]

{"sheet":"Porcs2015-2025","index":28,"n_rows":590,"n_cols":20,"rows_kept":590,"cut":false,"hidden":false,"merged":[[5,15,6,15],[5,16,6,16],[3,3,3,5],[3,6,3,8],[3,9,3,11],[3,14,4,16],[537,3,537,5],[537,1,537,2],[0,0,0,12],[1,0,1,12],[5,14,6,14]]}
["Prix du porc entrée abattoir des carcasses de porcs charcutiers  "]
["Prix du porc cadran de Plérin : moyenne pondérée des cotations du lundi et du jeudi prix HT en €/Kg de carcasse base 56 TMP \n(Taux de muscle des pièces) départ élevage"]
["Date mise à jour :","2025-11-20"]
[null,null,null,"classe E+S\nRNM",null,null,"classe E (55%<=TMP<60%)\nRNM",null,null,"classe S (TMP>=60%)\nRNM",null,null,"Cadran Breton (Plérin)",null,"classe S (TMP>=60%) - NANTES"]
[null,null,null,"Nantes","Rennes","National","Nantes","Rennes","National","Nantes","Rennes","National","moyenne pondérée"]
[2015,null,null,null,null,null,"Nantes E","Rennes E","National E","Nantes S","Rennes S","National S","PLERIN",null,"Evolution/semaine -1","Evolution/ semaine id année-1","Evolution/semaine id moy. 5 ans"]
[null,"semaine 01","26/12/2014 au 01/01/2015",1.3,1.27,1.28,1.24,1.21,1.23,1.34,1.3,1.31,1.1185721536834701]
[null,"semaine 02","02/01/2015 au 08/01/2015",1.3,1.27,1.28,1.24,1.21,1.22,1.33,1.3,1.31,1.1097518012347001]
[null,"semaine 03","09/01/2015 au 15/01/2015",1.28,1.26,1.27,1.22,1.2,1.21,1.32,1.29,1.3,1.08466318402814]
["J","semaine 04","16/01/2015 au 22/01/2015",1.27,1.24,1.25,1.2,1.18,1.19,1.31,1.27,1.28,1.0810219315865399]
[null,"semaine 05","23/01/2015 au 29/01/2015",1.27,1.24,1.25,1.21,1.18,1.19,1.31,1.26,1.28,1.0876493270988801]
[null,"semaine 06","30/01/2015 au 05/02/2015",1.28,1.25,1.26,1.22,1.18,1.2,1.31,1.27,1.28,1.0867347596593699]
[null,"semaine 07","06/02/2015 au 12/02/2015",1.29,1.24,1.26,1.23,1.18,1.2,1.33,1.27,1.29,1.12607961504812]
["F","semaine 08","13/02/2015 au 19/02/2015",1.34,1.29,1.31,1.28,1.23,1.25,1.38,1.31,1.33,1.1806984558639699]
[null,"semaine 09","20/02/2015 au 26/02/2015",1.4,1.34,1.36,1.33,1.28,1.3,1.44,1.36,1.39,1.20667155939883]
[null,"semaine 10","27/02/2015 au 05/03/2015",1.42,1.36,1.38,1.35,1.3,1.32,1.45,1.39,1.41,1.21715251594393]
[null,"semaine 11","06/03/2015 au 12/03/2015",1.43,1.37,1.39,1.36,1.31,1.33,1.46,1.4,1.42,1.2249499584429999]
[null,"semaine 12","13/03/2015 au 19/03/2015",1.42,1.38,1.4,1.36,1.32,1.34,1.45,1.41,1.42,1.22964097619364]
["M","semaine 13","20/03/2015 au 26/03/2015",1.42,1.39,1.4,1.36,1.32,1.34,1.46,1.41,1.42,1.23190771855452]
[null,"semaine 14","26/03/2015 au 02/04/2015",1.42,1.39,1.4,1.36,1.33,1.34,1.45,1.41,1.42,1.2294899518323099]
[null,"semaine 15","03/04/2015 au 09/04/2015",1.43,1.39,1.4,1.37,1.33,1.34,1.47,1.41,1.43,1.24400040673704]
[null,"semaine 16","10/04/2015 au 16/04/2015",1.44,1.4,1.41,1.38,1.34,1.35,1.47,1.43,1.44,1.2539972478035399]
["A","semaine 17","17/04/2015 au 23/04/2015",1.44,1.41,1.42,1.38,1.35,1.36,1.48,1.43,1.45,1.254]
[null,"semaine 18","24/04/2015 au 30/04/2015",1.44,1.41,1.42,1.38,1.35,1.36,1.48,1.43,1.45,1.2548874165764401]
[null,"semaine 19","01/05/2015 au 07/05/2015",1.42,1.4,1.41,1.37,1.34,1.35,1.46,1.43,1.44,1.2251076670877701]
[null,"semaine 20","08/05/2015 au 14/05/2015",1.41,1.38,1.39,1.36,1.32,1.34,1.45,1.41,1.42,1.2233231820074999]
["M","semaine 21","15/05/2015 au 21/05/2015",1.41,1.38,1.39,1.35,1.32,1.33,1.45,1.4,1.42,1.22725525000387]
[null,"semaine 22","22/05/2015 au 28/05/2015",1.42,1.39,1.4,1.37,1.32,1.34,1.46,1.41,1.43,1.23999192579864]
[null,"semaine 23","29/05/2015 au 04/06/2015",1.44,1.37,1.4,1.38,1.31,1.34,1.48,1.4,1.43,1.2613361742424201]
[null,"semaine 24","05/06/2015 au 11/06/2015",1.47,1.42,1.44,1.41,1.36,1.38,1.51,1.45,1.47,1.2983490833381499]
[null,"semaine 25","12/06/2015 au 18/06/2015",1.51,1.46,1.47,1.46,1.4,1.41,1.55,1.48,1.5,1.3368252468350601]
["J","semaine 26","19/06/2015 au 25/06/2015",1.53,1.5,1.51,1.47,1.44,1.45,1.57,1.52,1.53,1.34632769955551]
[null,"semaine 27","26/06/2015 au 02/07/2015",1.53,1.5,1.51,1.47,1.44,1.45,1.57,1.53,1.54,1.33494019778379]
[null,"semaine 28","03/07/2015 au 09/07/2015",1.52,1.49,1.5,1.47,1.43,1.45,1.56,1.51,1.53,1.3439221556886201]
[null,"semaine 29","10/07/2015 au 16/07/2015",1.54,1.5,1.52,1.49,1.45,1.46,1.59,1.53,1.55,1.3759722187539001]
["J","semaine 30","17/07/2015 au 23/07/2015",1.58,1.53,1.55,1.52,1.47,1.49,1.62,1.56,1.58,1.4035892875020901]
[null,"semaine 31","24/07/2015 au 30/07/2015",1.6,1.56,1.57,1.53,1.5,1.51,1.64,1.58,1.6,1.4042316288730099]
[null,"semaine 32","31/07/2015 au 06/08/2015",1.59,1.56,1.57,1.53,1.5,1.51,1.63,1.58,1.6,1.4036406973018001]
[null,"semaine 33","07/08/2015 au 13/08/2015",1.61,1.57,1.58,1.55,1.51,1.53,1.64,1.6,1.61]
["A","semaine 34","14/08/2015 au 20/08/2015",1.5840000000000001,1.55,1.56,1.53,1.49,1.5,1.6220000000000001,1.58,1.59,1.389]
[null,"semaine 35","21/08/2015 au 27/08/2015",1.5740000000000001,1.55,1.56,1.4970000000000001,1.49,1.5,1.615,1.57,1.59,1.3884344264100299]
[null,"semaine 36","28/08/2015 au 03/09/2015",1.569,1.54,1.55,1.51,1.48,1.49,1.6259999999999999,1.57,1.59,1.3808038637852]
[null,"semaine 37","04/09/2015 au 10/09/2015",1.57,1.54,1.55,1.51,1.48,1.49,1.6,1.56,1.57,1.37698869608554]
[null,"semaine 38","11/09/2015 au 17/09/2015",1.56,1.53,1.54,1.5,1.47,1.48,1.6,1.56,1.57,1.3734141268203199]
["S","semaine 39","18/09/2015 au 24/09/2015",1.53,1.53,1.54,1.47,1.47,1.47,1.57,1.55,1.56,1.35048447419266]
[null,"semaine 40","25/09/2015 au 01/10/2015",1.5109999999999999,1.4930000000000001,1.5,1.4550000000000001,1.431,1.44,1.5469999999999999,1.514,1.5229999999999999,1.31491903312281]
[null,"semaine 41","02/10/2015 au 08/10/2015",1.4770000000000001,1.4610000000000001,1.4710000000000001,1.4219999999999999,1.3979999999999999,1.4119999999999999,1.512,1.482,1.496,1.3009999999999999]
[null,"semaine 42","09/10/2015 au 15/10/2015",1.4470000000000001,1.42,1.4330000000000001,1.389,1.355,1.3720000000000001,1.484,1.4430000000000001,1.4590000000000001]
["O","semaine 43","16/10/2015 au 22/10/2015",1.41,1.39,1.4,1.35,1.32,1.34,1.44,1.41,1.42]
[null,"semaine 44","23/10/2015 au 29/10/2015",1.4,1.38,1.39,1.35,1.31,1.33,1.44,1.4,1.42]
[null,"semaine 45","30/102015 au 05/11/2015",1.36,1.35,1.36,1.31,1.29,1.31,1.4,1.38,1.39]
[null,"semaine 46","06/11/2015 au 12/11/2015",1.34,1.33,1.34,1.29,1.27,1.28,1.38,1.35,1.36]
["N","semaine 47","13/11/2015 au 19/11/2015",1.32,1.3,1.31,1.26,1.23,1.25,1.36,1.32,1.34]
[null,"semaine 48","20/11/2015 au 26/11/2015",1.28,1.26,1.27,1.22,1.2,1.21,1.31,1.28,1.3,1.0760000000000001]
[null,"semaine 49","27/11/2015 au 03/12/2015",1.26,1.24,1.25,1.2,1.18,1.19,1.3,1.26,1.28,1.0720000000000001]
[null,"semaine 50","04/12/2015 au 10/12/2015",1.26,1.23,1.24,1.2,1.1599999999999999,1.17,1.29,1.25,1.26,1.0669999999999999]
[null,"semaine 51","11/12/2015 au 17/12/2015",1.25,1.23,1.24,1.2,1.1599999999999999,1.18,1.29,1.25,1.27,1.0680000000000001]
["D","semaine 52","18/12/2015 au 24/12/2015",1.25,1.22,1.23,1.2,1.1599999999999999,1.18,1.29,1.24,1.26,1.0687692984534201]
[null,"semaine 53","25/12/2015 au 31/12/2015",1.25,1.22,1.23,1.19,1.1499999999999999,1.17,1.29,1.24,1.26,1.07]
[2016,null,null,null,null,null,"Nantes E","Rennes E","National E","Nantes S","Rennes S","National S","PLERIN",null,"Evolution/\nsemaine -1","Evolution/\nsemaine id 2015","Evolution/\nsemaine id moy. 5 ans"]
[null,"semaine 1","01/01/2016 au 07/01/2016",1.25,1.23,1.24,1.19,1.1599999999999999,1.17,1.29,1.25,1.26,1.0723095475315201]
[null,"semaine 2","08/01/2016 au 14/01/2016",1.26,1.23,1.24,1.2,1.1599999999999999,1.18,1.3,1.25,1.26,1.0840238466604299]
[null,"semaine 3","15/01/2016 au 21/01/2016",1.26,1.24,1.25,1.21,1.17,1.19,1.3,1.25,1.27,1.09162923543986]
[null,"semaine 4","22/01/2016 au 28/01/2016",1.29,1.25,1.26,1.22,1.18,1.19,1.32,1.26,1.28,1.09708602415578]
[null,"semaine 5","29/01/2016 au 04/02/2016",1.28,1.25,1.26,1.23,1.19,1.2,1.32,1.27,1.29,1.10077104365136]
[null,"semaine 6","05/02/2016 au 11/02/2016",1.29,1.26,1.27,1.23,1.19,1.2,1.32,1.28,1.29,1.10585947923391]
[null,"semaine 7","12/02/2016 au 18/02/2016",1.29,1.26,1.27,1.24,1.2,1.21,1.33,1.28,1.29,1.10854270012293]
[null,"semaine 8","19/02/2016 au 25/02/2016",1.3,1.26,1.27,1.24,1.2,1.21,1.33,1.28,1.3,1.1120855435732999]
[null,"semaine 9","26/02/2016 au 03/03/2016",1.3,1.27,1.28,1.24,1.21,1.22,1.33,1.29,1.3,1.113]
[null,"semaine 10","04/03/2016 au 10/03/2016",1.3,1.27,1.28,1.23,1.21,1.22,1.34,1.29,1.3,1.11376454490529]
[null,"semaine 11","11/03/2016 au 17/03/2016",1.3,1.27,1.28,1.24,1.21,1.22,1.34,1.29,1.3,1.11554834752981]
[null,"semaine 12","18/03/2016 au 24/03/2016",1.31,1.28,1.29,1.25,1.21,1.22,1.34,1.29,1.3,1.1180000000000001]
[null,"semaine 13","25/03/2016 au 31/03/2016",1.31,1.28,1.29,1.25,1.21,1.22,1.34,1.29,1.3,1.1180000000000001]
[null,"semaine 14","01/04/2016 au 07/04/2016",1.31,1.28,1.29,1.25,1.21,1.23,1.35,1.29,1.31,1.1180000000000001]
[null,"semaine 15","08/04/2016 au 14/04/2016",1.31,1.28,1.29,1.26,1.21,1.23,1.35,1.3,1.31,1.1195423344108899]
[null,"semaine 16","15/04/2016 au 21/04/2016",1.31,1.28,1.29,1.25,1.21,1.22,1.35,1.3,1.31,1.1240844499415901]
[null,"semaine 17","22/04/2016 au 28/04/2016",1.32,1.28,1.29,1.26,1.22,1.24,1.35,1.3,1.31,1.1383385270094]
[null,"semaine 18","29/04/2016 au 05/05/2016",1.33,1.29,1.3,1.27,1.23,1.24,1.37,1.31,1.33,1.1574778297989501]
[null,"semaine 19","06/05/2016 AU 12/05/2016",1.36,1.31,1.33,1.3,1.24,1.26,1.39,1.33,1.35,1.1857476702754599]
[null,"semaine 20","13/05/2016 au 19/05/2016",1.37,1.33,1.35,1.33,1.27,1.29,1.39,1.35,1.37,1.21143388925951]
[null,"semaine 21","20/05/2016 au 26/05/2016",1.42,1.36,1.38,1.36,1.29,1.32,1.46,1.38,1.41,1.2419315158425801]
[null,"semaine 22","27/05/2016 au 02/06/2016",1.45,1.39,1.41,1.39,1.32,1.35,1.49,1.41,1.44,1.2793805670616201]
[null,"semaine 23","03/06/2016 au 09/06/2016",1.49,1.42,1.45,1.43,1.36,1.39,1.53,1.44,1.47,1.31074006908463]
[null,"semaine 24","10/06/2016 au 16/06/2016",1.52,1.45,1.48,1.47,1.39,1.42,1.56,1.48,1.5,1.34396081945323]
[null,"semaine 25","17/06/2016 au 23/06/2016",1.55,1.48,1.51,1.5,1.42,1.45,1.59,1.51,1.54,1.3836142774507501]
[null,"semaine 26","24/06/2016 au 30/06/2016",1.59,1.52,1.55,1.54,1.46,1.49,1.63,1.54,1.57,1.4178415947507299]
[null,"semaine 27","01/07/2016 au 07/07/2016",1.63,1.56,1.58,1.58,1.5,1.53,1.67,1.58,1.61,1.44868966166003]
[null,"semaine 28","08/07/2016 au 14/07/2016",1.65,1.58,1.6,1.6,1.52,1.55,1.69,1.6,1.63,1.4572161776162]
[null,"semaine 29","15/07/2016 au 21/07/2016",1.66,1.6,1.62,1.61,1.53,1.56,1.69,1.62,1.64,1.4597801721525101]
[null,"semaine 30","22/07/2016 au 28/07/2016",1.66,1.6,1.62,1.6,1.54,1.56,1.69,1.63,1.65,1.4590000000000001]
[null,"semaine 31","29/07/2016 au 04/08/2016",1.66,1.61,1.63,1.61,1.55,1.57,1.69,1.63,1.65,1.46159799751136]
[null,"semaine 32","05/08/2016 au 11/08/2016",1.66,1.61,1.63,1.6,1.55,1.57,1.69,1.63,1.65,1.4628013468013501]
[null,"semaine 33","12/08/2016 au 18/08/2016",1.66,1.62,1.63,1.61,1.55,1.57,1.7,1.64,1.66,1.46377961925435]
[null,"semaine 34","19/08/2016 au 25/08/2016",1.66,1.62,1.63,1.61,1.56,1.58,1.7,1.64,1.66,1.4698719187104099]
[null,"semaine 35","26/08/2016 au 01/09/2016",1.67,1.63,1.64,1.62,1.56,1.58,1.7,1.64,1.66,1.48019368251025]
[null,"semaine 36","02/09/2016 au 08/09/2016",1.68,1.63,1.65,1.63,1.57,1.59,1.72,1.65,1.67,1.4947741750906001]
[null,"semaine 37","09/09/2016 au 15/09/2016",1.7,1.64,1.66,1.65,1.58,1.61,1.74,1.67,1.69,1.5328956731825201]
[null,"semaine 38","16/09/2016 au 22/09/2016",1.73,1.66,1.68,1.68,1.6,1.63,1.76,1.68,1.71,1.5171467488502799]
[null,"semaine 39","23/09/2016 au 29/09/2016",1.73,1.67,1.69,1.68,1.61,1.63,1.76,1.69,1.71,1.47648230142318]
[null,"semaine 40","30/09/2016 au 06/10/2016",1.7,1.67,1.68,1.65,1.61,1.62,1.74,1.69,1.7,1.47648230142318]
[null,"semaine 41","07/10/2016 au 13/10/2016",1.66,1.64,1.64,1.61,1.58,1.59,1.69,1.66,1.66,1.4173578034515499]
[null,"semaine 42","14/10/2016 au 20/10/2016",1.6,1.6,1.59,1.55,1.53,1.52,1.63,1.61,1.61,1.3587953480092601]
[null,"semaine 43","21/10/2016 au 27/10/2016",1.55,1.54,1.54,1.49,1.48,1.48,1.58,1.56,1.56,1.31000687186002]
[null,"semaine 44","28/10/2016 au 03/11/2016",1.51,1.49,1.49,1.45,1.43,1.44,1.54,1.51,1.52,1.3]
[null,"semaine 45","04/11/2016 au 10/11/2016",1.5,1.47,1.48,1.44,1.41,1.42,1.53,1.49,1.5,1.29980809425933]
[null,"semaine 46","11/11/2016 au 17/11/2016",1.5,1.47,1.48,1.44,1.4,1.42,1.53,1.48,1.5,1.3]
[null,"semaine 47","18/11/2016 au 24/11/2016",1.5,1.47,1.48,1.44,1.4,1.42,1.53,1.48,1.5,1.3]
[null,"semaine 48","25/11/2016 au 01/12/2016",1.5,1.47,1.48,1.44,1.4,1.42,1.53,1.48,1.5,1.30080969421896]
[null,"semaine 49","02/12/2016 au 08/12/2016",1.5,1.47,1.48,1.44,1.4,1.42,1.53,1.48,1.5,1.3009999999999999]
[null,"semaine 50","09/12/2016 au 15/12/2016",1.5,1.47,1.48,1.44,1.4,1.42,1.53,1.48,1.5,1.3009999999999999]
[null,"semaine 51","16/12/2016 au 22/12/2016",1.5,1.46,1.47,1.44,1.4,1.42,1.53,1.48,1.5,1.3009999999999999]
[null,"semaine 52","23/12/2016 au 29/12/2016",1.5,1.46,1.47,1.45,1.4,1.42,1.53,1.48,1.5,1.3025794363580101]
[2017,null,null,null,null,null,"Nantes E","Rennes E","National E","Nantes S","Rennes S","National S","PLERIN",null,"Evolution/\nsemaine -1","Evolution/ \nsemaine id 2016","Evolution/\nsemaine id moy. 5 ans"]
[null,"semaine 1","30/12/2016 au 05/01/2017",1.5,1.46,1.47,1.44,1.4,1.42,1.53,1.48,1.5,1.3122348668280901]
[null,"semaine 2","06/01/2017 au 12/01/2017",1.51,1.47,1.48,1.45,1.4,1.42,1.54,1.48,1.5,1.32238581949281]
[null,"semaine 3","13/01/2017 au 19/01/2017",1.52,1.47,1.49,1.47,1.41,1.43,1.55,1.49,1.51,1.323]
[null,"semaine 4","20/01/2017 au 26/01/2017",1.52,1.47,1.49,1.47,1.41,1.43,1.55,1.49,1.51,1.33448929510085]
[null,"semaine 5","27/01/2017 au 02/02/2017",1.54,1.48,1.5,1.49,1.42,1.45,1.58,1.5,1.53,1.3657752501471501]
[null,"semaine 6","03/02/2017 au 09/02/2017",1.57,1.5,1.52,1.52,1.44,1.47,1.6,1.52,1.55,1.3809232334981101]
[null,"semaine 7","10/02/2017 au 16/02/2017",1.57,1.52,1.53,1.51,1.46,1.48,1.59,1.54,1.56,1.3916606536881599]
[null,"semaine 8","17/02/2017 au 23/02/2017",1.59,1.53,1.55,1.53,1.47,1.5,1.62,1.55,1.58,1.39638351609893]
[null,"semaine 9","24/02/2017 au 03/03/2017",1.6,1.54,1.56,1.54,1.48,1.5,1.63,1.56,1.58,1.3978103372627]
[null,"semaine 10","04/03/2017 au 10/03/2017",1.6,1.54,1.56,1.55,1.48,1.51,1.63,1.56,1.59,1.40124416135881]
[null,"semaine 11","10/03/2017 au 16/03/2017",1.6,1.55,1.57,1.54,1.48,1.5,1.63,1.56,1.59,1.4062462690834201]
[null,"semaine 12","17/03/2017 au 23/03/2017",1.62,1.55,1.58,1.57,1.49,1.52,1.65,1.57,1.6,1.44976271582576]
[null,"semaine 13","24/03/2017 au 30/03/2017",1.67,1.58,1.61,1.61,1.51,1.55,1.71,1.59,1.63,1.4903353916939099]
[null,"semaine 14","31/03/2017 au 06/04/2017",1.71,1.65,1.66,1.65,1.57,1.6,1.74,1.65,1.68,1.5344375225279301]
[null,"semaine 15","07/04/2017 au 13/04/2017",1.74,1.67,1.69,1.69,1.61,1.64,1.77,1.69,1.72,1.5455783069246301]
[null,"semaine 16","14/04/2017 au 20/04/2017",1.75,1.7,1.71,1.69,1.64,1.66,1.78,1.72,1.74,1.5476742893014099]
[null,"semaine 17","21/04/2017 au 27/04/2017",1.75,1.7,1.71,1.69,1.64,1.66,1.78,1.72,1.74,1.5376565905819499]
[null,"semaine 18","28/04/2017 au 04/05/2017",1.73,1.68,1.69,1.68,1.62,1.64,1.77,1.69,1.71,1.5084865802392899]
[null,"semaine 19","05/05/2017 au 11/05/2017",1.7,1.68,1.69,1.64,1.62,1.63,1.73,1.7,1.71,1.4915336720633801]
[null,"semaine 20","12/05/2017 au 18/05/2017",1.68,1.66,1.67,1.62,1.6,1.61,1.72,1.68,1.69,1.48192381590706]
[null,"semaine 21","19/05/2017 au 25/05/2017",1.67,1.65,1.66,1.62,1.58,1.59,1.7,1.66,1.68,1.4781931922161899]
[null,"semaine 22","26/05/2017 au 01/06/2017",1.68,1.64,1.65,1.62,1.58,1.59,1.71,1.66,1.68,1.4836180496393501]
[null,"semaine 23","02/06/2017 au 08/06/2017",1.68,1.64,1.65,1.62,1.58,1.59,1.71,1.66,1.68,1.486]
[null,"semaine 24","09/06/2017 au 15/06/2017",1.69,1.64,1.66,1.63,1.58,1.6,1.72,1.66,1.68,1.4850000000000001]
[null,"semaine 25","16/06/2017 au 22/06/2017",1.69,1.64,1.66,1.64,1.58,1.6,1.72,1.66,1.68,1.48712889563184]
[null,"semaine 26","23/06/2017 au 29/06/2017",1.69,1.64,1.66,1.64,1.58,1.6,1.72,1.66,1.68,1.49032954879123]
[null,"semaine 27","30/06/2017 au 06/07/2017",1.69,1.64,1.66,1.64,1.58,1.6,1.73,1.66,1.68,1.4910000000000001]
[null,"semaine 28","07/07/2017 au 13/07/2017",1.69,1.65,1.66,1.63,1.58,1.6,1.72,1.67,1.69,1.4910000000000001]
[null,"semaine 29","14/07/2017 au 20/07/2017",1.69,1.65,1.66,1.64,1.58,1.6,1.72,1.67,1.69,1.48126577247889]
[null,"semaine 30","21/07/2017 au 27/07/2017",1.68,1.64,1.65,1.63,1.58,1.6,1.72,1.66,1.68,1.4770000000000001]
[null,"semaine 31","28/07/2017 au 03/08/2017",1.68,1.63,1.65,1.63,1.57,1.59,1.71,1.65,1.67,1.4770000000000001]
[null,"semaine 32","04/08/2017 au 10/08/2017",1.68,1.63,1.64,1.62,1.56,1.58,1.71,1.64,1.66,1.46945324668202]
[null,"semaine 33","11/08/2017 au 17/08/2017",1.68,1.62,1.64,1.62,1.56,1.58,1.71,1.64,1.66,1.4562246905206]
[null,"semaine 34","18/08/2017 au 24/08/2017",1.65,1.61,1.62,1.6,1.55,1.56,1.69,1.63,1.65,1.42448113729717]
[null,"semaine 35","25/08/2017 au 31/08/2017",1.61,1.59,1.59,1.56,1.53,1.54,1.65,1.61,1.62,1.3878999543170401]
[null,"semaine 36","01/09/2017 au 07/09/2017",1.58,1.57,1.57,1.52,1.5,1.51,1.61,1.58,1.59,1.3784252145320399]
[null,"semaine 37","08/09/2017 au 14/09/2017",1.58,1.55,1.56,1.52,1.48,1.49,1.61,1.57,1.58,1.3495632578819701]
[null,"semaine 38","15/09/2017 au 21/09/2017",1.53,1.52,1.52,1.48,1.46,1.46,1.56,1.54,1.54,1.3024325185699199]
[null,"semaine 39","22/09/2017 au 28/09/2017",1.5,1.48,1.48,1.44,1.42,1.43,1.53,1.5,1.51,1.2728603661350699]
[null,"semaine 40","29/09/2017 au 05/10/2017",1.46,1.45,1.45,1.4,1.39,1.39,1.49,1.47,1.47,1.2367194492254701]
[null,"semaine 41","06/10/2017 au 12/10/2017",1.43,1.41,1.42,1.37,1.35,1.36,1.46,1.43,1.44,1.228]
[null,"semaine 42","13/10/2017 au 19/10/2017",1.42,1.4,1.4,1.36,1.33,1.34,1.46,1.41,1.43,1.2129250654450301]
[null,"semaine 43","20/10/2017 au 26/10/2017",1.41,1.38,1.39,1.35,1.32,1.33,1.44,1.4,1.41,1.2036508106372701]
[null,"semaine 44","27/10/2017 au 02/11/2017",1.39,1.37,1.38,1.33,1.3,1.31,1.43,1.39,1.4,1.1879227352719299]
[null,"semaine 45","03/11/2017 au 09/11/2017",1.38,1.36,1.37,1.32,1.29,1.3,1.42,1.38,1.39,1.1802108352763701]
[null,"semaine 46","10/11/2017 au 16/11/2017",1.37,1.35,1.36,1.31,1.29,1.3,1.41,1.37,1.38,1.17979398185867]
[null,"semaine 47","17/11/2017 au 23/11/2017",1.37,1.34,1.35,1.31,1.28,1.3,1.41,1.36,1.38,1.17920698492325]
[null,"semaine 48","24/11/2017 au 30/11/2017",1.38,1.34,1.35,1.32,1.28,1.3,1.41,1.36,1.38,1.1782024254236401]
[null,"semaine 49","01/12/2017 au 07/12/2017",1.38,1.34,1.35,1.32,1.28,1.3,1.41,1.36,1.38,1.1767985017706299]
[null,"semaine 50","08/12/2017 au 14/12/2017",1.38,1.34,1.35,1.32,1.28,1.29,1.41,1.36,1.37,1.1752008909051199]
[null,"semaine 51","15/12/2017 au 21/12/2017",1.37,1.34,1.35,1.31,1.28,1.29,1.41,1.36,1.37,1.1543941548183301]
[null,"semaine 52","22/12/2017 au 28/12/2017",1.34,1.32,1.33,1.28,1.26,1.27,1.38,1.34,1.35,1.1427984215718501]
[2018,null,null,null,null,null,"Nantes E","Rennes E","National E","Nantes S","Rennes S","National S","PLERIN",null,"Evolution/\nsemaine -1","Evolution/ \nsemaine id 2017","Evolution/\nsemaine id moy. 5 ans"]
[null,"semaine 1","29/12/2017 au 4/1/2018",1.34,1.31,1.32,1.27,1.25,1.26,1.37,1.33,1.34,1.13679314727825]
[null,"semaine 2","05/01/2018 au 11/01/2018",1.31,1.3,1.3,1.25,1.24,1.25,1.37,1.32,1.33,1.12407949574027]
[null,"semaine 3","12/01/2018 au 18/01/2018",1.31,1.29,1.3,1.26,1.22,1.24,1.35,1.31,1.32,1.1020908409346499]
[null,"semaine 4","19/01/2018 au 25/01/2018",1.29,1.28,1.28,1.23,1.21,1.22,1.33,1.29,1.3,1.10041341072512]
[null,"semaine 5","26/01/2018 au 01/02/2018",1.3,1.26,1.28,1.24,1.2,1.22,1.34,1.28,1.3,1.1203636602145499]
[null,"semaine 6","02/02/2018 au 08/02/2018",1.32,1.27,1.29,1.27,1.21,1.24,1.36,1.29,1.32,1.1394518099547499]
[null,"semaine 7","09/02/2018 au 15/02/2018",1.34,1.28,1.31,1.28,1.22,1.25,1.38,1.3,1.33,1.1746041827187701]
[null,"semaine 8","16/02/2018 au 22/02/2018",1.38,1.32,1.34,1.32,1.26,1.28,1.41,1.33,1.36,1.2]
[null,"semaine 9","23/02/2018 au 01/03/2018",1.4,1.35,1.37,1.34,1.28,1.31,1.43,1.36,1.39,1.2273942457231699]
[null,"semaine 10","02/03/2018 au 08/03/2018",1.43,1.37,1.39,1.37,1.31,1.34,1.47,1.39,1.42,1.2386110612611101]
[null,"semaine 11","09/03/2018 au 15/03/2018",1.44,1.39,1.41,1.38,1.32,1.34,1.47,1.4,1.42,1.24]
[null,"semaine 12","16/03/2018 au 22/03/2018",1.43,1.39,1.41,1.37,1.33,1.35,1.46,1.41,1.43,1.21604547426885]
[null,"semaine 13","23/03/2018 au 29/03/2018",1.41,1.38,1.39,1.35,1.35,1.35,1.44,1.43,1.43,1.2]
[null,"semaine 14","30/03/2018 au 05/04/2018",1.4,1.37,1.38,1.34,1.3,1.32,1.43,1.39,1.4,1.2]
[null,"semaine 15","06/04/2018 au 12/04/2018",1.4,1.36,1.37,1.34,1.3,1.32,1.43,1.38,1.4,1.2]
[null,"semaine 16","13/04/2018 au 19/04/2018",1.39,1.36,1.37,1.33,1.29,1.31,1.43,1.38,1.39,1.18]
[null,"semaine 17","20/04/2018 au 26/04/2018",1.38,1.35,1.36,1.32,1.28,1.3,1.41,1.37,1.38,1.18]
[null,"semaine 18","27/04/2018 au 03/05/2018",1.38,1.35,1.36,1.32,1.28,1.3,1.42,1.36,1.38,1.1850000000000001]
[null,"semaine 19","04/05/2018 au 09/05/2018",1.38,1.34,1.35,1.32,1.28,1.3,1.42,1.36,1.38,1.19]
[null,"semaine 20","11/05/2018 au 17/05/2018",1.38,1.34,1.35,1.33,1.28,1.3,1.41,1.36,1.38,1.19]
[null,"semaine 21","18/05/2018 au 24/05/2018",1.39,1.34,1.36,1.33,1.28,1.3,1.42,1.36,1.38,1.19]
[null,"semaine 22","25/05/2018 au 31/05/2018",1.38,1.34,1.35,1.33,1.28,1.3,1.42,1.36,1.38,1.19]
[null,"semaine 23","01/06/2018 au 07/06/2018",1.39,1.34,1.36,1.33,1.28,1.3,1.43,1.36,1.38,1.2]
[null,"semaine 24","08/06/2018 au 14/06/2018",1.4,1.35,1.37,1.34,1.29,1.31,1.43,1.37,1.39,1.2]
[null,"semaine 25","15/09/2018 au 21/06/2018",1.4,1.36,1.37,1.35,1.29,1.32,1.44,1.38,1.4,1.2]
[null,"semaine 26","22/06/2018 au 28/06/2018",1.4,1.36,1.37,1.34,1.3,1.32,1.43,1.38,1.4,1.21]
[null,"semaine 27","29/06/2018 au 5/07/2018",1.43,1.36,1.38,1.38,1.3,1.33,1.45,1.39,1.41,1.22]
[null,"semaine 28","06/07/2018 au 12/07/2018",1.41,1.36,1.38,1.36,1.3,1.33,1.44,1.38,1.4,1.22]
[null,"semaine 29","13/07/2018 au 19/07/2018",1.41,1.36,1.38,1.36,1.3,1.32,1.44,1.38,1.4,1.22]
[null,"semaine 30","20/07/2017 au 26/07/2018",1.41,1.36,1.38,1.36,1.3,1.32,1.44,1.38,1.4,1.22]
[null,"semaine 31","27/07/2018 au 02/08/2018",1.41,1.36,1.38,1.36,1.3,1.32,1.44,1.38,1.4,1.22]
[null,"semaine 32","03/08/2018 au 09/08/2018",1.41,1.36,1.38,1.36,1.3,1.33,1.44,1.38,1.4,1.22]
[null,"semaine 33","10/08/2018 au 16/08/2018",1.41,1.36,1.38,1.36,1.3,1.33,1.44,1.38,1.4,1.22]
[null,"semaine 34","17/08/2018 au 23/08/2018",1.42,1.37,1.39,1.36,1.31,1.33,1.45,1.39,1.41,1.26]
[null,"semaine 35","24/08/2018 au 30/08/2018",1.45,1.4,1.42,1.4,1.34,1.37,1.48,1.42,1.44,1.28]
[null,"semaine 36","31/08/2018 au 06/09/2018",1.48,1.42,1.44,1.42,1.36,1.39,1.5,1.44,1.46,1.3]
[null,"semaine 37","07/09/2018 au 13/09/2018",1.49,1.43,1.45,1.43,1.37,1.4,1.51,1.45,1.47,1.3]
[null,"semaine 38","14/09/2018 au 20/09/2018",1.49,1.43,1.45,1.43,1.37,1.39,1.51,1.45,1.47,1.25]
[null,"semaine 39","21/09/2018 au 27/09/2018",1.45,1.4,1.41,1.4,1.34,1.36,1.48,1.42,1.44,1.21]
[null,"semaine 40","28/09/2018 au 04/10/2018",1.43,1.38,1.39,1.37,1.31,1.33,1.45,1.39,1.41,1.2]
[null,"semaine 41","05/10/2018 au 11/10/2018",1.41,1.36,1.37,1.35,1.3,1.32,1.44,1.38,1.4,1.19]
[null,"semaine 42","12/10/2018 au 18/10/2018",1.4,1.35,1.36,1.35,1.28,1.31,1.43,1.37,1.39,1.19]
[null,"semaine 43","19/10/2018 au 25/10/2018",1.4,1.34,1.36,1.34,1.28,1.3,1.42,1.36,1.38,1.19]
[null,"semaine 44","26/10/2018 au 31/10/2018",1.4,1.34,1.36,1.34,1.28,1.3,1.42,1.36,1.38,1.18]
[null,"semaine 45","02/11/2018 au 08/11/2018",1.38,1.34,1.35,1.32,1.27,1.29,1.41,1.36,1.37,1.17]
[null,"semaine 46","09/11/2018 au 15/11/2018",1.38,1.34,1.35,1.31,1.27,1.29,1.4,1.35,1.37,1.17]
[null,"semaine 47","16/11/2018 au 22/11/2018",1.38,1.34,1.35,1.31,1.27,1.29,1.4,1.36,1.37,1.17]
[null,"semaine 48","23/11/2018 au 29/11/2018",1.38,1.33,1.34,1.32,1.27,1.29,1.4,1.35,1.37,1.17]
[null,"semaine 49","30/11/2018 au 06/12/2018",1.38,1.34,1.35,1.32,1.27,1.29,1.4,1.36,1.37,1.18]
[null,"semaine 50","07/12/2018 au 13/12/2018",1.38,1.34,1.35,1.32,1.28,1.3,1.41,1.36,1.37,1.18]
[null,"semaine 51","14/12/2018 au 20/12/2018",1.37,1.34,1.35,1.31,1.28,1.29,1.4,1.36,1.37,1.18]
[null,"semaine 52","21/12/2019 au 27/12/2019",1.38,1.35,1.36,1.32,1.28,1.3,1.41,1.36,1.37,1.17]
[2019,null,null,null,null,null,"Nantes E","Rennes E","National E","Nantes S","Rennes S","National S","PLERIN",null,"Evolution/\nsemaine -1","Evolution/ \nsemaine id 2018","Evolution/\nsemaine id moy. 5 ans"]
[null,"semaine 1","28/12/2019 au 03/01/2019",1.38,1.34,1.35,1.31,1.28,1.29,1.41,1.36,1.37,1.17]
[null,"semaine 2","04/01/2019 au 10/01/2019",1.38,1.33,1.34,1.31,1.27,1.29,1.4,1.35,1.37,1.17]
[null,"semaine 3","11/01/2019 au 17/01/2019",1.38,1.34,1.35,1.31,1.27,1.29,1.4,1.36,1.37,1.17]
[null,"semaine 4","18/01/2019 au 24/01/2019",1.37,1.33,1.34,1.31,1.27,1.29,1.4,1.35,1.36,1.17]
[null,"semaine 5","25/01/2019 au 31/01/2019",1.38,1.33,1.34,1.31,1.27,1.29,1.4,1.35,1.37,1.17]
[null,"semaine 6","01/02/2019 au 07/02/2019",1.37,1.33,1.34,1.3,1.27,1.29,1.4,1.35,1.37,1.18]
[null,"semaine 7","08/02/2019 au 14/02/2019",1.38,1.34,1.35,1.31,1.27,1.29,1.41,1.36,1.37,1.18]
[null,"semaine 8","15/02/2019 au 21/02/2019",1.39,1.34,1.35,1.32,1.28,1.3,1.41,1.36,1.37,1.18]
[null,"semaine 9","22/02/2019 au 28/02/2019",1.39,1.35,1.36,1.32,1.28,1.3,1.41,1.36,1.37,1.18]
[null,"semaine 10","01/03/2019 au 07/03/2019",1.39,1.34,1.36,1.32,1.28,1.3,1.41,1.36,1.38,1.18]
[null,"semaine 11","08/03/2019 au 14/03/2019",1.39,1.34,1.36,1.32,1.28,1.3,1.41,1.36,1.38,1.23]
[null,"semaine 12","15/03/2019 au 21/03/2019",1.42,1.37,1.39,1.36,1.31,1.34,1.44,1.39,1.41,1.28]
[null,"semaine 13","22/03/2019 au 28/03/2019",1.47,1.42,1.44,1.4,1.35,1.38,1.49,1.44,1.46,1.33]
[null,"semaine 14","29/03/2019 au 04/04/2019",1.52,1.47,1.49,1.45,1.41,1.43,1.54,1.49,1.51,1.38]
[null,"semaine 15","05/04/2019 au 11/04/2019",1.57,1.52,1.54,1.51,1.46,1.48,1.59,1.54,1.56,1.41]
[null,"semaine 16","12/04/2019 au 18/04/2019",1.6,1.56,1.58,1.53,1.49,1.51,1.63,1.58,1.6,1.41]
[null,"semaine 17","19/04/2019 au 25/04/2019",1.62,1.57,1.59,1.54,1.51,1.52,1.64,1.59,1.61,1.41]
[null,"semaine 18","26/04/2019 au 02/05/2019",1.62,1.58,1.59,1.56,1.52,1.53,1.65,1.6,1.61,1.42]
[null,"semaine 19","03/05/2019 au 09/05/2019",1.62,1.58,1.6,1.55,1.52,1.54,1.65,1.6,1.62,1.45]
[null,"semaine 20","10/05/2019 au 16/05/2019",1.64,1.6,1.62,1.57,1.53,1.55,1.67,1.62,1.64,1.47]
[null,"semaine 21","17/05/2019 au 23/05/2019",1.65,1.61,1.63,1.59,1.54,1.56,1.68,1.63,1.65,1.47]
[null,"semaine 22","24/05/2019 au 29/05/2019",1.67,1.63,1.64,1.61,1.57,1.58,1.7,1.65,1.67,1.48]
[null,"semaine 23","31/05/2019 au 06/06/2019",1.68,1.64,1.65,1.61,1.58,1.6,1.71,1.66,1.68,1.52]
[null,"semaine 24","07/06/2019 au 13/06/2019",1.71,1.66,1.68,1.64,1.6,1.61,1.73,1.68,1.7,1.52]
[null,"semaine 25","14/06/2019 au 20/06/2019",1.71,1.67,1.69,1.65,1.61,1.63,1.74,1.7,1.71,1.52]
[null,"semaine 26","21/06/2019 au 27/06/2019",1.72,1.68,1.69,1.66,1.62,1.63,1.75,1.7,1.71,1.52]
[null,"semaine 27","28/06/2019 au 04/07/2019",1.72,1.68,1.69,1.67,1.62,1.64,1.75,1.71,1.72,1.53]
[null,"semaine 28","05/07/2019 au 11/07/2019",1.73,1.69,1.7,1.97,1.63,1.64,1.75,1.71,1.72,1.53]
[null,"semaine 29","12/07/2019 au 18/07/2019",1.72,1.69,1.7,1.66,1.63,1.64,1.75,1.71,1.73,1.56]
[null,"semaine 30","19/07/2019 au 25/07/2017",1.75,1.7,1.72,1.69,1.64,1.66,1.77,1.72,1.74,1.57]
[null,"semaine 31","26/07/2019 au 01/08//2019",1.76,1.71,1.73,1.7,1.65,1.67,1.78,1.73,1.75,1.58]
[null,"semaine 32","02/08/2019 au 08/08/2019",1.77,1.72,1.74,1.71,1.65,1.67,1.8,1.74,1.76,1.58]
[null,"semaine 33","09/08/2019 au 14/08/2019",1.77,1.72,1.74,1.71,1.66,1.68,1.8,1.74,1.76,1.59]
[null,"semaine 34","16/08/2019 au 22/08/2019",1.78,1.73,1.75,1.72,1.67,1.69,1.81,1.75,1.77,1.63]
[null,"semaine 35","23/08/2019 au 29/08/2019",1.81,1.76,1.78,1.75,1.7,1.72,1.83,1.78,1.8,1.64]
[null,"semaine 36","30/08/2019 au 05/09/2019",1.83,1.78,1.8,1.77,1.72,1.74,1.85,1.8,1.82,1.68]
[null,"semaine 37","06/09/2019 au 12/09/2019",1.88,1.82,1.84,1.81,1.76,1.78,1.9,1.84,1.86,1.7]
[null,"semaine 38","13/09/2019 au 19/09/2019",1.9,1.85,1.87,1.83,1.79,1.8,1.92,1.87,1.89,1.7]
[null,"semaine 39","20/09/2019 au 26/09/2019",1.91,1.86,1.88,1.85,1.8,1.81,1.93,1.88,1.89,1.7]
[null,"semaine 40","27/09/2019 au 03/10/2019",1.9,1.86,1.87,1.84,1.8,1.81,1.93,1.88,1.9,1.7]
[null,"semaine 41","04/10/2019 au 10/10/2019",1.9,1.86,1.87,1.84,1.8,1.81,1.92,1.88,1.89,1.7]
[null,"semaine 42","11/10/2019 au 17/10/2019",1.9,1.86,1.87,1.84,1.8,1.81,1.93,1.88,1.89,1.7]
[null,"semaine 43","18/10/2019 au 24/10/2019",1.9,1.86,1.87,1.84,1.8,1.81,1.93,1.88,1.89,1.69]
[null,"semaine 44","25/11/2019 au 31/10/2019",1.9,1.86,1.87,1.83,1.8,1.81,1.92,1.88,1.89,1.68]
[null,"semaine 45","01/11/2019 au 07/11/2019",1.88,1.85,1.86,1.82,1.79,1.8,1.91,1.87,1.88,1.68]
[null,"semaine 46","08/11/2019 au 14/11/2019",1.88,1.85,1.86,1.82,1.79,1.8,1.91,1.87,1.88,1.68]
[null,"semaine 47","15/11/2019 au 21/11/2019",1.89,1.85,1.86,1.81,1.79,1.8,1.91,1.87,1.88,1.7]
[null,"semaine 48","22/11/2019 au 28/11/2019",1.9,1.87,1.88,1.83,1.8,1.81,1.92,1.88,1.89,1.7]
[null,"semaine 49","29/11/2019 au 05/12/2019",1.91,1.87,1.88,1.84,1.81,1.81,1.93,1.89,1.9,1.7]
[null,"semaine 50","06/12/2019 au 12/12/2019",1.91,1.87,1.88,1.84,1.81,1.81,1.93,1.89,1.9,1.7]
[null,"semaine 51","13/12/2019 au 19/12/2019",1.91,1.87,1.88,1.84,1.81,1.81,1.93,1.89,1.9,1.65]
[null,"semaine 52","20/12/2019 au 26/12/2019",1.87,1.86,1.86,1.8,1.79,1.78,1.9,1.87,1.87,1.63]
[2020,null,null,null,null,null,"Nantes E","Rennes E","National E","Nantes S","Rennes S","National S","PLERIN",null,"Evolution/\nsemaine -1","Evolution/ \nsemaine id 2019","Evolution/\nsemaine id moy. 5 ans"]
[null,"semaine 1","27/12/2019 au 02/01/2020",1.84,1.83,1.83,1.78,1.77,1.77,1.87,1.85,1.85,1.62]
[null,"semaine 2","03/01/2020 au 09/01/2020",1.83,1.81,1.81,1.76,1.75,1.74,1.85,1.83,1.83,1.57]
[null,"semaine 3","10/01/2020 au 16/01/2020",1.79,1.76,1.76,1.72,1.7,1.7,1.82,1.78,1.78,1.52]
[null,"semaine 4","17/01/2020 au 23/01/2020",1.74,1.71,1.71,1.67,1.65,1.65,1.76,1.73,1.73,1.46]
[null,"semaine 5","24/01/2020 au 30/01/2020",1.69,1.66,1.66,1.62,1.59,1.6,1.71,1.68,1.68,1.46]
[null,"semaine 6","31/01/2020 au 06/02/2020",1.68,1.64,1.65,1.61,1.58,1.59,1.7,1.66,1.67,1.46]
[null,"semaine 7","07/02/2020 au 13/02/2020",1.68,1.63,1.64,1.61,1.57,1.58,1.7,1.65,1.66,1.46]
[null,"semaine 8","14/02/2020 au 20/02/2020",1.67,1.64,1.65,1.6,1.57,1.58,1.7,1.65,1.66,1.49]
[null,"semaine 9","21/02/20120 au 27/02/2020",1.7,1.66,1.67,1.63,1.59,1.61,1.72,1.68,1.69,1.53]
[null,"semaine 10","28/02/2020 au 05/03/2020",1.73,1.69,1.7,1.66,1.62,1.64,1.75,1.7,1.72,1.55]
[null,"semaine 11","06/03/2020 au 12/03/2020",1.74,1.71,1.72,1.67,1.65,1.66,1.76,1.73,1.74,1.57]
[null,"semaine 12","13/03/2020 au 19/03/2020",1.77,1.73,1.74,1.7,1.66,1.67,1.79,1.74,1.76,1.55]
[null,"semaine 13","20/03/2020 au 26/03/2020",1.76,1.72,1.73,1.7,1.66,1.67,1.79,1.74,1.75,1.55]
[null,"semaine 14","27/03/2020 au 02/04/2020",1.75,1.72,1.73,1.68,1.65,1.66,1.77,1.73,1.74,1.52]
[null,"Semaine 15","03/04/2020 au 09/04/2020",1.74,1.7,1.71,1.67,1.64,1.65,1.76,1.72,1.73,1.51]
[null,"Semaine 16","10/04/2020 au 16/04/2020",1.72,1.69,1.7,1.65,1.63,1.64,1.75,1.71,1.72,1.51]
[null,"Semaine 17","17/04/2020 au 23/04/2020",1.72,1.68,1.69,1.65,1.62,1.63,1.74,1.7,1.71,1.48]
[null,"Semaine 18","24/04/2020 au 30/04/2020",1.7,1.66,1.67,1.64,1.59,1.61,1.73,1.68,1.69,1.44]
[null,"semaine 19","02/05/2020 au 07/05/2020",1.66,1.61,1.62,1.59,1.54,1.56,1.68,1.63,1.64,1.39]
[null,"semaine 20","08/05/2020 au 14/05/2020",1.61,1.57,1.58,1.54,1.51,1.52,1.64,1.59,1.6,1.36]
[null,"Semaine 21","15/05/2020 au 21/05/2020",1.56,1.53,1.54,1.49,1.47,1.49,1.58,1.55,1.56]
[null,"semaine 22","22/05/2020 au 28/05/2020",1.55,1.51,1.52,1.48,1.45,1.47,1.58,1.53,1.54]
[null,"Semaine 23","29/05/2020 au 04/06/2020",1.55,1.51,1.52,1.48,1.46,1.47,1.57,1.53,1.54,1.35]
[null,"semaine 24","05/06/2020 au 11/06/2020",1.55,1.51,1.52,1.48,1.45,1.47,1.58,1.53,1.54,1.35]
[null,"Semaine 25","12/06/2020 au 18/06/2020",1.56,1.51,1.52,1.51,1.45,1.47,1.59,1.53,1.55,1.35]
[null,"Semaine 26","19/06/2020 au 25/06/2020",1.56,1.51,1.52,1.51,1.45,1.47,1.58,1.53,1.54,1.35]
[null,"Semaine 27","26/06/2020 au 02/07/2020",1.55,1.51,1.52,1.5,1.45,1.47,1.56,1.53,1.54,1.35]
["correction le 11/08","Semaine 28","03/07/2020 au 09/07/2020",1.56,1.51,1.52,1.5,1.45,1.47,1.58,1.53,1.54,1.31]
["correction le 11/08","Semaine 29","10/07/2020 au 16/07/2020",1.5,1.48,1.49,1.37,1.42,1.42,1.55,1.51,1.52,1.29]
["correction le 11/08","Semaine 30","17/07/2020 au 23/07/2020",1.51,1.46,1.47,1.44,1.4,1.42,1.53,1.49,1.5,1.29]
["correction le 11/08","Semaine 31","24/07/2020 au 30/07/2020",1.51,1.46,1.47,1.44,1.4,1.42,1.53,1.48,1.49,1.29]
[null,"Semaine 32","31/07/2020 au 06/08/2020",1.51,1.46,1.47,1.44,1.4,1.42,1.53,1.48,1.49,1.29]
[null,"Semaine 33","07/08/2020 au 13/08/2020",1.5,1.46,1.47,1.44,1.4,1.42,1.53,1.48,1.49,1.29]
[null,"semaine 34","14/08/2020 au 20/08/2020",1.51,1.47,1.48,1.45,1.41,1.43,1.53,1.49,1.5,1.33]
[null,"semaine 35","21/08/2020 au 27/08/2020",1.54,1.49,1.51,1.48,1.43,1.46,1.56,1.51,1.53,1.35]
[null,"semaine 36","28/08/2020 au 03/09/2020",1.57,1.51,1.53,1.5,1.45,1.48,1.59,1.53,1.55,1.37]
[null,"Semaine 37","04/09/2020 au 10/09/2020",1.58,1.53,1.55,1.51,1.47,1.49,1.6,1.55,1.57,1.38]
[null,"Semaine 38","11/09/2020 au 17/09/2020",1.6,1.55,1.56,1.53,1.48,1.5,1.62,1.57,1.58,1.38]
[null,"Semaine 39","18/09/2020 au 24/09/2020",1.59,1.55,1.56,1.52,1.49,1.51,1.61,1.57,1.58,1.38]
[null,"semaine 40","25/09/2020 au 01/10/2020",1.6,1.55,1.56,1.53,1.49,1.51,1.62,1.57,1.58,1.37]
[null,"semaine 41","02/10/2020 au 08/10/2020",1.59,1.54,1.55,1.53,1.48,1.5,1.61,1.56,1.57,1.37]
[null,"semaine 42","09/10/2020 au 15/10/2020",1.59,1.54,1.55,1.52,1.48,1.5,1.61,1.56,1.57,1.36]
[null,"semaine 43","16/10/2020 au 22/10/2020",1.58,1.54,1.55,1.51,1.48,1.49,1.6,1.56,1.57,1.36]
[null,"Semaine 44","23/10/2020 au 29/10/2020",1.58,1.54,1.55,1.51,1.47,1.49,1.6,1.55,1.56,1.36]
[null,"semaine 45","30/10/2020 au 05/11/2020",1.57,1.53,1.54,1.5,1.47,1.48,1.59,1.55,1.56,1.31]
[null,"Semaine 46","06/11/2020 au 12/11/2020",1.56,1.49,1.51,1.51,1.41,1.44,1.58,1.51,1.53,1.29]
[null,"semaine 47","13/11/2020 au 19/11/2020",1.51,1.47,1.48,1.44,1.41,1.42,1.53,1.49,1.5,1.25]
[null,"semaine 48","20/11/2020 au 26/11/2020",1.47,1.43,1.44,1.4,1.37,1.39,1.49,1.45,1.46,1.22]
[null,"semaine 49","27/11/2020 au 03/12/2020",1.44,1.4,1.41,1.37,1.34,1.36,1.46,1.42,1.43,1.21]
[null,"semaine 50","04/12/2020 au 10/12/2020",1.42,1.38,1.39,1.36,1.32,1.34,1.44,1.4,1.41,1.2]
[null,"Semaine 51","11/12/2020 au 17/12/2020",1.41,1.37,1.38,1.34,1.31,1.33,1.43,1.39,1.4,1.2]
[null,"semaine 52","18/12/2020 au 24//12/2020",1.42,1.37,1.38,1.35,1.31,1.33,1.44,1.39,1.4,1.2]
[null,"semaine 53","25/12/2020 au 31/12/2020",1.41,1.37,1.38,1.34,1.31,1.33,1.43,1.39,1.4,1.2]
[2021,null,null,null,null,null,"Nantes E","Rennes E","National E","Nantes S","Rennes S","National S","PLERIN",null,"Evolution/\nsemaine -1","Evolution/ \nsemaine id 2020","Evolution/\nsemaine id moy. 5 ans"]
[null,"semaine 1","01/01/2021 au 07/01/2021",1.4,1.37,1.38,1.33,1.31,1.33,1.42,1.39,1.4,1.2]
[null,"semaine 2","08/01/2021 au 14/01/2021",1.4,1.37,1.38,1.33,1.31,1.33,1.43,1.39,1.4,1.2]
[null,"semaine 3","15/01/2021 au 21/01/2021",1.41,1.37,1.38,1.34,1.31,1.33,1.43,1.39,1.4,1.2]
["J","semaine 4","22/01/2021 au 28/01/2021",1.41,1.37,1.38,1.34,1.31,1.33,1.43,1.39,1.4,1.2]
[null,"semaine 5","29/01/2021 au 04/02/2021",1.41,1.37,1.38,1.34,1.31,1.33,1.43,1.39,1.4,1.2]
[null,"semaine 6","05/02/2021 au 11/02/2021",1.41,1.37,1.38,1.34,1.31,1.33,1.43,1.39,1.4,1.2]
[null,"semaine 7","12/02/2021 au 18/02/2021",1.42,1.37,1.38,1.34,1.31,1.33,1.44,1.39,1.4,1.21]
["F","semaine 8","19/02/2021 au 25/02/2021",1.43,1.39,1.4,1.36,1.32,1.35,1.45,1.4,1.42,1.24]
[null,"semaine 9","26/02/2021 au 04/03/2021",1.45,1.41,1.42,1.38,1.34,1.36,1.47,1.42,1.44,1.28]
[null,"semaine 10","05/03/2021 au 11/03/2021",1.48,1.43,1.45,1.41,1.37,1.4,1.5,1.45,1.47,1.32]
[null,"semaine 11","12/03/2021 au 18/03/2021",1.52,1.48,1.49,1.45,1.42,1.44,1.54,1.5,1.51,1.34]
[null,"semaine 12","19/03/2021 au 25/03/2021",1.55,1.51,1.52,1.48,1.44,1.46,1.57,1.52,1.54,1.3474999999999999]
["M","semaine 13","26/03/2021 au 01/04/2021",1.56,1.52,1.53,1.49,1.46,1.47,1.58,1.54,1.56,1.3580000000000001]
[null,"semaine 14","02/04/2021 au 08/04/2021",1.58,1.53,1.55,1.51,1.47,1.49,1.6,1.55,1.57,1.39]
[null,"semaine 15","09/04/2021 au 15/04/2021",1.59,1.55,1.57,1.53,1.49,1.51,1.62,1.57,1.59,1.42]
[null,"semaine 16","16/04/2021 au 22/04/2021",1.62,1.58,1.6,1.56,1.52,1.54,1.65,1.6,1.62,1.48]
["A","semaine 17","23/04/2021 au 29/04/2021",1.67,1.63,1.65,1.61,1.56,1.59,1.7,1.65,1.67,1.53]
[null,"semaine 18","30/04/2021 au 06/05/2021",1.72,1.67,1.69,1.66,1.61,1.63,1.75,1.69,1.71,1.54]
[null,"semaine 19","07/05/2021 au 13/05/2021",1.74,1.7,1.71,1.68,1.63,1.65,1.77,1.71,1.73,1.54]
[null,"semaine 20","14/05/2021 au 20/05/2021",1.74,1.7,1.71,1.67,1.63,1.65,1.77,1.72,1.73,1.54]
["M","semaine 21","21/05/2021 au 27/05/2021",1.74,1.7,1.71,1.68,1.64,1.66,1.77,1.72,1.73,1.54]
[null,"semaine 22","28/05/2021 au 03/06/2021",1.74,1.71,1.72,1.68,1.64,1.66,1.77,1.73,1.74,1.55]
[null,"semaine 23","04/06/2021 au 10/06/2021",1.75,1.71,1.72,1.68,1.66,1.67,1.78,1.73,1.74,1.55]
[null,"semaine 24","11/06/2021 au 17/06/2021",1.75,1.71,1.72,1.69,1.65,1.67,1.78,1.73,1.74,1.55]
[null,"semaine 25","18/06/2021 au 24/06/2021",1.75,1.71,1.72,1.69,1.65,1.66,1.78,1.73,1.74,1.5]
["J","semaine 26","25/06/2021 au 01/07/2021",1.71,1.68,1.69,1.6,1.62,1.62,1.75,1.7,1.72,1.44]
[null,"semaine 27","02/07/2021 au 08/07/2021",1.66,1.63,1.63,1.6,1.57,1.58,1.69,1.65,1.66,1.39]
[null,"semaine 28","09/07/2021 au 15/07/2021",1.62,1.57,1.58,1.56,1.52,1.54,1.65,1.6,1.61,1.35]
[null,"semaine 29","16/07/2021 au 22/07/2021",1.57,1.53,1.54,1.51,1.47,1.49,1.6,1.55,1.56,1.35]
["J","semaine 30","23/07/2021 au 29/07/2021",1.56,1.51,1.52,1.5,1.45,1.47,1.59,1.53,1.55,1.35]
[null,"semaine 31","30/07/2021 au 05/08/2021",1.55,1.51,1.52,1.49,1.45,1.47,1.58,1.53,1.54,1.35]
[null,"semaine 32","06/08/2021 au 12/08/2021",1.55,1.51,1.52,1.49,1.45,1.47,1.58,1.53,1.54,1.35]
[null,"semaine 33","13/08/2021 au 19/08/2021",1.56,1.51,1.53,1.5,1.45,1.47,1.59,1.53,1.55,1.35]
["A","semaine 34","20/08/2021 au 26/08/2021",1.56,1.51,1.52,1.5,1.45,1.47,1.59,1.53,1.55,1.35]
[null,"semaine 35","27/08/2021 au 02/09/2021",1.56,1.51,1.52,1.5,1.45,1.47,1.59,1.53,1.55,1.34]
[null,"semaine 36","03/09/2021 au 09/09/2021",1.56,1.51,1.52,1.49,1.45,1.47,1.58,1.53,1.54,1.34]
["correction le 28/09","semaine 37","10/09/2021 au 16/09/2021",1.55,1.5,1.51,1.49,1.44,1.46,1.58,1.52,1.54,1.31]
[null,"semaine 38","17/09/2021 au 23/09/2021",1.53,1.48,1.49,1.47,1.42,1.44,1.56,1.5,1.51,1.27]
["S","semaine 39","24/09/2021 au 30/09/2021",1.49,1.45,1.46,1.43,1.39,1.41,1.52,1.47,1.48,1.25]
[null,"semaine 40","01/10/2021 au 07/10/2021",1.47,1.42,1.43,1.41,1.36,1.38,1.49,1.44,1.45,1.23]
[null,"semaine 41","08/10/2021 au 14/10/2021",1.44,1.39,1.41,1.38,1.33,1.36,1.46,1.41,1.43,1.22]
[null,"semaine 42","15/10/2021 au 21/10/2021",1.43,1.37,1.39,1.37,1.31,1.34,1.45,1.39,1.41,1.23]
["O","semaine 43","22/10/2021 au 28/10/2021",1.42,1.34,1.37,1.35,1.28,1.32,1.44,1.36,1.39,1.23]
[null,"semaine 44","29/10/2021 au 04/11/2021",1.42,1.35,1.38,1.35,1.29,1.33,1.44,1.37,1.4,1.23]
[null,"semaine 45","05/11/2021 au 11/11/2021",1.41,1.35,1.38,1.35,1.29,1.33,1.44,1.37,1.4,1.23]
[null,"semaine 46","12/11/2021 au 18/11/2021",1.41,1.35,1.38,1.35,1.29,1.33,1.44,1.37,1.4,1.23]
["N","semaine 47","19/11/2021 au 25/11/2021",1.42,1.36,1.39,1.35,1.3,1.34,1.45,1.38,1.41,1.24]
[null,"semaine 48","26/11/2021 au 02/12/2021",1.43,1.37,1.39,1.37,1.31,1.34,1.46,1.39,1.42,1.25]
[null,"semaine 49","03/12/2021 au 09/12/2021",1.44,1.38,1.4,1.37,1.32,1.35,1.46,1.4,1.42,1.25]
[null,"semaine 50","10/12/2021 au 16/12/2021",1.44,1.38,1.41,1.37,1.32,1.35,1.47,1.4,1.42,1.25]
[null,"semaine 51","17/12/2021 au 23/12/2021",1.45,1.39,1.42,1.38,1.32,1.35,1.47,1.4,1.42,1.25]
["D","semaine 52","24/12/2021 au 30/12/2021",1.44,1.39,1.42,1.37,1.33,1.36,1.47,1.41,1.43,1.25]
[2022,null,null,null,null,null,"Nantes E","Rennes E","National E","Nantes S","Rennes S","National S","PLERIN",null,"Evolution/\nsemaine -1","Evolution/ \nsemaine id 2021","Evolution/\nsemaine id moy. 5 ans"]
[null,"semaine 1",{"$f":"TEXT(R380,\"jj/mm/aaaa\") & \" au \" & TEXT(S380,\"jj/mm/aaaa\")","v":"31/12/2021 au 06/01/2022"},1.44,1.39,1.42,1.37,1.33,1.36,1.47,1.41,1.43,1.2469999999999999,null,{"$f":"(J380-J378)/J378","v":0},{"$f":"(J380-J327)/J327","v":3.5211267605633839E-2},null,{"$f":"RIGHT(C378,10)+DAY(1)","v":"2021-12-31"},{"$f":"RIGHT(C378,10)+DAY(7)","v":"2022-01-06"}]
[null,"semaine 2","07/01/2022 au 13/01/2022",1.44,1.39,1.41,1.38,1.32,1.35,1.47,1.41,1.43,1.2470000000000001,null,{"$f":"(J381-J380)/J380","v":0},{"$f":"(J381-J328)/J328","v":2.7972027972028E-2},null,{"$f":"RIGHT(C380,10)+DAY(1)","v":"2022-01-07"},{"$f":"RIGHT(C380,10)+DAY(7)","v":"2022-01-13"}]
[null,"semaine 3","14/01/2022 au 20/01/2022",1.45,1.39,1.41,1.38,1.33,1.36,1.47,1.41,1.43,1.2481772618459599,null,{"$f":"(J382-J381)/J381","v":0},2.7972027972028E-2,null,"2022-01-14","2022-01-20"]
["J","semaine 4","21/01/2022 au 27/01/2022",1.44,1.39,1.41,1.38,1.33,1.36,1.47,1.41,1.43,1.2491797369518249,null,{"$f":"(J383-J382)/J382","v":0},2.7972027972028E-2,null,"2022-01-21","2022-01-27"]
[null,"semaine 5","28/01/2022 au 03/02/2022",1.44,1.39,1.41,1.37,1.33,1.36,1.47,1.41,1.43,1.2493653344748414,null,0,2.7972027972028E-2,null,"2022-01-28","2022-02-03"]
[null,"semaine 6","04/02/2022 au 10/02/2022",1.44,1.39,1.41,1.38,1.33,1.36,1.47,1.41,1.43,1.2655421877412383,null,0,2.7972027972028E-2,null,"2022-02-04","2022-02-10"]
[null,"semaine 7","11/02/2022 au 17/02/2022",1.46,1.4,1.42,1.4,1.34,1.37,1.49,1.42,1.44,1.2721680376028202,null,1.360544217687076E-2,3.4722222222222252E-2,null,"2022-02-11","2022-02-17"]
["F","semaine 8","18/02/2022 au 24/02/2022",1.46,1.44,1.45,1.4,1.36,1.38,1.49,1.46,1.47,1.2850607021251614,null,0,2.7586206896551748E-2,null,"2022-02-18","2022-02-24"]
[null,"semaine 9","25/02/2022 au 03/03/2022",1.48,1.43,1.45,1.41,1.36,1.39,1.51,1.45,1.47,1.3356430401039876,null,1.3422818791946321E-2,2.721088435374152E-2,null,"2022-02-25","2022-03-03"]
[null,"semaine 10","04/03/2022 au 10/03/2022",1.53,1.47,1.5,1.46,1.4,1.44,1.55,1.48,1.51,1.3958375963961211,null,2.6490066225165587E-2,3.3333333333333361E-2,null,"2022-03-04","2022-03-10"]
[null,"semaine 11","11/03/2022 au 17/03/2022",1.57,1.55,1.57,1.49,1.48,1.51,1.59,1.57,1.59,1.4969701967921738,null,2.5806451612903247E-2,3.2467532467532492E-2,null,"2022-03-11","2022-03-17"]
[null,"semaine 12","18/03/2022 au 24/03/2022",1.69,1.65,1.67,1.62,1.58,1.61,1.72,1.67,1.69,1.6314398798709726,null,8.1761006289308102E-2,9.5541401273885287E-2,null,"2022-03-18","2022-03-24"]
["M","semaine 13","25/03/2022 au 31/03/2022",1.79,1.76,1.78,1.72,1.69,1.71,1.82,1.77,1.79,1.6586641292239139,null,5.8139534883720985E-2,0.15189873417721517,null,"2022-03-25","2022-03-31"]
[null,"semaine 14","01/04/2022 au 07/04/2022",1.85,1.82,1.83,1.79,1.75,1.77,1.88,1.84,1.85,1.6834615003509352,null,3.2967032967032871E-2,0.17499999999999988,null,"2022-04-01","2022-04-07"]
[null,"semaine 15","08/04/2022 au 14/04/2022",1.89,1.86,1.87,1.82,1.79,1.8,1.91,1.87,1.88,1.6857895761508821,null,1.5957446808510654E-2,0.17901234567901222,null,"2022-04-08","2022-04-14"]
[null,"semaine 16","15/04/2022 au 21/04/2022",1.9,1.86,1.87,1.83,1.8,1.81,1.92,1.88,1.89,1.6886545679203024,null,5.2356020942408424E-3,0.16363636363636366,null,"2022-04-15","2022-04-21"]
["A","semaine 17","22/04/2022 au 28/04/2022",1.9,1.87,1.88,1.83,1.8,1.81,1.92,1.88,1.89,1.6918114855365738,null,0,0.12941176470588234,null,"2022-04-22","2022-04-28"]
[null,"semaine 18","29/04/2022 au 05/05/2022",1.9,1.87,1.88,1.83,1.8,1.81,1.93,1.89,1.9,1.6980000000000002,null,5.2083333333333382E-3,0.10285714285714283,null,"2022-04-29","2022-05-05"]
[null,"semaine 19","06/05/2022 au 12/05/2022",1.9,1.87,1.88,1.84,1.8,1.81,1.93,1.89,1.9,1.6980000000000002,null,0,9.0395480225988659E-2,null,"2022-05-06","2022-05-12"]
[null,"semaine 20","13/05/2022 au 19/05/2022",1.9,1.87,1.88,1.84,1.8,1.82,1.92,1.89,1.9,1.6979999999999997,null,-5.1813471502590719E-3,8.4745762711864361E-2,null,"2022-05-13","2022-05-19"]
["M","semaine 21","20/05/2022 au 26/05/2022",1.9,1.87,1.88,1.84,1.8,1.82,1.93,1.89,1.9,1.6980000000000002,null,5.2083333333333382E-3,9.0395480225988659E-2,null,"2022-05-20","2022-05-26"]
[null,"semaine 22","27/05/2022 au 02/06/2022",1.9,1.87,1.88,1.84,1.8,1.82,1.93,1.89,1.9,1.6980000000000002,null,0,9.0395480225988659E-2,null,"2022-05-27","2022-06-02"]
[null,"semaine 23","03/06/2022 au 09/06/2022",1.91,1.87,1.88,1.84,1.8,1.82,1.93,1.89,1.9,1.6980000000000002,null,0,8.4269662921348257E-2,null,"2022-06-03","2022-06-09"]
[null,"semaine 24","10/06/2022 au 16/06/2022",1.91,1.87,1.88,1.84,1.8,1.82,1.93,1.89,1.9,1.6987959876759329,null,0,8.4269662921348257E-2,null,"2022-06-10","2022-06-16"]
[null,"semaine 25","17/06/2022 au 23/06/2022",1.91,1.87,1.89,1.84,1.81,1.83,1.93,1.89,1.9,1.7438414119175658,null,0,8.4269662921348257E-2,null,"2022-06-17","2022-06-23"]
["J","semaine 26","24/06/2022 au 30/06/2022",1.95,1.9,1.92,1.89,1.84,1.87,1.97,1.92,1.94,1.8030671835570344,null,2.0725388601036288E-2,0.1257142857142857,null,"2022-06-24","2022-06-30"]
[null,"semaine 27","01/07/2022 au 07/07/2022",1.99,1.95,1.97,1.94,1.89,1.92,2.02,1.97,1.99,1.849319193212742,null,2.5380710659898501E-2,0.19526627218934917,null,"2022-07-01","2022-07-07"]
[null,"semaine 28","08/07/2022 au 14/07/2022",2.0499999999999998,2,2.02,2,1.94,1.96,2.0699999999999998,2.02,2.04,1.8595575861162239,null,2.4752475247524663E-2,0.25454545454545452,null,"2022-07-08","2022-07-14"]
[null,"semaine 29","15/07/2022 au 21/07/2022",2.06,2.02,2.0299999999999998,2,1.95,1.98,2.09,2.04,2.0499999999999998,1.8655177268195413,null,9.6618357487922805E-3,0.30624999999999986,null,"2022-07-15","2022-07-21"]
["J","semaine 30","22/07/2022 au 28/07/2022",2.0699999999999998,2.0299999999999998,2.04,2.0099999999999998,1.97,1.99,2.1,2.0499999999999998,2.06,1.8768113516389084,null,4.7846889952154218E-3,0.32075471698113206,null,"2022-07-22","2022-07-28"]
[null,"semaine 31","29/07/2022 au 04/08/2022",2.09,2.04,2.06,2.0299999999999998,1.98,2.0099999999999998,2.11,2.06,2.08,1.9095634663790007,null,4.76190476190466E-3,0.33544303797468339,null,"2022-07-29","2022-08-04"]
[null,"semaine 32","05/08/2022 au 11/08/2022",2.11,2.06,2.08,2.0499999999999998,2,2.0299999999999998,2.14,2.08,2.1,1.962129462849791,null,1.4218009478673105E-2,0.35443037974683544,null,"2022-08-05","2022-08-11"]
[null,"semaine 33",{"$f":"TEXT(R412,\"jj/mm/aaaa\") & \" au \" & TEXT(S412,\"jj/mm/aaaa\")","v":"12/08/2022 au 18/08/2022"},2.15,2.11,2.13,2.09,2.0499999999999998,2.0699999999999998,2.1800000000000002,2.13,2.15,1.9987756659609039,null,1.8691588785046745E-2,0.37106918238993714,null,"2022-08-12","2022-08-18"]
["A","semaine 34","19/08/2022 au 25/08/2022",2.19,2.15,2.17,2.13,2.09,2.11,2.2200000000000002,2.17,2.19,2.0143522801569143,null,1.8348623853211024E-2,0.3962264150943397,null,{"$f":"RIGHT(C412,10)+DAY(1)","v":"2022-08-19"},{"$f":"RIGHT(C412,10)+DAY(7)","v":"2022-08-25"}]
[null,"semaine 35","26/08/2022 au 01/09/2022",2.2200000000000002,2.17,2.19,2.15,2.11,2.14,2.2400000000000002,2.19,2.21,2.0249844253287352,null,9.0090090090090159E-3,0.40880503144654096,null,"2022-08-26","2022-09-01"]
[null,"semaine 36","02/09/2022 au 08/09/2022",2.23,2.1800000000000002,2.2000000000000002,2.16,2.12,2.14,2.25,2.2000000000000002,2.2200000000000002,2.0328619712167466,null,4.4642857142856186E-3,0.42405063291139233,null,"2022-09-02","2022-09-08"]
[null,"semaine 37","09/09/2022 au 15/09/2022",2.23,2.1800000000000002,2.2000000000000002,2.16,2.12,2.14,2.25,2.2000000000000002,2.2200000000000002,2.0409635069483674,null,0,0.42405063291139233,null,"2022-09-09","2022-09-15"]
[null,"semaine 38","16/09/2022 au 22/09/2022",2.23,2.19,2.21,2.17,2.12,2.15,2.2599999999999998,2.21,2.23,2.0481448563187694,null,4.4444444444443499E-3,0.44871794871794851,null,"2022-09-16","2022-09-22"]
["S","semaine 39","23/09/2022 au 29/09/2022",2.2400000000000002,2.19,2.21,2.17,2.13,2.15,2.2599999999999998,2.21,2.23,2.0526366300366301,null,0,0.48684210526315774,null,"2022-09-23","2022-09-29"]
[null,"semaine 40","30/09/2022 au 06/10/2022",2.2400000000000002,2.19,2.21,2.1800000000000002,2.13,2.16,2.27,2.21,2.23,2.0538291809746472,null,4.4247787610620492E-3,0.52348993288590606,null,"2022-09-30","2022-10-06"]
[null,"semaine 41","07/10/2022 au 13/10/2022",2.25,2.2000000000000002,2.2200000000000002,2.1800000000000002,2.13,2.16,2.27,2.21,2.23,2.036224561147935,null,0,0.5547945205479452,null,"2022-10-07","2022-10-13"]
[null,"semaine 42","14/10/2022 au 20/10/2022",2.23,2.19,2.2000000000000002,2.17,2.12,2.14,2.2599999999999998,2.2000000000000002,2.21,1.982235573092537,null,-4.4052863436124367E-3,0.55862068965517231,null,"2022-10-14","2022-10-20"]
["O","semaine 43","21/10/2022 au 27/10/2022",2.19,2.16,2.16,2.12,2.09,2.1,2.21,2.17,2.1800000000000002,1.9242497727542189,null,-2.2123893805309658E-2,0.53472222222222221,null,"2022-10-21","2022-10-27"]
[null,"semaine 44","28/10/2022 au 03/11/2022",2.14,2.1,2.1,2.08,2.04,2.0499999999999998,2.16,2.12,2.12,1.8678464004663367,null,-2.2624434389140191E-2,0.50000000000000011,null,"2022-10-28","2022-11-03"]
[null,"semaine 45","04/11/2022 au 10/11/2022",2.08,2.0499999999999998,2.0499999999999998,2.02,1.98,1.99,2.11,2.0699999999999998,2.0699999999999998,1.8179137812262065,null,-2.3148148148148268E-2,0.46527777777777773,null,"2022-11-04","2022-11-10"]
[null,"semaine 46","11/11/2022 au 17/11/2022",2.02,1.99,2,1.96,1.92,1.94,2.0499999999999998,2.0099999999999998,2.02,1.8083806924193215,null,-2.8436018957345998E-2,0.42361111111111105,null,"2022-11-11","2022-11-17"]
["N","semaine 47","18/11/2022 au 24/11/2022",2.0099999999999998,1.98,1.99,1.94,1.91,1.93,2.04,2,2.0099999999999998,1.806364949446317,null,-4.8780487804877017E-3,0.40689655172413802,null,"2022-11-18","2022-11-24"]
[null,"semaine 48","25/11/2022 au 01/12/2022",2.02,1.98,1.99,1.95,1.91,1.93,2.04,2,2.0099999999999998,1.8070000000000002,null,0,0.39726027397260277,null,"2022-11-25","2022-12-01"]
[null,"semaine 49","02/12/2022 au 08/12/2022",2.0099999999999998,1.98,1.99,1.94,1.91,1.93,2.04,2,2.0099999999999998,1.8069999999999999,null,0,0.39726027397260277,null,"2022-12-02","2022-12-08"]
[null,"semaine 50","09/12/2022 au 15/12/2022",2.02,1.98,1.99,1.95,1.91,1.93,2.04,2,2.0099999999999998,1.8069999999999999,null,0,0.38775510204081637,null,"2022-12-09","2022-12-15"]
[null,"semaine 51","16/12/2022 au 22/12/2022",2.02,1.98,1.99,1.95,1.91,1.93,2.04,2,2.0099999999999998,1.8079999999999998,null,0,0.38775510204081637,null,"2022-12-16","2022-12-22"]
["D","semaine 52","23/12/2022 au 29/12/2022",2.0099999999999998,1.98,1.99,1.95,1.92,1.94,2.0499999999999998,2,2.0099999999999998,1.8186823641484424,null,4.9019607843136213E-3,0.39455782312925158,null,"2022-12-23","2022-12-29"]
[2023,null,null,null,null,null,"Nantes E","Rennes E","National E","Nantes S","Rennes S","National S","PLERIN",null,"Evolution/\nsemaine -1","Evolution/ \nsemaine id 2022","Evolution/\nsemaine id moy. 5 ans"]
[null,"semaine 01",{"$f":"TEXT(R433,\"jj/mm/aaaa\") & \" au \" & TEXT(S433,\"jj/mm/aaaa\")","v":"30/12/2022 au 05/01/2023"},null,null,null,1.95,1.92,1.95,2.04,2.0099999999999998,2.02,1.8703326055312954,null,{"$f":"(J433-J431)/J431","v":-4.8780487804877017E-3},{"$f":"(J380-J433)/J433","v":-0.27941176470588236},null,{"$f":"RIGHT(C431,10)+DAY(1)","v":"2022-12-30"},{"$f":"RIGHT(C431,10)+DAY(7)","v":"2023-01-05"}]
[null,"semaine 02","06/01/2023 au 12/01/2023",null,null,null,1.99,1.96,1.98,2.09,2.04,2.06,1.8974819052462073,null,{"$f":"(J434-J433)/J433","v":2.450980392156854E-2},-0.29665071770334922,null,{"$f":"RIGHT(C433,10)+DAY(1)","v":"2023-01-06"},{"$f":"RIGHT(C433,10)+DAY(7)","v":"2023-01-12"}]
[null,"semaine 03","13/01/2023 au 19/01/2023",null,null,null,2.02,1.99,2.0099999999999998,2.12,2.0699999999999998,2.09,1.9490973663771798,null,1.4354066985646053E-2,-0.3066037735849057,null,"2023-01-13","2023-01-19"]
["J","semaine 04","20/01/2023 au 26/01/2023",null,null,null,2.0699999999999998,2.0299999999999998,2.06,2.17,2.12,2.14,2.0082395543175489,null,2.3584905660377273E-2,-0.32258064516129031,null,"2023-01-20","2023-01-26"]
[null,"semaine 05","27/01/2023 au 02/02/2023",null,null,null,2.13,2.08,2.11,2.2200000000000002,2.17,2.19,2.06,null,2.3041474654378002E-2,-0.33783783783783788,null,"2023-01-27","2023-02-02"]
[null,"semaine 06","03/02/2023 au 09/02/2023",null,null,null,2.17,2.14,2.17,2.27,2.2200000000000002,2.2400000000000002,2.12,null,{"$f":"(J438-J437)/J437","v":2.2522522522522442E-2},{"$f":"(J385-J438)/J438","v":-0.3524229074889868},null,"2023-02-03","2023-02-09"]
[null,"semaine 07","10/02/2023 au 16/02/2023",null,null,null,2.23,2.1800000000000002,2.2200000000000002,2.33,2.27,2.2999999999999998,2.17,null,2.6431718061674034E-2,-0.36051502145922748,null,"2023-02-10","2023-02-16"]
["F","semaine 08","17/02/2023 au 23/02/2023",null,null,null,2.27,2.23,2.27,2.37,2.31,2.34,2.2400000000000002,null,1.7167381974248941E-2,-0.37130801687763715,null,"2023-02-17","2023-02-23"]
[null,"semaine 09","24/02/2023 au 02/03/2023",null,null,null,2.33,2.27,2.31,2.42,2.36,2.39,2.2999999999999998,null,2.1097046413502032E-2,-0.37603305785123964,null,"2023-02-24","2023-03-02"]
[null,"semaine 10","03/03/2023 au 09/03/2023",null,null,null,2.39,2.33,2.38,2.48,2.41,2.44,2.36,null,2.4793388429752088E-2,-0.375,null,"2023-03-03","2023-03-09"]
[null,"semaine 11","10/03/2023 au 16/03/2023",null,null,null,2.44,2.39,2.4300000000000002,2.54,2.4700000000000002,2.5,2.37,null,2.4193548387096794E-2,-0.37401574803149606,null,"2023-03-10","2023-03-16"]
[null,"semaine 12","17/03/2023 au 23/03/2023",null,null,null,2.4700000000000002,2.42,2.46,2.56,2.5,2.5299999999999998,2.38,null,7.8740157480315029E-3,-0.328125,null,"2023-03-17","2023-03-23"]
["M","semaine 13","24/03/2023 au 30/03/2023",null,null,null,2.48,2.4300000000000002,2.46,2.57,2.5099999999999998,2.54,2.38,null,3.9062499999999167E-3,-0.29182879377431897,null,"2023-03-24","2023-03-30"]
[null,"semaine 14","31/03/2023 au 06/04/2023",null,null,null,2.48,2.4300000000000002,2.4700000000000002,2.57,2.5099999999999998,2.54,2.38,null,0,-0.26848249027237353,null,"2023-03-31","2023-04-06"]
[null,"semaine 15","07/04/2023 au 13/04/2023",null,null,null,2.4700000000000002,2.42,2.46,2.57,2.5099999999999998,2.5299999999999998,2.37,null,0,-0.25680933852140075,null,"2023-04-07","2023-04-13"]
[null,"semaine 16","14/04/2023 au 20/04/2023",null,null,null,2.4700000000000002,2.42,2.4500000000000002,2.56,2.5099999999999998,2.5299999999999998,2.31,null,-3.8910505836575048E-3,-0.25000000000000006,null,"2023-04-14","2023-04-20"]
["A","semaine 17","21/04/2023 au 27/04/2023",null,null,null,2.42,2.39,2.41,2.52,2.48,2.4900000000000002,2.25,null,-1.5625000000000014E-2,-0.23809523809523814,null,"2023-04-21","2023-04-27"]
[null,"semaine 18","28/04/2023 au 04/05/2023",null,null,null,2.37,2.35,2.36,2.4700000000000002,2.44,2.44,2.19,null,-1.9841269841269771E-2,-0.21862348178137661,null,"2023-04-28","2023-05-04"]
[null,"semaine 19","05/05/2023 au 11/05/2023",null,null,null,2.3199999999999998,2.2999999999999998,2.31,2.41,2.39,2.39,2.16,null,-2.4291497975708523E-2,-0.19917012448132787,null,"2023-05-05","2023-05-11"]
[null,"semaine 20","12/05/2023 au 18/05/2023",null,null,null,2.2999999999999998,2.27,2.29,2.39,2.36,2.37,2.15,null,-8.2987551867219986E-3,-0.19665271966527204,null,"2023-05-12","2023-05-18"]
["M","semaine 21","19/05/2023 au 25/05/2023",null,null,null,2.2400000000000002,2.2599999999999998,2.27,2.3199999999999998,2.34,2.34,2.15,null,-2.9288702928870411E-2,-0.16810344827586204,null,"2023-05-19","2023-05-25"]
[null,"semaine 22","26/05/2023 au 01/06/2023",null,null,null,2.2799999999999998,2.2599999999999998,2.27,2.37,2.34,2.35,2.15,null,2.155172413793115E-2,-0.18565400843881863,null,"2023-05-26","2023-06-01"]
[null,"semaine 23","02/06/2023 au 08/06/2023",null,null,null,2.2799999999999998,2.2599999999999998,2.2799999999999998,2.38,2.35,2.36,2.1800000000000002,null,4.2194092827003314E-3,-0.18907563025210083,null,"2023-06-02","2023-06-08"]
[null,"semaine 24","09/06/2023 au 15/06/2023",null,null,null,2.31,2.2799999999999998,2.31,2.4,2.37,2.38,2.23,null,8.4033613445378234E-3,-0.19583333333333333,null,"2023-06-09","2023-06-15"]
[null,"semaine 25","16/06/2023 au 22/06/2023",null,null,null,2.35,2.3199999999999998,2.35,2.44,2.4,2.42,2.27,null,1.6666666666666684E-2,-0.20901639344262296,null,"2023-06-16","2023-06-22"]
["J","semaine 26","23/06/2023 au 29/06/2023",null,null,null,2.39,2.35,2.39,2.48,2.44,2.46,2.34,null,1.6393442622950834E-2,-0.20564516129032259,null,"2023-06-23","2023-06-29"]
[null,"semaine 27","30/06/2023 au 06/07/2023",null,null,null,2.4300000000000002,2.39,2.42,2.52,2.4700000000000002,2.5,2.35,null,1.612903225806453E-2,-0.1984126984126984,null,"2023-06-30","2023-07-06"]
[null,"semaine 28","07/07/2023 au 13/07/2023",null,null,null,2.46,2.4,2.4300000000000002,2.5499999999999998,2.4900000000000002,2.5099999999999998,2.35,null,1.1904761904761828E-2,-0.18823529411764706,null,"2023-07-07","2023-07-13"]
[null,"semaine 29","14/07/2023 au 20/07/2023",null,null,null,2.4500000000000002,2.4,2.44,2.5499999999999998,2.4900000000000002,2.5099999999999998,2.35,null,0,-0.1803921568627451,null,"2023-07-14","2023-07-20"]
["J","semaine 30","21/07/2023 au 27/07/2023",null,null,null,2.46,2.4,2.44,2.54,2.4900000000000002,2.5099999999999998,2.35,null,-3.9215686274508971E-3,-0.17322834645669288,null,"2023-07-21","2023-07-27"]
[null,"semaine 31","28/07/2023 au 03/08/2023",null,null,null,2.4500000000000002,2.4,2.4300000000000002,2.54,2.48,2.5,2.29,null,0,-0.16929133858267723,null,"2023-07-28","2023-08-03"]
[null,"semaine 32","04/08/2023 au 10/08/2023",null,null,null,2.41,2.36,2.39,2.5,2.44,2.46,2.2400000000000002,null,-1.5748031496063006E-2,-0.14399999999999996,null,"2023-08-04","2023-08-10"]
[null,"semaine 33",{"$f":"TEXT(R465,\"jj/mm/aaaa\") & \" au \" & TEXT(S465,\"jj/mm/aaaa\")","v":"11/08/2023 au 17/08/2023"},null,null,null,2.35,2.2999999999999998,2.33,2.44,2.38,2.4,2.1800000000000002,null,-2.4000000000000021E-2,{"$f":"(J412-J465)/J465","v":-0.10655737704918024},null,"2023-08-11","2023-08-17"]
[null,"semaine 34","18/08/2023 au 24/08/2023",null,null,null,2.2999999999999998,2.2599999999999998,2.2799999999999998,2.39,2.34,2.35,2.12,null,{"$f":"(J466-J465)/J465","v":-2.0491803278688454E-2},-7.1129707112970675E-2,null,{"$f":"RIGHT(C465,10)+DAY(1)","v":"2023-08-18"},{"$f":"RIGHT(C465,10)+DAY(7)","v":"2023-08-24"}]
["A","semaine 35","25/08/2023 au 31/08/2023",null,null,null,2.2400000000000002,2.19,2.2200000000000002,2.33,2.27,2.29,2.06,null,-2.5104602510460271E-2,-3.8626609442060027E-2,null,"2023-08-25","2023-08-31"]
[null,"semaine 36","01/09/2023 au 07/09/2023",null,null,null,2.1800000000000002,2.15,2.17,2.27,2.23,2.25,2.0499999999999998,null,-2.5751072961373411E-2,-8.8105726872246774E-3,null,"2023-09-01","2023-09-07"]
[null,"semaine 37","08/09/2023 au 14/09/2023",null,null,null,2.16,2.12,2.15,2.2400000000000002,2.21,2.2200000000000002,2.0499999999999998,null,-1.3215859030836918E-2,4.4642857142856186E-3,null,"2023-09-08","2023-09-14"]
[null,"semaine 38","15/09/2023 au 21/09/2023",null,null,null,2.16,2.14,2.16,2.25,2.23,2.23,2.0299999999999998,null,4.4642857142856186E-3,4.4444444444443499E-3,null,"2023-09-15","2023-09-21"]
["S","semaine 39","22/09/2023 au 28/09/2023",null,null,null,2.14,2.09,2.12,2.2200000000000002,2.17,2.19,2,null,-1.3333333333333246E-2,1.8018018018017834E-2,null,"2023-09-22","2023-09-28"]
[null,"semaine 40","29/09/2023 au 05/10/2023",null,null,null,2.12,2.0699999999999998,2.1,2.21,2.15,2.17,2,null,-4.5045045045046085E-3,2.7149321266968351E-2,null,"2023-09-29","2023-10-05"]
[null,"semaine 41","06/10/2023 au 12/10/2023",null,null,null,2.11,2.0499999999999998,2.08,2.2000000000000002,2.13,2.15,1.95,null,-4.5248868778279576E-3,3.1818181818181746E-2,null,"2023-10-06","2023-10-12"]
[null,"semaine 42","13/10/2023 au 19/10/2023",null,null,null,2.06,2.0099999999999998,2.04,2.15,2.09,2.11,1.9,null,-2.2727272727272846E-2,5.1162790697674362E-2,null,"2023-10-13","2023-10-19"]
["O","semaine 43","20/10/2023 au 26/10/2023",null,null,null,2.02,1.96,1.99,2.1,2.04,2.06,1.85,null,-2.3255813953488292E-2,5.238095238095232E-2,null,"2023-10-20","2023-10-26"]
[null,"semaine 44","27/10/2023 au 02/11/2023",null,null,null,1.97,1.93,1.95,2.06,2.0099999999999998,2.02,1.81,null,-1.9047619047619063E-2,4.854368932038839E-2,null,"2023-10-27","2023-11-02"]
[null,"semaine 45","03/11/2023 au 09/11/2023",null,null,null,1.94,1.9,1.92,2.02,1.98,1.99,1.78,null,-1.9417475728155355E-2,4.4554455445544483E-2,null,"2023-11-03","2023-11-09"]
[null,"semaine 46","10/11/2023 au 16/11/2023",null,null,null,1.91,1.88,1.9,2,1.96,1.97,1.77,null,-9.9009900990099098E-3,2.4999999999999911E-2,null,"2023-11-10","2023-11-16"]
[null,"semaine 47","17/11/2023 au 23/11/2023",null,null,null,1.9,1.87,1.89,1.99,1.95,1.96,1.76,null,-5.0000000000000044E-3,2.512562814070354E-2,null,"2023-11-17","2023-11-23"]
["N","semaine 48","24/11/2023 au 30/11/2023",null,null,null,1.9,1.87,1.89,1.99,1.95,1.96,1.76,null,0,2.512562814070354E-2,null,"2023-11-24","2023-11-30"]
[null,"semaine 49","01/12/2023 au 07/12/2023",null,null,null,1.91,1.87,1.9,2,1.95,1.96,1.78,null,5.0251256281407079E-3,2.0000000000000018E-2,null,"2023-12-01","2023-12-07"]
[null,"semaine 50","08/12/2023 au 14/12/2023",null,null,null,1.91,1.88,1.9,2,1.96,1.97,1.78,null,0,2.0000000000000018E-2,null,"2023-12-08","2023-12-14"]
[null,"semaine 51","15/12/2023 au 21/12/2023",null,null,null,1.92,1.88,1.9,2.0099999999999998,1.96,1.97,1.78,null,4.9999999999998934E-3,1.4925373134328483E-2,null,"2023-12-15","2023-12-21"]
["D","semaine 52","22/12/2023 au 28/12/2023",null,null,null,1.93,1.87,1.9,2.0099999999999998,1.96,1.98,1.78,null,0,1.9900497512437831E-2,null,"2023-12-22","2023-12-28"]
[2024,null,null,null,null,null,"Nantes E","Rennes E","National E","Nantes S","Rennes S","National S","PLERIN",null,"Evolution/\nsemaine -1","Evolution/ \nsemaine id 2023","Evolution/\nsemaine id moy. 5 ans"]
[null,"semaine 01",{"$f":"TEXT(R486,\"jj/mm/aaaa\") & \" au \" & TEXT(S486,\"jj/mm/aaaa\")","v":"29/12/2023 au 04/01/2024"},null,null,null,1.95,1.88,1.91,2.02,1.97,1.98,1.78,null,{"$f":"(J486-J484)/J484","v":4.975124378109568E-3},{"$f":"(J433-J486)/J486","v":9.9009900990099098E-3},0.23020706455542014,{"$f":"RIGHT(C484,10)+DAY(1)","v":"2023-12-29"},{"$f":"RIGHT(C484,10)+DAY(7)","v":"2024-01-04"}]
[null,"semaine 02","05/01/2024 au 11/01/2024",null,null,null,1.95,1.88,1.91,2.02,1.96,1.98,1.78,null,{"$f":"(J487-J486)/J486","v":0},3.4653465346534573E-2,0.22572815533980606,{"$f":"RIGHT(C486,10)+DAY(1)","v":"2024-01-05"},{"$f":"RIGHT(C486,10)+DAY(7)","v":"2024-01-11"}]
[null,"semaine 03","12/01/2024 au 18/01/2024",null,null,null,1.94,1.88,1.91,2.0299999999999998,1.96,1.98,1.78,null,4.9504950495048447E-3,4.4334975369458282E-2,0.23179611650485449,"2024-01-12","2024-01-18"]
["J","semaine 04","19/01/2024 au 25/01/2024",null,null,null,1.94,1.88,1.91,2.02,1.97,1.98,1.78,null,-4.9261083743841316E-3,7.4257425742574212E-2,0.22721749696233284,"2024-01-19","2024-01-25"]
[null,"semaine 05","26/01/2024 au 01/02/2024",null,null,null,1.96,1.91,1.93,2.0499999999999998,2.0099999999999998,2.0099999999999998,1.78,null,1.4851485148514755E-2,8.2926829268292868E-2,0.24544349939246637,"2024-01-26","2024-02-01"]
[null,"semaine 06","02/02/2024 au 08/02/2024",null,null,null,1.96,1.92,1.93,2.0099999999999998,2.0099999999999998,2.0099999999999998,1.79,null,-1.9512195121951237E-2,0.1293532338308459,0.21523579201934698,"2024-02-02","2024-02-08"]
[null,"semaine 07","09/02/2024 au 15/02/2024",null,null,null,1.98,1.93,1.95,2.06,2.0299999999999998,2.0299999999999998,1.84,null,2.48756218905474E-2,0.13106796116504854,0.23058542413381114,"2024-02-09","2024-02-15"]
["F","semaine 08","16/02/2024 au 22/02/2024",null,null,null,2.0299999999999998,1.98,1.99,2.11,2.0699999999999998,2.08,1.9,null,2.4271844660194088E-2,0.123222748815166,0.25296912114014247,"2024-02-16","2024-02-22"]
[null,"semaine 09","23/02/2024 au 29/02/2024",null,null,null,2.08,2.0299999999999998,2.0499999999999998,2.16,2.12,2.13,1.95,null,2.3696682464455103E-2,0.12037037037037027,0.2661195779601408,"2024-02-23","2024-02-29"]
[null,"semaine 10","01/03/2024 au 07/03/2024",null,null,null,2.12,2.0699999999999998,2.09,2.2000000000000002,2.16,2.2200000000000002,2,null,1.8518518518518535E-2,0.12727272727272718,0.26582278481012667,"2024-03-01","2024-03-07"]
[null,"semaine 11","08/03/2024 au 14/03/2024",null,null,null,2.16,2.11,2.13,2.25,2.21,2.2200000000000002,2.02,null,2.2727272727272645E-2,0.12888888888888891,0.27262443438914025,"2024-03-08","2024-03-14"]
[null,"semaine 12","15/03/2024 au 21/03/2024",null,null,null,2.19,2.14,2.16,2.27,2.2400000000000002,2.2400000000000002,2.0299999999999998,null,8.8888888888888976E-3,0.12775330396475773,0.24999999999999997,"2024-03-15","2024-03-21"]
["M","semaine 13",{"$f":"TEXT(R498,\"jj/mm/aaaa\") & \" au \" & TEXT(S498,\"jj/mm/aaaa\")","v":"25/03/2024 au 29/03/2024"},null,null,null,2.2200000000000002,2.16,2.1800000000000002,2.2799999999999998,2.25,2.2599999999999998,2.0299999999999998,null,{"$f":"(J498-J497)/J497","v":4.4052863436122407E-3},0.12719298245614039,0.23243243243243228,{"$f":"RIGHT(C497,10)+DAY(4)","v":"2024-03-25"},{"$f":"RIGHT(C497,10)+DAY(8)","v":"2024-03-29"},"Changement période (passage du lundi au vendredi)."]
[null,"semaine 14","01/04/2024 au 05/04/2024",null,null,null,2.2200000000000002,2.17,2.19,2.2799999999999998,2.25,2.2599999999999998,2.0299999999999998,null,0,0.12719298245614039,0.21794871794871792,{"$f":"RIGHT(C498,10)+DAY(3)","v":"2024-04-01"},"2024-04-05"]
[null,"semaine 15","08/04/2024 au 12/04/2024",null,null,null,2.2000000000000002,2.16,2.1800000000000002,2.2799999999999998,2.2400000000000002,2.25,2.0299999999999998,null,0,0.12719298245614039,0.20634920634920617,{"$f":"RIGHT(C499,10)+DAY(3)","v":"2024-04-08"},"2024-04-12"]
[null,"semaine 16","15/04/2024 au 19/04/2024",null,null,null,2.2000000000000002,2.16,2.1800000000000002,2.2799999999999998,2.2400000000000002,2.25,2.0299999999999998,null,0,0.12280701754385977,0.19873817034700311,{"$f":"RIGHT(C500,10)+DAY(3)","v":"2024-04-15"},"2024-04-19"]
["A","semaine 17","22/04/2024 au 26/04/2024",null,null,null,2.2000000000000002,2.15,2.1800000000000002,2.2799999999999998,2.2400000000000002,2.25,2.0299999999999998,null,0,0.10526315789473695,0.19747899159663862,"2024-04-22","2024-04-26"]
[null,"semaine 18","29/04/2024 au 03/05/2024",null,null,null,2.21,2.16,2.1800000000000002,2.2799999999999998,2.2400000000000002,2.25,2.02,null,0,8.3333333333333509E-2,0.19622245540398736,"2024-04-29","2024-05-03"]
[null,"semaine 19","06/05/2024 au 10/05/2024",null,null,null,2.2000000000000002,2.14,2.17,2.27,2.23,2.2400000000000002,2.0099999999999998,null,-4.3859649122806087E-3,6.1674008810572743E-2,0.20233050847457634,"2024-05-06","2024-05-10"]
[null,"semaine 20","13/05/2024 au 17/05/2024",null,null,null,2.19,2.13,2.16,2.2599999999999998,2.2200000000000002,2.23,2,null,-4.4052863436124367E-3,5.7522123893805462E-2,0.20340788072417446,"2024-05-13","2024-05-17"]
["M","semaine 21","20/05/2024 au 24/05/2024",null,null,null,2.17,2.13,2.15,2.2599999999999998,2.2200000000000002,2.23,2,null,0,2.6548672566371709E-2,0.21767241379310343,"2024-05-20","2024-05-24"]
[null,"semaine 22","27/05/2024 au 31/05/2024",null,null,null,2.1800000000000002,2.13,2.15,2.25,2.2200000000000002,2.23,2,null,-4.4247787610618532E-3,5.3333333333333378E-2,0.20320855614973241,"2024-05-27","2024-05-31"]
[null,"semaine 23","03/06/2024 au 07/06/2024",null,null,null,2.17,2.13,2.15,2.25,2.23,2.23,2,null,0,5.7777777777777733E-2,0.20064034151547486,"2024-06-03","2024-06-07"]
[null,"semaine 24","10/06/2024 au 14/06/2024",null,null,null,2.17,2.13,2.15,2.25,2.2200000000000002,2.23,2.02,null,0,6.6666666666666624E-2,0.19426751592356695,"2024-06-10","2024-06-14"]
[null,"semaine 25","17/06/2024 au 21/06/2024",null,null,null,2.19,2.14,2.16,2.2599999999999998,2.23,2.2400000000000002,2.0499999999999998,null,4.4444444444443499E-3,7.9646017699115126E-2,0.19198312236286899,"2024-06-17","2024-06-21"]
["J","semaine 26","24/06/2024 au 28/06/2024",null,null,null,2.2200000000000002,2.17,2.19,2.2799999999999998,2.25,2.2599999999999998,2.06,null,8.8495575221239024E-3,8.7719298245614127E-2,0.19622245540398736,"2024-06-24","2024-06-28"]
[null,"semaine 27","01/07/2024 au 05/07/2024",null,null,null,2.2200000000000002,2.17,2.2000000000000002,2.2799999999999998,2.25,2.2599999999999998,2.11,null,0,0.10526315789473695,0.19496855345911945,"2024-07-01","2024-07-05"]
[null,"semaine 28","08/07/2024 au 12/07/2024",null,null,null,2.21,2.21,2.23,2.2799999999999998,2.2799999999999998,2.29,2.13,null,0,0.11842105263157897,0.18749999999999967,"2024-07-08","2024-07-12"]
[null,"semaine 29","15/07/2024 au 19/07/2024",null,null,null,2.2599999999999998,2.21,2.2400000000000002,2.3199999999999998,2.2599999999999998,2.2999999999999998,2.13,null,1.7543859649122823E-2,9.9137931034482762E-2,0.21593291404612155,"2024-07-15","2024-07-19"]
["J","semaine 30","22/07/2024 au 26/07/2024",null,null,null,2.2599999999999998,2.21,2.2400000000000002,2.3199999999999998,2.27,2.2999999999999998,2.13,null,0,9.4827586206896644E-2,0.21720881427072386,"2024-07-22","2024-07-26"]
[null,"semaine 31","29/07/2024 au 02/08/2024",null,null,null,2.27,2.21,2.2400000000000002,2.33,2.27,2.2999999999999998,2.08,null,4.3103448275863066E-3,9.0128755364806842E-2,0.2211740041928722,"2024-07-29","2024-08-02"]
[null,"semaine 32","05/08/2024 au 09/08/2024",null,null,null,2.23,2.17,2.21,2.29,2.2400000000000002,2.27,2.02,null,-1.7167381974248941E-2,9.170305676855893E-2,0.19895287958115176,"2024-08-05","2024-08-09"]
[null,"semaine 33",{"$f":"TEXT(R518,\"jj/mm/aaaa\") & \" au \" & TEXT(S518,\"jj/mm/aaaa\")","v":"12/08/2024 au 16/08/2024"},null,null,null,2.19,2.13,2.16,2.25,2.21,2.2200000000000002,1.96,null,-1.746724890829696E-2,{"$f":"(J465-J518)/J518","v":8.4444444444444419E-2},0.17924528301886797,"2024-08-12","2024-08-16"]
["A","semaine 34","19/08/2024 au 23/08/2024",null,null,null,2.14,2.08,2.11,2.19,2.16,2.17,1.9,null,{"$f":"(J519-J518)/J518","v":-2.6666666666666689E-2},9.1324200913242087E-2,0.14779874213836466,"2024-08-19",{"$f":"RIGHT(C518,10)+DAY(7)","v":"2024-08-23"}]
[null,"semaine 35","26/08/2024 au 30/08/2024",null,null,null,2.09,2.04,2.06,2.16,2.13,2.14,1.88,null,-1.3698630136986212E-2,7.8703703703703665E-2,0.13089005235602094,"2024-08-26","2024-08-30"]
[null,"semaine 36","02/09/2024 au 06/09/2024",null,null,null,2.06,2.02,2.04,2.14,2.11,2.12,1.87,null,-9.2592592592592674E-3,6.0747663551401813E-2,0.12159329140461214,"2024-09-02","2024-09-06"]
[null,"semaine 37","09/09/2024 au 13/09/2024",null,null,null,2.0499999999999998,2.0099999999999998,2.0299999999999998,2.12,2.1,2.1,1.86,null,-9.3457943925233725E-3,5.660377358490571E-2,0.10762800417972829,"2024-09-09","2024-09-13"]
[null,"semaine 38","16/09/2024 au 20/09/2024",null,null,null,2.0499999999999998,1.99,2.02,2.11,2.0699999999999998,2.08,1.82,null,-4.7169811320755808E-3,6.6350710900473994E-2,9.7814776274713813E-2,"2024-09-16","2024-09-20"]
["S","semaine 39","23/09/2024 au 27/09/2024",null,null,null,2,1.95,1.97,2.0699999999999998,2.0299999999999998,2.04,1.78,null,-1.8957345971564E-2,7.2463768115942212E-2,8.4905660377358333E-2,"2024-09-23","2024-09-27"]
[null,"semaine 40","30/09/2024 au 04/10/2024",null,null,null,1.97,1.92,1.94,2.04,2,2.0099999999999998,1.77,null,-1.4492753623188312E-2,8.3333333333333301E-2,7.1428571428571494E-2,"2024-09-30","2024-10-04"]
[null,"semaine 41","07/10/2024 au 11/10/2024",null,null,null,1.95,1.9,1.92,2.02,1.98,1.99,1.74,null,-9.8039215686274595E-3,8.9108910891089188E-2,6.765327695560247E-2,"2024-10-07","2024-10-11"]
[null,"semaine 42","14/10/2024 au 18/10/2024",null,null,null,1.95,1.88,1.91,2.0099999999999998,1.96,1.97,1.71,null,-4.950495049505065E-3,6.965174129353241E-2,6.9148936170212588E-2,"2024-10-14","2024-10-18"]
["O","semaine 43","21/10/2024 au 25/10/2024",null,null,null,1.91,1.85,1.87,1.97,1.93,1.94,1.7,null,-1.990049751243772E-2,6.59898477157361E-2,6.1422413793103252E-2,"2024-10-21","2024-10-25"]
[null,"semaine 44","28/10/2024 au 01/11/2024",null,null,null,1.91,1.84,1.86,1.96,1.92,1.93,1.69,null,-5.0761421319797002E-3,5.1020408163265356E-2,6.7538126361655834E-2,"2024-10-28","2024-11-01"]
[null,"semaine 45","04/11/2024 au 08/11/2024",null,null,null,1.89,1.83,1.85,1.95,1.91,1.92,1.69,null,-5.1020408163265354E-3,3.5897435897435929E-2,7.497243660418984E-2,"2024-11-04","2024-11-08"]
[null,"semaine 46","11/11/2024 au 15/11/2024",null,null,null,1.9,1.82,1.85,1.96,1.91,1.92,1.69,null,5.1282051282051325E-3,2.0408163265306142E-2,9.1314031180400851E-2,"2024-11-11","2024-11-15"]
["N","semaine 47","18/11/2024 au 22/11/2024",null,null,null,1.89,1.82,1.85,1.95,1.91,1.92,1.69,null,-5.1020408163265354E-3,2.051282051282053E-2,9.3049327354260053E-2,"2024-11-18","2024-11-22"]
[null,"semaine 48","25/11/2024 au 29/11/2024",null,null,null,1.89,1.82,1.85,1.95,1.91,1.92,1.69,null,0,2.051282051282053E-2,9.5505617977528046E-2,"2024-11-25","2024-11-29"]
[null,"semaine 49","02/12/2024 au 06/12/2024",null,null,null,1.89,1.83,1.85,1.95,1.91,1.92,1.7,null,0,2.5641025641025664E-2,9.6737907761529768E-2,"2024-12-02","2024-12-06"]
[null,"semaine 50","09/12/2024 au 13/12/2024",null,null,null,1.89,1.83,1.85,1.95,1.91,1.92,1.69,null,0,2.5641025641025664E-2,0.13372093023255813,"2024-12-09","2024-12-13"]
[null,"semaine 51","16/12/2024 au 20/12/2024",null,null,null,1.88,1.83,1.85,1.96,1.91,1.92,1.69,null,5.1282051282051325E-3,2.5510204081632563E-2,0.14119359534206691,"2024-12-16","2024-12-20"]
["D","semaine 52",{"$f":"TEXT(R537,\"jj/mm/aaaa\") & \" au \" & TEXT(S537,\"jj/mm/aaaa\")","v":"23/12/2024 au 27/12/2024"},null,null,null,1.9,1.83,1.85,1.95,1.91,1.92,1.69,null,-5.1020408163265354E-3,3.0769230769230684E-2,null,"2024-12-23","2024-12-27"]
[2025,null,null,null,null,null,"Nantes E","Rennes E","National E","Nantes S","Rennes S","National S","PLERIN",null,"Evolution/\nsemaine -1","Evolution/ semaine id 2024","Evolution/\nsemaine id moy. 5 ans","Date début semaine","Date fin semaine"]
[null,"semaine 01",{"$f":"TEXT(R539,\"jj/mm/aaaa\") & \" au \" & TEXT(S539,\"jj/mm/aaaa\")","v":"30/12/2024 au 03/01/2025"},null,null,null,1.89,1.82,1.85,1.95,1.91,1.92,1.69,null,{"$f":"(J539-J537)/J537","v":0},{"$f":"(J486-J539)/J539","v":3.5897435897435929E-2},{"$f":"(J539-MoyQuinqHebdoPorcs!H4)/MoyQuinqHebdoPorcs!H4","v":0.10544217687074826},{"$f":"S537+3","v":"2024-12-30"},{"$f":"R539+4","v":"2025-01-03"}]
[null,"semaine 02",{"$f":"TEXT(R540,\"jj/mm/aaaa\") & \" au \" & TEXT(S540,\"jj/mm/aaaa\")","v":"06/01/2025 au 10/01/2025"},null,null,null,1.89,1.82,1.84,1.95,1.91,1.92,1.69,null,{"$f":"(J540-J539)/J539","v":0},3.5897435897435929E-2,{"$f":"(J540-MoyQuinqHebdoPorcs!H5)/MoyQuinqHebdoPorcs!H5","v":0.10045146726862313},{"$f":"S539+3","v":"2025-01-06"},{"$f":"R540+4","v":"2025-01-10"}]
[null,"semaine 03",{"$f":"TEXT(R541,\"jj/mm/aaaa\") & \" au \" & TEXT(S541,\"jj/mm/aaaa\")","v":"13/01/2025 au 17/01/2025"},null,null,null,1.89,1.82,1.84,1.95,1.91,1.92,1.69,null,0,4.1025641025640949E-2,{"$f":"(J541-MoyQuinqHebdoPorcs!H6)/MoyQuinqHebdoPorcs!H6","v":9.9210822998872697E-2},{"$f":"S540+3","v":"2025-01-13"},{"$f":"R541+4","v":"2025-01-17"}]
[null,"semaine 04","20/01/2025 au 24/01/2025",null,null,null,1.89,1.82,1.85,1.95,1.91,1.92,1.69,null,0,3.5897435897435929E-2,{"$f":"(J542-MoyQuinqHebdoPorcs!H7)/MoyQuinqHebdoPorcs!H7","v":0.10169491525423725},{"$f":"S541+3","v":"2025-01-20"},"2025-01-24"]
["J","semaine 05","27/01/2025 au 31/01/2025",null,null,null,1.9,1.82,1.85,1.95,1.91,1.92,1.69,null,0,5.1282051282051218E-2,{"$f":"(J543-MoyQuinqHebdoPorcs!H8)/MoyQuinqHebdoPorcs!H8","v":9.7972972972973069E-2},{"$f":"S542+3","v":"2025-01-27"},"2025-01-31"]
[null,"semaine 06","03/02/2025 au 07/02/2025",null,null,null,1.9,1.83,1.85,1.96,1.91,1.92,1.68,null,5.1282051282051325E-3,2.5510204081632563E-2,{"$f":"(J544-MoyQuinqHebdoPorcs!H9)/MoyQuinqHebdoPorcs!H9","v":0.10360360360360371},{"$f":"S543+3","v":"2025-02-03"},"2025-02-07"]
[null,"semaine 07","10/02/2025 au 14/02/2025",null,null,null,1.89,1.82,1.85,1.95,1.91,1.92,1.68,null,-5.1020408163265354E-3,5.641025641025646E-2,{"$f":"(J545-MoyQuinqHebdoPorcs!H10)/MoyQuinqHebdoPorcs!H10","v":8.0931263858093211E-2},"2025-02-10","2025-02-14"]
[null,"semaine 08","17/02/2025 au 21/02/2025",null,null,null,1.89,1.82,1.85,1.95,1.91,1.92,1.68,null,0,{"$f":"(J493-J546)/J546","v":8.205128205128201E-2},{"$f":"(J546-MoyQuinqHebdoPorcs!H11)/MoyQuinqHebdoPorcs!H11","v":6.9078947368421115E-2},"2025-02-17","2025-02-21"]
["F","semaine 09","24/02/2025 au 28/02/2025",null,null,null,1.88,1.82,1.84,1.95,1.91,1.92,1.68,null,0,0.1076923076923078,{"$f":"(J547-MoyQuinqHebdoPorcs!H12)/MoyQuinqHebdoPorcs!H12","v":5.0646551724137727E-2},"2025-02-24","2025-02-28"]
[null,"semaine 10","03/03/2025 au 07/03/2025",null,null,null,1.9,1.82,1.85,1.95,1.91,1.92,1.68,null,0,0.12820512820512833,{"$f":"(J548-MoyQuinqHebdoPorcs!H13)/MoyQuinqHebdoPorcs!H13","v":2.8481012658227754E-2},"2025-03-03","2025-03-07"]
[null,"semaine 11","10/03/2025 au 14/03/2025",null,null,null,1.89,1.82,1.85,1.95,1.91,1.92,1.68,null,0,0.15384615384615388,{"$f":"(J549-MoyQuinqHebdoPorcs!H14)/MoyQuinqHebdoPorcs!H14","v":7.2314049586776922E-3},"2025-03-10","2025-03-14"]
[null,"semaine 12","17/03/2025 au 21/03/2025",null,null,null,1.89,1.82,1.85,1.94,1.91,1.92,1.68,null,-5.1282051282051325E-3,0.17010309278350519,{"$f":"(J550-MoyQuinqHebdoPorcs!H15)/MoyQuinqHebdoPorcs!H15","v":-2.1190716448032311E-2},"2025-03-17","2025-03-21"]
["M","semaine 13","24/03/2025 au 28/03/2025",null,null,null,1.89,1.83,1.85,1.94,1.91,1.92,1.71,null,0,0.17525773195876282,{"$f":"(J551-MoyQuinqHebdoPorcs!H16)/MoyQuinqHebdoPorcs!H16","v":-3.3864541832669355E-2},"2025-03-24","2025-03-28"]
[null,"semaine 14","31/03/2025 au 04/04/2025",null,null,null,1.9,1.85,1.87,1.96,1.94,1.94,1.73,null,1.0309278350515474E-2,0.16326530612244891,{"$f":"(J552-MoyQuinqHebdoPorcs!H17)/MoyQuinqHebdoPorcs!H17","v":-2.9702970297029729E-2},"2025-03-31","2025-04-04"]
[null,"semaine 15","07/04/2025 au 11/04/2025",null,null,null,1.93,1.88,1.9,1.99,1.97,1.97,1.79,null,1.5306122448979605E-2,0.14572864321608031,{"$f":"(J553-MoyQuinqHebdoPorcs!H18)/MoyQuinqHebdoPorcs!H18","v":-1.8737672583826231E-2},"2025-04-07","2025-04-11"]
[null,"semaine 16","14/04/2025 au 18/04/2025",null,null,null,1.96,1.93,1.94,2.0299999999999998,2.0099999999999998,2.0099999999999998,1.79,null,2.0100502512562721E-2,0.12315270935960593,{"$f":"(J554-MoyQuinqHebdoPorcs!H19)/MoyQuinqHebdoPorcs!H19","v":-9.8425196850404715E-4},"2025-04-14","2025-04-18"]
[null,"semaine 17","21/04/2025 au 25/04/2025",null,null,null,1.99,1.93,1.96,2.0499999999999998,2.02,2.0299999999999998,1.79,null,9.8522167487684834E-3,0.11219512195121951,{"$f":"(J555-MoyQuinqHebdoPorcs!H20)/MoyQuinqHebdoPorcs!H20","v":8.8582677165355526E-3},"2025-04-21","2025-04-25"]
["A","semaine 18","28/04/2025 au 02/05/2025",null,null,null,1.98,1.93,1.95,2.0499999999999998,2.02,2.0299999999999998,1.79,null,0,0.11219512195121951,{"$f":"(J556-MoyQuinqHebdoPorcs!H21)/MoyQuinqHebdoPorcs!H21","v":8.8582677165353323E-3},"2025-04-28","2025-05-02"]
[null,"semaine 19","05/05/2025 au 09/05/2025",null,null,null,1.98,1.93,1.95,2.04,2.02,2.02,1.79,null,-4.8780487804877017E-3,0.11274509803921567,{"$f":"(J557-MoyQuinqHebdoPorcs!H22)/MoyQuinqHebdoPorcs!H22","v":1.3916500994035798E-2},"2025-05-05","2025-05-09"]
[null,"semaine 20","12/05/2025 au 16/05/2025",null,null,null,1.97,1.93,1.95,2.04,2.0099999999999998,2.02,1.79,null,0,0.10784313725490184,{"$f":"(J558-MoyQuinqHebdoPorcs!H23)/MoyQuinqHebdoPorcs!H23","v":2.2044088176352724E-2},"2025-05-12","2025-05-16"]
[null,"semaine 21","19/05/2025 au 23/05/2025",null,null,null,1.98,1.93,1.95,2.0499999999999998,2.02,2.0299999999999998,1.79,null,4.9019607843136213E-3,0.1024390243902439,{"$f":"(J559-MoyQuinqHebdoPorcs!H24)/MoyQuinqHebdoPorcs!H24","v":3.9553752535496881E-2},"2025-05-19","2025-05-23"]
["M","semaine 22","26/05/2025 au 30/05/2025",null,null,null,1.98,1.93,1.95,2.0499999999999998,2.02,2.0299999999999998,1.79,null,0,9.7560975609756198E-2,{"$f":"(J560-MoyQuinqHebdoPorcs!H25)/MoyQuinqHebdoPorcs!H25","v":3.5353535353535276E-2},"2025-05-26","2025-05-30"]
[null,"semaine 23","02/06/2025 au 06/06/2025",null,null,null,1.99,1.93,1.95,2.0499999999999998,2.02,2.0299999999999998,1.79,null,0,9.7560975609756198E-2,{"$f":"(J561-MoyQuinqHebdoPorcs!H26)/MoyQuinqHebdoPorcs!H26","v":3.430877901109982E-2},"2025-06-02","2025-06-06"]
[null,"semaine 24","09/06/2025 au 13/06/2025",null,null,null,1.99,1.94,1.96,2.0499999999999998,2.02,2.0299999999999998,1.82,null,0,9.7560975609756198E-2,{"$f":"(J562-MoyQuinqHebdoPorcs!H27)/MoyQuinqHebdoPorcs!H27","v":3.1187122736418427E-2},"2025-06-09","2025-06-13"]
[null,"semaine 25","16/06/2025 au 20/06/2025",null,null,null,2,1.95,1.97,2.0699999999999998,2.04,2.0499999999999998,1.84,null,9.7560975609756184E-3,9.1787439613526547E-2,{"$f":"(J563-MoyQuinqHebdoPorcs!H28)/MoyQuinqHebdoPorcs!H28","v":3.499999999999992E-2},"2025-06-16","2025-06-20"]
["J","semaine 26","23/06/2025 au 27/06/2025",null,null,null,2.02,1.98,2,2.09,2.0699999999999998,2.0699999999999998,1.87,null,9.6618357487922805E-3,9.0909090909090884E-2,{"$f":"(J564-MoyQuinqHebdoPorcs!H29)/MoyQuinqHebdoPorcs!H29","v":3.87673956262427E-2},"2025-06-23","2025-06-27"]
[null,"semaine 27","30/06/2025 au 04/07/2025",null,null,null,2.0499999999999998,2.0099999999999998,2.0299999999999998,2.12,2.09,2.1,1.89,null,1.4354066985646053E-2,7.5471698113207406E-2,{"$f":"(J565-MoyQuinqHebdoPorcs!H30)/MoyQuinqHebdoPorcs!H30","v":5.2631578947368585E-2},"2025-06-30","2025-07-04"]
[null,"semaine 28","07/07/2025 au 11/07/2025",null,null,null,2.0699999999999998,2.0299999999999998,2.0499999999999998,2.14,2.11,2.12,1.9,null,9.4339622641509517E-3,6.5420560747663392E-2,{"$f":"(J566-MoyQuinqHebdoPorcs!H31)/MoyQuinqHebdoPorcs!H31","v":5.6268509378085065E-2},"2025-07-07","2025-07-11"]
[null,"semaine 29","14/07/2025 au 18/07/2025",null,null,null,2.09,2.04,2.06,2.15,2.12,2.13,1.9,null,4.6728971962615821E-3,7.9069767441860436E-2,{"$f":"(J567-MoyQuinqHebdoPorcs!H32)/MoyQuinqHebdoPorcs!H32","v":6.3303659742828949E-2},"2025-07-14","2025-07-18"]
[null,"semaine 30","21/07/2025 au 25/07/2025",null,null,null,2.08,2.0299999999999998,2.0499999999999998,2.14,2.11,2.12,1.89,null,-4.6511627906975755E-3,8.4112149532710137E-2,{"$f":"(J568-MoyQuinqHebdoPorcs!H33)/MoyQuinqHebdoPorcs!H33","v":6.150793650793656E-2},"2025-07-21","2025-07-25"]
["J","semaine 31","28/07/2025 au 01/08/2025",null,null,null,2.0699999999999998,2.02,2.06,2.14,2.11,2.13,1.87,null,0,8.8785046728971931E-2,{"$f":"(J569-MoyQuinqHebdoPorcs!H34)/MoyQuinqHebdoPorcs!H34","v":6.0455896927651312E-2},"2025-07-28","2025-08-01"]
[null,"semaine 32","04/08/2025 au 08/08/2025",null,null,null,2.0499999999999998,2.0099999999999998,2.04,2.12,2.09,2.11,1.84,null,-9.3457943925233725E-3,8.0188679245282987E-2,{"$f":"(J570-MoyQuinqHebdoPorcs!H35)/MoyQuinqHebdoPorcs!H35","v":5.5776892430278932E-2},"2025-08-04","2025-08-08"]
[null,"semaine 33",{"$f":"TEXT(R571,\"jj/mm/aaaa\") & \" au \" & TEXT(S571,\"jj/mm/aaaa\")","v":"11/08/2025 au 15/08/2025"},null,null,null,2.04,1.98,2,2.09,2.06,2.0699999999999998,1.81,null,-1.4150943396226532E-2,{"$f":"(J518-J571)/J571","v":7.6555023923445042E-2},{"$f":"(J571-MoyQuinqHebdoPorcs!H36)/MoyQuinqHebdoPorcs!H36","v":4.6046046046045973E-2},"2025-08-11","2025-08-15"]
[null,"semaine 34","18/08/2025 au 22/08/2025",null,null,null,2,1.96,1.98,2.0699999999999998,2.0499999999999998,2.06,1.78,null,{"$f":"(J572-J571)/J571","v":-9.5693779904306303E-3},5.7971014492753679E-2,{"$f":"(J572-MoyQuinqHebdoPorcs!H37)/MoyQuinqHebdoPorcs!H37","v":4.3346774193548314E-2},"2025-08-18","2025-08-22"]
["A","semaine 35","25/08/2025 au 29/08/2025",null,null,null,1.98,1.93,1.95,2.0499999999999998,2.02,2.0299999999999998,1.77,null,-9.6618357487922805E-3,5.3658536585366012E-2,{"$f":"(J573-MoyQuinqHebdoPorcs!H38)/MoyQuinqHebdoPorcs!H38","v":3.7449392712550413E-2},"2025-08-25","2025-08-29"]
[null,"semaine 36","01/09/2025 au 05/09/2025",null,null,null,1.92,1.91,1.93,2.0099999999999998,2,2,1.74,null,-1.9512195121951237E-2,6.4676616915423063E-2,{"$f":"(J574-MoyQuinqHebdoPorcs!H39)/MoyQuinqHebdoPorcs!H39","v":2.2380467955238972E-2},"2025-09-01","2025-09-05"]
[null,"semaine 37","08/09/2025 au 12/09/2025",null,null,null,1.93,1.87,1.9,1.98,1.95,1.96,1.67,null,-1.4925373134328263E-2,7.0707070707070774E-2,{"$f":"(J575-MoyQuinqHebdoPorcs!H40)/MoyQuinqHebdoPorcs!H40","v":1.12359550561799E-2},"2025-09-08","2025-09-12"]
[null,"semaine 38","15/09/2025 au 19/09/2025",null,null,null,1.86,1.81,1.84,1.93,1.89,1.9,1.64,null,-2.5252525252525276E-2,9.3264248704663183E-2,{"$f":"(J576-MoyQuinqHebdoPorcs!H41)/MoyQuinqHebdoPorcs!H41","v":-1.5306122448979494E-2},"2025-09-15","2025-09-19"]
[null,"semaine 39","22/09/2025 au 26/09/2025",null,null,null,1.82,1.77,1.79,1.88,1.84,1.86,1.62,null,-2.5906735751295359E-2,0.10106382978723402,{"$f":"(J577-MoyQuinqHebdoPorcs!H42)/MoyQuinqHebdoPorcs!H42","v":-2.8925619834710769E-2},"2025-09-22","2025-09-26"]
["S","semaine 40","29/09/2025 au 03/10/2025",null,null,null,1.8,1.74,1.77,1.87,1.82,1.84,1.6,null,-5.3191489361700999E-3,9.090909090909087E-2,{"$f":"(J578-MoyQuinqHebdoPorcs!H43)/MoyQuinqHebdoPorcs!H43","v":-2.9075804776739378E-2},"2025-09-29","2025-10-03"]
[null,"semaine 41","06/10/2025 au 10/10/2025",null,null,null,1.78,1.73,1.76,1.85,1.81,1.83,1.56,null,-1.0695187165775409E-2,9.1891891891891855E-2,{"$f":"(J579-MoyQuinqHebdoPorcs!H44)/MoyQuinqHebdoPorcs!H44","v":-3.2426778242677853E-2},"2025-10-06","2025-10-10"]
[null,"semaine 42","13/10/2025 au 17/10/2025",null,null,null,1.75,1.7,1.72,1.82,1.78,1.79,1.54,null,-1.6216216216216231E-2,0.10439560439560425,{"$f":"(J580-MoyQuinqHebdoPorcs!H45)/MoyQuinqHebdoPorcs!H45","v":-4.0084388185654039E-2},"2025-10-13","2025-10-17"]
[null,"semaine 43","20/10/2025 au 24/10/2025",null,null,null,1.74,1.68,1.7,1.8,1.76,1.78,1.54,null,-1.0989010989010999E-2,9.44444444444444E-2,{"$f":"(J581-MoyQuinqHebdoPorcs!H46)/MoyQuinqHebdoPorcs!H46","v":-3.4334763948497882E-2},"2025-10-20","2025-10-24"]
["O","semaine 44","27/10/2025 au 31/10/2025",null,null,null,1.74,1.68,1.71,1.8,1.76,1.77,1.52,null,0,8.8888888888888837E-2,{"$f":"(J582-MoyQuinqHebdoPorcs!H47)/MoyQuinqHebdoPorcs!H47","v":-2.3861171366594262E-2},"2025-10-27","2025-10-31"]
[null,"semaine 45","03/11/2025 au 07/11/2025",null,null,null,1.72,1.67,1.69,1.79,1.75,1.76,1.52,null,-5.5555555555555601E-3,8.9385474860335143E-2,{"$f":"(J583-MoyQuinqHebdoPorcs!H48)/MoyQuinqHebdoPorcs!H48","v":-1.7563117453347866E-2},"2025-11-03","2025-11-07"]
[null,"semaine 46","10/11/2025 au 14/11/2025",null,null,null,1.73,1.67,1.69,1.8,1.75,1.76,1.51,null,5.5865921787709542E-3,8.8888888888888837E-2,{"$f":"(J584-MoyQuinqHebdoPorcs!H49)/MoyQuinqHebdoPorcs!H49","v":-3.32225913621275E-3},"2025-11-10","2025-11-14"]
[null,"semaine 47","17/11/2025 au 21/11/2025",null,null,null,null,null,null,null,null,null,1.5,null,-1,{"$error":"#DIV/0!"},{"$f":"(J585-MoyQuinqHebdoPorcs!H50)/MoyQuinqHebdoPorcs!H50","v":-1},"2025-11-17","2025-11-21"]
["N","semaine 48","24/11/2025 au 28/11/2025",null,null,null,null,null,null,null,null,null,null,null,{"$error":"#DIV/0!"},{"$error":"#DIV/0!"},{"$f":"(J586-MoyQuinqHebdoPorcs!H51)/MoyQuinqHebdoPorcs!H51","v":-1},"2025-11-24","2025-11-28"]
[null,"semaine 49","01/12/2025 au 05/12/2025",null,null,null,null,null,null,null,null,null,null,null,{"$error":"#DIV/0!"},{"$error":"#DIV/0!"},{"$f":"(J587-MoyQuinqHebdoPorcs!H52)/MoyQuinqHebdoPorcs!H52","v":-1},"2025-12-01","2025-12-05"]
[null,"semaine 50","08/12/2025 au 12/12/2025",null,null,null,null,null,null,null,null,null,null,null,{"$error":"#DIV/0!"},{"$error":"#DIV/0!"},{"$f":"(J588-MoyQuinqHebdoPorcs!H53)/MoyQuinqHebdoPorcs!H53","v":-1},"2025-12-08","2025-12-12"]
[null,"semaine 51","15/12/2025 au 19/12/2025",null,null,null,null,null,null,null,null,null,null,null,{"$error":"#DIV/0!"},{"$error":"#DIV/0!"},{"$f":"(J589-MoyQuinqHebdoPorcs!H54)/MoyQuinqHebdoPorcs!H54","v":-1},"2025-12-15","2025-12-19"]
["D","semaine 52","22/12/2025 au 26/12/2025",null,null,null,null,null,null,null,null,null,null,null,{"$error":"#DIV/0!"},{"$error":"#DIV/0!"},{"$f":"(J590-MoyQuinqHebdoPorcs!H55)/MoyQuinqHebdoPorcs!H55","v":-1},"2025-12-22","2025-12-26"]

{"sheet":"MoyQuinqHebdoPorcs","index":29,"n_rows":56,"n_cols":8,"rows_kept":56,"cut":false,"hidden":true,"merged":[[1,2,1,7]]}
[null,null,2020,2021,2022,2023,2024,"MOYENNE 5 ANS"]
["Année","Sem."]
[]
[null,1,1.87,1.42,1.47,2.04,2.02,{"$f":"AVERAGE(C4:G4)","v":1.764}]
[null,2,1.85,1.43,1.47,2.09,2.02,1.7719999999999998]
[null,3,1.82,1.43,1.47,2.12,2.0299999999999998,1.7739999999999998]
["J",4,1.76,1.43,1.47,2.17,2.02,1.77]
[null,5,1.71,1.43,1.47,2.2200000000000002,2.0499999999999998,1.7759999999999998]
[null,6,1.7,1.43,1.47,2.27,2.0099999999999998,1.7759999999999998]
[null,7,1.7,1.44,1.49,2.33,2.06,1.8039999999999998]
["F",8,1.7,1.45,1.49,2.37,2.11,1.8239999999999998]
[null,9,1.72,1.47,1.51,2.42,2.16,1.8560000000000003]
[null,10,1.75,1.5,1.55,2.48,2.2000000000000002,1.8960000000000001]
[null,11,1.76,1.54,1.59,2.54,2.25,1.9359999999999999]
[null,12,1.79,1.57,1.72,2.56,2.27,1.982]
["M",13,1.79,1.58,1.82,2.57,2.2799999999999998,2.008]
[null,14,1.77,1.6,1.88,2.57,2.2799999999999998,2.02]
[null,15,1.76,1.62,1.91,2.57,2.2799999999999998,2.0279999999999996]
[null,16,1.75,1.65,1.92,2.56,2.2799999999999998,2.032]
["A",17,1.74,1.7,1.92,2.52,2.2799999999999998,2.0319999999999996]
[null,18,1.73,1.75,1.93,2.4700000000000002,2.2799999999999998,2.032]
[null,19,1.68,1.77,1.93,2.41,2.27,2.012]
[null,20,1.64,1.77,1.92,2.39,2.2599999999999998,1.996]
["M",21,1.58,1.77,1.93,2.3199999999999998,2.2599999999999998,1.972]
[null,22,1.58,1.77,1.93,2.37,2.25,1.98]
[null,23,1.57,1.78,1.93,2.38,2.25,1.982]
[null,24,1.58,1.78,1.93,2.4,2.25,1.988]
[null,25,1.59,1.78,1.93,2.44,2.2599999999999998,2]
["J",26,1.58,1.75,1.97,2.48,2.2799999999999998,2.0119999999999996]
[null,27,1.56,1.69,2.02,2.52,2.2799999999999998,2.0139999999999998]
[null,28,1.58,1.65,2.0699999999999998,2.5499999999999998,2.2799999999999998,2.0259999999999998]
[null,29,1.55,1.6,2.09,2.5499999999999998,2.3199999999999998,2.0219999999999998]
["J",30,1.53,1.59,2.1,2.54,2.3199999999999998,2.016]
[null,31,1.53,1.58,2.11,2.54,2.33,2.0179999999999998]
[null,32,1.53,1.58,2.14,2.5,2.29,2.008]
[null,33,1.53,1.59,2.1800000000000002,2.44,2.25,{"$f":"AVERAGE(C36:G36)","v":1.998}]
[null,34,1.53,1.59,2.2200000000000002,2.39,2.19,1.984]
["A",35,1.56,1.59,2.2400000000000002,2.33,2.16,1.9760000000000002]
[null,36,1.59,1.58,2.25,2.27,2.14,1.966]
[null,37,1.6,1.58,2.25,2.2400000000000002,2.12,1.9579999999999997]
[null,38,1.62,1.56,2.2599999999999998,2.25,2.11,1.9599999999999997]
["S",39,1.61,1.52,2.2599999999999998,2.2200000000000002,2.0699999999999998,1.9359999999999999]
[null,40,1.62,1.49,2.27,2.21,2.04,1.9260000000000002]
[null,41,1.61,1.46,2.27,2.2000000000000002,2.02,1.9120000000000001]
[null,42,1.61,1.45,2.2599999999999998,2.15,2.0099999999999998,1.8960000000000001]
["O",43,1.6,1.44,2.21,2.1,1.97,1.8640000000000001]
[null,44,1.6,1.44,2.16,2.06,1.96,1.8439999999999999]
[null,45,1.59,1.44,2.11,2.02,1.95,1.8219999999999998]
[null,46,1.58,1.44,2.0499999999999998,2,1.96,1.8060000000000003]
[null,47,1.53,1.45,2.04,1.99,1.95,1.7919999999999998]
["N",48,1.49,1.46,2.04,1.99,1.95,1.786]
[null,49,1.46,1.46,2.04,2,1.95,1.782]
[null,50,1.44,1.47,2.04,null,1.95,1.7250000000000001]
[null,51,1.43,1.47,2.04,null,1.96,1.7249999999999999]
["D",52,1.44,1.47,2.0499999999999998,null,null,1.6533333333333333]
[null,53,1.43,null,null,null,null,1.43]

{"sheet":"GraphPorcs","index":30,"n_rows":35,"n_cols":19,"rows_kept":35,"cut":false,"hidden":false,"merged":[[15,0,16,0],[15,10,16,10],[15,17,16,17],[0,0,0,18],[13,7,13,8],[13,17,13,18],[15,18,16,18],[15,8,16,8],[15,7,16,7]]}
["Prix du porc entrée abattoir des carcasses de porcs charcutiers - Nantes S et Indicateur IFIP (marge brute, naisseur-engraisseur)"]
[]
[]
[]
[]
[]
[]
[]
[]
[]
[]
[]
[]
["Prix du porc entrée abattoir des carcasses de porcs charcutiers  (€ HT/kg)",null,null,null,null,null,"Mise à jour :",{"$f":"'Porcs2015-2025'!B3","v":"2025-11-20"},null,null,"Nouvel indicateur IFIP - Institut du porc (€/truie/an).",null,null,null,null,null,null,"Mis à jour le : 21/11/2025"]
["Classe S (TMP>=60%) - Nantes",null,null,null,null,null,null,null,null,null,"Elevage Naisseur-engraisseur"]
["Mois",2020,2021,2022,2023,2024,2025,"N/N-1","Moyenne quinquennale",null,"Mois",2020,2021,2022,2023,2024,2025,"N/N-1","Moyenne quinquennale"]
[null,"N-5","N-4","N-3","N-2","N-1","N",null,null,null,null,"N-5","N-4","N-3","N-2","N-1","N"]
["J",1.802,1.4275,1.47,2.105,2.0225,{"$f":"IF(('Porcs2015-2025'!J543)>0,AVERAGE('Porcs2015-2025'!J539:J543),NA())","v":1.95},{"$f":"IF(G18=\"\",\"\",(G18-F18)/F18)","v":-3.5846724351050685E-2},{"$f":"SUMIF(B18:F18,\"<>#N/A\",B18:F18)/COUNTIF(B18:F18,\"<>#N/A\")","v":1.7653999999999996},null,"J",1737,867,825,1410,1625,1550,{"$f":"IF(Q18=\"\",\"\",(Q18-P18)/P18)","v":-4.6153846153846156E-2},{"$f":"AVERAGE(L18:P18)","v":1292.8}]
["F",1.7050000000000001,1.4375,1.48,2.2975000000000003,2.0574999999999997,{"$f":"IF(('Porcs2015-2025'!J547)>0,AVERAGE('Porcs2015-2025'!J544:J547),NA())","v":1.9525000000000001},{"$f":"IF(G19=\"\",\"\",(G19-F19)/F19)","v":-5.1032806804374026E-2},{"$f":"SUMIF(B19:F19,\"<>#N/A\",B19:F19)/COUNTIF(B19:F19,\"<>#N/A\")","v":1.7955000000000001},null,"F",1553,854,806,1901,1752,1545,{"$f":"IF(Q19=\"\",\"\",(Q19-P19)/P19)","v":-0.11815068493150685},{"$f":"AVERAGE(L19:P19)","v":1373.2}]
["M",1.7725,1.532,1.6379999999999999,2.5140000000000002,2.2320000000000002,{"$f":"IF(('Porcs2015-2025'!J551)>0,AVERAGE('Porcs2015-2025'!J548:J551),NA())","v":1.9449999999999998},{"$f":"IF(G20=\"\",\"\",(G20-F20)/F20)","v":-0.12858422939068115},1.9377000000000002,null,"M",1730,1038,1171,2465,2185,1558,-0.28695652173913044,1717.8]
["A",1.75,1.6425000000000001,1.9075,2.5549999999999997,2.2799999999999998,{"$f":"IF(('Porcs2015-2025'!J556)>0,AVERAGE('Porcs2015-2025'!J552:J556),NA())","v":2.0160000000000005},-0.11578947368421025,2.0270000000000001,null,"A",1638,1289,1690,2524,2286,1778,-0.22222222222222221,1885.4]
["M",1.62,1.7649999999999999,1.9274999999999998,2.3975000000000004,2.2675000000000001,{"$f":"IF(('Porcs2015-2025'!J560)>0,AVERAGE('Porcs2015-2025'!J556:J560),NA())","v":2.0460000000000003},-9.7684674751929351E-2,1.9955000000000003,null,"M",1332,1555,1635,2140,2282,1805,-0.20902716914986855,1788.8]
["J",1.58,1.772,1.9379999999999999,2.4140000000000001,2.258,{"$f":"IF(('Porcs2015-2025'!J564)>0,AVERAGE('Porcs2015-2025'!J561:J564),NA())","v":2.0649999999999999},-8.5473870682019518E-2,1.9923999999999999,null,"J",1255,1531,1546,2223,2334,1888,-0.19108826049700087,{"$f":"AVERAGE(L23:P23)","v":1777.8}]
["J",1.55,1.6325000000000001,2.0699999999999998,2.54,2.2999999999999998,{"$f":"IF(('Porcs2015-2025'!J569)>0,AVERAGE('Porcs2015-2025'!J565:J569),NA())","v":2.1380000000000003},-7.0434782608695429E-2,2.0185,null,"J",1166,1277,1744,2667,2590,2044,-0.21081081081081082,1888.8]
["A",1.5375000000000001,1.585,2.1625000000000001,2.4400000000000004,2.2650000000000001,{"$f":"IF(('Porcs2015-2025'!J573)>0,AVERAGE('Porcs2015-2025'!J570:J573),NA())","v":2.0824999999999996},-8.0573951434878832E-2,1.998,null,"A",1135,1126,1800,2426,2325,1978,-0.149247311827957,1762.4]
["S",1.6080000000000001,1.5660000000000001,2.2519999999999998,2.2450000000000001,2.12,{"$f":"IF(('Porcs2015-2025'!J578)>0,AVERAGE('Porcs2015-2025'!J574:J578),NA())","v":1.9339999999999999},-8.7735849056603851E-2,1.9582000000000002,null,"S",1278,1048,1894,2042,2005,1674,-0.16508728179551121,1653.4]
["O",1.605,1.46,2.2524999999999999,2.165,2.0100000000000002,{"$f":"IF(('Porcs2015-2025'!J582)>0,AVERAGE('Porcs2015-2025'!J579:J582),NA())","v":1.8174999999999999},-9.5771144278607126E-2,1.8984999999999999,null,"O",1260,848,1795,1906,1720,1411,-0.17965116279069768,1505.8]
["N",1.5475000000000001,1.4424999999999999,2.09,2.012,1.9550000000000001,{"$f":"IF(('Porcs2015-2025'!J586)>0,AVERAGE('Porcs2015-2025'!J583:J586),NA())","v":{"$error":"#N/A"}},{"$f":"IF(G28=\"\",\"\",(G28-F28)/F28)","v":{"$error":"#N/A"}},1.8094000000000001,null,"N",1099,842,1322,1553,1583,null,{"$f":"IF(Q28=\"\",\"\",(Q28-P28)/P28)","v":""},1279.8]
["D",1.44,1.466,2.0420000000000003,2,1.95,{"$f":"IF(('Porcs2015-2025'!J590)>0,AVERAGE('Porcs2015-2025'!J587:J590),NA())","v":{"$error":"#N/A"}},{"$f":"IF(G29=\"\",\"\",(G29-F29)/F29)","v":{"$error":"#N/A"}},1.7795999999999998,null,"D",881,857,1214,1579,1572,null,"",1220.5999999999999]
["Moyenne :",{"$f":"AVERAGE(B18:B29)","v":1.6264583333333336},1.5607083333333334,1.9358333333333337,2.3350000000000004,2.1606818181818186,{"$f":"SUMIF(G18:G29,\"<>#N/A\",G18:G29)/COUNTIF(G18:G29,\"<>#N/A\")","v":1.99465},-7.6842326706637376E-2,{"$f":"SUMIF(B30:F30,\"<>#N/A\",B30:F30)/COUNTIF(B30:F30,\"<>#N/A\")","v":1.923736363636364},null,"Moyenne :",{"$f":"AVERAGE(L18:L29)","v":1338.6666666666667},1094.3333333333333,1453.5,2069.6666666666665,2021.5833333333333,null,"",1595.5499999999997]
["Source : DRAAF Pays de la Loire - SRISE - FranceAgriMer",null,null,null,null,null,null,null,null,null,"Synthèse de la conjoncture pour l’élevage : indicateur de marge brute, naisseur-engraisseur, en euros/truie/an."]
[null,null,null,null,null,null,{"$f":"(G18+G19+G20)","v":5.8475000000000001},null,null,null,"Source : Institut du Porc IFIP"]
[]
[]
[null,null,null,null,null,null,null,null,null,null,"\n\n"]

{"sheet":"Ovins2020-2025","index":31,"n_rows":64,"n_cols":13,"rows_kept":64,"cut":false,"hidden":false,"merged":[[5,10,5,11],[7,9,9,9],[7,10,9,10],[7,11,9,11],[7,1,7,8],[8,1,8,8]]}
["COTATIONS AGNEAUX DE BOUCHERIE : ENTREE ABATTOIR"]
["Source DRAAF Pays de la Loire-SRISE-FranceAgriMer"]
[]
["Agneau de boucherie : Prix \"entrée abattoir\" HT en EURO/Kg de carcasse (cinquième quartier inclus)"]
["Etat d'engraissement : couvert"]
[null,null,null,null,null,null,null,null,null,"Date mise à jour :","2025-11-20"]
[]
[null,"Moyenne Nationale hebdomadaire",null,null,null,null,null,null,null,"Evolution/semaine -1","Evolution / semaine id année-1","Evolution / semaine id moy. 5 ans"]
[null,"Prix moyen pondéré des agneaux"]
[null,"Sem.",2020,2021,2022,2023,2024,"Moyenne quinquennale",2025]
[null,1,6.78,7.23,7.940000057220459,8.4300003051757813,8.84,{"$f":"AVERAGE(C11:G11)","v":7.8440000724792487},10.64,null,{"$f":"(I11-G11)/G11","v":0.20361990950226252},{"$f":"(I11-H11)/H11","v":0.35645077787933038},{"$f":"(I11-MoyQuindHebdoOvins!H4)/MoyQuindHebdoOvins!H4","v":0.41084118453537066}]
[null,2,6.64,7.27,7.8000001907348633,8.2799997329711914,8.86,{"$f":"AVERAGE(C12:G12)","v":7.7699999847412098},10.47,{"$f":"(I12-I11)/I11","v":-1.5977443609022549E-2},{"$f":"(I12-G12)/G12","v":0.18171557562076765},{"$f":"(I12-H12)/H12","v":0.34749035013656027},{"$f":"(I12-MoyQuindHebdoOvins!H5)/MoyQuindHebdoOvins!H5","v":0.40657746597818289}]
[null,3,6.65,7.2,7.7199997901916504,8.2200002670288086,8.81,7.7200000114440925,10.43,{"$f":"(I13-I12)/I12","v":-3.8204393505253983E-3},{"$f":"(I13-G13)/G13","v":0.18388195232690116},{"$f":"(I13-H13)/H13","v":0.35103626742728183},{"$f":"(I13-MoyQuindHebdoOvins!H6)/MoyQuindHebdoOvins!H6","v":0.41121393903500653}]
[null,4,6.53,7.18,7.7100000381469727,8.119999885559082,8.7200000000000006,7.6519999847412112,10.31,-1.1505273250239619E-2,0.18233944954128437,0.34736016996328867,{"$f":"(I14-MoyQuindHebdoOvins!H7)/MoyQuindHebdoOvins!H7","v":0.40731641083384285}]
["J",5,6.48,7.08,7.690000057220459,8.0299999999999994,8.59,7.5740000114440935,10.11,-1.9398642095053448E-2,0.17694994179278226,0.33482967846898387,{"$f":"(I15-MoyQuindHebdoOvins!H8)/MoyQuindHebdoOvins!H8","v":0.39302248413659435}]
[null,6,6.45,6.97,7.5199999809265137,7.97,8.5,7.4819999961853032,9.8699999999999992,-2.3738872403560853E-2,0.1611764705882352,0.31916599906872728,{"$f":"(I16-MoyQuindHebdoOvins!H9)/MoyQuindHebdoOvins!H9","v":0.37733742761721312}]
[null,7,6.42,6.93,7.5100002288818359,7.86,8.48,7.4400000457763671,9.83,-4.0526849037486471E-3,0.15919811320754712,0.32123655101056325,{"$f":"(I17-MoyQuindHebdoOvins!H10)/MoyQuindHebdoOvins!H10","v":0.38046285869128615}]
[null,8,6.39,6.95,7.4200000762939453,7.83,8.5299999999999994,7.4240000152587893,9.7799999999999994,-5.0864699898271323E-3,0.14654161781946073,0.31734913522344377,{"$f":"(I18-MoyQuindHebdoOvins!H11)/MoyQuindHebdoOvins!H11","v":0.37901860896071826}]
["F",9,6.48,6.99,7.440000057220459,7.84,8.67,7.484000011444091,9.85,7.1574642126789661E-3,0.13610149942329869,0.31614109900293441,{"$f":"(I19-MoyQuindHebdoOvins!H12)/MoyQuindHebdoOvins!H12","v":0.38047987176841486}]
[null,10,6.51,7.07,7.5399999618530273,7.93,8.83,7.5759999923706047,9.86,1.0152284263959175E-3,0.11664779161947897,0.30147835400336487,{"$f":"(I20-MoyQuindHebdoOvins!H13)/MoyQuindHebdoOvins!H13","v":0.36709001338196484}]
[null,11,6.6,7.28,7.630000114440918,8.06,{"$f":"G20+0.24","v":9.07},7.7280000228881836,10.08,2.2312373225152195E-2,0.11135611907386987,0.3043478222238416,{"$f":"(I21-MoyQuindHebdoOvins!H14)/MoyQuindHebdoOvins!H14","v":0.37292290415303014}]
[null,12,6.65,7.5,7.570000171661377,8.19,9.44,7.870000034332274,10.25,{"$f":"(I22-I21)/I21","v":1.6865079365079357E-2},8.5805084745762775E-2,0.30241422557625897,{"$f":"(I22-MoyQuindHebdoOvins!H15)/MoyQuindHebdoOvins!H15","v":0.37976523034075832}]
["M",13,6.53,7.65,7.6700000762939453,8.42,9.5399999999999991,7.9620000152587895,10.32,6.8292682926829546E-3,8.1761006289308297E-2,0.29615674205252668,{"$f":"(I23-MoyQuindHebdoOvins!H16)/MoyQuindHebdoOvins!H16","v":0.37336313941937727}]
[null,14,6.18,7.53,7.929999828338623,8.5500000000000007,9.5,7.9379999656677258,10.56,2.3255813953488393E-2,0.11157894736842111,0.33030990749213468,{"$f":"(I24-MoyQuindHebdoOvins!H17)/MoyQuindHebdoOvins!H17","v":0.40777476377093436}]
[null,15,6.2,7.56,8.0699996948242188,8.44,9.56,7.9659999389648437,10.92,3.4090909090909033E-2,0.14225941422594135,0.37082602104802664,{"$f":"(I25-MoyQuindHebdoOvins!H18)/MoyQuindHebdoOvins!H18","v":0.45050742604515415}]
[null,16,6.3,7.54,8.0699996948242188,8.44,9.59,7.9879999389648448,11.04,1.0989010989010917E-2,0.15119916579770587,0.3820731202247179,{"$f":"(I26-MoyQuindHebdoOvins!H19)/MoyQuindHebdoOvins!H19","v":0.46209674565438924}]
["A",17,6.37,7.48,8.0699996948242188,8.4700000000000006,9.6199999999999992,8.0019999389648433,10.93,-9.9637681159419778E-3,0.13617463617463624,0.36590853328773321,{"$f":"(I27-MoyQuindHebdoOvins!H20)/MoyQuindHebdoOvins!H20","v":0.4465325709300173}]
[null,18,6.5,7.42,8.0799999237060547,8.36,9.69,8.00999998474121,10.79,-1.280878316559932E-2,0.11351909184726519,0.34706616985700361,{"$f":"(I28-MoyQuindHebdoOvins!H21)/MoyQuindHebdoOvins!H21","v":0.42966928479144906}]
[null,19,6.47,7.47,8.0600004196166992,8.2899999999999991,9.6199999999999992,7.9820000839233387,10.6,-1.7608897126969371E-2,0.10187110187110192,0.32798795897654925,{"$f":"(I29-MoyQuindHebdoOvins!H22)/MoyQuindHebdoOvins!H22","v":0.40830098556794575}]
[null,20,6.46,7.38,8.0600004196166992,8.2899999999999991,9.6300000000000008,7.9640000839233398,10.51,-8.4905660377358368E-3,9.1381100726895009E-2,0.31968858478745937,{"$f":"(I30-MoyQuindHebdoOvins!H23)/MoyQuindHebdoOvins!H23","v":0.40125858072663317}]
[null,21,6.47,7.31,7.929999828338623,8.24,9.5399999999999991,7.8979999656677249,10.35,-1.5223596574690785E-2,8.4905660377358555E-2,0.31045834958103524,{"$f":"(I31-MoyQuindHebdoOvins!H24)/MoyQuindHebdoOvins!H24","v":0.39187736112743127}]
["M",22,6.49,7.26,7.9699997901916504,8.19,9.5,7.88199995803833,10.34,-9.6618357487920654E-4,8.8421052631578928E-2,0.31184979130263996,{"$f":"(I32-MoyQuindHebdoOvins!H25)/MoyQuindHebdoOvins!H25","v":0.39285522794006128}]
[null,23,6.56,7.19,7.9200000762939453,8.18,9.48,7.8660000152587886,10.26,-7.7369439071566801E-3,8.2278481012658153E-2,0.30434782355672924,{"$f":"(I33-MoyQuindHebdoOvins!H26)/MoyQuindHebdoOvins!H26","v":0.38551287941318285}]
[null,24,6.58,7.09,7.9499998092651367,8.19,9.51,7.8639999618530272,10.25,-9.7465886939569074E-4,7.7812828601472164E-2,0.30340794121580206,{"$f":"(I34-MoyQuindHebdoOvins!H27)/MoyQuindHebdoOvins!H27","v":0.3861841479301194}]
[null,25,6.61,7.06,8,8.15,9.3800000000000008,7.8400000000000007,10.119999999999999,-1.2682926829268368E-2,7.8891257995735431E-2,0.29081632653061201,{"$f":"(I35-MoyQuindHebdoOvins!H28)/MoyQuindHebdoOvins!H28","v":0.36860326733744442}]
["J",26,6.6,6.98,7.9800000190734863,8.27,9.34,7.8340000038146966,9.98,-1.3833992094861542E-2,6.8522483940042886E-2,0.27393413264492317,{"$f":"(I36-MoyQuindHebdoOvins!H29)/MoyQuindHebdoOvins!H29","v":0.3493050664949669}]
[null,27,6.55,7.02,8.119999885559082,8.2100000000000009,9.26,7.8319999771118161,9.69,-2.9058116232465021E-2,4.6436285097192193E-2,0.23723187287001918,{"$f":"(I37-MoyQuindHebdoOvins!H30)/MoyQuindHebdoOvins!H30","v":0.30726890560482595}]
[null,28,6.58,6.99,8.0699996948242188,8.17,9.2799999999999994,7.817999938964844,9.5299999999999994,-1.6511867905056776E-2,2.6939655172413795E-2,0.2189818463034979,{"$f":"(I38-MoyQuindHebdoOvins!H31)/MoyQuindHebdoOvins!H31","v":0.2897899651454956}]
[null,29,6.64,7.06,8.0600004196166992,8.18,9.1999999999999993,7.8280000839233397,9.39,-1.4690451206715509E-2,2.0652173913043619E-2,0.19954009955679475,{"$f":"(I39-MoyQuindHebdoOvins!H32)/MoyQuindHebdoOvins!H32","v":0.26529400535961323}]
[null,30,6.71,7.02,8.0500001907348633,8.1199999999999992,9.1999999999999993,7.8200000381469721,9.25,-1.490947816826417E-2,5.4347826086957301E-3,0.18286444435771138,{"$f":"(I40-MoyQuindHebdoOvins!H33)/MoyQuindHebdoOvins!H33","v":0.2479762470145952}]
["J",31,6.77,7.04,8.0100002288818359,8.06,9.1300000000000008,7.8020000457763672,9.08,-1.8378378378378371E-2,-5.4764512595838668E-3,0.16380414595299592,{"$f":"(I41-MoyQuindHebdoOvins!H34)/MoyQuindHebdoOvins!H34","v":0.22583431427029252}]
[null,32,6.8,7.07,8.0200004577636719,8,9.1199999999999992,7.8020000915527348,8.92,-1.7621145374449355E-2,-2.1929824561403431E-2,0.14329657720175232,{"$f":"(I42-MoyQuindHebdoOvins!H35)/MoyQuindHebdoOvins!H35","v":0.20390863625420394}]
[null,33,6.83,7.04,8,8.02,9.14,7.806,8.8800000000000008,-4.4843049327353305E-3,-2.8446389496717701E-2,{"$f":"(I43-H43)/H43","v":0.13758647194465806},{"$f":"(I43-MoyQuindHebdoOvins!H36)/MoyQuindHebdoOvins!H36","v":0.19838056680161967}]
[null,34,6.83,7.18,8.0299997329711914,8,9.14,7.8359999465942378,8.68,-2.2522522522522639E-2,-5.0328227571116067E-2,0.10770802184252053,{"$f":"(I44-MoyQuindHebdoOvins!H37)/MoyQuindHebdoOvins!H37","v":0.16522580608330101}]
["A",35,6.91,7.25,7.9699997901916504,7.96,9.16,7.84999995803833,8.77,1.0368663594470031E-2,-4.2576419213973864E-2,0.11719745820120646,{"$f":"(I45-MoyQuindHebdoOvins!H38)/MoyQuindHebdoOvins!H38","v":0.17478434056088171}]
[null,36,6.99,7.29,8.0100002288818359,8,9.26,7.9100000457763668,8.6999999999999993,-7.9817559863170229E-3,-6.0475161987041094E-2,9.9873571384549081E-2,{"$f":"(I46-MoyQuindHebdoOvins!H39)/MoyQuindHebdoOvins!H39","v":0.15771543306605512}]
[null,37,6.98,7.36,8,7.98,9.36,7.9359999999999999,8.69,-1.1494252873562975E-3,-7.1581196581196577E-2,9.5010080645161241E-2,{"$f":"(I47-MoyQuindHebdoOvins!H40)/MoyQuindHebdoOvins!H40","v":0.15515499548040629}]
[null,38,6.92,7.37,7.9600000381469727,8.0399999999999991,9.4700000000000006,7.952000007629394,8.6999999999999993,1.1507479861909997E-3,-8.1309398099260966E-2,9.4064385268228259E-2,{"$f":"(I48-MoyQuindHebdoOvins!H41)/MoyQuindHebdoOvins!H41","v":0.15709953575124175}]
["S",39,7,7.44,7.9699997901916504,8.0399999999999991,9.58,8.0059999580383305,8.68,-2.2988505747125951E-3,-9.3945720250521961E-2,8.4186865537633104E-2,{"$f":"(I49-MoyQuindHebdoOvins!H42)/MoyQuindHebdoOvins!H42","v":0.14893843091195655}]
[null,40,7,7.46,7.9600000381469727,8.09,9.56,8.0140000076293951,8.6199999999999992,-6.9124423963134217E-3,-9.8326359832636115E-2,7.5617668055114426E-2,{"$f":"(I50-MoyQuindHebdoOvins!H43)/MoyQuindHebdoOvins!H43","v":0.13876558729315802}]
[null,41,7.02,7.53,7.9499998092651367,8.1999999999999993,9.6300000000000008,8.0659999618530271,8.7100000000000009,1.0440835266821536E-2,-9.5534787123572149E-2,7.9841314306059771E-2,{"$f":"(I51-MoyQuindHebdoOvins!H44)/MoyQuindHebdoOvins!H44","v":0.14394537068106972}]
[null,42,7.03,7.57,7.9600000381469727,8.34,9.67,8.1140000076293948,8.74,3.4443168771526242E-3,-9.617373319544982E-2,7.7150602881685112E-2,{"$f":"(I52-MoyQuindHebdoOvins!H45)/MoyQuindHebdoOvins!H45","v":0.14057524528341098}]
[null,43,7.02,7.6,8,8.35,9.67,8.1280000000000001,8.81,8.0091533180778347E-3,-8.8934850051706246E-2,8.3907480314960675E-2,{"$f":"(I53-MoyQuindHebdoOvins!H46)/MoyQuindHebdoOvins!H46","v":0.14707567314202383}]
["O",44,7.01,7.75,8.0399999618530273,8.44,9.7899999999999991,8.2059999923706037,8.81,0,-0.10010214504596514,7.3604680500969535E-2,{"$f":"(I54-MoyQuindHebdoOvins!H47)/MoyQuindHebdoOvins!H47","v":0.13747869782754854}]
[null,45,7,7.77,8.1499996185302734,8.5299999999999994,9.93,8.2759999237060544,8.8699999999999992,6.8104426787739744E-3,-0.10674723061430015,7.1773813650296309E-2,{"$f":"(I55-MoyQuindHebdoOvins!H48)/MoyQuindHebdoOvins!H48","v":0.13747115980233329}]
[null,46,7.07,7.84,8.2899999618530273,8.57,10.16,8.3859999923706052,9.02,1.6910935738444235E-2,-0.11220472440944887,7.5602195111637654E-2,{"$f":"(I56-MoyQuindHebdoOvins!H49)/MoyQuindHebdoOvins!H49","v":0.14472816011984091}]
[null,47,7.11,7.85,null,8.59,10.23,{"$f":"AVERAGE(C57:G57)","v":8.4450000000000003},null,-1,-1,-1,{"$f":"(I57-MoyQuindHebdoOvins!H50)/MoyQuindHebdoOvins!H50","v":-1}]
["N",48,7.2,7.97,8.5200004577636719,8.7200000000000006,10.33,8.5480000915527334,null,{"$f":"(I58-I57)/I57","v":{"$error":"#DIV/0!"}},-1,-1,{"$f":"(I58-MoyQuindHebdoOvins!H51)/MoyQuindHebdoOvins!H51","v":-1}]
[null,49,7.21,7.96,8.5100002288818359,8.73,10.46,8.5740000457763692,null,{"$error":"#DIV/0!"},-1,-1,{"$f":"(I59-MoyQuindHebdoOvins!H52)/MoyQuindHebdoOvins!H52","v":-1}]
[null,50,7.23,8.0399999999999991,8.5699996948242188,8.86,10.49,8.6379999389648425,null,{"$error":"#DIV/0!"},-1,-1,{"$f":"(I60-MoyQuindHebdoOvins!H53)/MoyQuindHebdoOvins!H53","v":-1}]
[null,51,7.25,8.06,8.5699996948242188,8.91,10.53,8.6639999389648441,null,{"$error":"#DIV/0!"},-1,-1,{"$f":"(I61-MoyQuindHebdoOvins!H54)/MoyQuindHebdoOvins!H54","v":-1}]
["D",52,7.3,8.07,8.5600004196166992,8.93,10.53,{"$f":"AVERAGE(C62:G62)","v":8.6780000839233402},null,{"$error":"#DIV/0!"},-1,-1,{"$f":"(I62-MoyQuindHebdoOvins!H55)/MoyQuindHebdoOvins!H55","v":-1}]
[null,53,7.26,null,null,null,null,7.26,null,{"$error":"#DIV/0!"},{"$error":"#DIV/0!"},-1,{"$f":"(I63-MoyQuindHebdoOvins!H56)/MoyQuindHebdoOvins!H56","v":-1}]
[null,"Moy.",{"$f":"AVERAGE(C11:C62)","v":6.7280769230769231},7.3686538461538467,7.9725490270876413,{"$f":"AVERAGE(F11:F63)","v":8.2553846190525935},{"$f":"AVERAGE(G11:G63)","v":9.4253846153846137},null,{"$f":"AVERAGE(I11:I63)","v":9.7171739130434744}]

{"sheet":"GraphOvins","index":32,"n_rows":34,"n_cols":8,"rows_kept":34,"cut":false,"hidden":false,"merged":[[19,5,19,6]]}
["COTATIONS AGNEAUX DE BOUCHERIE : ENTREE ABATTOIR"]
["Source : DRAAF Pays de la Loire-SRISE-FranceAgriMer"]
[]
["Agneau de boucherie : Prix \"entrée abattoir\" HT en EURO/Kg de carcasse (cinquième quartier inclus)"]
["Etat d'engraissement : couvert"]
[]
[]
[]
[]
[]
[]
[]
[]
[]
[]
[]
[]
[]
[]
["Moyenne Nationale hebdomadaire",null,null,null,"Date mise à jour :",{"$f":"'Ovins2020-2025'!K6","v":"2025-11-20"}]
["Prix moyen pondéré des agneaux"]
["Mois",2025,2024,2023,2022,2021,2020,"Moyenne quinquennale"]
["J",{"$f":"IF(('Ovins2020-2025'!I15)>0,AVERAGE('Ovins2020-2025'!I11:I15),NA())","v":10.391999999999999},8.8074999999999992,8.2625000476837158,7.7925000190734863,7.22,6.6159999999999997,{"$f":"SUMIF(C23:G23,\"<>#N/A\",C23:G23)/COUNTIF(C23:G23,\"<>#N/A\")","v":7.73970001335144}]
["F",{"$f":"IF(('Ovins2020-2025'!I19)>0,AVERAGE('Ovins2020-2025'!I16:I19),NA())","v":9.8324999999999996},8.5250000000000004,7.9224999999999994,7.5350000858306885,6.9824999999999999,6.4349999999999996,{"$f":"SUMIF(C24:G24,\"<>#N/A\",C24:G24)/COUNTIF(C24:G24,\"<>#N/A\")","v":7.4800000171661383}]
["M",{"$f":"IF(('Ovins2020-2025'!I23)>0,AVERAGE('Ovins2020-2025'!I20:I23),NA())","v":10.1275},9.0024999999999995,8.0879999999999992,7.5700000762939457,7.298,6.5724999999999998,7.7062000152587888]
["A",{"$f":"IF(('Ovins2020-2025'!I27)>0,AVERAGE('Ovins2020-2025'!I24:I27),NA())","v":10.862499999999999},9.5474999999999994,8.4749999999999996,8.0349997282028198,7.5274999999999999,6.31,7.978999945640564]
["M",{"$f":"IF(('Ovins2020-2025'!I32)>0,AVERAGE('Ovins2020-2025'!I28:I32),NA())","v":10.518000000000001},9.64,8.2949999999999999,8.032500147819519,7.3949999999999996,6.4725000000000001,7.967000029563903]
["J",{"$f":"IF(('Ovins2020-2025'!I36)>0,AVERAGE('Ovins2020-2025'!I33:I36),NA())","v":10.1525},9.5075000000000003,8.195999999999998,7.9639999389648439,7.1159999999999997,6.5875000000000004,7.8741999877929674]
["J",{"$f":"IF(('Ovins2020-2025'!I41)>0,AVERAGE('Ovins2020-2025'!I37:I41),NA())","v":9.3879999999999999},9.3149999999999995,8.17,8.0750000476837158,7.0225,6.65,7.8465000095367428]
["A",{"$f":"IF(('Ovins2020-2025'!I45)>0,AVERAGE('Ovins2020-2025'!I42:I45),NA())","v":8.8125},9.1624999999999996,8.0079999999999991,8.0150001049041748,7.0824999999999996,6.8425000000000002,7.8221000209808356]
["S",{"$f":"IF(('Ovins2020-2025'!I49)>0,AVERAGE('Ovins2020-2025'!I46:I49),NA())","v":8.692499999999999},9.1750000000000007,8.0150000000000006,7.9899999300638838,7.3150000000000004,6.9779999999999998,7.8945999860127767]
["O",{"$f":"IF(('Ovins2020-2025'!I54)>0,AVERAGE('Ovins2020-2025'!I50:I54),NA())","v":8.7380000000000013},9.4924999999999997,8.2449999999999992,7.9674999713897705,7.54,7.02,8.052999994277954]
["N",{"$f":"IF(('Ovins2020-2025'!I58)>0,AVERAGE('Ovins2020-2025'!I55:I58),NA())","v":{"$error":"#N/A"}},9.69,8.5699999999999985,null,7.8025000000000002,7.1,6.6325000000000003]
["D",{"$f":"IF(('Ovins2020-2025'!I61)>0,AVERAGE('Ovins2020-2025'!I59:I61),NA())","v":{"$error":"#N/A"}},10.1625,null,8.5460000991821286,8.02,7.25,6.7957000198364259]

{"sheet":"VolaillesLapinsOeufs","index":33,"n_rows":59,"n_cols":74,"rows_kept":59,"cut":false,"hidden":false,"merged":[[1,63,1,73],[2,3,2,4],[2,0,2,2],[3,52,3,59],[4,37,4,43],[4,2,4,8],[4,9,4,15],[4,16,4,22],[4,23,4,29],[4,30,4,36],[4,44,4,50],[5,63,5,65],[5,66,5,68],[5,69,5,71],[2,63,4,63],[2,64,4,64],[2,65,4,65],[2,66,4,66],[2,67,4,67],[2,68,4,68],[5,72,5,73],[2,69,4,69],[2,70,4,70],[2,71,4,71],[2,72,4,72],[2,73,4,73]]}
["COTATIONS VOLAILLES, LAPINS, ŒUFS"]
["Sources : FranceAgriMer – RNM  :   Prix relevés sur le marché de Rungis,  TNO \"les marchés\"",null,null,null,null,null,null,null,null,null,null,null,null,null,null,null,null,null,null,null,null,null,null,null,null,null,null,null,null,null,null,null,null,null,null,null,null,null,null,null,null,null,null,null,null,null,null,null,null,null,null,null,null,null,null,null,null,null,null,null,null,null,null,"Evolution (remplissage automatique)"]
["Date mise à jour :",null,null,"2025-11-21",null,null,null,null,null,null,null,null,null,null,null,null,null,null,null,null,null,null,null,null,null,null,null,null,null,null,null,null,null,null,null,null,null,null,null,null,null,null,null,null,null,null,null,null,null,null,null,null,null,null,null,null,null,null,null,null,null,null,null,"Evolution / \nsemaine -1","Evolution /\nsemaine id 2024","Evolution/\nsemaine id moy. 5 ans","Evolution / \nsemaine -1","Evolution /\nsemaine id 2024","Evolution/\nsemaine id moy. 5 ans","Evolution / \nsemaine -1","Evolution /\nsemaine id 2024","Evolution/\nsemaine id moy. 5 ans","Evolution / \nsemaine -1","Evolution /\nsemaine id 2024"]
["Message 4007",null,null,null,null,null,null,null,null,null,null,null,null,null,null,null,null,null,null,null,null,null,null,null,null,null,null,null,null,null,null,null,null,null,null,null,null,null,null,null,null,null,null,null,null,null,null,null,null,null,null,null,"Moyennes mensuelles (remplissage automatique)"]
[null,null,"Poulet prêt à cuire (PAC) frais standard\n€/Kg net\nRNM",null,null,null,null,null,null,"Poulet prêt à cuire (PAC)  frais label\n€/Kg net\nRNM",null,null,null,null,null,null,"Filet de dinde France standard\n€/Kg net\nRNM",null,null,null,null,null,null,"Filet de canard de Barbarie France standard\n€/Kg net\nRNM",null,null,null,null,null,null,"Pintade entière effilé France label\n€/Kg net\nRNM",null,null,null,null,null,null,"Lapin entier France standard\n€/Kg net",null,null,null,null,null,null,"TNO\nOeufs moyen calibre (53-63 g) Tendance nationale officieuse \"les marchés\" \n(€/100 œufs)",null,null,null,null,null,null,null,"Mois","Poulet PAC frais standard","Poulet PAC frais label","Filet de dinde France standard","Filet de canard de Barbarie France standard","Pintade entière effilé France label","Lapin entier France standard","TNO"]
["Mois","Sem.",2020,2021,2022,2023,2024,2025,"Moyenne \n5 ans",2020,2021,2022,2023,2024,2025,"Moyenne \n5 ans",2020,2021,2022,2023,2024,2025,"Moyenne \n5 ans",2020,2021,2022,2023,2024,2025,"Moyenne \n5 ans",2020,2021,2022,2023,2024,2025,"Moyenne \n5 ans",2020,2021,2022,2023,2024,2025,"Moyenne \n5 ans",2020,2021,2022,2023,2024,2025,"Moyenne \n5 ans",null,"J",{"$f":"IF((H11)>0,AVERAGE(H7:H11),NA())","v":3.1},{"$f":"IF((O11)>0,AVERAGE(O7:O11),NA())","v":5.2},{"$f":"IF((V11)>0,AVERAGE(V7:V11),NA())","v":7.1},{"$f":"IF((AC11)>0,AVERAGE(AC7:AC11),NA())","v":12.5},{"$f":"IF((AJ11)>0,AVERAGE(AJ7:AJ11),NA())","v":7},{"$f":"IF((AQ11)>0,AVERAGE(AQ7:AQ11),NA())","v":6.5},{"$f":"IF((AX11)>0,AVERAGE(AX7:AX11),NA())","v":13.988},null,null,null,"Pintade entière effilé France label",null,null,"Filet de canard de Barbarie France standard",null,null,"Lapin entier France standard",null,null,"TNO"]
[2025,1,2.2999999999999998,2.2000000000000002,2.35,3,3,3.1,{"$f":"AVERAGE($C7:$G7)","v":2.57},4.0999999999999996,4,4.2,5.0999999999999996,5.0999999999999996,5.2,{"$f":"AVERAGE($J7:$N7)","v":4.5},5.3,5.4,5.5,6.8,7,7.1,{"$f":"AVERAGE($Q7:$U7)","v":6},10.8,10.4,10.7,12.3,12.5,12.5,{"$f":"AVERAGE($X7:$AB7)","v":11.34},5,4.9000000000000004,5.15,6.5,6.5,7,{"$f":"AVERAGE($AE7:$AI7)","v":5.61},4.9000000000000004,5.3,5,6.4,6.5,6.5,{"$f":"AVERAGE($AL7:$AP7)","v":5.62},8.67,5.22,9.3299999237060547,15.380000114440918,14.43,14.21,{"$f":"AVERAGE($AS7:$AW7)","v":10.606000007629394},null,"F",{"$f":"IF((H15)>0,AVERAGE(H12:H15),NA())","v":3.1},{"$f":"IF((O15)>0,AVERAGE(O12:O15),NA())","v":5.2},{"$f":"IF((V15)>0,AVERAGE(V12:V15),NA())","v":7.1},{"$f":"IF((AC15)>0,AVERAGE(AC12:AC15),NA())","v":12.5},{"$f":"IF((AJ15)>0,AVERAGE(AJ12:AJ15),NA())","v":7},{"$f":"IF((AQ15)>0,AVERAGE(AQ12:AQ15),NA())","v":6.5},{"$f":"IF((AX15)>0,AVERAGE(AX12:AX15),NA())","v":14.532500000000001},null,null,null,null,{"$f":"(AJ7-AI7)/AI7","v":7.6923076923076927E-2},{"$f":"(AJ7-AK7)/AK7","v":0.24777183600713004},null,{"$f":"(AC7-AB7)/AB7","v":0},{"$f":"(AC7-AD7)/AD7","v":0.10229276895943563},null,{"$f":"(AQ7-AP7)/AP7","v":0},{"$f":"(AQ7-AR7)/AR7","v":0.1565836298932384},null,{"$f":"(AX7-AW7)/AW7","v":-1.5246015246015168E-2}]
[null,2,2.2999999999999998,2.2000000000000002,2.35,3,3,3.1,{"$f":"AVERAGE($C8:$G8)","v":2.57},4.0999999999999996,4,4.2,5.0999999999999996,5.0999999999999996,5.2,{"$f":"AVERAGE($J8:$N8)","v":4.5},5.3,5.4,5.5,6.8,7,7.1,{"$f":"AVERAGE($Q8:$U8)","v":6},10.8,10.4,10.7,12.5,12.5,12.5,{"$f":"AVERAGE($X8:$AB8)","v":11.38},5,4.9000000000000004,5.15,6.5,6.5,7,{"$f":"AVERAGE($AE8:$AI8)","v":5.61},4.9000000000000004,5.3,5,6.4,6.5,6.5,{"$f":"AVERAGE($AL8:$AP8)","v":5.62},8.27,5.15,9.0799999237060547,15.380000114440918,14.28,13.93,{"$f":"AVERAGE($AS8:$AW8)","v":10.432000007629394},null,"M",{"$f":"IF((H19)>0,AVERAGE(H16:H19),NA())","v":3.2250000000000005},{"$f":"IF((O19)>0,AVERAGE(O16:O19),NA())","v":5.25},{"$f":"IF((V19)>0,AVERAGE(V16:V19),NA())","v":7.3},{"$f":"IF((AC19)>0,AVERAGE(AC16:AC19),NA())","v":12.5},{"$f":"IF((AJ19)>0,AVERAGE(AJ16:AJ19),NA())","v":7.3},{"$f":"IF((AQ19)>0,AVERAGE(AQ16:AQ19),NA())","v":6.5},{"$f":"IF((AX19)>0,AVERAGE(AX16:AX19),NA())","v":17.157499999999999},null,null,null,{"$f":"(AJ8-AJ7)/AJ7","v":0},{"$f":"(AJ8-AI8)/AI8","v":7.6923076923076927E-2},{"$f":"(AJ8-AK8)/AK8","v":0.24777183600713004},{"$f":"(AC8-AC7)/AC7","v":0},{"$f":"(AC8-AB8)/AB8","v":0},{"$f":"(AC8-AD8)/AD8","v":9.8418277680140526E-2},{"$f":"(AQ8-AQ7)/AQ7","v":0},{"$f":"(AQ8-AP8)/AP8","v":0},{"$f":"(AQ8-AR8)/AR8","v":0.1565836298932384},{"$f":"(AX8-AX7)/AX7","v":-1.9704433497537026E-2},{"$f":"(AX8-AW8)/AW8","v":-2.4509803921568603E-2}]
[null,3,2.2999999999999998,2.2000000000000002,2.35,3,3,3.1,{"$f":"AVERAGE($C9:$G9)","v":2.57},4.0999999999999996,4,4.2,5.0999999999999996,5.0999999999999996,5.2,4.5,5.3,5.4,5.5,6.8,7,7.1,6,10.8,10.4,10.7,12.5,12.5,12.5,11.38,5,4.9000000000000004,5.15,6.5,6.5,7,{"$f":"AVERAGE($AE9:$AI9)","v":5.61},4.9000000000000004,5.3,5,6.4,6.5,6.5,{"$f":"AVERAGE($AL9:$AP9)","v":5.62},7.83,5.32,9.0500001907348633,15.380000114440918,14.03,13.85,10.322000061035157,null,"A",{"$f":"IF((H23)>0,AVERAGE(H20:H23),NA())","v":3.3},{"$f":"IF((O23)>0,AVERAGE(O20:O23),NA())","v":5.4},{"$f":"IF((V23)>0,AVERAGE(V20:V23),NA())","v":7.375},{"$f":"IF((AC23)>0,AVERAGE(AC20:AC23),NA())","v":12.5},{"$f":"IF((AJ23)>0,AVERAGE(AJ20:AJ23),NA())","v":7.3},{"$f":"IF((AQ23)>0,AVERAGE(AQ20:AQ23),NA())","v":6.5},{"$f":"IF((AX23)>0,AVERAGE(AX20:AX23),NA())","v":17.892500000000002},null,null,null,{"$f":"(AJ9-AJ8)/AJ8","v":0},7.6923076923076927E-2,0.24777183600713004,{"$f":"(AC9-AC8)/AC8","v":0},0,9.8418277680140526E-2,{"$f":"(AQ9-AQ8)/AQ8","v":0},0,0.1565836298932384,{"$f":"(AX9-AX8)/AX8","v":-5.7430007178750951E-3},-1.2829650748396274E-2]
[null,4,2.2999999999999998,2.2000000000000002,2.35,3,3,3.1,2.57,4.0999999999999996,4,4.2,5.0999999999999996,5.0999999999999996,5.2,4.5,5.3,5.4,5.5,6.8,7,7.1,6,10.8,10.4,10.7,12.5,12.5,12.5,11.38,5,4.9000000000000004,5.15,6.5,6.5,7,5.61,4.9000000000000004,5.3,5,6.4,6.5,6.5,5.62,7.52,5.58,9.0500001907348633,15.380000114440918,13.73,13.88,10.252000061035156,null,"M",{"$f":"IF((H28)>0,AVERAGE(H24:H28),NA())","v":3.3600000000000003},{"$f":"IF((O28)>0,AVERAGE(O24:O28),NA())","v":5.58},{"$f":"IF((V28)>0,AVERAGE(V24:V28),NA())","v":7.4800000000000013},{"$f":"IF((AC28)>0,AVERAGE(AC24:AC28),NA())","v":12.5},{"$f":"IF((AJ28)>0,AVERAGE(AJ24:AJ28),NA())","v":7.3599999999999994},{"$f":"IF((AQ28)>0,AVERAGE(AQ24:AQ28),NA())","v":6.5},{"$f":"IF((AX28)>0,AVERAGE(AX24:AX28),NA())","v":17.042000000000002},null,null,null,0,7.6923076923076927E-2,0.24777183600713004,0,0,9.8418277680140526E-2,0,0,0.1565836298932384,2.1660649819495404E-3,1.092498179169704E-2]
["J",5,2.2999999999999998,2.2000000000000002,2.35,3,3,3.1,2.57,4.0999999999999996,4,4.2,5.0999999999999996,5.0999999999999996,5.2,4.5,5.3,5.4,5.5,6.8,7,7.1,6,10.8,10.4,10.7,12.5,12.5,12.5,{"$f":"AVERAGE($X11:$AB11)","v":11.38},5,4.9000000000000004,5.15,6.5,6.5,7,5.61,4.9000000000000004,5.3,5,6.4,6.5,6.5,5.62,7.35,5.8,9,15.38,13.48,14.07,10.202000000000002,null,"J",{"$f":"IF((H32)>0,AVERAGE(H29:H32),NA())","v":3.6500000000000004},{"$f":"IF((O32)>0,AVERAGE(O29:O32),NA())","v":5.7},{"$f":"IF((V32)>0,AVERAGE(V29:V32),NA())","v":8.0500000000000007},{"$f":"IF((AC32)>0,AVERAGE(AC29:AC32),NA())","v":12.725000000000001},{"$f":"IF((AJ32)>0,AVERAGE(AJ29:AJ32),NA())","v":7.55},{"$f":"IF((AQ32)>0,AVERAGE(AQ29:AQ32),NA())","v":6.3000000000000007},{"$f":"IF((AX32)>0,AVERAGE(AX29:AX32),NA())","v":16.25},null,null,null,0,7.6923076923076927E-2,0.24777183600713004,0,0,9.8418277680140526E-2,0,0,0.1565836298932384,1.3688760806916389E-2,4.3768545994065267E-2]
[null,6,2.2999999999999998,2.2999999999999998,2.35,3,3,3.1,2.59,4.0999999999999996,4,4.2,5.0999999999999996,5.0999999999999996,5.2,4.5,5.3,5.5,5.5,6.8,7,7.1,6.0200000000000005,10.8,10.4,10.9,12.5,12.5,12.5,11.42,5,4.9000000000000004,5.15,6.5,6.5,7,{"$f":"AVERAGE($AE12:$AI12)","v":5.61},4.8,5.5,5,6.4,6.5,6.5,5.6400000000000006,7.31,6.05,9.0799999237060547,15.48,13.35,14.2,10.253999984741212,null,"J",{"$f":"IF((H37)>0,AVERAGE(H33:H37),NA())","v":3.7},{"$f":"IF((O37)>0,AVERAGE(O33:O37),NA())","v":5.7},{"$f":"IF((V37)>0,AVERAGE(V33:V37),NA())","v":8.5800000000000018},{"$f":"IF((AC37)>0,AVERAGE(AC33:AC37),NA())","v":12.8},{"$f":"IF((AJ37)>0,AVERAGE(AJ33:AJ37),NA())","v":7.9599999999999991},{"$f":"IF((AQ37)>0,AVERAGE(AQ33:AQ37),NA())","v":6.1},{"$f":"IF((AX37)>0,AVERAGE(AX33:AX37),NA())","v":16.2},null,null,null,0,7.6923076923076927E-2,0.24777183600713004,0,0,9.4570928196147111E-2,0,0,0.15248226950354599,9.2395167022031981E-3,6.3670411985018702E-2]
[null,7,2.2999999999999998,2.2999999999999998,2.35,3,3,3.1,2.59,4.0999999999999996,4,4.2,5.0999999999999996,5.0999999999999996,5.2,4.5,5.3,5.5,5.5,6.8,7.1,7.1,6.0400000000000009,10.8,10.4,10.9,12.5,12.5,12.5,11.42,5,4.9000000000000004,5.15,6.5,6.5,7,5.61,4.8,5.5,5,6.4,6.5,6.5,5.6400000000000006,7.43,6.27,9.25,15.63,13.47,14.3,10.41,null,"A",{"$f":"IF((H41)>0,AVERAGE(H38:H41),NA())","v":3.7},{"$f":"IF((O41)>0,AVERAGE(O38:O41),NA())","v":5.7},{"$f":"IF((V41)>0,AVERAGE(V38:V41),NA())","v":8.6},{"$f":"IF((AC41)>0,AVERAGE(AC38:AC41),NA())","v":12.8},{"$f":"IF((AJ41)>0,AVERAGE(AJ38:AJ41),NA())","v":8},{"$f":"IF((AQ41)>0,AVERAGE(AQ38:AQ41),NA())","v":6.1},{"$f":"IF((AX41)>0,AVERAGE(AX38:AX41),NA())","v":16.137499999999999},null,null,null,0,{"$f":"(AJ13-AI13)/AI13","v":7.6923076923076927E-2},0.24777183600713004,0,0,9.4570928196147111E-2,0,0,0.15248226950354599,7.0422535211268613E-3,6.161841128433556E-2]
[null,8,2.2999999999999998,2.2999999999999998,2.35,3,3,3.1,2.59,4.0999999999999996,4.05,4.3,5.0999999999999996,5.0999999999999996,5.2,4.5299999999999994,5.3,5.5,5.5,6.8,7.1,7.1,6.0400000000000009,10.8,10.6,10.9,12.5,12.5,12.5,11.459999999999999,5,5.15,5.3,6.5,6.5,7,5.6899999999999995,4.8,5.5,5,6.4,6.5,6.5,5.6400000000000006,7.7,6.64,9.4499998092651367,15.83,13.72,14.6,10.667999961853027,null,"S",{"$f":"IF((H45)>0,AVERAGE(H42:H45),NA())","v":3.7},{"$f":"IF((O45)>0,AVERAGE(O42:O45),NA())","v":5.7},{"$f":"IF((V45)>0,AVERAGE(V42:V45),NA())","v":8.6999999999999993},{"$f":"IF((AC45)>0,AVERAGE(AC42:AC45),NA())","v":12.8},{"$f":"IF((AJ45)>0,AVERAGE(AJ42:AJ45),NA())","v":8},{"$f":"IF((AQ45)>0,AVERAGE(AQ42:AQ45),NA())","v":6.625},{"$f":"IF((AX45)>0,AVERAGE(AX42:AX45),NA())","v":16.112500000000001},null,null,null,0,7.6923076923076927E-2,0.23022847100175758,0,0,9.0750436300174611E-2,0,0,0.15248226950354599,2.0979020979020904E-2,6.413994169096203E-2]
["F",9,2.2999999999999998,2.35,2.35,3,3,3.1,2.6,4.0999999999999996,4.0999999999999996,4.3,5.0999999999999996,5.0999999999999996,5.2,4.5400000000000009,5.3,5.5,5.5,6.8,7.1,7.1,6.0400000000000009,10.8,10.6,11,12.5,12.5,12.5,11.48,5,5.15,5.3,6.5,6.5,7,5.6899999999999995,4.8,5.5,5,6.4,6.5,6.5,5.6400000000000006,7.89,6.98,9.7100000381469727,16.03,13.9,15.03,10.902000007629395,null,"O",{"$f":"IF((H50)>0,AVERAGE(H46:H50),NA())","v":3.7},{"$f":"IF((O50)>0,AVERAGE(O46:O50),NA())","v":5.7},{"$f":"IF((V50)>0,AVERAGE(V46:V50),NA())","v":8.6999999999999993},{"$f":"IF((AC50)>0,AVERAGE(AC46:AC50),NA())","v":12.8},{"$f":"IF((AJ50)>0,AVERAGE(AJ46:AJ50),NA())","v":8},{"$f":"IF((AQ50)>0,AVERAGE(AQ46:AQ50),NA())","v":7},{"$f":"IF((AX50)>0,AVERAGE(AX46:AX50),NA())","v":16.558},null,null,null,0,7.6923076923076927E-2,0.23022847100175758,0,0,8.8850174216027838E-2,0,0,0.15248226950354599,2.9452054794520528E-2,8.1294964028776909E-2]
[null,10,2.2999999999999998,2.35,2.35,3,3,3.2,2.6,4.0999999999999996,4.0999999999999996,4.3,5.0999999999999996,5.0999999999999996,5.2,4.5400000000000009,5.3,5.5,5.5,6.8,7.1,7.3,6.0400000000000009,10.8,10.6,11,12.5,12.5,12.5,11.48,5,5.15,5.3,6.5,6.5,7.3,5.6899999999999995,4.8,5.5,5,6.4,6.5,6.5,5.6400000000000006,8.09,7.1,10.180000305175781,16.190000000000001,14,15.9,11.112000061035156,null,"N",{"$f":"IF((H54)>0,AVERAGE(H51:H54),NA())","v":{"$error":"#N/A"}},{"$f":"IF((O54)>0,AVERAGE(O51:O54),NA())","v":{"$error":"#N/A"}},{"$f":"IF((V54)>0,AVERAGE(V51:V54),NA())","v":{"$error":"#N/A"}},{"$f":"IF((AC54)>0,AVERAGE(AC51:AC54),NA())","v":{"$error":"#N/A"}},{"$f":"IF((AJ54)>0,AVERAGE(AJ51:AJ54),NA())","v":{"$error":"#N/A"}},{"$f":"IF((AQ54)>0,AVERAGE(AQ51:AQ54),NA())","v":{"$error":"#N/A"}},{"$f":"IF((AX54)>0,AVERAGE(AX51:AX54),NA())","v":{"$error":"#N/A"}},null,null,null,4.285714285714283E-2,0.12307692307692306,0.28295254833040429,0,0,8.8850174216027838E-2,0,0,0.15248226950354599,5.7884231536926213E-2,0.13571428571428573]
[null,11,2.2999999999999998,2.35,2.5499999999999998,3,3,3.2,2.6399999999999997,4.0999999999999996,4.0999999999999996,4.4000000000000004,5.0999999999999996,5.0999999999999996,5.2,4.5599999999999996,5.3,5.5,5.6,6.8,7.1,7.3,6.06,10.8,10.6,11.4,12.5,12.5,12.5,11.559999999999999,5,5.15,5.45,6.5,6.5,7.3,5.7200000000000006,4.8,5.5,5,6.4,6.5,6.5,5.6400000000000006,8.44,7.1,10.779999732971191,16.34,14.05,16.829999999999998,11.341999946594237,null,"D",{"$f":"IF((H58)>0,AVERAGE(H55:H58),NA())","v":{"$error":"#N/A"}},{"$f":"IF((O58)>0,AVERAGE(O55:O58),NA())","v":{"$error":"#N/A"}},{"$f":"IF((V58)>0,AVERAGE(V55:V58),NA())","v":{"$error":"#N/A"}},{"$f":"IF((AC58)>0,AVERAGE(AC55:AC58),NA())","v":{"$error":"#N/A"}},{"$f":"IF((AJ58)>0,AVERAGE(AJ55:AJ58),NA())","v":{"$error":"#N/A"}},{"$f":"IF((AQ58)>0,AVERAGE(AQ55:AQ58),NA())","v":{"$error":"#N/A"}},{"$f":"IF((AX58)>0,AVERAGE(AX55:AX58),NA())","v":{"$error":"#N/A"}},null,null,null,0,0.12307692307692306,0.27622377622377603,0,0,8.1314878892733686E-2,0,0,0.15248226950354599,5.8490566037735718E-2,0.19786476868327385]
[null,12,2.35,2.35,2.6,3,3,3.2,2.66,4.0999999999999996,4.2,4.5,5.0999999999999996,5.0999999999999996,5.2,4.5999999999999996,5.3,5.5,5.6,6.8,7.1,7.3,6.06,10.7,10.6,11.5,12.5,12.5,12.5,11.559999999999999,5,5.15,5.5,6.5,6.5,7.3,5.7299999999999995,4.8,5.5,5,6.4,6.5,6.5,5.6400000000000006,8.5299999999999994,7.07,11.380000114440918,16.48,14.15,17.77,11.522000022888182,null,null,null,null,null,null,null,null,null,null,null,null,0,0.12307692307692306,0.27399650959860389,0,0,8.1314878892733686E-2,0,0,0.15248226950354599,5.5852644087938288E-2,0.25583038869257946]
["M",13,2.2999999999999998,2.35,2.75,3,3,3.3,2.68,4.0999999999999996,4.2,4.5999999999999996,5.0999999999999996,5.0999999999999996,5.4,4.62,5.3,5.5,5.7,6.8,7.1,7.3,6.08,10.5,10.6,11.7,12.5,12.5,12.5,11.559999999999999,4.9000000000000004,5.15,5.5,6.5,6.5,7.3,5.71,4.8,5.5,5,6.4,6.5,6.5,5.6400000000000006,8.4499999999999993,7.08,12.140000343322754,16.53,14.2,18.13,11.680000068664551,null,null,null,null,null,null,null,null,null,null,null,null,0,0.12307692307692306,0.27845884413309979,0,0,8.1314878892733686E-2,0,0,0.15248226950354599,2.0258863252673013E-2,0.27676056338028171]
[null,14,2.2999999999999998,2.35,2.75,3,3,3.3,2.68,4.0999999999999996,4.2,4.7,5.0999999999999996,5.0999999999999996,5.4,4.6400000000000006,5.3,5.5,5.8,6.8,7.1,7.3,6.1,10.5,10.6,11.9,12.5,12.5,12.5,11.6,4.9000000000000004,5.15,5.6,6.5,6.5,7.3,5.7299999999999995,4.5999999999999996,5.5,5.3,6.4,6.5,6.5,5.6599999999999993,8.27,7.1,12.699999809265137,16.53,14.2,18.149999999999999,11.759999961853026,null,null,null,null,null,null,null,null,null,null,null,null,0,0.12307692307692306,0.27399650959860389,0,0,7.7586206896551754E-2,0,0,0.148409893992933,1.1031439602867939E-3,0.278169014084507]
[null,15,2.2999999999999998,2.35,2.75,3,3,3.3,2.68,4.0999999999999996,4.2,4.7,5.0999999999999996,5.0999999999999996,5.4,4.6400000000000006,5.3,5.5,5.9,6.8,7.1,7.4,6.12,10.5,10.6,11.9,12.5,12.5,12.5,11.6,4.9000000000000004,5.15,5.7,6.5,6.5,7.3,5.75,4.5999999999999996,5.5,5.3,6.4,6.5,6.5,5.6599999999999993,8.1999999999999993,7.05,12.779999732971191,16.53,14.2,18.02,11.751999946594239,null,null,null,null,null,null,null,null,null,null,null,null,0,0.12307692307692306,0.26956521739130429,0,0,7.7586206896551754E-2,0,0,0.148409893992933,-7.1625344352616539E-3,0.26901408450704228]
[null,16,2.2999999999999998,2.35,2.75,3,3,3.3,2.68,4.0999999999999996,4.2,4.7,5.0999999999999996,5.0999999999999996,5.4,4.6400000000000006,5.3,5.5,5.9,6.8,7.1,7.4,6.12,10.5,10.6,11.9,12.5,12.5,12.5,11.6,4.9000000000000004,5.15,5.7,6.5,6.5,7.3,5.75,4.5999999999999996,5.3,5.3,6.4,6.5,6.5,5.62,8.23,6.97,12.800000190734863,16.440000000000001,14.15,17.850000000000001,11.718000038146972,null,null,null,null,null,null,null,null,null,null,null,null,0,0.12307692307692306,0.26956521739130429,0,0,7.7586206896551754E-2,0,0,0.1565836298932384,-9.4339622641508407E-3,0.26148409893992941]
["A",17,2.2999999999999998,2.35,2.75,3,3,3.3,2.68,4.0999999999999996,4.2,4.7,5.0999999999999996,5.0999999999999996,5.4,4.6400000000000006,5.3,5.5,5.9,6.8,7.1,7.4,6.12,10.4,10.6,11.9,12.5,12.5,12.5,11.58,4.9000000000000004,5.15,5.7,6.5,6.5,7.3,5.75,4.5999999999999996,5,5.3,6.4,6.5,6.5,5.56,8.5,6.82,12.78,16.43,13.95,17.55,11.696000000000002,null,null,null,null,null,null,null,null,null,null,null,null,0,0.12307692307692306,0.26956521739130429,0,0,7.9447322970639028E-2,0,0,0.16906474820143894,-1.6806722689075668E-2,0.25806451612903236]
[null,18,2.2999999999999998,2.35,2.75,3,3,3.3,2.68,4.0999999999999996,4.2,4.7,5.0999999999999996,5.0999999999999996,5.4,4.6400000000000006,5.3,5.5,5.9,6.8,7.1,7.4,6.12,10.4,10.6,11.9,12.5,12.5,12.5,11.58,4.9000000000000004,5.15,5.8,6.5,6.5,7.3,5.7700000000000005,4.5999999999999996,4.9000000000000004,5.3,6.3,6.5,6.5,5.5200000000000005,8.75,6.75,12.63,16.23,13.65,17.38,11.602,null,null,null,null,null,null,null,null,null,null,null,null,0,0.12307692307692306,0.265164644714038,0,0,7.9447322970639028E-2,0,0,0.17753623188405787,-9.6866096866097835E-3,0.27326007326007318]
[null,19,2.2999999999999998,2.35,2.9,3,3,3.3,2.71,4.0999999999999996,4.2,4.8,5.0999999999999996,5.0999999999999996,5.4,4.660000000000001,5.3,5.5,5.9,6.8,7.1,7.4,6.12,10.4,10.6,12,12.5,12.5,12.5,11.6,4.9000000000000004,5.15,5.8,6.5,6.5,7.3,5.7700000000000005,4.5999999999999996,4.9000000000000004,5.3,6.3,6.5,6.5,5.5200000000000005,8.85,6.8,12.53,16.05,13.3,17.3,11.506,null,null,null,null,null,null,null,null,null,null,null,null,0,0.12307692307692306,0.265164644714038,0,0,7.7586206896551754E-2,0,0,0.17753623188405787,-4.6029919447639987E-3,0.3007518796992481]
[null,20,2.2999999999999998,2.35,2.9,3,3,3.4,2.71,4.0999999999999996,4.2,4.8,5.0999999999999996,5.0999999999999996,5.7,4.660000000000001,5.3,5.5,5.9,6.8,7.1,7.4,6.12,10.4,10.6,12,12.5,12.5,12.5,11.6,4.9000000000000004,5.15,5.8,6.5,6.5,7.4,5.7700000000000005,4.5999999999999996,4.9000000000000004,5.3,6.2,6.5,6.5,5.5,8.82,7.05,12.5,15.8,12.76,17.03,11.385999999999999,null,null,null,null,null,null,null,null,null,null,null,null,1.3698630136986375E-2,0.13846153846153852,0.28249566724436737,0,0,7.7586206896551754E-2,0,0,0.18181818181818182,-1.5606936416184946E-2,0.33463949843260199]
[null,21,2.2999999999999998,2.35,2.9,3,3,3.4,2.71,4.0999999999999996,4.2,4.8,5.0999999999999996,5.0999999999999996,5.7,4.660000000000001,5.3,5.5,5.9,6.8,7.1,7.6,6.12,10.4,10.6,12,12.5,12.5,12.5,11.6,4.9000000000000004,5.15,5.8,6.5,6.5,7.4,5.7700000000000005,4.5999999999999996,4.9000000000000004,5.3,6.2,6.5,6.5,5.5,8.6,7.38,12.48,15.4,12.23,16.8,11.218,null,null,null,null,null,null,null,null,null,null,null,null,0,0.13846153846153852,0.28249566724436737,0,0,7.7586206896551754E-2,0,0,0.18181818181818182,-1.3505578391074599E-2,0.37367130008176613]
["M",22,2.2999999999999998,2.35,2.9,3,3,3.4,2.71,4.0999999999999996,4.2,4.8,5.0999999999999996,5.0999999999999996,5.7,4.660000000000001,5.3,5.5,5.9,6.8,7.1,7.6,6.12,10.4,10.6,12,12.5,12.5,12.5,11.6,4.9000000000000004,5.15,5.8,6.5,6.5,7.4,5.7700000000000005,4.5999999999999996,4.7,5.3,5.9,6.5,6.5,5.4,8.2799999999999994,7.58,12.38,14.86,11.88,16.7,10.996,null,null,null,null,null,null,null,null,null,null,null,null,0,0.13846153846153852,0.28249566724436737,0,0,7.7586206896551754E-2,0,0,0.20370370370370364,-5.9523809523810371E-3,0.4057239057239056]
[null,23,2.2999999999999998,2.35,3,3,3,3.6,2.73,4.0999999999999996,4.2,4.9000000000000004,5.0999999999999996,5.0999999999999996,5.7,4.68,5.3,5.5,5.9,6.8,7.1,7.6,6.12,10.4,10.6,12,12.5,12.5,12.5,11.6,4.9000000000000004,5.15,5.8,6.5,6.5,7.4,5.7700000000000005,4.4000000000000004,4.5,5.3,5.9,6.5,6.5,5.32,7.83,7.6,11.98,14.34,11.34,16.399999999999999,10.618,null,null,null,null,null,null,null,null,null,null,null,null,0,0.13846153846153852,0.28249566724436737,0,0,7.7586206896551754E-2,0,0,0.22180451127819542,-1.796407185628747E-2,0.44620811287477946]
[null,24,2.2999999999999998,2.35,3,3,3,3.6,2.73,4.0999999999999996,4.2,4.9000000000000004,5.0999999999999996,5.0999999999999996,5.7,4.68,5.4,5.5,5.9,6.8,7.1,8.1999999999999993,6.1400000000000006,10.4,10.6,12,12.5,12.5,12.8,11.6,4.9000000000000004,5.15,5.8,6.5,6.5,7.4,5.7700000000000005,4.4000000000000004,4.5,5.3,5.8,6.5,6.5,5.3,7.35,7.51,11.78,13.8,11.06,16.2,10.3,null,null,null,null,null,null,null,null,null,null,null,null,0,0.13846153846153852,0.28249566724436737,2.4000000000000056E-2,2.4000000000000056E-2,0.10344827586206906,0,0,0.22641509433962267,-1.2195121951219469E-2,0.46473779385171776]
[null,25,2.2000000000000002,2.35,3,3,3,3.7,2.71,4,4.2,4.9000000000000004,5.0999999999999996,5.0999999999999996,5.7,4.6599999999999993,5.4,5.5,5.9,6.8,7.1,8.1999999999999993,6.1400000000000006,10.4,10.6,12,12.5,12.5,12.8,11.6,4.9000000000000004,5.15,5.8,6.5,6.5,7.7,5.7700000000000005,4.3,4.4000000000000004,5.3,5.8,6.5,6.1,5.26,6.96,7.18,11.78,13.2,10.83,16.2,9.99,null,null,null,null,null,null,null,null,null,null,null,null,4.0540540540540515E-2,0.18461538461538465,0.33448873483535518,0,2.4000000000000056E-2,0.10344827586206906,-6.153846153846159E-2,-6.153846153846159E-2,0.15969581749049427,0,0.49584487534626032]
["J",26,2.2000000000000002,2.35,3,3,3,3.7,2.71,4,4.2,4.9000000000000004,5.0999999999999996,5.0999999999999996,5.7,4.6599999999999993,5.4,5.5,5.9,6.8,7.1,8.1999999999999993,6.1400000000000006,10.4,10.6,12,12.5,12.5,12.8,11.6,4.9000000000000004,5.15,5.8,6.5,6.5,7.7,5.7700000000000005,4.3,4.4000000000000004,5.3,5.8,6.5,6.1,5.26,6.74,6.78,11.78,12.45,10.63,16.2,9.6760000000000002,null,null,null,null,null,null,null,null,null,null,null,null,0,0.18461538461538465,0.33448873483535518,0,2.4000000000000056E-2,0.10344827586206906,0,-6.153846153846159E-2,0.15969581749049427,0,0.52398871119473167]
[null,27,2.2000000000000002,2.35,3,3,3,3.7,2.71,4,4.2,4.9000000000000004,5.0999999999999996,5.0999999999999996,5.7,4.6599999999999993,5.4,5.5,5.9,6.8,7.1,8.5,6.1400000000000006,10.4,10.6,12,12.5,12.5,12.8,11.6,4.9000000000000004,5.15,5.8,6.5,6.5,7.8,5.7700000000000005,4.3,4.4000000000000004,5.3,5.7,6.5,6.1,5.24,6.63,6.47,11.78,11.7,10.46,16.2,9.4079999999999995,null,null,null,null,null,null,null,null,null,null,null,null,1.2987012987012941E-2,0.19999999999999998,0.35181975736568444,0,2.4000000000000056E-2,0.10344827586206906,0,-6.153846153846159E-2,0.16412213740458004,0,0.54875717017208392]
[null,28,2.2000000000000002,2.35,3,3,3,3.7,2.71,4,4.2,4.9000000000000004,5.0999999999999996,5.0999999999999996,5.7,4.6599999999999993,5.4,5.5,5.9,6.8,7.1,8.6,6.1400000000000006,10.4,10.6,12,12.5,12.5,12.8,11.6,4.9000000000000004,5.15,5.8,6.5,6.5,8,5.7700000000000005,4.3,4.4000000000000004,5.3,5.7,6.5,6.1,5.24,6.63,6.38,11.93,11.23,null,16.2,9.0425000000000004,null,null,null,null,null,null,null,null,null,null,null,null,2.5641025641025664E-2,0.23076923076923078,0.38648180242634306,0,2.4000000000000056E-2,0.10344827586206906,0,-6.153846153846159E-2,0.16412213740458004,0,{"$error":"#DIV/0!"}]
[null,29,2.2000000000000002,2.35,3,3,3,3.7,2.71,4,4.2,4.9000000000000004,5.0999999999999996,5.0999999999999996,5.7,4.6599999999999993,5.4,5.5,5.9,6.8,7.1,8.6,6.1400000000000006,10.4,10.6,12,12.5,12.5,12.8,11.6,4.9000000000000004,5.15,5.8,6.5,6.5,8,5.7700000000000005,4.3,4.4000000000000004,5.2,5.7,6.5,6.1,5.22,6.53,6.43,12.159999847412109,10.75,10.43,16.2,9.259999969482422,null,null,null,null,null,null,null,null,null,null,null,null,0,0.23076923076923078,0.38648180242634306,0,2.4000000000000056E-2,0.10344827586206906,0,-6.153846153846159E-2,0.16858237547892718,0,0.55321188878235861]
[null,30,2.2000000000000002,2.35,3,3,3,3.7,2.71,4,4.2,4.9000000000000004,5.0999999999999996,5.0999999999999996,5.7,4.6599999999999993,5.4,5.5,5.9,6.8,7.1,8.6,6.1400000000000006,10.4,10.6,12,12.5,12.5,12.8,11.6,4.9000000000000004,5.15,5.8,6.5,6.5,8,5.7700000000000005,4.3,4.4000000000000004,5.2,5.7,6.5,6.1,5.22,6.28,6.51,12.460000038146973,10.050000000000001,10.38,16.2,9.136000007629395,null,null,null,null,null,null,null,null,null,null,null,null,0,0.23076923076923078,0.38648180242634306,0,2.4000000000000056E-2,0.10344827586206906,0,-6.153846153846159E-2,0.16858237547892718,0,0.56069364161849689]
["J",31,2.2000000000000002,2.35,3,3,3,3.7,2.71,4,4.2,4.9000000000000004,5.0999999999999996,5.0999999999999996,5.7,4.6599999999999993,5.4,5.5,5.9,6.8,7.1,8.6,6.1400000000000006,10.4,10.6,12,12.5,12.5,12.8,11.6,4.9000000000000004,5.15,5.8,6.5,6.5,8,5.7700000000000005,4.3,4.4000000000000004,5.2,5.7,6.5,6.1,5.22,5.98,6.68,12.649999618530273,9.4499999999999993,null,16.2,8.6899999046325682,null,null,null,null,null,null,null,null,null,null,null,null,0,0.23076923076923078,0.38648180242634306,0,2.4000000000000056E-2,0.10344827586206906,0,-6.153846153846159E-2,0.16858237547892718,0,{"$error":"#DIV/0!"}]
[null,32,2.2000000000000002,2.35,3,3,3,3.7,2.71,4,4.2,4.9000000000000004,5.0999999999999996,5.0999999999999996,5.7,4.6599999999999993,5.4,5.5,5.9,6.8,7.1,8.6,6.1400000000000006,10.4,10.6,12,12.5,12.5,12.8,11.6,4.9000000000000004,5.15,5.8,6.5,6.5,8,5.7700000000000005,4.3,4.4000000000000004,5.2,5.7,6.5,6.1,5.22,5.8,6.98,12.869999885559082,9.25,null,16.16,8.7249999713897708,null,null,null,null,null,null,null,null,null,null,null,null,0,0.23076923076923078,0.38648180242634306,0,2.4000000000000056E-2,0.10344827586206906,0,-6.153846153846159E-2,0.16858237547892718,-2.4691358024690833E-3,{"$error":"#DIV/0!"}]
[null,33,2.2000000000000002,2.35,3,3,3,3.7,2.71,4,4.2,4.9000000000000004,5.0999999999999996,5.0999999999999996,5.7,4.6599999999999993,5.4,5.5,5.9,6.8,7.1,8.6,6.1400000000000006,10.4,10.6,12,12.5,12.5,12.8,11.6,4.9000000000000004,5.15,5.8,6.5,6.5,8,5.7700000000000005,4.3,4.4000000000000004,5.2,5.7,6.5,6.1,5.22,5.8,7.39,13.020000457763672,9.23,9.8800000000000008,16.13,9.0640000915527352,null,null,null,null,null,null,null,null,null,null,null,null,0,0.23076923076923078,0.38648180242634306,0,2.4000000000000056E-2,0.10344827586206906,0,-6.153846153846159E-2,0.16858237547892718,-1.8564356435644268E-3,0.63259109311740869]
[null,34,2.2000000000000002,2.35,3,3,3,3.7,2.71,4,4.2,4.9000000000000004,5.0999999999999996,5.0999999999999996,5.7,4.6599999999999993,5.4,5.5,5.9,6.8,7.1,8.6,6.1400000000000006,10.4,10.6,12,12.5,12.5,12.8,11.6,4.9000000000000004,5.15,5.8,6.5,6.5,8,5.7700000000000005,4.3,4.4000000000000004,5.2,5.7,6.5,6.1,5.22,5.8,7.83,13.100000381469727,9.42,9.82,16.13,9.1940000762939444,null,null,null,null,null,null,null,null,null,null,null,null,0,0.23076923076923078,0.38648180242634306,0,2.4000000000000056E-2,0.10344827586206906,0,-6.153846153846159E-2,0.16858237547892718,0,0.64256619144602833]
["A",35,2.2000000000000002,2.35,3,3,3,3.7,2.71,4,4.2,4.9000000000000004,5.0999999999999996,5.0999999999999996,5.7,4.6599999999999993,5.4,5.5,6,6.8,7.1,8.6,6.1599999999999993,10.4,10.6,12,12.5,12.5,12.8,11.6,4.9000000000000004,5.15,5.8,6.5,6.5,8,5.7700000000000005,4.5,4.4000000000000004,5.2,5.7,6.5,6.1,5.26,5.95,8.14,13.260000228881836,9.77,9.83,16.13,9.3900000457763664,null,null,null,null,null,null,null,null,null,null,null,null,0,0.23076923076923078,0.38648180242634306,0,2.4000000000000056E-2,0.10344827586206906,0,-6.153846153846159E-2,0.15969581749049427,0,0.64089521871820943]
[null,36,2.2000000000000002,2.35,3,3,3,3.7,2.71,4,4.2,5,5.0999999999999996,5.2,5.7,4.6999999999999993,5.4,5.5,6.4,6.8,7.1,8.6999999999999993,6.24,10.4,10.6,12,12.5,12.5,12.8,11.6,4.9000000000000004,5.15,5.8,6.5,6.8,8,5.83,4.5999999999999996,4.4000000000000004,5.2,5.7,6.5,6.1,5.2799999999999994,6.28,8.35,13.520000457763672,10.119999999999999,10.16,16.12,9.6860000915527333,null,null,null,null,null,null,null,null,null,null,null,null,0,0.17647058823529416,0.37221269296740994,0,2.4000000000000056E-2,0.10344827586206906,0,-6.153846153846159E-2,0.15530303030303039,-6.1996280223174279E-4,0.58661417322834652]
[null,37,2.2000000000000002,2.35,3,3,3,3.7,2.71,4,4.2,5.0999999999999996,5.0999999999999996,5.2,5.7,4.72,5.4,5.5,6.5,6.8,7.1,8.6999999999999993,6.26,10.4,10.6,12,12.5,12.5,12.8,11.6,4.9000000000000004,5.15,5.9,6.5,6.8,8,5.8500000000000005,4.7,4.4000000000000004,5.3,5.7,6.5,6.6,5.32,6.7,8.58,13.75,10.5,10.68,16.100000000000001,10.042,null,null,null,null,null,null,null,null,null,null,null,null,0,0.17647058823529416,0.36752136752136738,0,2.4000000000000056E-2,0.10344827586206906,8.1967213114754106E-2,1.538461538461533E-2,0.24060150375939837,-1.2406947890818594E-3,0.50749063670411998]
[null,38,2.2000000000000002,2.35,3,3,3,3.7,2.71,4,4.2,5.0999999999999996,5.0999999999999996,5.2,5.7,4.72,5.4,5.5,6.6,6.8,7.1,8.6999999999999993,6.2799999999999994,10.4,10.6,12,12.5,12.5,12.8,11.6,4.9000000000000004,5.15,5.9,6.5,6.8,8,5.8500000000000005,4.7,4.4000000000000004,5.4,5.7,6.5,6.9,5.3400000000000007,6.97,8.77,14.050000190734863,10.82,11.18,16.100000000000001,10.358000038146972,null,null,null,null,null,null,null,null,null,null,null,null,0,0.17647058823529416,0.36752136752136738,0,2.4000000000000056E-2,0.10344827586206906,4.5454545454545567E-2,6.153846153846159E-2,0.29213483146067404,0,0.44007155635062628]
["S",39,2.2000000000000002,2.35,3,3,3,3.7,2.71,4,4.2,5.0999999999999996,5.0999999999999996,5.2,5.7,4.72,5.4,5.5,6.7,6.8,7.1,8.6999999999999993,6.3,10.4,10.6,12,12.5,12.5,12.8,11.6,4.9000000000000004,5.15,5.9,6.5,7,8,5.8900000000000006,4.7,4.4000000000000004,5.4,5.7,6.5,6.9,5.3400000000000007,6.99,8.7799999999999994,14.329999923706055,10.98,11.63,16.13,10.541999984741212,null,null,null,null,null,null,null,null,null,null,null,null,0,0.14285714285714285,0.35823429541595914,0,2.4000000000000056E-2,0.10344827586206906,0,6.153846153846159E-2,0.29213483146067404,1.8633540372669304E-3,0.38693035253654323]
[null,40,2.2000000000000002,2.35,3,3,3,3.7,2.71,4,4.2,5.0999999999999996,5.0999999999999996,5.2,5.7,4.72,5.4,5.5,6.7,6.8,7.1,8.6999999999999993,6.3,10.4,10.6,12,12.5,12.5,12.8,11.6,4.9000000000000004,5.15,5.9,6.5,7,8,5.8900000000000006,4.7,4.4000000000000004,5.6,5.7,6.5,7,5.3800000000000008,6.64,8.7799999999999994,14.5,11.18,11.87,16.149999999999999,10.593999999999998,null,null,null,null,null,null,null,null,null,null,null,null,0,0.14285714285714285,0.35823429541595914,0,2.4000000000000056E-2,0.10344827586206906,1.4492753623188354E-2,7.6923076923076927E-2,0.30111524163568754,1.2399256044637059E-3,0.3605728727885425]
[null,41,2.2000000000000002,2.35,3,3,3,3.7,2.71,4,4.2,5.0999999999999996,5.0999999999999996,5.2,5.7,4.72,5.4,5.5,6.7,6.8,7.1,8.6999999999999993,6.3,10.4,10.6,12,12.5,12.5,12.8,11.6,4.9000000000000004,5.15,5.9,6.5,7,8,5.8900000000000006,4.7,4.4000000000000004,5.6,5.7,6.5,7,5.3800000000000008,6.22,8.7799999999999994,14.640000343322754,11.44,12.21,16.38,10.658000068664551,null,null,null,null,null,null,null,null,null,null,null,null,0,0.14285714285714285,0.35823429541595914,0,2.4000000000000056E-2,0.10344827586206906,0,7.6923076923076927E-2,0.30111524163568754,1.4241486068111483E-2,0.34152334152334135]
[null,42,2.2000000000000002,2.35,3,3,3.1,3.7,2.73,4,4.2,5.0999999999999996,5.0999999999999996,5.2,5.7,4.72,5.4,5.5,6.7,6.8,7.1,8.6999999999999993,6.3,10.4,10.6,12,12.5,12.5,12.8,11.6,4.9000000000000004,5.15,5.9,6.5,7,8,5.8900000000000006,5.2,4.5,5.6,5.8,6.5,7,5.52,5.82,8.7799999999999994,14.800000190734863,11.73,12.6,16.53,10.746000038146972,null,null,null,null,null,null,null,null,null,null,null,null,0,0.14285714285714285,0.35823429541595914,0,2.4000000000000056E-2,0.10344827586206906,0,7.6923076923076927E-2,0.26811594202898559,9.157509157509288E-3,0.31190476190476202]
[null,43,2.2000000000000002,2.35,3,3,3.1,3.7,2.73,4,4.2,5.0999999999999996,5.0999999999999996,5.2,5.7,4.72,5.4,5.5,6.7,6.9,7.1,8.6999999999999993,6.32,10.4,10.6,12,12.5,12.5,12.8,11.6,4.9000000000000004,5.15,5.9,6.5,7,8,5.8900000000000006,5.2,4.5,5.6,6.1,6.5,7,5.58,5.31,8.65,14.899999618530273,12.09,12.98,16.8,10.785999923706054,null,null,null,null,null,null,null,null,null,null,null,null,0,0.14285714285714285,0.35823429541595914,0,2.4000000000000056E-2,0.10344827586206906,0,7.6923076923076927E-2,0.25448028673835121,1.6333938294010864E-2,0.29429892141756547]
["O",44,2.2000000000000002,2.35,3,3,3.1,3.7,2.73,4,4.2,5.0999999999999996,5.0999999999999996,5.2,5.7,4.72,5.4,5.5,6.7,6.9,7.1,8.6999999999999993,6.32,10.4,10.7,12,12.5,12.5,12.8,11.620000000000001,4.9000000000000004,5.15,5.9,6.5,7,8,5.8900000000000006,5.2,4.9000000000000004,6,6.3,6.5,7,5.78,5.37,8.42,14.989999771118164,12.51,13.28,16.93,10.913999954223632,null,null,null,null,null,null,null,null,null,null,null,null,0,0.14285714285714285,0.35823429541595914,0,2.4000000000000056E-2,0.10154905335628224,0,7.6923076923076927E-2,0.21107266435986155,7.7380952380951785E-3,0.27484939759036148]
[null,45,2.2000000000000002,2.35,3,3,3.1,3.7,2.73,4,4.2,5.0999999999999996,5.0999999999999996,5.2,5.7,4.72,5.4,5.5,6.7,6.9,7.1,8.6999999999999993,6.32,10.4,10.7,12,12.5,12.5,12.8,11.620000000000001,4.9000000000000004,5.15,5.9,6.5,7,8,5.8900000000000006,5.2,4.9000000000000004,6.3,6,6.5,7,5.78,5.93,8.35,15.050000190734863,13.11,13.6,17.059999999999999,11.208000038146974,null,null,null,null,null,null,null,null,null,null,null,null,0,0.14285714285714285,0.35823429541595914,0,2.4000000000000056E-2,0.10154905335628224,0,7.6923076923076927E-2,0.21107266435986155,7.6786769049024817E-3,0.25441176470588228]
[null,46,2.2000000000000002,2.35,3,3,3.1,3.7,2.73,4,4.2,5.0999999999999996,5.0999999999999996,5.2,5.7,4.72,5.4,5.5,6.7,6.9,7.1,8.6999999999999993,6.32,10.4,10.7,12,12.5,12.5,12.8,11.620000000000001,4.9000000000000004,5.15,5.9,6.5,7,8,5.8900000000000006,5.2,4.9000000000000004,6.4,6.5,6.5,7,5.9,6.27,8.4700000000000006,15.109999656677246,13.63,13.88,17.3,11.47199993133545,null,null,null,null,null,null,null,null,null,null,null,null,0,0.14285714285714285,0.35823429541595914,{"$f":"(AC52-AC51)/AC51","v":0},2.4000000000000056E-2,0.10154905335628224,0,7.6923076923076927E-2,0.18644067796610161,1.4067995310668347E-2,0.24639769452449567]
[null,47,2.2000000000000002,2.35,3,3,3.1,3.7,2.73,4,4.2,5.0999999999999996,5.0999999999999996,5.2,5.7,4.72,5.4,5.5,6.8,7,7.1,8.6999999999999993,6.3599999999999994,10.4,10.7,12,12.5,12.5,12.8,11.620000000000001,4.9000000000000004,5.15,5.9,6.5,7,8,5.8900000000000006,5.2,4.9000000000000004,6.4,6.5,6.5,7,5.9,6.1,8.7799999999999994,15.159999847412109,13.89,14.13,null,11.611999969482422,null,null,null,null,null,null,null,null,null,null,null,null,0,0.14285714285714285,0.35823429541595914,0,2.4000000000000056E-2,0.10154905335628224,0,7.6923076923076927E-2,0.18644067796610161,-1,-1]
["N",48,2.2000000000000002,2.35,3,3,3.1,null,2.73,4,4.2,5.0999999999999996,5.0999999999999996,5.2,null,4.72,5.4,5.5,6.8,7,7.1,null,6.3599999999999994,10.4,10.7,12,12.5,12.5,null,11.620000000000001,4.9000000000000004,5.15,6,6.5,7,null,5.91,5.2,4.9000000000000004,6.4,6.5,6.5,null,5.9,5.9,9.0399999999999991,15.229999542236328,14,14.33,null,{"$f":"AVERAGE($AS54:$AW54)","v":11.699999908447264},null,null,null,null,null,null,null,null,null,null,null,null,-1,-1,-1,-1,-1,-1,-1,-1,-1,{"$error":"#DIV/0!"},-1]
[null,49,2.2000000000000002,2.35,3,3,3.1,null,2.73,4,4.2,5.0999999999999996,5.0999999999999996,5.2,null,4.72,5.4,5.5,6.8,7,7.1,null,6.3599999999999994,10.4,10.7,12.3,12.5,12.5,null,11.680000000000001,4.9000000000000004,5.15,6.1,6.5,7,null,5.93,5.2,5,6.4,6.5,6.5,null,5.92,5.85,9.17,15.289999961853027,14.12,14.38,null,11.761999992370606,null,null,null,null,null,null,null,null,null,null,null,null,{"$error":"#DIV/0!"},-1,-1,{"$error":"#DIV/0!"},-1,-1,{"$error":"#DIV/0!"},-1,-1,{"$error":"#DIV/0!"},-1]
[null,50,2.2000000000000002,2.35,3,3,3.1,null,2.73,4,4.2,5.0999999999999996,5.0999999999999996,5.2,null,4.72,5.4,5.5,6.8,7,7.1,null,6.3599999999999994,10.4,10.7,12.3,12.5,12.5,null,11.680000000000001,4.9000000000000004,5.15,6.1,6.5,7,null,5.93,5.3,5,6.4,6.5,6.5,null,5.94,5.85,9.4499999999999993,15.359999656677246,14.26,14.38,null,11.859999931335448,null,null,null,null,null,null,null,null,null,null,null,null,{"$error":"#DIV/0!"},-1,-1,{"$error":"#DIV/0!"},-1,-1,{"$error":"#DIV/0!"},-1,-1,{"$error":"#DIV/0!"},-1]
[null,51,2.2000000000000002,2.35,3,3,3.1,null,2.73,4,4.2,5.0999999999999996,5.0999999999999996,5.2,null,4.72,5.4,5.5,6.8,7,7.1,null,6.3599999999999994,10.4,10.7,12.3,12.5,12.5,null,{"$f":"AVERAGE($X57:$AB57)","v":11.680000000000001},4.9000000000000004,5.15,6.4,6.5,7,null,5.99,5.3,5,6.4,6.5,6.5,null,5.94,null,9.6,15.380000114440918,14.34,null,null,13.106666704813639,null,null,null,null,null,null,null,null,null,null,null,null,{"$error":"#DIV/0!"},-1,-1,{"$error":"#DIV/0!"},-1,-1,{"$error":"#DIV/0!"},-1,-1,{"$error":"#DIV/0!"},{"$error":"#DIV/0!"}]
["D",52,2.2000000000000002,2.35,3,3,3.1,null,2.73,4,4.2,5.0999999999999996,5.0999999999999996,5.2,null,4.72,5.4,5.5,6.8,7,7.1,null,6.3599999999999994,10.4,10.7,12.3,12.5,12.5,null,11.680000000000001,4.9000000000000004,5.15,6.5,6.5,7,null,6.01,5.3,5,6.4,6.5,6.5,null,{"$f":"AVERAGE($AL58:$AP58)","v":5.94},null,9.4700000000000006,15.380000114440918,14.41,14.34,null,13.400000028610229,null,null,null,null,null,null,null,null,null,null,null,null,{"$error":"#DIV/0!"},-1,-1,{"$error":"#DIV/0!"},-1,-1,{"$error":"#DIV/0!"},-1,-1,{"$error":"#DIV/0!"},-1]
[null,null,null,null,null,null,null,null,{"$f":"AVERAGE($C59:$G59)","v":{"$error":"#DIV/0!"}},null,null,null,null,null,null,{"$f":"AVERAGE($J59:$N59)","v":{"$error":"#DIV/0!"}}]

{"sheet":"GraphVolaillesOeufsLapins","index":34,"n_rows":171,"n_cols":10,"rows_kept":171,"cut":false,"hidden":false,"merged":[[120,0,120,2],[119,0,119,2],[115,0,115,7],[117,0,118,2],[122,0,122,2],[121,0,121,2],[150,0,150,1],[149,0,149,1],[148,0,148,1],[147,0,147,1],[146,0,146,1],[145,0,145,1],[144,0,144,1],[143,0,143,1],[142,0,142,1],[141,0,141,1],[140,0,140,1],[139,0,139,1],[125,0,125,2],[124,0,124,2],[123,0,123,2],[130,0,130,2],[129,0,129,2],[128,0,128,2],[127,0,127,2],[126,0,126,2],[138,0,138,1],[136,0,137,1],[117,8,118,8],[98,9,99,9],[117,9,118,9],[155,9,156,9],[3,9,4,9],[134,0,134,9],[136,9,137,9],[3,8,4,8],[22,8,23,8],[41,8,42,8],[60,8,61,8],[79,8,80,8],[98,8,99,8],[155,8,156,8],[136,8,137,8],[131,0,131,2],[21,0,21,7],[22,9,23,9],[41,9,42,9],[60,9,61,9],[79,9,80,9]]}
[{"$f":"VolaillesLapinsOeufs!A3","v":"Date mise à jour :"},{"$f":"VolaillesLapinsOeufs!D3","v":"2025-11-21"}]
["Cotation"]
["Poulet prêt à cuire frais standard",null,null,null,null,null,null,null,"Moyennes mensuelles    €/Kg net"]
[null,2019,2020,2021,2022,2023,2024,2025,"N/N-1","Moyenne quinquennale"]
["Mois","N-5","N-5","N-4","N-3","N-2","N-1","N"]
["Janvier",2.2999999999999998,2.2999999999999998,2.2000000000000002,2.35,3,3,{"$f":"IF((VolaillesLapinsOeufs!BB6)>0,VolaillesLapinsOeufs!BB6,NA())","v":3.1},{"$f":"IF(H6=\"\",NA(),(H6-G6)/G6)","v":3.3333333333333361E-2},{"$f":"SUMIF(C6:G6,\"<>#N/A\",C6:G6)/COUNTIF(C6:G6,\"<>#N/A\")","v":2.57}]
["Février",2.2999999999999998,2.2999999999999998,2.2749999999999999,2.35,3,3,{"$f":"IF((VolaillesLapinsOeufs!BB7)>0,VolaillesLapinsOeufs!BB7,NA())","v":3.1},{"$f":"IF(H7=\"\",NA(),(H7-G7)/G7)","v":3.3333333333333361E-2},{"$f":"SUMIF(C7:G7,\"<>#N/A\",C7:G7)/COUNTIF(C7:G7,\"<>#N/A\")","v":2.585}]
["Mars",2.2999999999999998,2.3125,2.35,2.52,3,3,{"$f":"IF((VolaillesLapinsOeufs!BB8)>0,VolaillesLapinsOeufs!BB8,NA())","v":3.2250000000000005},7.5000000000000178E-2,2.6364999999999998]
["Avril",2.2999999999999998,2.31,2.35,2.75,3,3,{"$f":"IF((VolaillesLapinsOeufs!BB9)>0,VolaillesLapinsOeufs!BB9,NA())","v":3.3},9.9999999999999936E-2,2.6819999999999999]
["Mai",2.2999999999999998,2.2999999999999998,2.35,2.8625000000000003,3,3,{"$f":"IF((VolaillesLapinsOeufs!BB10)>0,VolaillesLapinsOeufs!BB10,NA())","v":3.3600000000000003},0.12000000000000011,2.7025000000000001]
["Juin",2.2999999999999998,2.25,2.35,2.98,3,3,{"$f":"IF((VolaillesLapinsOeufs!BB11)>0,VolaillesLapinsOeufs!BB11,NA())","v":3.6500000000000004},0.21666666666666679,2.7160000000000002]
["Juillet",2.2999999999999998,2.2000000000000002,2.35,3,3,3,{"$f":"IF((VolaillesLapinsOeufs!BB12)>0,VolaillesLapinsOeufs!BB12,NA())","v":3.7},0.23333333333333339,2.71]
["Août",2.2999999999999998,2.2000000000000002,2.35,3,3,3,{"$f":"IF((VolaillesLapinsOeufs!BB13)>0,VolaillesLapinsOeufs!BB13,NA())","v":3.7},0.23333333333333339,2.71]
["Septembre",2.2999999999999998,2.2000000000000002,2.35,3,3,3,{"$f":"IF((VolaillesLapinsOeufs!BB14)>0,VolaillesLapinsOeufs!BB14,NA())","v":3.7},0.23333333333333339,2.71]
["Octobre",2.2999999999999998,2.2000000000000002,2.35,3,3,3.0599999999999996,{"$f":"IF((VolaillesLapinsOeufs!BB15)>0,VolaillesLapinsOeufs!BB15,NA())","v":3.7},0.20915032679738582,2.722]
["Novembre",2.2999999999999998,2.2000000000000002,2.35,3,3,3.1,{"$f":"IF((VolaillesLapinsOeufs!BB16)>0,VolaillesLapinsOeufs!BB16,NA())","v":{"$error":"#N/A"}},{"$error":"#N/A"},2.73]
["Décembre",2.2999999999999998,2.2000000000000002,2.35,3,3,3.1,{"$f":"IF((VolaillesLapinsOeufs!BB17)>0,VolaillesLapinsOeufs!BB17,NA())","v":{"$error":"#N/A"}},{"$error":"#N/A"},2.73]
["Moyenne annuelle :",{"$f":"AVERAGE(B6:B17)","v":2.3000000000000003},{"$f":"AVERAGE(C6:C17)","v":2.2477083333333332},2.3312500000000003,2.8177083333333335,3,3.0216666666666665,{"$f":"SUMIF(H6:H17,\"<>#N/A\",H6:H17)/COUNTIF(H6:H17,\"<>#N/A\")","v":3.4534999999999996},{"$f":"SUMIF(I6:I17,\"<>#N/A\",I6:I17)/COUNTIF(I6:I17,\"<>#N/A\")","v":0.14874836601307195},{"$f":"SUMIF(J6:J17,\"<>#N/A\",J6:J17)/COUNTIF(J6:J17,\"<>#N/A\")","v":2.6836666666666669}]
["Source : FranceAgriMer – RNM  :   Prix relevés sur le marché de Rungis"]
[]
["Cotation"]
["Poulet frais prêt à cuire label",null,null,null,null,null,null,null,"Moyennes mensuelles    €/Kg net"]
[null,2019,2020,2021,2022,2023,2024,2025,"N/N-1","Moyenne quinquennale"]
["Mois","N-5","N-5","N-4","N-3","N-2","N-1","N"]
["Janvier",4.0999999999999996,4.0999999999999996,4,4.2,5.0999999999999996,5.0999999999999996,{"$f":"IF((VolaillesLapinsOeufs!BC6)>0,VolaillesLapinsOeufs!BC6,NA())","v":5.2},{"$f":"IF(H25=\"\",NA(),(H25-G25)/G25)","v":1.9607843137255009E-2},{"$f":"SUMIF(C25:G25,\"<>#N/A\",C25:G25)/COUNTIF(C25:G25,\"<>#N/A\")","v":4.5}]
["Février",4.0999999999999996,4.0999999999999996,4.0125000000000002,4.2250000000000005,5.0999999999999996,5.0999999999999996,{"$f":"IF((VolaillesLapinsOeufs!BC7)>0,VolaillesLapinsOeufs!BC7,NA())","v":5.2},{"$f":"IF(H26=\"\",NA(),(H26-G26)/G26)","v":1.9607843137255009E-2},{"$f":"SUMIF(C26:G26,\"<>#N/A\",C26:G26)/COUNTIF(C26:G26,\"<>#N/A\")","v":4.5075000000000003}]
["Mars",4.0999999999999996,4.0999999999999996,4.1399999999999997,4.42,5.0999999999999996,5.0999999999999996,{"$f":"IF((VolaillesLapinsOeufs!BC8)>0,VolaillesLapinsOeufs!BC8,NA())","v":5.25},2.9411764705882425E-2,4.5720000000000001]
["Avril",4.0999999999999996,4.0999999999999996,4.2,4.7,5.0999999999999996,5.0999999999999996,{"$f":"IF((VolaillesLapinsOeufs!BC9)>0,VolaillesLapinsOeufs!BC9,NA())","v":5.4},5.8823529411764851E-2,4.6400000000000006]
["Mai",4.0999999999999996,4.0999999999999996,4.2,4.7750000000000004,5.0999999999999996,5.0999999999999996,{"$f":"IF((VolaillesLapinsOeufs!BC10)>0,VolaillesLapinsOeufs!BC10,NA())","v":5.58},9.4117647058823625E-2,4.6549999999999994]
["Juin",4.0999999999999996,4.05,4.2,4.88,5.0999999999999996,5.0999999999999996,{"$f":"IF((VolaillesLapinsOeufs!BC11)>0,VolaillesLapinsOeufs!BC11,NA())","v":5.7},0.11764705882352952,4.6659999999999995]
["Juillet",4.0999999999999996,4,4.2,4.9000000000000004,5.0999999999999996,5.0999999999999996,{"$f":"IF((VolaillesLapinsOeufs!BC12)>0,VolaillesLapinsOeufs!BC12,NA())","v":5.7},0.11764705882352952,4.6599999999999993]
["Août",4.0999999999999996,4,4.2,4.9000000000000004,5.0999999999999996,5.0999999999999996,{"$f":"IF((VolaillesLapinsOeufs!BC13)>0,VolaillesLapinsOeufs!BC13,NA())","v":5.7},0.11764705882352952,4.6599999999999993]
["Septembre",4.0999999999999996,4,4.2,5.0400000000000009,5.0999999999999996,5.2,{"$f":"IF((VolaillesLapinsOeufs!BC14)>0,VolaillesLapinsOeufs!BC14,NA())","v":5.7},9.6153846153846145E-2,4.7080000000000002]
["Octobre",4.0999999999999996,4,4.2,5.0999999999999996,5.0999999999999996,5.2,{"$f":"IF((VolaillesLapinsOeufs!BC15)>0,VolaillesLapinsOeufs!BC15,NA())","v":5.7},9.6153846153846145E-2,4.72]
["Novembre",4.0999999999999996,4,4.2,5.0999999999999996,5.0999999999999996,5.2,{"$f":"IF((VolaillesLapinsOeufs!BC16)>0,VolaillesLapinsOeufs!BC16,NA())","v":{"$error":"#N/A"}},{"$error":"#N/A"},4.72]
["Décembre",4.0999999999999996,4,4.2,5.0999999999999996,5.0999999999999996,5.2,{"$f":"IF((VolaillesLapinsOeufs!BC17)>0,VolaillesLapinsOeufs!BC17,NA())","v":{"$error":"#N/A"}},{"$error":"#N/A"},4.72]
["Moyenne annuelle :",{"$f":"AVERAGE(B25:B36)","v":4.1000000000000005},4.0458333333333334,4.1627083333333337,4.7783333333333333,5.1000000000000005,5.1333333333333346,{"$f":"SUMIF(H25:H36,\"<>#N/A\",H25:H36)/COUNTIF(H25:H36,\"<>#N/A\")","v":5.5130000000000017},null,{"$f":"SUMIF(J25:J36,\"<>#N/A\",J25:J36)/COUNTIF(J25:J36,\"<>#N/A\")","v":4.6440416666666655}]
["Source : FranceAgriMer - RNM  :   Prix relevés sur le marché de Rungis"]
[]
["Cotation"]
["Filet de dinde standard",null,null,null,null,null,null,null,"Moyennes mensuelles    €/Kg net"]
[null,2019,2020,2021,2022,2023,2024,2025,"N/N-1","Moyenne quinquennale"]
["Mois","N-5","N-5","N-4","N-3","N-2","N-1","N"]
["Janvier",4.7,5.3,5.4,5.5,6.8,7,{"$f":"IF((VolaillesLapinsOeufs!BD6)>0,VolaillesLapinsOeufs!BD6,NA())","v":7.1},{"$f":"IF(H44=\"\",NA(),(H44-G44)/G44)","v":1.4285714285714235E-2},{"$f":"SUMIF(C44:G44,\"<>#N/A\",C44:G44)/COUNTIF(C44:G44,\"<>#N/A\")","v":6}]
["Février",4.75,5.3,5.4749999999999996,5.5,6.8,7.0600000000000005,{"$f":"IF((VolaillesLapinsOeufs!BD7)>0,VolaillesLapinsOeufs!BD7,NA())","v":7.1},{"$f":"IF(H45=\"\",NA(),(H45-G45)/G45)","v":5.6657223796032783E-3},{"$f":"SUMIF(C45:G45,\"<>#N/A\",C45:G45)/COUNTIF(C45:G45,\"<>#N/A\")","v":6.0269999999999992}]
["Mars",4.88,5.3,5.5,5.58,6.8,7.1,{"$f":"IF((VolaillesLapinsOeufs!BD8)>0,VolaillesLapinsOeufs!BD8,NA())","v":7.3},2.8169014084507067E-2,6.056]
["Avril",4.8,5.3,5.5,5.875,6.8,7.1,{"$f":"IF((VolaillesLapinsOeufs!BD9)>0,VolaillesLapinsOeufs!BD9,NA())","v":7.375},3.8732394366197236E-2,6.1150000000000002]
["Mai",4.8,5.3,5.5,5.9,6.8,7.1,{"$f":"IF((VolaillesLapinsOeufs!BD10)>0,VolaillesLapinsOeufs!BD10,NA())","v":7.4800000000000013},5.3521126760563621E-2,6.12]
["Juin",4.8,5.375,5.5,5.9,6.8,7.1,{"$f":"IF((VolaillesLapinsOeufs!BD11)>0,VolaillesLapinsOeufs!BD11,NA())","v":8.0500000000000007},0.13380281690140861,6.1349999999999998]
["Juillet",4.8,5.4,5.5,5.9,6.8,7.1,{"$f":"IF((VolaillesLapinsOeufs!BD12)>0,VolaillesLapinsOeufs!BD12,NA())","v":8.5800000000000018},0.20845070422535245,6.1400000000000006]
["Août",4.8,5.4,5.5,5.9,6.8,7.1,{"$f":"IF((VolaillesLapinsOeufs!BD13)>0,VolaillesLapinsOeufs!BD13,NA())","v":8.6},0.21126760563380284,6.1400000000000006]
["Septembre",4.8600000000000003,5.4,5.5,6.44,6.8,7.1,{"$f":"IF((VolaillesLapinsOeufs!BD14)>0,VolaillesLapinsOeufs!BD14,NA())","v":8.6999999999999993},0.22535211267605629,6.2480000000000002]
["Octobre",5.21,5.4,5.5,6.7,6.8249999999999993,7.1,{"$f":"IF((VolaillesLapinsOeufs!BD15)>0,VolaillesLapinsOeufs!BD15,NA())","v":8.6999999999999993},0.22535211267605629,{"$f":"SUMIF(C53:G53,\"<>#N/A\",C53:G53)/COUNTIF(C53:G53,\"<>#N/A\")","v":6.3049999999999997}]
["Novembre",5.3,5.4,5.5,6.7250000000000005,6.94,7.1,{"$f":"IF((VolaillesLapinsOeufs!BD16)>0,VolaillesLapinsOeufs!BD16,NA())","v":{"$error":"#N/A"}},{"$error":"#N/A"},6.3330000000000002]
["Décembre",5.3,5.4,5.5,6.75,7,7.1,{"$f":"IF((VolaillesLapinsOeufs!BD17)>0,VolaillesLapinsOeufs!BD17,NA())","v":{"$error":"#N/A"}},{"$error":"#N/A"},6.35]
["Moyenne annuelle :",{"$f":"AVERAGE(B44:B55)","v":4.9166666666666661},5.3562499999999993,5.489583333333333,6.0558333333333323,6.83,7.088333333333332,{"$f":"SUMIF(H44:H55,\"<>#N/A\",H44:H55)/COUNTIF(H44:H55,\"<>#N/A\")","v":7.8985000000000003},null,{"$f":"SUMIF(J44:J55,\"<>#N/A\",J44:J55)/COUNTIF(J44:J55,\"<>#N/A\")","v":6.1640833333333331}]
["Source : FranceAgriMer - RNM  :   Prix relevés sur le marché de Rungis"]
[]
["Cotation"]
["Filet de canard de Barbarie",null,null,null,null,null,null,null,"Moyennes mensuelles    €/Kg net"]
[null,2019,2020,2021,2022,2023,2024,2025,"N/N-1","Moyenne quinquennale"]
["Mois","N-5","N-5","N-4","N-3","N-2","N-1","N"]
["Janvier",10.7,10.8,10.4,10.7,12.45,12.5,{"$f":"IF((VolaillesLapinsOeufs!BE6)>0,VolaillesLapinsOeufs!BE6,NA())","v":12.5},{"$f":"IF(H63=\"\",NA(),(H63-G63)/G63)","v":0},{"$f":"SUMIF(C63:G63,\"<>#N/A\",C63:G63)/COUNTIF(C63:G63,\"<>#N/A\")","v":11.370000000000001}]
["Février",10.78,10.8,10.45,10.85,12.5,12.5,{"$f":"IF((VolaillesLapinsOeufs!BE7)>0,VolaillesLapinsOeufs!BE7,NA())","v":12.5},{"$f":"IF(H64=\"\",NA(),(H64-G64)/G64)","v":0},{"$f":"SUMIF(C64:G64,\"<>#N/A\",C64:G64)/COUNTIF(C64:G64,\"<>#N/A\")","v":11.42}]
["Mars",10.8,10.7,10.6,11.319999999999999,12.5,12.5,{"$f":"IF((VolaillesLapinsOeufs!BE8)>0,VolaillesLapinsOeufs!BE8,NA())","v":12.5},0,11.523999999999999]
["Avril",10.8,10.6,10.6,11.9,12.5,12.5,{"$f":"IF((VolaillesLapinsOeufs!BE9)>0,VolaillesLapinsOeufs!BE9,NA())","v":12.5},0,11.620000000000001]
["Mai",10.8,10.4,10.6,11.975,12.5,12.5,{"$f":"IF((VolaillesLapinsOeufs!BE10)>0,VolaillesLapinsOeufs!BE10,NA())","v":12.5},0,11.595000000000001]
["Juin",10.8,10.4,10.6,12,12.5,12.5,{"$f":"IF((VolaillesLapinsOeufs!BE11)>0,VolaillesLapinsOeufs!BE11,NA())","v":12.725000000000001},1.8000000000000113E-2,11.6]
["Juillet",10.8,10.4,10.6,12,12.5,12.5,{"$f":"IF((VolaillesLapinsOeufs!BE12)>0,VolaillesLapinsOeufs!BE12,NA())","v":12.8},2.4000000000000056E-2,11.6]
["Août",10.8,10.4,10.6,12,12.5,12.5,{"$f":"IF((VolaillesLapinsOeufs!BE13)>0,VolaillesLapinsOeufs!BE13,NA())","v":12.8},2.4000000000000056E-2,11.6]
["Septembre",10.8,10.4,10.6,12,12.5,12.5,{"$f":"IF((VolaillesLapinsOeufs!BE14)>0,VolaillesLapinsOeufs!BE14,NA())","v":12.8},2.4000000000000056E-2,11.6]
["Octobre",10.8,10.4,10.6,12,12.5,12.5,{"$f":"IF((VolaillesLapinsOeufs!BE15)>0,VolaillesLapinsOeufs!BE15,NA())","v":12.8},2.4000000000000056E-2,11.6]
["Novembre",10.8,10.4,10.7,12,12.5,12.5,{"$f":"IF((VolaillesLapinsOeufs!BE16)>0,VolaillesLapinsOeufs!BE16,NA())","v":{"$error":"#N/A"}},{"$error":"#N/A"},11.620000000000001]
["Décembre",10.8,10.4,10.7,12,12.5,12.5,{"$f":"IF((VolaillesLapinsOeufs!BE17)>0,VolaillesLapinsOeufs!BE17,NA())","v":{"$error":"#N/A"}},{"$error":"#N/A"},11.620000000000001]
["Moyenne annuelle :",{"$f":"AVERAGE(B63:B74)","v":10.79},10.508333333333335,10.5875,11.72875,12.495454545454544,12.5,{"$f":"SUMIF(H63:H74,\"<>#N/A\",H63:H74)/COUNTIF(H63:H74,\"<>#N/A\")","v":12.642499999999998},null,{"$f":"SUMIF(J63:J74,\"<>#N/A\",J63:J74)/COUNTIF(J63:J74,\"<>#N/A\")","v":11.564083333333331}]
["Source : FranceAgriMer - RNM  :   Prix relevés sur le marché de Rungis"]
[]
["Cotation"]
["Pintade entière effilé France Label",null,null,null,null,null,null,null,"Moyennes mensuelles    €/Kg net"]
[null,2019,2020,2021,2022,2023,2024,2025,"N/N-1","Moyenne quinquennale"]
["Mois","N-5","N-5","N-4","N-3","N-2","N-1","N"]
["Janvier",5,5,4.9000000000000004,5.15,6.5,6.5,{"$f":"IF((VolaillesLapinsOeufs!BF6)>0,VolaillesLapinsOeufs!BF6,NA())","v":7},{"$f":"IF(H82=\"\",NA(),(H82-G82)/G82)","v":7.6923076923076927E-2},{"$f":"SUMIF(C82:G82,\"<>#N/A\",C82:G82)/COUNTIF(C82:G82,\"<>#N/A\")","v":5.61}]
["Février",5,5,4.9625000000000004,5.1875,6.5,6.5,{"$f":"IF((VolaillesLapinsOeufs!BF7)>0,VolaillesLapinsOeufs!BF7,NA())","v":7},{"$f":"IF(H83=\"\",NA(),(H83-G83)/G83)","v":7.6923076923076927E-2},{"$f":"SUMIF(C83:G83,\"<>#N/A\",C83:G83)/COUNTIF(C83:G83,\"<>#N/A\")","v":5.63}]
["Mars",5,4.9749999999999996,5.15,5.41,6.5,6.5,{"$f":"IF((VolaillesLapinsOeufs!BF8)>0,VolaillesLapinsOeufs!BF8,NA())","v":7.3},0.12307692307692306,5.7069999999999999]
["Avril",5,4.9400000000000004,5.15,5.6749999999999998,6.5,6.5,{"$f":"IF((VolaillesLapinsOeufs!BF9)>0,VolaillesLapinsOeufs!BF9,NA())","v":7.3},0.12307692307692306,5.7530000000000001]
["Mai",5,4.9000000000000004,5.15,5.8,6.5,6.5,{"$f":"IF((VolaillesLapinsOeufs!BF10)>0,VolaillesLapinsOeufs!BF10,NA())","v":7.3599999999999994},0.13230769230769221,5.7700000000000005]
["Juin",5,4.9000000000000004,5.15,5.8,6.5,6.5,{"$f":"IF((VolaillesLapinsOeufs!BF11)>0,VolaillesLapinsOeufs!BF11,NA())","v":7.55},0.16153846153846152,5.7700000000000005]
["Juillet",5,4.9000000000000004,5.15,5.8,6.5,6.5,{"$f":"IF((VolaillesLapinsOeufs!BF12)>0,VolaillesLapinsOeufs!BF12,NA())","v":7.9599999999999991},0.22461538461538447,5.7700000000000005]
["Août",5,4.9000000000000004,5.15,5.8,6.5,6.5,{"$f":"IF((VolaillesLapinsOeufs!BF13)>0,VolaillesLapinsOeufs!BF13,NA())","v":8},0.23076923076923078,{"$f":"SUMIF(C89:G89,\"<>#N/A\",C89:G89)/COUNTIF(C89:G89,\"<>#N/A\")","v":5.7700000000000005}]
["Septembre",5,4.9000000000000004,5.15,5.8599999999999994,6.5,6.85,{"$f":"IF((VolaillesLapinsOeufs!BF14)>0,VolaillesLapinsOeufs!BF14,NA())","v":8},0.16788321167883219,5.8519999999999994]
["Octobre",5,4.9000000000000004,5.15,5.9,6.5,7,{"$f":"IF((VolaillesLapinsOeufs!BF15)>0,VolaillesLapinsOeufs!BF15,NA())","v":8},0.14285714285714285,{"$f":"SUMIF(C91:G91,\"<>#N/A\",C91:G91)/COUNTIF(C91:G91,\"<>#N/A\")","v":5.8900000000000006}]
["Novembre",5,4.9000000000000004,5.15,5.9,6.5,7,{"$f":"IF((VolaillesLapinsOeufs!BF16)>0,VolaillesLapinsOeufs!BF16,NA())","v":{"$error":"#N/A"}},{"$error":"#N/A"},5.8900000000000006]
["Décembre",5,4.9000000000000004,5.15,5.9250000000000007,6.5,7,{"$f":"IF((VolaillesLapinsOeufs!BF17)>0,VolaillesLapinsOeufs!BF17,NA())","v":{"$error":"#N/A"}},{"$error":"#N/A"},5.8950000000000005]
["Moyenne annuelle :",{"$f":"AVERAGE(B82:B93)","v":5},4.9262499999999987,5.1135416666666655,5.683958333333333,6.5,6.6541666666666659,{"$f":"SUMIF(H82:H93,\"<>#N/A\",H82:H93)/COUNTIF(H82:H93,\"<>#N/A\")","v":7.5469999999999997},null,{"$f":"SUMIF(J82:J93,\"<>#N/A\",J82:J93)/COUNTIF(J82:J93,\"<>#N/A\")","v":5.7755833333333335}]
["Source : FranceAgriMer - RNM  :   Prix relevés sur le marché de Rungis"]
[]
[]
["Oeufs moyen calibre (53-63 g) Tendance nationale officieuse \"les marchés\" (en euros pour 100 œufs)"]
[null,2019,2020,2021,2022,2023,2024,2025,"N/N-1","Moyenne quinquennale"]
["Mois","N-5","N-5","N-4","N-3","N-2","N-1","N"]
["Janvier",7.7220000000000004,7.74,5.3174999999999999,9.127500057220459,15.380000114440918,14.1175,{"$f":"IF((VolaillesLapinsOeufs!BH6)>0,VolaillesLapinsOeufs!BH6,NA())","v":13.988},{"$f":"IF(H101=\"\",NA(),(H101-G101)/G101)","v":-9.1730122188772925E-3},{"$f":"SUMIF(C101:G101,\"<>#N/A\",C101:G101)/COUNTIF(C101:G101,\"<>#N/A\")","v":10.336500034332277}]
["Février",7.4720000000000004,7.5824999999999996,6.19,9.1949999332427979,15.58,13.584,{"$f":"IF((VolaillesLapinsOeufs!BH7)>0,VolaillesLapinsOeufs!BH7,NA())","v":14.532500000000001},{"$f":"IF(H102=\"\",NA(),(H102-G102)/G102)","v":6.9824793875147312E-2},{"$f":"SUMIF(C102:G102,\"<>#N/A\",C102:G102)/COUNTIF(C102:G102,\"<>#N/A\")","v":10.426299986648559}]
["Mars",7.04,8.3774999999999995,7.0659999999999998,10.838000106811524,16.314,14.100000000000001,{"$f":"IF((VolaillesLapinsOeufs!BH8)>0,VolaillesLapinsOeufs!BH8,NA())","v":17.157499999999999},0.21684397163120547,{"$f":"SUMIF(C103:G103,\"<>#N/A\",C103:G103)/COUNTIF(C103:G103,\"<>#N/A\")","v":11.339100021362306}]
["Avril",6.9850000000000003,8.39,6.9850000000000003,12.764999933242798,16.482500000000002,14.125,{"$f":"IF((VolaillesLapinsOeufs!BH9)>0,VolaillesLapinsOeufs!BH9,NA())","v":17.892500000000002},0.26672566371681428,11.74949998664856]
["Mai",6.9020000000000001,8.6374999999999993,6.9950000000000001,12.535,15.87,12.763999999999999,{"$f":"IF((VolaillesLapinsOeufs!BH10)>0,VolaillesLapinsOeufs!BH10,NA())","v":17.042000000000002},0.33516139141335022,11.360300000000001]
["Juin",6.6849999999999996,7.22,7.33,11.940000000000001,13.73,10.965,{"$f":"IF((VolaillesLapinsOeufs!BH11)>0,VolaillesLapinsOeufs!BH11,NA())","v":16.25},0.48198814409484725,10.237]
["Juillet",6.5259999999999998,6.36,6.4474999999999998,12.082499971389771,10.932500000000001,10.423333333333334,{"$f":"IF((VolaillesLapinsOeufs!BH12)>0,VolaillesLapinsOeufs!BH12,NA())","v":16.2},0.55420530860249428,9.2491666609446206]
["Août",6.9225000000000003,5.8375000000000004,7.22,12.910000085830688,9.4240000000000013,9.8433333333333337,{"$f":"IF((VolaillesLapinsOeufs!BH13)>0,VolaillesLapinsOeufs!BH13,NA())","v":16.137499999999999},0.6394344734168641,9.0469666838328049]
["Septembre",7.71,6.7160000000000002,8.5239999999999991,13.782000160217285,10.605,10.9125,{"$f":"IF((VolaillesLapinsOeufs!BH14)>0,VolaillesLapinsOeufs!BH14,NA())","v":16.112500000000001},0.47651775486827047,10.107900032043457]
["Octobre",7.85,5.68,8.7475000000000005,14.710000038146973,11.61,12.587999999999999,{"$f":"IF((VolaillesLapinsOeufs!BH15)>0,VolaillesLapinsOeufs!BH15,NA())","v":16.558},0.31537972672386405,10.667100007629395]
["Novembre",8.4250000000000007,6.05,8.5050000000000008,15.077499866485596,13.428000000000001,13.984999999999999,{"$f":"IF((VolaillesLapinsOeufs!BH16)>0,VolaillesLapinsOeufs!BH16,NA())","v":{"$error":"#N/A"}},{"$error":"#N/A"},11.409099973297121]
["Décembre",null,5.73,9.3460000000000001,15.327999877929688,14.28,14.37,{"$f":"IF((VolaillesLapinsOeufs!BH17)>0,VolaillesLapinsOeufs!BH17,NA())","v":{"$error":"#N/A"}},{"$error":"#N/A"},11.810799975585937]
["Moyenne annuelle :",{"$f":"AVERAGE(B101:B112)","v":7.2945000000000002},7.0267499999999998,7.3894583333333328,12.524208335876466,13.64,12.491606060606061,{"$f":"SUMIF(H101:H112,\"<>#N/A\",H101:H112)/COUNTIF(H101:H112,\"<>#N/A\")","v":16.187049999999999},null,{"$f":"SUMIF(J101:J112,\"<>#N/A\",J101:J112)/COUNTIF(J101:J112,\"<>#N/A\")","v":10.644977780193754}]
["Source : TNO \"les marchés\""]
[]
["Prix à la production des œufs (IPPAP) Indice mensuel des prix agricoles à la production \n(base 100 en 2015) - Données brutes",null,null,null,null,null,null,null,"Date mise à jour :"]
[]
["Mois",null,null,2019,2020,2021,2022,2023,"2023/2022","Moyenne quinquennale"]
[null,null,null,"N-5","N-4","N-3","N-2","N-1"]
["Janvier",null,null,121.8,119,77.8,142.9,253.9,{"$f":"(H120-G120)/G120","v":0.77676696990902727},{"$f":"SUMIF(D120:H120,\"<>#N/A\",D120:H120)/COUNTIF(D120:H120,\"<>#N/A\")","v":143.07999999999998}]
["Février",null,null,118.6,115.1,93.9,145.69999999999999,258.3,0.77282086479066592,146.32]
["Mars",null,null,111.1,128.4,108.1,176.7,271.39999999999998,0.53593661573288054,159.13999999999999]
["Avril",null,null,109.6,128.80000000000001,106.2,207.6,274.10000000000002,0.32032755298651266,165.26000000000002]
["Mai",null,null,108.6,132.4,108.1,204.1,261.39999999999998,0.28074473297403224,162.92000000000002]
["Juin",null,null,103.4,108.5,110.5,194.6,221.4,0.13771839671120253,147.68]
["Juillet",null,null,100.1,96.3,95.7,198.4,172.1,-0.1325604838709678,132.52000000000001]
["Août",null,null,106.9,87.8,111.2,212.2,149.1,-0.29736098020735152,133.44]
["Septembre",null,null,119.4,103.4,132.19999999999999,227.6,171,-0.24868189806678381,150.72]
["Octobre",null,null,120.7,85.2,135.1,243.2,188.8,-0.22368421052631571,154.6]
["Novembre",null,null,131.9,90,132.69999999999999,249,221,-0.11244979919678715,164.92000000000002]
["Décembre",null,null,143.4,83.9,147.80000000000001,253.1,234.5,-7.3488739628605276E-2,172.54000000000002]
["Moyenne annuelle :",null,null,{"$f":"AVERAGE(D120:D131)","v":116.29166666666669},106.56666666666666,113.27499999999999,204.59166666666667,223.08333333333334,null,{"$f":"AVERAGE(J120:J131)","v":152.76166666666668}]
["Source : FranceAgriMer"]
[null,null,null,null,null,null,null,null,"Date mise à jour :","2025-11-21"]
["Prix à la production des œufs (IPPAP) Indice mensuel des prix agricoles à la production \n(base 100 en 2020) - Données brutes \nLa série en base 2015 est arrêtée et peut être remplacée par la nouvelle série équivalente en base 2020."]
[]
["Mois",null,2020,2021,2022,2023,2024,2025,"N/N-1","Moyenne quinquennale"]
[null,null,"N-4","N-3","N-2","N-1","N","N"]
["Janvier",null,104.4,81.599999999999994,133.19999999999999,224,205.7,200.1,{"$f":"IF(H139=\"\",NA(),(H139-G139)/G139)","v":-2.7224112785610086E-2},{"$f":"SUMIF(C139:G139,\"<>#N/A\",C139:G139)/COUNTIF(C139:G139,\"<>#N/A\")","v":149.78000000000003}]
["Février",null,102.1,94,135.30000000000001,227.6,194.8,209,{"$f":"IF(H140=\"\",NA(),(H140-G140)/G140)","v":7.289527720739214E-2},{"$f":"SUMIF(C140:G140,\"<>#N/A\",C140:G140)/COUNTIF(C140:G140,\"<>#N/A\")","v":150.76}]
["Mars",null,112,105.1,158.19999999999999,236.7,201.3,245.1,{"$f":"IF(H141=\"\",NA(),(H141-G141)/G141)","v":0.21758569299552896},162.66]
["Avril",null,116.8,103.8,181.1,237.9,200.5,249.1,0.2423940149625935,168.02]
["Mai",null,120.4,105.2,181.5,226.8,179.5,259.10000000000002,0.44345403899721464,162.68]
["Juin",null,102.8,106.9,175.9,195.2,155.80000000000001,261.60000000000002,0.67907573812580235,147.32]
["Juillet",null,93.9,96.2,178.5,156.80000000000001,149.80000000000001,261.5,0.7456608811748997,{"$f":"SUMIF(C145:G145,\"<>#N/A\",C145:G145)/COUNTIF(C145:G145,\"<>#N/A\")","v":135.04000000000002}]
["Août",null,87.7,107.6,188.8,139.30000000000001,143.19999999999999,259.89999999999998,0.81494413407821231,133.32000000000002]
["Septembre",null,99.3,123.3,199.7,155.6,159.1,244.7,0.53802639849151479,147.4]
["Octobre",null,86.1,125.9,213,171.5,175.7,null,{"$error":"#N/A"},154.44]
["Novembre",null,89.5,124.7,218.1,193.3,198.4,null,{"$error":"#N/A"},164.79999999999998]
["Décembre",null,85,137.30000000000001,221.2,202.6,204.8,null,{"$error":"#N/A"},170.18]
["Moyenne annuelle :",null,{"$f":"AVERAGE(C139:C150)","v":100},109.30000000000001,182.04166666666663,197.27499999999998,180.71666666666667,{"$f":"AVERAGE(H139:H150)","v":243.34444444444443},null,{"$f":"SUMIF(C151:F151,\"<>#N/A\",C151:F151)/COUNTIF(C151:F151,\"<>#N/A\")","v":147.15416666666664}]
["Source : FranceAgriMer"]
[]
[]
["Cotation lapin entier standard France",null,null,null,null,null,null,null,"Moyennes mensuelles    €/Kg net"]
[null,2019,2020,2021,2022,2023,2024,2025,"N/N-1","Moyenne quinquennale"]
["Mois","N-5","N-4","N-3","N-2","N-1","N","N"]
["Janvier",5.8,4.9000000000000004,5.3,5,6.4,6.5,{"$f":"IF((VolaillesLapinsOeufs!BG6)>0,VolaillesLapinsOeufs!BG6,NA())","v":6.5},{"$f":"IF(H158=\"\",NA(),(H158-F158)/F158)","v":1.5624999999999944E-2},{"$f":"SUMIF(C158:G158,\"<>#N/A\",C158:G158)/COUNTIF(C158:G158,\"<>#N/A\")","v":5.62}]
["Février",5.64,4.8,5.45,5,6.4,6.5,{"$f":"IF((VolaillesLapinsOeufs!BG7)>0,VolaillesLapinsOeufs!BG7,NA())","v":6.5},1.5624999999999944E-2,{"$f":"SUMIF(C159:G159,\"<>#N/A\",C159:G159)/COUNTIF(C159:G159,\"<>#N/A\")","v":5.63}]
["Mars",5.5,4.8,5.5,5,6.4,6.5,{"$f":"IF((VolaillesLapinsOeufs!BG8)>0,VolaillesLapinsOeufs!BG8,NA())","v":6.5},1.5624999999999944E-2,5.6400000000000006]
["Avril",5.375,4.72,5.3250000000000002,5.3,6.4,6.5,{"$f":"IF((VolaillesLapinsOeufs!BG9)>0,VolaillesLapinsOeufs!BG9,NA())","v":6.5},1.5624999999999944E-2,5.6489999999999991]
["Mai",4.88,4.5999999999999996,4.9000000000000004,5.3,6.25,6.5,{"$f":"IF((VolaillesLapinsOeufs!BG10)>0,VolaillesLapinsOeufs!BG10,NA())","v":6.5},0.04,5.51]
["Juin",4.3499999999999996,4.3499999999999996,4.5,5.3,5.8400000000000007,6.5,{"$f":"IF((VolaillesLapinsOeufs!BG11)>0,VolaillesLapinsOeufs!BG11,NA())","v":6.3000000000000007},7.8767123287671215E-2,5.298]
["Juillet",3.8,4.3,4.4000000000000004,5.25,5.7,6.5,{"$f":"IF((VolaillesLapinsOeufs!BG12)>0,VolaillesLapinsOeufs!BG12,NA())","v":6.1},7.0175438596491127E-2,5.2299999999999995]
["Août",3.7,4.3499999999999996,4.4000000000000004,5.2,5.7,6.5,{"$f":"IF((VolaillesLapinsOeufs!BG13)>0,VolaillesLapinsOeufs!BG13,NA())","v":6.1},7.0175438596491127E-2,5.2299999999999995]
["Septembre",4.1500000000000004,4.68,4.4000000000000004,5.3,5.7,6.5,{"$f":"IF((VolaillesLapinsOeufs!BG14)>0,VolaillesLapinsOeufs!BG14,NA())","v":6.625},0.16228070175438594,5.3159999999999998]
["Octobre",4.9000000000000004,5.0750000000000002,4.45,5.6,5.8249999999999993,6.5,{"$f":"IF((VolaillesLapinsOeufs!BG15)>0,VolaillesLapinsOeufs!BG15,NA())","v":7},0.20171673819742503,5.49]
["Novembre",4.9000000000000004,5.2,4.9000000000000004,6.2750000000000004,6.36,6.5,{"$f":"IF((VolaillesLapinsOeufs!BG16)>0,VolaillesLapinsOeufs!BG16,NA())","v":{"$error":"#N/A"}},{"$error":"#N/A"},5.8469999999999995]
["Décembre",4.9000000000000004,5.28,4.9000000000000004,6.375,6.5,6.5,{"$f":"IF((VolaillesLapinsOeufs!BG17)>0,VolaillesLapinsOeufs!BG17,NA())","v":{"$error":"#N/A"}},{"$error":"#N/A"},5.9109999999999996]
["Moyenne",{"$f":"AVERAGE(B158:B169)","v":4.8245833333333321},4.7545833333333336,4.8687499999999995,5.4083333333333341,6.12,{"$f":"SUMIF(G158:G169,\"<>#N/A\",G158:G169)/COUNTIF(G158:G169,\"<>#N/A\")","v":6.5},{"$f":"SUMIF(H158:H169,\"<>#N/A\",H158:H169)/COUNTIF(H158:H169,\"<>#N/A\")","v":6.4625000000000004},null,{"$f":"AVERAGE(J158:J169)","v":5.5309166666666663}]
["Source : FranceAgriMer - RNM  :   Prix relevés sur le marché de Rungis"]